{"text_format":"1","workbook":"xlsx","n_sheets":8,"sheets":["Home","Fresnel Geometry","Import Other Antenna","Antenna Data","Main Calculation Sheet","Ref. Coeff. Vertical","Ref. Coeff. Horiz.","Ground Data"],"not_rendered":{"charts":5,"images":1,"macros":1,"external_links":0,"defined_names":1,"comments":0,"pivot_tables":2},"unopened":[],"bounds":{"document_bytes":16777216,"sheet_cells":100000,"rows_first":2000,"rows_last":500,"rows_between":2000,"halvings":0,"cell_chars":16384,"cell_head_chars":4096},"cells_cut":0,"cells_raw":0,"read":"whole","date_system":"1900"}

{"sheet":"Home","index":0,"n_rows":48,"n_cols":18,"rows_kept":48,"cut":false,"hidden":false,"merged":[[0,0,0,18],[93,12,93,13],[9,3,9,4],[10,6,10,7]]}
["        Ground Gain - Simulator Spreadsheet"]
[]
[null,null,"Type of Ground :",null,null,null,null,null,null,1]
[null,null,"Conductivity σ [S/m] :",{"$f":"VLOOKUP(Home!J3,'Ground Data'!A2:D29,3,0)","v":9.9999999999999997E+98}]
[null,null,"Permittivity εr :",{"$f":"VLOOKUP(Home!J3,'Ground Data'!A2:D29,4,0)","v":9.9999999999999997E+98}]
[null,null,"Freq [MHz] :",144]
[null,null,"Height [m] :",17.3]
[null,null,"Ground slope [°] :",0,"   Ground Slope in front of Antenna. 0 for Flat or Negative for Downward Slope"]
[]
[null,null,"Antenna Type :",null,null,null,null,null,null,null,4]
[null,null,"Maximum F.S. Gain [dBi] :",{"$f":"'Antenna Data'!B2","v":16.37},null,null,"Other antenna",null,"   Type in other antenna type name"]
[]
[]
[]
[]
[]
[]
[]
[]
[]
[]
[]
[]
[]
[]
[]
[]
[]
[null,null,null,null,null,null,null,null,null,"Horizontal Pol.","Max",null,null,null,"Vertical Pol.","Max"]
[]
[null,null,null,null,null,null,null,null,null,"Elevation Angle α [°]","Distance to Reflection Point for Lobe Maximum Building [m]","Ground Gain for Selected Antenna for Horizontal Polarization [dB] ","Total Gain for Selected Antenna for Horizontal Polarization [dBi]",null,"Elevation Angle α [°]","Distance to Reflection Point for Lobe Maximum Building [m]","Ground Gain for Selected Antenna for Vertical Polarization [dB] ","Total Gain for Selected Antenna for Vertical Polarization [dBi]"]
[null,null,null,null,null,null,null,null,null,0.4,114.4,5.6335393458777077,22.003539345877709,null,0.4,114.4,2.1590749795545654,18.529074979554565]
[null,null,null,null,null,null,null,null,null,4.0000000000000018,81,5.3036854182482873,21.67368541824829,null,4.0000000000000018,81,0.80169698869252581,17.171696988692528]
[null,null,null,null,null,null,null,null,null,7.599999999999989,62.6,4.6294415710150725,20.999441571015073,null,7.3999999999999897,63.4,-0.70890929354898646,15.661090706451015]
[null,null,null,null,null,null,null,null,null,11.199999999999976,50.8,3.5543821107399474,19.924382110739948,null,9.3999999999999826,56.1,-0.65672141551814167,15.713278584481859]
[null,null,null,null,null,null,null,null,null,14.899999999999963,42.4,1.9059952587902105,18.275995258790211,null,13.099999999999969,46.2,-1.1677146078809779,15.202285392119023]
[null,null,null,null,null,null,null,null,null,18.699999999999996,36.1,-0.6160650670276997,15.753934932972301,null,16.89999999999997,38.9,-2.5434002546123242,13.826599745387677]
[null,null,null,null,null,null,null,null,null,22.600000000000051,31.1,-4.6493780145398116,11.720621985460189,null,20.800000000000026,33.299999999999997,-5.1737849804994536,11.196215019500547]
[null,null,null,null,null,null,null,null,null,26.600000000000108,27,-11.548933441962529,4.8210665580374723,null,24.900000000000084,28.7,-10.144269542506379,6.2257304574936221]
[null,null,null,null,null,null,null,null,null,31.800000000000182,22.8,-13.238646046344854,3.1313539536551467,null,29.200000000000145,24.8,-17.167366386461346,-0.79736638646134494]
[null,null,null,null,null,null,null,null,null,36.200000000000244,19.899999999999999,-9.1652677339956767,7.2047322660043243,null,33.700000000000209,21.5,-12.203239501160267,4.166760498839734]
[null,null,null,null,null,null,null,null,null,41.000000000000313,17.2,-9.935607043238603,6.434392956761398,null,38.600000000000279,18.5,-10.056761651506617,6.3132383484933836]
[null,null,null,null,null,null,null,null,null,46.000000000000384,14.8,-17.950027308563911,-1.5800273085639098,null,44.000000000000355,15.7,-13.869704343477569,2.5002956565224324]
[null,null,null,null,null,null,null,null,null,54.100000000000499,11.4,-13.610156485179088,2.7598435148209131,null,50.100000000000442,13,-19.513683560770502,-3.1436835607705014]
[null,null,null,null,null,null,null,null,null,60.50000000000059,9.1,-17.661647178511494,-1.2916471785114929,null,57.600000000000549,10.199999999999999,-13.656802788328079,2.7131972116719218]
[null,null,null,null,null,null,null,null,null,65.900000000000531,7.3,-26.066074902418954,-9.6960749024189532,null,68.500000000000384,6.5,-16.976791237038519,-0.60679123703851801]
[null,null,null,null,null,null,null,null,null,73.700000000000088,4.9000000000000004,-18.43244823391705,-2.0624482339170491,null,89.999999999999162,0,-23.253553558774392,-6.8835535587743912]
[null,null,null,null,null,null,null,null,null,85.899999999999395,1.2,-18.267440006358338,-1.8974400063583374]

{"sheet":"Fresnel Geometry","index":1,"n_rows":38,"n_cols":11,"rows_kept":38,"cut":false,"hidden":false,"merged":[[19,7,19,9],[16,9,16,10],[16,4,16,5],[22,5,22,6],[1,1,1,14]]}
[]
[null,"Fresnel Zone Geometry for the 1stElevation Lobe"]
[]
[]
[]
[]
[]
[]
[null,{"$f":"\"H=\"&$F$26&\"m\"","v":"H=10m"}]
[]
[]
[]
[null,null,null,null,null,null,null,{"$f":"\"  α=\"&$F$29&\"°\"","v":"  α=3°"},null,{"$f":"\"α=\"&$F$29&\"°\"","v":"α=3°"},{"$f":"\"w=\"&$F$33&\"m\"","v":"w=57m"}]
[]
[]
[]
[null,null,null,null,{"$f":"\"      dN=\"&F31&\"m\"","v":"      dN=32m"},null,null,null,null,{"$f":"\"L=\"&F32-F31&\"m\"","v":"L=1082m"}]
[]
[]
[null,null,null,null,null,null,null,{"$f":"\"dF=\"&F32&\"m\"","v":"dF=1114m"}]
[]
[]
[null,null,null,null,null,{"$f":"\"d=\"&F30&\"m\"","v":"d=191m"}]
[]
[]
[null,null,null,null,"Antenna height H [m] :",10]
[null,null,null,null,"Frequency [MHz] :",144]
[null,null,null,null,"λ [m] :",{"$f":"300/F27","v":2.0833333333333335}]
[null,null,null,null,"α [°] :",{"$f":"ROUND((180/PI())*ASIN(F28/(4*F26)),1)","v":3},"   Elevation angle of the first lobe (Hor. Polar.)"]
[null,null,null,null,"d [m] :",{"$f":"ROUND(F26/TAN(F29*(PI()/180)),0)","v":191},"   Distance from antenna where the maximum of the first lobe builds"]
[null,null,null,null,"dN [m] :",{"$f":"ROUND(F30*(3-(((2*SQRT(2))/COS(F29*(PI()/180))))),0)","v":32},"   Closest distance from antenna as from which first ground lobe builds"]
[null,null,null,null,"dF [m] :",{"$f":"ROUND(F30*(3+(((2*SQRT(2))/COS(F29*(PI()/180))))),0)","v":1114},"   Furthest distance from antenna up to which first ground lobe builds"]
[null,null,null,null,"w [m] :",{"$f":"ROUND(4*SQRT(2)*F26,0)","v":57},"   \"Width\" of the Fresnel Ellipsoid"]
[null,null,null,null,"L [m] :",{"$f":"F32-F31","v":1082},"   \"Length\" of the Fresnel Ellipsoid"]
[]
[]
[null,"Drawing not to scale."]
[null,"Calculation based on the article in “Precedings of the IRE – Scatter Propagation Issue”, volume 43, number 10 of October 1955"]

{"sheet":"Import Other Antenna","index":2,"n_rows":902,"n_cols":7,"rows_kept":902,"cut":false,"hidden":false,"merged":[]}
["ZENITH(DEG)","AZIMUTH(DEG)","VERT(dBi)","HORI(dBi)","TOTAL(dBi)",null,{"$f":"MAX(E:E)","v":14.22}]
[90,0,-109.45,14.22,14.22,{"$f":"A2-90","v":0},{"$f":"E2-$G$1","v":0}]
[90.1,0,-109.45,14.22,14.22,{"$f":"A3-90","v":9.9999999999994316E-2},{"$f":"E3-$G$1","v":0}]
[90.2,0,-109.45,14.22,14.22,0.20000000000000284,0]
[90.3,0,-109.45,14.22,14.22,0.29999999999999716,0]
[90.4,0,-109.45,14.22,14.22,0.40000000000000568,0]
[90.5,0,-109.45,14.22,14.22,0.5,0]
[90.6,0,-109.45,14.22,14.22,0.59999999999999432,0]
[90.7,0,-109.44,14.22,14.22,0.70000000000000284,0]
[90.8,0,-109.45,14.22,14.22,0.79999999999999716,0]
[90.9,0,-109.44,14.22,14.22,0.90000000000000568,0]
[91,0,-109.45,14.21,14.21,1,-9.9999999999997868E-3]
[91.1,0,-109.45,14.21,14.21,1.0999999999999943,-9.9999999999997868E-3]
[91.2,0,-109.45,14.21,14.21,1.2000000000000028,-9.9999999999997868E-3]
[91.3,0,-109.45,14.21,14.21,1.2999999999999972,-9.9999999999997868E-3]
[91.4,0,-109.45,14.21,14.21,1.4000000000000057,-9.9999999999997868E-3]
[91.5,0,-109.45,14.21,14.21,1.5,-9.9999999999997868E-3]
[91.6,0,-109.45,14.2,14.2,1.5999999999999943,-2.000000000000135E-2]
[91.7,0,-109.46,14.2,14.2,1.7000000000000028,-2.000000000000135E-2]
[91.8,0,-109.45,14.2,14.2,1.7999999999999972,-2.000000000000135E-2]
[91.9,0,-109.45,14.2,14.2,1.9000000000000057,-2.000000000000135E-2]
[92,0,-109.45,14.19,14.19,2,-3.0000000000001137E-2]
[92.1,0,-109.46,14.19,14.19,2.0999999999999943,-3.0000000000001137E-2]
[92.2,0,-109.46,14.19,14.19,2.2000000000000028,-3.0000000000001137E-2]
[92.3,0,-109.46,14.18,14.18,2.2999999999999972,-4.0000000000000924E-2]
[92.4,0,-109.46,14.18,14.18,2.4000000000000057,-4.0000000000000924E-2]
[92.5,0,-109.46,14.18,14.18,2.5,-4.0000000000000924E-2]
[92.6,0,-109.45,14.17,14.17,2.5999999999999943,-5.0000000000000711E-2]
[92.7,0,-109.46,14.17,14.17,2.7000000000000028,-5.0000000000000711E-2]
[92.8,0,-109.46,14.17,14.17,2.7999999999999972,-5.0000000000000711E-2]
[92.9,0,-109.46,14.16,14.16,2.9000000000000057,-6.0000000000000497E-2]
[93,0,-109.47,14.16,14.16,3,-6.0000000000000497E-2]
[93.1,0,-109.46,14.15,14.15,3.0999999999999943,-7.0000000000000284E-2]
[93.2,0,-109.47,14.15,14.15,3.2000000000000028,-7.0000000000000284E-2]
[93.3,0,-109.46,14.15,14.15,3.2999999999999972,-7.0000000000000284E-2]
[93.4,0,-109.46,14.14,14.14,3.4000000000000057,-8.0000000000000071E-2]
[93.5,0,-109.47,14.14,14.14,3.5,-8.0000000000000071E-2]
[93.6,0,-109.46,14.13,14.13,3.5999999999999943,-8.9999999999999858E-2]
[93.7,0,-109.47,14.13,14.13,3.7000000000000028,-8.9999999999999858E-2]
[93.8,0,-109.46,14.12,14.12,3.7999999999999972,-0.10000000000000142]
[93.9,0,-109.47,14.12,14.12,3.9000000000000057,-0.10000000000000142]
[94,0,-109.47,14.11,14.11,4,-0.11000000000000121]
[94.1,0,-109.47,14.11,14.11,4.0999999999999943,-0.11000000000000121]
[94.2,0,-109.47,14.1,14.1,4.2000000000000028,-0.12000000000000099]
[94.3,0,-109.48,14.09,14.09,4.2999999999999972,-0.13000000000000078]
[94.4,0,-109.47,14.09,14.09,4.4000000000000057,-0.13000000000000078]
[94.5,0,-109.48,14.08,14.08,4.5,-0.14000000000000057]
[94.6,0,-109.48,14.08,14.08,4.5999999999999943,-0.14000000000000057]
[94.7,0,-109.48,14.07,14.07,4.7000000000000028,-0.15000000000000036]
[94.8,0,-109.48,14.06,14.06,4.7999999999999972,-0.16000000000000014]
[94.9,0,-109.48,14.06,14.06,4.9000000000000057,-0.16000000000000014]
[95,0,-109.49,14.05,14.05,5,-0.16999999999999993]
[95.1,0,-109.48,14.04,14.04,5.0999999999999943,-0.18000000000000149]
[95.2,0,-109.48,14.03,14.03,5.2000000000000028,-0.19000000000000128]
[95.3,0,-109.49,14.03,14.03,5.2999999999999972,-0.19000000000000128]
[95.4,0,-109.49,14.02,14.02,5.4000000000000057,-0.20000000000000107]
[95.5,0,-109.49,14.01,14.01,5.5,-0.21000000000000085]
[95.6,0,-109.49,14,14,5.5999999999999943,-0.22000000000000064]
[95.7,0,-109.49,14,14,5.7000000000000028,-0.22000000000000064]
[95.8,0,-109.49,13.99,13.99,5.7999999999999972,-0.23000000000000043]
[95.9,0,-109.5,13.98,13.98,5.9000000000000057,-0.24000000000000021]
[96,0,-109.49,13.97,13.97,6,-0.25]
[96.1,0,-109.5,13.96,13.96,6.0999999999999943,-0.25999999999999979]
[96.2,0,-109.5,13.96,13.96,6.2000000000000028,-0.25999999999999979]
[96.3,0,-109.5,13.95,13.95,6.2999999999999972,-0.27000000000000135]
[96.4,0,-109.5,13.94,13.94,6.4000000000000057,-0.28000000000000114]
[96.5,0,-109.51,13.93,13.93,{"$f":"A67-90","v":6.5},{"$f":"E67-$G$1","v":-0.29000000000000092}]
[96.6,0,-109.51,13.92,13.92,6.5999999999999943,-0.30000000000000071]
[96.7,0,-109.5,13.91,13.91,6.7000000000000028,-0.3100000000000005]
[96.8,0,-109.51,13.9,13.9,6.7999999999999972,-0.32000000000000028]
[96.9,0,-109.51,13.89,13.89,6.9000000000000057,-0.33000000000000007]
[97,0,-109.51,13.88,13.88,7,-0.33999999999999986]
[97.1,0,-109.52,13.87,13.87,7.0999999999999943,-0.35000000000000142]
[97.2,0,-109.52,13.86,13.86,7.2000000000000028,-0.36000000000000121]
[97.3,0,-109.53,13.85,13.85,7.2999999999999972,-0.37000000000000099]
[97.4,0,-109.53,13.84,13.84,7.4000000000000057,-0.38000000000000078]
[97.5,0,-109.53,13.83,13.83,7.5,-0.39000000000000057]
[97.6,0,-109.53,13.82,13.82,7.5999999999999943,-0.40000000000000036]
[97.7,0,-109.53,13.81,13.81,7.7000000000000028,-0.41000000000000014]
[97.8,0,-109.52,13.8,13.8,7.7999999999999972,-0.41999999999999993]
[97.9,0,-109.53,13.78,13.78,7.9000000000000057,-0.44000000000000128]
[98,0,-109.54,13.77,13.77,8,-0.45000000000000107]
[98.1,0,-109.53,13.76,13.76,8.0999999999999943,-0.46000000000000085]
[98.2,0,-109.54,13.75,13.75,8.2000000000000028,-0.47000000000000064]
[98.3,0,-109.54,13.74,13.74,8.2999999999999972,-0.48000000000000043]
[98.4,0,-109.54,13.73,13.73,8.4000000000000057,-0.49000000000000021]
[98.5,0,-109.55,13.71,13.71,8.5,-0.50999999999999979]
[98.6,0,-109.54,13.7,13.7,8.5999999999999943,-0.52000000000000135]
[98.7,0,-109.55,13.69,13.69,8.7000000000000028,-0.53000000000000114]
[98.8,0,-109.55,13.68,13.68,8.7999999999999972,-0.54000000000000092]
[98.9,0,-109.55,13.66,13.66,8.9000000000000057,-0.5600000000000005]
[99,0,-109.55,13.65,13.65,9,-0.57000000000000028]
[99.1,0,-109.56,13.64,13.64,9.0999999999999943,-0.58000000000000007]
[99.2,0,-109.57,13.62,13.62,9.2000000000000028,-0.60000000000000142]
[99.3,0,-109.56,13.61,13.61,9.2999999999999972,-0.61000000000000121]
[99.4,0,-109.57,13.6,13.6,9.4000000000000057,-0.62000000000000099]
[99.5,0,-109.57,13.58,13.58,9.5,-0.64000000000000057]
[99.6,0,-109.57,13.57,13.57,9.5999999999999943,-0.65000000000000036]
[99.7,0,-109.58,13.55,13.55,9.7000000000000028,-0.66999999999999993]
[99.8,0,-109.57,13.54,13.54,9.7999999999999972,-0.68000000000000149]
[99.9,0,-109.58,13.52,13.52,9.9000000000000057,-0.70000000000000107]
[100,0,-109.58,13.51,13.51,10,-0.71000000000000085]
[100.1,0,-109.59,13.49,13.49,10.099999999999994,-0.73000000000000043]
[100.2,0,-109.58,13.48,13.48,10.200000000000003,-0.74000000000000021]
[100.3,0,-109.59,13.46,13.46,10.299999999999997,-0.75999999999999979]
[100.4,0,-109.59,13.45,13.45,10.400000000000006,-0.77000000000000135]
[100.5,0,-109.6,13.43,13.43,10.5,-0.79000000000000092]
[100.6,0,-109.6,13.42,13.42,10.599999999999994,-0.80000000000000071]
[100.7,0,-109.6,13.4,13.4,10.700000000000003,-0.82000000000000028]
[100.8,0,-109.6,13.38,13.38,10.799999999999997,-0.83999999999999986]
[100.9,0,-109.61,13.37,13.37,10.900000000000006,-0.85000000000000142]
[101,0,-109.61,13.35,13.35,11,-0.87000000000000099]
[101.1,0,-109.61,13.33,13.33,11.099999999999994,-0.89000000000000057]
[101.2,0,-109.61,13.32,13.32,11.200000000000003,-0.90000000000000036]
[101.3,0,-109.62,13.3,13.3,11.299999999999997,-0.91999999999999993]
[101.4,0,-109.62,13.28,13.28,11.400000000000006,-0.94000000000000128]
[101.5,0,-109.62,13.26,13.26,11.5,-0.96000000000000085]
[101.6,0,-109.63,13.25,13.25,11.599999999999994,-0.97000000000000064]
[101.7,0,-109.63,13.23,13.23,11.700000000000003,-0.99000000000000021]
[101.8,0,-109.64,13.21,13.21,11.799999999999997,-1.0099999999999998]
[101.9,0,-109.64,13.19,13.19,11.900000000000006,-1.0300000000000011]
[102,0,-109.64,13.17,13.17,12,-1.0500000000000007]
[102.1,0,-109.64,13.15,13.15,12.099999999999994,-1.0700000000000003]
[102.2,0,-109.64,13.13,13.13,12.200000000000003,-1.0899999999999999]
[102.3,0,-109.65,13.12,13.12,12.299999999999997,-1.1000000000000014]
[102.4,0,-109.65,13.1,13.1,12.400000000000006,-1.120000000000001]
[102.5,0,-109.66,13.08,13.08,12.5,-1.1400000000000006]
[102.6,0,-109.66,13.06,13.06,12.599999999999994,-1.1600000000000001]
[102.7,0,-109.66,13.04,13.04,12.700000000000003,-1.1800000000000015]
[102.8,0,-109.67,13.02,13.02,12.799999999999997,-1.2000000000000011]
[102.9,0,-109.67,12.99,12.99,{"$f":"A131-90","v":12.900000000000006},{"$f":"E131-$G$1","v":-1.2300000000000004}]
[103,0,-109.67,12.97,12.97,13,-1.25]
[103.1,0,-109.68,12.95,12.95,13.099999999999994,-1.2700000000000014]
[103.2,0,-109.68,12.93,12.93,13.200000000000003,-1.2900000000000009]
[103.3,0,-109.68,12.91,12.91,13.299999999999997,-1.3100000000000005]
[103.4,0,-109.69,12.89,12.89,13.400000000000006,-1.33]
[103.5,0,-109.69,12.87,12.87,13.5,-1.3500000000000014]
[103.6,0,-109.69,12.84,12.84,13.599999999999994,-1.3800000000000008]
[103.7,0,-109.7,12.82,12.82,13.700000000000003,-1.4000000000000004]
[103.8,0,-109.7,12.8,12.8,13.799999999999997,-1.42]
[103.9,0,-109.71,12.78,12.78,13.900000000000006,-1.4400000000000013]
[104,0,-109.71,12.75,12.75,14,-1.4700000000000006]
[104.1,0,-109.72,12.73,12.73,14.099999999999994,-1.4900000000000002]
[104.2,0,-109.72,12.71,12.71,14.200000000000003,-1.5099999999999998]
[104.3,0,-109.72,12.68,12.68,14.299999999999997,-1.5400000000000009]
[104.4,0,-109.73,12.66,12.66,14.400000000000006,-1.5600000000000005]
[104.5,0,-109.73,12.64,12.64,14.5,-1.58]
[104.6,0,-109.74,12.61,12.61,14.599999999999994,-1.6100000000000012]
[104.7,0,-109.74,12.59,12.59,14.700000000000003,-1.6300000000000008]
[104.8,0,-109.73,12.56,12.56,14.799999999999997,-1.6600000000000001]
[104.9,0,-109.75,12.54,12.54,14.900000000000006,-1.6800000000000015]
[105,0,-109.75,12.51,12.51,15,-1.7100000000000009]
[105.1,0,-109.75,12.49,12.49,15.099999999999994,-1.7300000000000004]
[105.2,0,-109.75,12.46,12.46,15.200000000000003,-1.7599999999999998]
[105.3,0,-109.76,12.43,12.43,15.299999999999997,-1.7900000000000009]
[105.4,0,-109.77,12.41,12.41,15.400000000000006,-1.8100000000000005]
[105.5,0,-109.77,12.38,12.38,15.5,-1.8399999999999999]
[105.6,0,-109.77,12.35,12.35,15.599999999999994,-1.870000000000001]
[105.7,0,-109.78,12.33,12.33,15.700000000000003,-1.8900000000000006]
[105.8,0,-109.78,12.3,12.3,15.799999999999997,-1.92]
[105.9,0,-109.79,12.27,12.27,15.900000000000006,-1.9500000000000011]
[106,0,-109.79,12.24,12.24,16,-1.9800000000000004]
[106.1,0,-109.79,12.21,12.21,16.099999999999994,-2.0099999999999998]
[106.2,0,-109.8,12.19,12.19,16.200000000000003,-2.0300000000000011]
[106.3,0,-109.8,12.16,12.16,16.299999999999997,-2.0600000000000005]
[106.4,0,-109.81,12.13,12.13,16.400000000000006,-2.09]
[106.5,0,-109.81,12.1,12.1,16.5,-2.120000000000001]
[106.6,0,-109.82,12.07,12.07,16.599999999999994,-2.1500000000000004]
[106.7,0,-109.83,12.04,12.04,16.700000000000003,-2.1800000000000015]
[106.8,0,-109.82,12.01,12.01,16.799999999999997,-2.2100000000000009]
[106.9,0,-109.83,11.98,11.98,16.900000000000006,-2.2400000000000002]
[107,0,-109.84,11.95,11.95,17,-2.2700000000000014]
[107.1,0,-109.85,11.92,11.92,17.099999999999994,-2.3000000000000007]
[107.2,0,-109.84,11.88,11.88,17.200000000000003,-2.34]
[107.3,0,-109.85,11.85,11.85,17.299999999999997,-2.370000000000001]
[107.4,0,-109.85,11.82,11.82,17.400000000000006,-2.4000000000000004]
[107.5,0,-109.87,11.79,11.79,17.5,-2.4300000000000015]
[107.6,0,-109.86,11.76,11.76,17.599999999999994,-2.4600000000000009]
[107.7,0,-109.86,11.72,11.72,17.700000000000003,-2.5]
[107.8,0,-109.88,11.69,11.69,17.799999999999997,-2.5300000000000011]
[107.9,0,-109.88,11.66,11.66,17.900000000000006,-2.5600000000000005]
[108,0,-109.89,11.62,11.62,18,-2.6000000000000014]
[108.1,0,-109.89,11.59,11.59,18.099999999999994,-2.6300000000000008]
[108.2,0,-109.89,11.55,11.55,18.200000000000003,-2.67]
[108.3,0,-109.9,11.52,11.52,18.299999999999997,-2.7000000000000011]
[108.4,0,-109.91,11.48,11.48,18.400000000000006,-2.74]
[108.5,0,-109.91,11.45,11.45,18.5,-2.7700000000000014]
[108.6,0,-109.92,11.41,11.41,18.599999999999994,-2.8100000000000005]
[108.7,0,-109.92,11.38,11.38,18.700000000000003,-2.84]
[108.8,0,-109.92,11.34,11.34,18.799999999999997,-2.8800000000000008]
[108.9,0,-109.93,11.3,11.3,18.900000000000006,-2.92]
[109,0,-109.93,11.27,11.27,19,-2.9500000000000011]
[109.1,0,-109.94,11.23,11.23,19.099999999999994,-2.99]
[109.2,0,-109.95,11.19,11.19,19.200000000000003,-3.0300000000000011]
[109.3,0,-109.95,11.15,11.15,{"$f":"A195-90","v":19.299999999999997},{"$f":"E195-$G$1","v":-3.0700000000000003}]
[109.4,0,-109.96,11.11,11.11,19.400000000000006,-3.1100000000000012]
[109.5,0,-109.97,11.07,11.07,19.5,-3.1500000000000004]
[109.6,0,-109.97,11.03,11.03,19.599999999999994,-3.1900000000000013]
[109.7,0,-109.97,10.99,10.99,19.700000000000003,-3.2300000000000004]
[109.8,0,-109.97,10.95,10.95,19.799999999999997,-3.2700000000000014]
[109.9,0,-109.98,10.91,10.91,19.900000000000006,-3.3100000000000005]
[110,0,-109.98,10.87,10.87,20,-3.3500000000000014]
[110.1,0,-110,10.83,10.83,20.099999999999994,-3.3900000000000006]
[110.2,0,-110,10.79,10.79,20.200000000000003,-3.4300000000000015]
[110.3,0,-110,10.75,10.75,20.299999999999997,-3.4700000000000006]
[110.4,0,-110.01,10.71,10.71,20.400000000000006,-3.51]
[110.5,0,-110.01,10.66,10.66,20.5,-3.5600000000000005]
[110.6,0,-110.02,10.62,10.62,20.599999999999994,-3.6000000000000014]
[110.7,0,-110.03,10.58,10.58,20.700000000000003,-3.6400000000000006]
[110.8,0,-110.03,10.53,10.53,20.799999999999997,-3.6900000000000013]
[110.9,0,-110.04,10.49,10.49,20.900000000000006,-3.7300000000000004]
[111,0,-110.04,10.44,10.44,21,-3.7800000000000011]
[111.1,0,-110.05,10.4,10.4,21.099999999999994,-3.8200000000000003]
[111.2,0,-110.06,10.35,10.35,21.200000000000003,-3.870000000000001]
[111.3,0,-110.07,10.3,10.3,21.299999999999997,-3.92]
[111.4,0,-110.07,10.26,10.26,21.400000000000006,-3.9600000000000009]
[111.5,0,-110.08,10.210000000000001,10.210000000000001,21.5,-4.01]
[111.6,0,-110.09,10.16,10.16,21.599999999999994,-4.0600000000000005]
[111.7,0,-110.09,10.119999999999999,10.119999999999999,21.700000000000003,-4.1000000000000014]
[111.8,0,-110.09,10.07,10.07,21.799999999999997,-4.1500000000000004]
[111.9,0,-110.09,10.02,10.02,21.900000000000006,-4.2000000000000011]
[112,0,-110.1,9.9700000000000006,9.9700000000000006,22,-4.25]
[112.1,0,-110.11,9.92,9.92,22.099999999999994,-4.3000000000000007]
[112.2,0,-110.12,9.8699999999999992,9.8699999999999992,22.200000000000003,-4.3500000000000014]
[112.3,0,-110.12,9.82,9.82,22.299999999999997,-4.4000000000000004]
[112.4,0,-110.12,9.77,9.77,22.400000000000006,-4.4500000000000011]
[112.5,0,-110.13,9.7100000000000009,9.7100000000000009,22.5,-4.51]
[112.6,0,-110.14,9.66,9.66,22.599999999999994,-4.5600000000000005]
[112.7,0,-110.15,9.61,9.61,22.700000000000003,-4.6100000000000012]
[112.8,0,-110.16,9.5500000000000007,9.5500000000000007,22.799999999999997,-4.67]
[112.9,0,-110.16,9.5,9.5,22.900000000000006,-4.7200000000000006]
[113,0,-110.17,9.4499999999999993,9.4499999999999993,23,-4.7700000000000014]
[113.1,0,-110.18,9.39,9.39,23.099999999999994,-4.83]
[113.2,0,-110.18,9.34,9.34,23.200000000000003,-4.8800000000000008]
[113.3,0,-110.19,9.2799999999999994,9.2799999999999994,23.299999999999997,-4.9400000000000013]
[113.4,0,-110.2,9.2200000000000006,9.2200000000000006,23.400000000000006,-5]
[113.5,0,-110.2,9.17,9.17,23.5,-5.0500000000000007]
[113.6,0,-110.21,9.11,9.11,23.599999999999994,-5.1100000000000012]
[113.7,0,-110.21,9.0500000000000007,9.0500000000000007,23.700000000000003,-5.17]
[113.8,0,-110.22,8.99,8.99,23.799999999999997,-5.23]
[113.9,0,-110.22,8.93,8.93,23.900000000000006,-5.2900000000000009]
[114,0,-110.24,8.8699999999999992,8.8699999999999992,24,-5.3500000000000014]
[114.1,0,-110.23,8.81,8.81,24.099999999999994,-5.41]
[114.2,0,-110.25,8.75,8.75,24.200000000000003,-5.4700000000000006]
[114.3,0,-110.26,8.69,8.69,24.299999999999997,-5.5300000000000011]
[114.4,0,-110.26,8.6199999999999992,8.6199999999999992,24.400000000000006,-5.6000000000000014]
[114.5,0,-110.27,8.56,8.56,24.5,-5.66]
[114.6,0,-110.28,8.5,8.5,24.599999999999994,-5.7200000000000006]
[114.7,0,-110.28,8.43,8.43,24.700000000000003,-5.7900000000000009]
[114.8,0,-110.29,8.3699999999999992,8.3699999999999992,24.799999999999997,-5.8500000000000014]
[114.9,0,-110.3,8.3000000000000007,8.3000000000000007,24.900000000000006,-5.92]
[115,0,-110.31,8.23,8.23,25,-5.99]
[115.1,0,-110.31,8.17,8.17,25.099999999999994,-6.0500000000000007]
[115.2,0,-110.32,8.1,8.1,25.200000000000003,-6.120000000000001]
[115.3,0,-110.33,8.0299999999999994,8.0299999999999994,25.299999999999997,-6.1900000000000013]
[115.4,0,-110.33,7.96,7.96,25.400000000000006,-6.2600000000000007]
[115.5,0,-110.34,7.89,7.89,25.5,-6.330000000000001]
[115.6,0,-110.35,7.82,7.82,25.599999999999994,-6.4]
[115.7,0,-110.35,7.75,7.75,{"$f":"A259-90","v":25.700000000000003},{"$f":"E259-$G$1","v":-6.4700000000000006}]
[115.8,0,-110.36,7.67,7.67,25.799999999999997,-6.5500000000000007]
[115.9,0,-110.37,7.6,7.6,25.900000000000006,-6.620000000000001]
[116,0,-110.37,7.53,7.53,26,-6.69]
[116.1,0,-110.38,7.45,7.45,26.099999999999994,-6.7700000000000005]
[116.2,0,-110.39,7.38,7.38,26.200000000000003,-6.8400000000000007]
[116.3,0,-110.4,7.3,7.3,26.299999999999997,-6.9200000000000008]
[116.4,0,-110.41,7.22,7.22,26.400000000000006,-7.0000000000000009]
[116.5,0,-110.41,7.14,7.14,26.5,-7.080000000000001]
[116.6,0,-110.42,7.06,7.06,26.599999999999994,-7.160000000000001]
[116.7,0,-110.43,6.98,6.98,26.700000000000003,-7.24]
[116.8,0,-110.44,6.9,6.9,26.799999999999997,-7.32]
[116.9,0,-110.44,6.82,6.82,26.900000000000006,-7.4]
[117,0,-110.45,6.74,6.74,27,-7.48]
[117.1,0,-110.46,6.65,6.65,27.099999999999994,-7.57]
[117.2,0,-110.46,6.57,6.57,27.200000000000003,-7.65]
[117.3,0,-110.47,6.48,6.48,27.299999999999997,-7.74]
[117.4,0,-110.48,6.4,6.4,27.400000000000006,-7.82]
[117.5,0,-110.49,6.31,6.31,27.5,-7.910000000000001]
[117.6,0,-110.5,6.22,6.22,27.599999999999994,-8]
[117.7,0,-110.51,6.13,6.13,27.700000000000003,-8.09]
[117.8,0,-110.52,6.04,6.04,27.799999999999997,-8.18]
[117.9,0,-110.52,5.95,5.95,27.900000000000006,-8.27]
[118,0,-110.53,5.85,5.85,28,-8.370000000000001]
[118.1,0,-110.54,5.76,5.76,28.099999999999994,-8.4600000000000009]
[118.2,0,-110.55,5.66,5.66,28.200000000000003,-8.56]
[118.3,0,-110.55,5.57,5.57,28.299999999999997,-8.65]
[118.4,0,-110.56,5.47,5.47,28.400000000000006,-8.75]
[118.5,0,-110.57,5.37,5.37,28.5,-8.8500000000000014]
[118.6,0,-110.57,5.27,5.27,28.599999999999994,-8.9500000000000011]
[118.7,0,-110.59,5.17,5.17,28.700000000000003,-9.0500000000000007]
[118.8,0,-110.6,5.0599999999999996,5.0599999999999996,28.799999999999997,-9.16]
[118.9,0,-110.6,4.96,4.96,28.900000000000006,-9.2600000000000016]
[119,0,-110.61,4.8499999999999996,4.8499999999999996,29,-9.370000000000001]
[119.1,0,-110.62,4.75,4.75,29.099999999999994,-9.4700000000000006]
[119.2,0,-110.63,4.6399999999999997,4.6399999999999997,29.200000000000003,-9.5800000000000018]
[119.3,0,-110.64,4.53,4.53,29.299999999999997,-9.6900000000000013]
[119.4,0,-110.65,4.42,4.42,29.400000000000006,-9.8000000000000007]
[119.5,0,-110.66,4.3,4.3,29.5,-9.9200000000000017]
[119.6,0,-110.66,4.1900000000000004,4.1900000000000004,29.599999999999994,-10.030000000000001]
[119.7,0,-110.67,4.07,4.07,29.700000000000003,-10.15]
[119.8,0,-110.68,3.95,3.95,29.799999999999997,-10.27]
[119.9,0,-110.69,3.83,3.83,29.900000000000006,-10.39]
[120,0,-110.7,3.71,3.71,30,-10.510000000000002]
[120.1,0,-110.71,3.59,3.59,30.099999999999994,-10.63]
[120.2,0,-110.72,3.46,3.46,30.200000000000003,-10.760000000000002]
[120.3,0,-110.73,3.34,3.34,30.299999999999997,-10.88]
[120.4,0,-110.73,3.21,3.21,30.400000000000006,-11.010000000000002]
[120.5,0,-110.74,3.08,3.08,30.5,-11.14]
[120.6,0,-110.75,2.94,2.94,30.599999999999994,-11.280000000000001]
[120.7,0,-110.76,2.81,2.81,30.700000000000003,-11.41]
[120.8,0,-110.77,2.67,2.67,30.799999999999997,-11.55]
[120.9,0,-110.78,2.5299999999999998,2.5299999999999998,30.900000000000006,-11.690000000000001]
[121,0,-110.79,2.39,2.39,31,-11.83]
[121.1,0,-110.8,2.25,2.25,31.099999999999994,-11.97]
[121.2,0,-110.81,2.1,2.1,31.200000000000003,-12.120000000000001]
[121.3,0,-110.82,1.95,1.95,31.299999999999997,-12.270000000000001]
[121.4,0,-110.83,1.8,1.8,31.400000000000006,-12.42]
[121.5,0,-110.83,1.64,1.64,31.5,-12.58]
[121.6,0,-110.84,1.49,1.49,31.599999999999994,-12.73]
[121.7,0,-110.85,1.33,1.33,31.700000000000003,-12.89]
[121.8,0,-110.86,1.17,1.17,31.799999999999997,-13.05]
[121.9,0,-110.88,1,1,31.900000000000006,-13.22]
[122,0,-110.88,0.83,0.83,32,-13.39]
[122.1,0,-110.89,0.66,0.66,{"$f":"A323-90","v":32.099999999999994},{"$f":"E323-$G$1","v":-13.56}]
[122.2,0,-110.9,0.48,0.48,32.200000000000003,-13.74]
[122.3,0,-110.92,0.3,0.3,32.299999999999997,-13.92]
[122.4,0,-110.92,0.12,0.12,32.400000000000006,-14.100000000000001]
[122.5,0,-110.93,-0.06,-0.06,32.5,-14.280000000000001]
[122.6,0,-110.94,-0.25,-0.25,32.599999999999994,-14.47]
[122.7,0,-110.95,-0.45,-0.45,32.700000000000003,-14.67]
[122.8,0,-110.96,-0.65,-0.65,32.799999999999997,-14.870000000000001]
[122.9,0,-110.97,-0.85,-0.85,32.900000000000006,-15.07]
[123,0,-110.98,-1.06,-1.06,33,-15.280000000000001]
[123.1,0,-110.99,-1.27,-1.27,33.099999999999994,-15.49]
[123.2,0,-111,-1.49,-1.49,33.200000000000003,-15.71]
[123.3,0,-111.01,-1.71,-1.71,33.299999999999997,-15.93]
[123.4,0,-111.02,-1.94,-1.94,33.400000000000006,-16.16]
[123.5,0,-111.03,-2.17,-2.17,33.5,-16.39]
[123.6,0,-111.04,-2.41,-2.41,33.599999999999994,-16.630000000000003]
[123.7,0,-111.06,-2.66,-2.66,33.700000000000003,-16.880000000000003]
[123.8,0,-111.05,-2.91,-2.91,33.799999999999997,-17.130000000000003]
[123.9,0,-111.07,-3.17,-3.17,33.900000000000006,-17.39]
[124,0,-111.07,-3.44,-3.44,34,-17.66]
[124.1,0,-111.09,-3.71,-3.71,34.099999999999994,-17.93]
[124.2,0,-111.1,-4,-4,34.200000000000003,-18.22]
[124.3,0,-111.11,-4.29,-4.29,34.299999999999997,-18.510000000000002]
[124.4,0,-111.12,-4.59,-4.59,34.400000000000006,-18.810000000000002]
[124.5,0,-111.13,-4.91,-4.91,34.5,-19.130000000000003]
[124.6,0,-111.14,-5.23,-5.23,34.599999999999994,-19.450000000000003]
[124.7,0,-111.15,-5.56,-5.56,34.700000000000003,-19.78]
[124.8,0,-111.16,-5.91,-5.91,34.799999999999997,-20.130000000000003]
[124.9,0,-111.17,-6.27,-6.27,34.900000000000006,-20.490000000000002]
[125,0,-111.18,-6.65,-6.65,35,-20.87]
[125.1,0,-111.19,-7.04,-7.04,35.099999999999994,-21.26]
[125.2,0,-111.2,-7.45,-7.45,35.200000000000003,-21.67]
[125.3,0,-111.21,-7.87,-7.87,35.299999999999997,-22.09]
[125.4,0,-111.23,-8.32,-8.32,35.400000000000006,-22.54]
[125.5,0,-111.24,-8.7899999999999991,-8.7899999999999991,35.5,-23.009999999999998]
[125.6,0,-111.24,-9.2799999999999994,-9.2799999999999994,35.599999999999994,-23.5]
[125.7,0,-111.26,-9.81,-9.81,35.700000000000003,-24.03]
[125.8,0,-111.27,-10.36,-10.36,35.799999999999997,-24.58]
[125.9,0,-111.28,-10.94,-10.94,35.900000000000006,-25.16]
[126,0,-111.29,-11.57,-11.57,36,-25.79]
[126.1,0,-111.3,-12.23,-12.23,36.099999999999994,-26.450000000000003]
[126.2,0,-111.31,-12.95,-12.95,36.200000000000003,-27.17]
[126.3,0,-111.32,-13.72,-13.72,36.299999999999997,-27.94]
[126.4,0,-111.33,-14.55,-14.55,36.400000000000006,-28.770000000000003]
[126.5,0,-111.35,-15.46,-15.46,36.5,-29.68]
[126.6,0,-111.36,-16.46,-16.46,36.599999999999994,-30.68]
[126.7,0,-111.37,-17.55,-17.55,36.700000000000003,-31.770000000000003]
[126.8,0,-111.38,-18.739999999999998,-18.739999999999998,36.799999999999997,-32.96]
[126.9,0,-111.39,-20.04,-20.04,36.900000000000006,-34.26]
[127,0,-111.41,-21.41,-21.41,37,-35.630000000000003]
[127.1,0,-111.42,-22.76,-22.76,37.099999999999994,-36.980000000000004]
[127.2,0,-111.42,-23.84,-23.84,37.200000000000003,-38.06]
[127.3,0,-111.44,-24.3,-24.3,37.299999999999997,-38.520000000000003]
[127.4,0,-111.45,-23.95,-23.95,37.400000000000006,-38.17]
[127.5,0,-111.46,-22.96,-22.96,37.5,-37.18]
[127.6,0,-111.47,-21.66,-21.66,37.599999999999994,-35.880000000000003]
[127.7,0,-111.48,-20.329999999999998,-20.329999999999998,37.700000000000003,-34.549999999999997]
[127.8,0,-111.49,-19.059999999999999,-19.059999999999999,37.799999999999997,-33.28]
[127.9,0,-111.51,-17.89,-17.89,37.900000000000006,-32.11]
[128,0,-111.52,-16.82,-16.82,38,-31.04]
[128.1,0,-111.53,-15.86,-15.86,38.099999999999994,-30.08]
[128.19999999999999,0,-111.54,-14.98,-14.98,38.199999999999989,-29.200000000000003]
[128.30000000000001,0,-111.55,-14.17,-14.17,38.300000000000011,-28.39]
[128.4,0,-111.57,-13.43,-13.43,38.400000000000006,-27.65]
[128.5,0,-111.58,-12.75,-12.75,{"$f":"A387-90","v":38.5},{"$f":"E387-$G$1","v":-26.97}]
[128.6,0,-111.59,-12.11,-12.11,38.599999999999994,-26.33]
[128.69999999999999,0,-111.6,-11.53,-11.53,38.699999999999989,-25.75]
[128.80000000000001,0,-111.62,-10.97,-10.97,38.800000000000011,-25.19]
[128.9,0,-111.63,-10.46,-10.46,38.900000000000006,-24.68]
[129,0,-111.64,-9.9700000000000006,-9.9700000000000006,39,-24.19]
[129.1,0,-111.65,-9.51,-9.51,39.099999999999994,-23.73]
[129.19999999999999,0,-111.67,-9.08,-9.08,39.199999999999989,-23.3]
[129.30000000000001,0,-111.68,-8.67,-8.67,39.300000000000011,-22.89]
[129.4,0,-111.69,-8.2799999999999994,-8.2799999999999994,39.400000000000006,-22.5]
[129.5,0,-111.71,-7.9,-7.9,39.5,-22.12]
[129.6,0,-111.71,-7.55,-7.55,39.599999999999994,-21.77]
[129.69999999999999,0,-111.73,-7.21,-7.21,39.699999999999989,-21.43]
[129.80000000000001,0,-111.74,-6.89,-6.89,39.800000000000011,-21.11]
[129.9,0,-111.75,-6.58,-6.58,39.900000000000006,-20.8]
[130,0,-111.77,-6.28,-6.28,40,-20.5]
[130.1,0,-111.78,-5.99,-5.99,40.099999999999994,-20.21]
[130.19999999999999,0,-111.79,-5.72,-5.72,40.199999999999989,-19.940000000000001]
[130.30000000000001,0,-111.8,-5.45,-5.45,40.300000000000011,-19.670000000000002]
[130.4,0,-111.82,-5.2,-5.2,40.400000000000006,-19.420000000000002]
[130.5,0,-111.83,-4.95,-4.95,40.5,-19.170000000000002]
[130.6,0,-111.84,-4.71,-4.71,40.599999999999994,-18.93]
[130.69999999999999,0,-111.86,-4.4800000000000004,-4.4800000000000004,40.699999999999989,-18.700000000000003]
[130.80000000000001,0,-111.87,-4.26,-4.26,40.800000000000011,-18.48]
[130.9,0,-111.88,-4.05,-4.05,40.900000000000006,-18.27]
[131,0,-111.89,-3.84,-3.84,41,-18.060000000000002]
[131.1,0,-111.9,-3.64,-3.64,41.099999999999994,-17.86]
[131.19999999999999,0,-111.91,-3.44,-3.44,41.199999999999989,-17.66]
[131.30000000000001,0,-111.94,-3.25,-3.25,41.300000000000011,-17.47]
[131.4,0,-111.95,-3.07,-3.07,41.400000000000006,-17.29]
[131.5,0,-111.96,-2.89,-2.89,41.5,-17.11]
[131.6,0,-111.97,-2.72,-2.72,41.599999999999994,-16.940000000000001]
[131.69999999999999,0,-111.99,-2.5499999999999998,-2.5499999999999998,41.699999999999989,-16.77]
[131.80000000000001,0,-112,-2.39,-2.39,41.800000000000011,-16.61]
[131.9,0,-112.01,-2.23,-2.23,41.900000000000006,-16.45]
[132,0,-112.03,-2.08,-2.08,42,-16.3]
[132.1,0,-112.05,-1.93,-1.93,42.099999999999994,-16.150000000000002]
[132.19999999999999,0,-112.06,-1.78,-1.78,42.199999999999989,-16]
[132.30000000000001,0,-112.07,-1.64,-1.64,42.300000000000011,-15.860000000000001]
[132.4,0,-112.09,-1.5,-1.5,42.400000000000006,-15.72]
[132.5,0,-112.1,-1.37,-1.37,42.5,-15.59]
[132.6,0,-112.11,-1.23,-1.23,42.599999999999994,-15.450000000000001]
[132.69999999999999,0,-112.13,-1.1100000000000001,-1.1100000000000001,42.699999999999989,-15.33]
[132.80000000000001,0,-112.14,-0.98,-0.98,42.800000000000011,-15.200000000000001]
[132.9,0,-112.16,-0.86,-0.86,42.900000000000006,-15.08]
[133,0,-112.17,-0.74,-0.74,43,-14.96]
[133.1,0,-112.18,-0.63,-0.63,43.099999999999994,-14.850000000000001]
[133.19999999999999,0,-112.2,-0.52,-0.52,43.199999999999989,-14.74]
[133.30000000000001,0,-112.21,-0.41,-0.41,43.300000000000011,-14.63]
[133.4,0,-112.22,-0.3,-0.3,43.400000000000006,-14.520000000000001]
[133.5,0,-112.24,-0.2,-0.2,43.5,-14.42]
[133.6,0,-112.25,-0.1,-0.1,43.599999999999994,-14.32]
[133.69999999999999,0,-112.27,0,0,43.699999999999989,-14.22]
[133.80000000000001,0,-112.28,0.1,0.1,43.800000000000011,-14.120000000000001]
[133.9,0,-112.29,0.19,0.19,43.900000000000006,-14.030000000000001]
[134,0,-112.31,0.28000000000000003,0.28000000000000003,44,-13.940000000000001]
[134.1,0,-112.32,0.37,0.37,44.099999999999994,-13.850000000000001]
[134.19999999999999,0,-112.34,0.46,0.46,44.199999999999989,-13.76]
[134.30000000000001,0,-112.35,0.54,0.54,44.300000000000011,-13.68]
[134.4,0,-112.37,0.63,0.63,44.400000000000006,-13.59]
[134.5,0,-112.39,0.71,0.71,44.5,-13.510000000000002]
[134.6,0,-112.4,0.78,0.78,44.599999999999994,-13.440000000000001]
[134.69999999999999,0,-112.41,0.86,0.86,44.699999999999989,-13.360000000000001]
[134.80000000000001,0,-112.43,0.93,0.93,44.800000000000011,-13.290000000000001]
[134.9,0,-112.44,1.01,1.01,{"$f":"A451-90","v":44.900000000000006},{"$f":"E451-$G$1","v":-13.21}]
[135,0,-112.46,1.08,1.08,45,-13.14]
[135.1,0,-112.48,1.1499999999999999,1.1499999999999999,45.099999999999994,-13.07]
[135.19999999999999,0,-112.49,1.21,1.21,45.199999999999989,-13.010000000000002]
[135.30000000000001,0,-112.51,1.28,1.28,45.300000000000011,-12.940000000000001]
[135.4,0,-112.52,1.34,1.34,45.400000000000006,-12.88]
[135.5,0,-112.53,1.4,1.4,45.5,-12.82]
[135.6,0,-112.56,1.46,1.46,45.599999999999994,-12.760000000000002]
[135.69999999999999,0,-112.57,1.52,1.52,45.699999999999989,-12.700000000000001]
[135.80000000000001,0,-112.59,1.58,1.58,45.800000000000011,-12.64]
[135.9,0,-112.6,1.63,1.63,45.900000000000006,-12.59]
[136,0,-112.62,1.68,1.68,46,-12.540000000000001]
[136.1,0,-112.63,1.73,1.73,46.099999999999994,-12.49]
[136.19999999999999,0,-112.65,1.78,1.78,46.199999999999989,-12.440000000000001]
[136.30000000000001,0,-112.67,1.83,1.83,46.300000000000011,-12.39]
[136.4,0,-112.68,1.88,1.88,46.400000000000006,-12.34]
[136.5,0,-112.7,1.92,1.92,46.5,-12.3]
[136.6,0,-112.71,1.97,1.97,46.599999999999994,-12.25]
[136.69999999999999,0,-112.73,2.0099999999999998,2.0099999999999998,46.699999999999989,-12.21]
[136.80000000000001,0,-112.74,2.0499999999999998,2.0499999999999998,46.800000000000011,-12.170000000000002]
[136.9,0,-112.76,2.09,2.09,46.900000000000006,-12.13]
[137,0,-112.78,2.13,2.13,47,-12.09]
[137.1,0,-112.8,2.17,2.17,47.099999999999994,-12.05]
[137.19999999999999,0,-112.8,2.2000000000000002,2.2000000000000002,47.199999999999989,-12.02]
[137.30000000000001,0,-112.83,2.23,2.23,47.300000000000011,-11.99]
[137.4,0,-112.85,2.27,2.27,47.400000000000006,-11.950000000000001]
[137.5,0,-112.86,2.2999999999999998,2.2999999999999998,47.5,-11.920000000000002]
[137.6,0,-112.87,2.33,2.33,47.599999999999994,-11.89]
[137.69999999999999,0,-112.89,2.36,2.36,47.699999999999989,-11.860000000000001]
[137.80000000000001,0,-112.91,2.38,2.38,47.800000000000011,-11.84]
[137.9,0,-112.93,2.41,2.41,47.900000000000006,-11.81]
[138,0,-112.95,2.4300000000000002,2.4300000000000002,48,-11.790000000000001]
[138.1,0,-112.96,2.46,2.46,48.099999999999994,-11.760000000000002]
[138.19999999999999,0,-112.97,2.48,2.48,48.199999999999989,-11.74]
[138.30000000000001,0,-113,2.5,2.5,48.300000000000011,-11.72]
[138.4,0,-113.01,2.52,2.52,48.400000000000006,-11.700000000000001]
[138.5,0,-113.02,2.54,2.54,48.5,-11.68]
[138.6,0,-113.04,2.5499999999999998,2.5499999999999998,48.599999999999994,-11.670000000000002]
[138.69999999999999,0,-113.07,2.57,2.57,48.699999999999989,-11.65]
[138.80000000000001,0,-113.08,2.58,2.58,48.800000000000011,-11.64]
[138.9,0,-113.09,2.6,2.6,48.900000000000006,-11.620000000000001]
[139,0,-113.11,2.61,2.61,49,-11.610000000000001]
[139.1,0,-113.13,2.62,2.62,49.099999999999994,-11.600000000000001]
[139.19999999999999,0,-113.16,2.63,2.63,49.199999999999989,-11.59]
[139.30000000000001,0,-113.17,2.64,2.64,49.300000000000011,-11.58]
[139.4,0,-113.18,2.65,2.65,49.400000000000006,-11.57]
[139.5,0,-113.2,2.65,2.65,49.5,-11.57]
[139.6,0,-113.22,2.66,2.66,49.599999999999994,-11.56]
[139.69999999999999,0,-113.24,2.66,2.66,49.699999999999989,-11.56]
[139.80000000000001,0,-113.25,2.66,2.66,49.800000000000011,-11.56]
[139.9,0,-113.27,2.66,2.66,49.900000000000006,-11.56]
[140,0,-113.29,2.66,2.66,50,-11.56]
[140.1,0,-113.31,2.66,2.66,50.099999999999994,-11.56]
[140.19999999999999,0,-113.33,2.66,2.66,50.199999999999989,-11.56]
[140.30000000000001,0,-113.34,2.66,2.66,50.300000000000011,-11.56]
[140.4,0,-113.36,2.65,2.65,50.400000000000006,-11.57]
[140.5,0,-113.39,2.64,2.64,50.5,-11.58]
[140.6,0,-113.4,2.64,2.64,50.599999999999994,-11.58]
[140.69999999999999,0,-113.41,2.63,2.63,50.699999999999989,-11.59]
[140.80000000000001,0,-113.44,2.62,2.62,50.800000000000011,-11.600000000000001]
[140.9,0,-113.46,2.61,2.61,50.900000000000006,-11.610000000000001]
[141,0,-113.48,2.6,2.6,51,-11.620000000000001]
[141.1,0,-113.49,2.58,2.58,51.099999999999994,-11.64]
[141.19999999999999,0,-113.51,2.57,2.57,51.199999999999989,-11.65]
[141.30000000000001,0,-113.53,2.5499999999999998,2.5499999999999998,{"$f":"A515-90","v":51.300000000000011},{"$f":"E515-$G$1","v":-11.670000000000002}]
[141.4,0,-113.54,2.54,2.54,51.400000000000006,-11.68]
[141.5,0,-113.57,2.52,2.52,51.5,-11.700000000000001]
[141.6,0,-113.6,2.5,2.5,51.599999999999994,-11.72]
[141.69999999999999,0,-113.61,2.48,2.48,51.699999999999989,-11.74]
[141.80000000000001,0,-113.63,2.46,2.46,51.800000000000011,-11.760000000000002]
[141.9,0,-113.65,2.44,2.44,51.900000000000006,-11.780000000000001]
[142,0,-113.66,2.41,2.41,52,-11.81]
[142.1,0,-113.69,2.39,2.39,52.099999999999994,-11.83]
[142.19999999999999,0,-113.71,2.36,2.36,52.199999999999989,-11.860000000000001]
[142.30000000000001,0,-113.72,2.33,2.33,52.300000000000011,-11.89]
[142.4,0,-113.74,2.2999999999999998,2.2999999999999998,52.400000000000006,-11.920000000000002]
[142.5,0,-113.77,2.27,2.27,52.5,-11.950000000000001]
[142.6,0,-113.79,2.2400000000000002,2.2400000000000002,52.599999999999994,-11.98]
[142.69999999999999,0,-113.8,2.21,2.21,52.699999999999989,-12.010000000000002]
[142.80000000000001,0,-113.82,2.1800000000000002,2.1800000000000002,52.800000000000011,-12.040000000000001]
[142.9,0,-113.84,2.14,2.14,52.900000000000006,-12.08]
[143,0,-113.86,2.1,2.1,53,-12.120000000000001]
[143.1,0,-113.88,2.0699999999999998,2.0699999999999998,53.099999999999994,-12.15]
[143.19999999999999,0,-113.91,2.0299999999999998,2.0299999999999998,53.199999999999989,-12.190000000000001]
[143.30000000000001,0,-113.92,1.99,1.99,53.300000000000011,-12.23]
[143.4,0,-113.94,1.94,1.94,53.400000000000006,-12.280000000000001]
[143.5,0,-113.96,1.9,1.9,53.5,-12.32]
[143.6,0,-113.99,1.86,1.86,53.599999999999994,-12.360000000000001]
[143.69999999999999,0,-114.01,1.81,1.81,53.699999999999989,-12.41]
[143.80000000000001,0,-114.02,1.76,1.76,53.800000000000011,-12.46]
[143.9,0,-114.05,1.71,1.71,53.900000000000006,-12.510000000000002]
[144,0,-114.07,1.66,1.66,54,-12.56]
[144.1,0,-114.09,1.61,1.61,54.099999999999994,-12.610000000000001]
[144.19999999999999,0,-114.11,1.56,1.56,54.199999999999989,-12.66]
[144.30000000000001,0,-114.13,1.51,1.51,54.300000000000011,-12.71]
[144.4,0,-114.16,1.45,1.45,54.400000000000006,-12.770000000000001]
[144.5,0,-114.18,1.39,1.39,54.5,-12.83]
[144.6,0,-114.19,1.33,1.33,54.599999999999994,-12.89]
[144.69999999999999,0,-114.22,1.27,1.27,54.699999999999989,-12.950000000000001]
[144.80000000000001,0,-114.24,1.21,1.21,54.800000000000011,-13.010000000000002]
[144.9,0,-114.25,1.1499999999999999,1.1499999999999999,54.900000000000006,-13.07]
[145,0,-114.28,1.08,1.08,55,-13.14]
[145.1,0,-114.3,1.02,1.02,55.099999999999994,-13.200000000000001]
[145.19999999999999,0,-114.32,0.95,0.95,55.199999999999989,-13.270000000000001]
[145.30000000000001,0,-114.35,0.88,0.88,55.300000000000011,-13.34]
[145.4,0,-114.37,0.81,0.81,55.400000000000006,-13.41]
[145.5,0,-114.39,0.73,0.73,55.5,-13.49]
[145.6,0,-114.42,0.66,0.66,55.599999999999994,-13.56]
[145.69999999999999,0,-114.43,0.57999999999999996,0.57999999999999996,55.699999999999989,-13.64]
[145.80000000000001,0,-114.46,0.5,0.5,55.800000000000011,-13.72]
[145.9,0,-114.48,0.42,0.42,55.900000000000006,-13.8]
[146,0,-114.5,0.34,0.34,56,-13.88]
[146.1,0,-114.52,0.25,0.25,56.099999999999994,-13.97]
[146.19999999999999,0,-114.55,0.17,0.17,56.199999999999989,-14.05]
[146.30000000000001,0,-114.57,0.08,0.08,56.300000000000011,-14.14]
[146.4,0,-114.59,-0.01,-0.01,56.400000000000006,-14.23]
[146.5,0,-114.62,-0.1,-0.1,56.5,-14.32]
[146.6,0,-114.64,-0.2,-0.2,56.599999999999994,-14.42]
[146.69999999999999,0,-114.66,-0.28999999999999998,-0.28999999999999998,56.699999999999989,-14.51]
[146.80000000000001,0,-114.68,-0.39,-0.39,56.800000000000011,-14.610000000000001]
[146.9,0,-114.71,-0.49,-0.49,56.900000000000006,-14.71]
[147,0,-114.73,-0.59,-0.59,57,-14.81]
[147.1,0,-114.76,-0.7,-0.7,57.099999999999994,-14.92]
[147.19999999999999,0,-114.78,-0.81,-0.81,57.199999999999989,-15.030000000000001]
[147.30000000000001,0,-114.8,-0.92,-0.92,57.300000000000011,-15.14]
[147.4,0,-114.82,-1.03,-1.03,57.400000000000006,-15.25]
[147.5,0,-114.85,-1.1399999999999999,-1.1399999999999999,57.5,-15.360000000000001]
[147.6,0,-114.87,-1.26,-1.26,57.599999999999994,-15.48]
[147.69999999999999,0,-114.9,-1.38,-1.38,{"$f":"A579-90","v":57.699999999999989},{"$f":"E579-$G$1","v":-15.600000000000001}]
[147.80000000000001,0,-114.93,-1.5,-1.5,57.800000000000011,-15.72]
[147.9,0,-114.95,-1.63,-1.63,57.900000000000006,-15.850000000000001]
[148,0,-114.97,-1.76,-1.76,58,-15.98]
[148.1,0,-114.99,-1.89,-1.89,58.099999999999994,-16.11]
[148.19999999999999,0,-115.02,-2.02,-2.02,58.199999999999989,-16.240000000000002]
[148.30000000000001,0,-115.04,-2.16,-2.16,58.300000000000011,-16.380000000000003]
[148.4,0,-115.07,-2.2999999999999998,-2.2999999999999998,58.400000000000006,-16.52]
[148.5,0,-115.09,-2.44,-2.44,58.5,-16.66]
[148.6,0,-115.12,-2.59,-2.59,58.599999999999994,-16.810000000000002]
[148.69999999999999,0,-115.14,-2.74,-2.74,58.699999999999989,-16.96]
[148.80000000000001,0,-115.17,-2.89,-2.89,58.800000000000011,-17.11]
[148.9,0,-115.2,-3.05,-3.05,58.900000000000006,-17.27]
[149,0,-115.22,-3.21,-3.21,59,-17.43]
[149.1,0,-115.25,-3.38,-3.38,59.099999999999994,-17.600000000000001]
[149.19999999999999,0,-115.26,-3.55,-3.55,59.199999999999989,-17.77]
[149.30000000000001,0,-115.29,-3.72,-3.72,59.300000000000011,-17.940000000000001]
[149.4,0,-115.32,-3.9,-3.9,59.400000000000006,-18.12]
[149.5,0,-115.34,-4.08,-4.08,59.5,-18.3]
[149.6,0,-115.37,-4.2699999999999996,-4.2699999999999996,59.599999999999994,-18.490000000000002]
[149.69999999999999,0,-115.39,-4.47,-4.47,59.699999999999989,-18.690000000000001]
[149.80000000000001,0,-115.42,-4.66,-4.66,59.800000000000011,-18.880000000000003]
[149.9,0,-115.45,-4.87,-4.87,59.900000000000006,-19.09]
[150,0,-115.48,-5.08,-5.08,60,-19.3]
[150.1,0,-115.5,-5.29,-5.29,60.099999999999994,-19.510000000000002]
[150.19999999999999,0,-115.53,-5.51,-5.51,60.199999999999989,-19.73]
[150.30000000000001,0,-115.55,-5.74,-5.74,60.300000000000011,-19.96]
[150.4,0,-115.58,-5.98,-5.98,60.400000000000006,-20.200000000000003]
[150.5,0,-115.61,-6.22,-6.22,60.5,-20.440000000000001]
[150.6,0,-115.63,-6.47,-6.47,60.599999999999994,-20.69]
[150.69999999999999,0,-115.67,-6.73,-6.73,60.699999999999989,-20.950000000000003]
[150.80000000000001,0,-115.69,-6.99,-6.99,60.800000000000011,-21.21]
[150.9,0,-115.72,-7.27,-7.27,60.900000000000006,-21.490000000000002]
[151,0,-115.74,-7.55,-7.55,61,-21.77]
[151.1,0,-115.77,-7.85,-7.85,61.099999999999994,-22.07]
[151.19999999999999,0,-115.8,-8.15,-8.15,61.199999999999989,-22.37]
[151.30000000000001,0,-115.83,-8.4700000000000006,-8.4700000000000006,61.300000000000011,-22.69]
[151.4,0,-115.86,-8.8000000000000007,-8.8000000000000007,61.400000000000006,-23.020000000000003]
[151.5,0,-115.88,-9.14,-9.14,61.5,-23.36]
[151.6,0,-115.9,-9.5,-9.5,61.599999999999994,-23.72]
[151.69999999999999,0,-115.94,-9.8699999999999992,-9.8699999999999992,61.699999999999989,-24.09]
[151.80000000000001,0,-115.97,-10.26,-10.26,61.800000000000011,-24.48]
[151.9,0,-116,-10.66,-10.66,61.900000000000006,-24.880000000000003]
[152,0,-116.02,-11.09,-11.09,62,-25.310000000000002]
[152.1,0,-116.05,-11.53,-11.53,62.099999999999994,-25.75]
[152.19999999999999,0,-116.08,-12,-12,62.199999999999989,-26.22]
[152.30000000000001,0,-116.11,-12.49,-12.49,62.300000000000011,-26.71]
[152.4,0,-116.14,-13.02,-13.02,62.400000000000006,-27.240000000000002]
[152.5,0,-116.17,-13.57,-13.57,62.5,-27.79]
[152.6,0,-116.19,-14.15,-14.15,62.599999999999994,-28.37]
[152.69999999999999,0,-116.23,-14.77,-14.77,62.699999999999989,-28.990000000000002]
[152.80000000000001,0,-116.26,-15.44,-15.44,62.800000000000011,-29.66]
[152.9,0,-116.29,-16.149999999999999,-16.149999999999999,62.900000000000006,-30.369999999999997]
[153,0,-116.32,-16.91,-16.91,63,-31.130000000000003]
[153.1,0,-116.35,-17.72,-17.72,63.099999999999994,-31.939999999999998]
[153.19999999999999,0,-116.37,-18.59,-18.59,63.199999999999989,-32.81]
[153.30000000000001,0,-116.41,-19.52,-19.52,63.300000000000011,-33.74]
[153.4,0,-116.44,-20.49,-20.49,63.400000000000006,-34.71]
[153.5,0,-116.47,-21.5,-21.5,63.5,-35.72]
[153.6,0,-116.49,-22.49,-22.49,63.599999999999994,-36.71]
[153.69999999999999,0,-116.53,-23.37,-23.37,63.699999999999989,-37.590000000000003]
[153.80000000000001,0,-116.55,-24.01,-24.01,63.800000000000011,-38.230000000000004]
[153.9,0,-116.58,-24.27,-24.27,63.900000000000006,-38.49]
[154,0,-116.62,-24.09,-24.09,64,-38.31]
[154.1,0,-116.66,-23.51,-23.51,{"$f":"A643-90","v":64.099999999999994},{"$f":"E643-$G$1","v":-37.730000000000004}]
[154.19999999999999,0,-116.68,-22.68,-22.68,64.199999999999989,-36.9]
[154.30000000000001,0,-116.71,-21.72,-21.72,64.300000000000011,-35.94]
[154.4,0,-116.75,-20.74,-20.74,64.400000000000006,-34.96]
[154.5,0,-116.78,-19.78,-19.78,64.5,-34]
[154.6,0,-116.81,-18.86,-18.86,64.599999999999994,-33.08]
[154.69999999999999,0,-116.84,-18.010000000000002,-18.010000000000002,64.699999999999989,-32.230000000000004]
[154.80000000000001,0,-116.87,-17.21,-17.21,64.800000000000011,-31.43]
[154.9,0,-116.9,-16.46,-16.46,64.900000000000006,-30.68]
[155,0,-116.93,-15.77,-15.77,65,-29.990000000000002]
[155.1,0,-116.97,-15.12,-15.12,65.099999999999994,-29.34]
[155.19999999999999,0,-117,-14.51,-14.51,65.199999999999989,-28.73]
[155.30000000000001,0,-117.04,-13.95,-13.95,65.300000000000011,-28.17]
[155.4,0,-117.07,-13.41,-13.41,65.400000000000006,-27.630000000000003]
[155.5,0,-117.1,-12.91,-12.91,65.5,-27.130000000000003]
[155.6,0,-117.13,-12.43,-12.43,65.599999999999994,-26.65]
[155.69999999999999,0,-117.18,-11.98,-11.98,65.699999999999989,-26.200000000000003]
[155.80000000000001,0,-117.2,-11.55,-11.55,65.800000000000011,-25.770000000000003]
[155.9,0,-117.23,-11.15,-11.15,65.900000000000006,-25.37]
[156,0,-117.27,-10.76,-10.76,66,-24.98]
[156.1,0,-117.3,-10.39,-10.39,66.099999999999994,-24.61]
[156.19999999999999,0,-117.34,-10.039999999999999,-10.039999999999999,66.199999999999989,-24.259999999999998]
[156.30000000000001,0,-117.38,-9.7100000000000009,-9.7100000000000009,66.300000000000011,-23.93]
[156.4,0,-117.41,-9.3800000000000008,-9.3800000000000008,66.400000000000006,-23.6]
[156.5,0,-117.45,-9.07,-9.07,66.5,-23.29]
[156.6,0,-117.47,-8.7799999999999994,-8.7799999999999994,66.599999999999994,-23]
[156.69999999999999,0,-117.51,-8.49,-8.49,66.699999999999989,-22.71]
[156.80000000000001,0,-117.55,-8.2200000000000006,-8.2200000000000006,66.800000000000011,-22.44]
[156.9,0,-117.58,-7.96,-7.96,66.900000000000006,-22.18]
[157,0,-117.62,-7.7,-7.7,67,-21.92]
[157.1,0,-117.65,-7.46,-7.46,67.099999999999994,-21.68]
[157.19999999999999,0,-117.69,-7.22,-7.22,67.199999999999989,-21.44]
[157.30000000000001,0,-117.73,-6.99,-6.99,67.300000000000011,-21.21]
[157.4,0,-117.77,-6.77,-6.77,67.400000000000006,-20.990000000000002]
[157.5,0,-117.8,-6.56,-6.56,67.5,-20.78]
[157.6,0,-117.84,-6.35,-6.35,67.599999999999994,-20.57]
[157.69999999999999,0,-117.87,-6.15,-6.15,67.699999999999989,-20.37]
[157.80000000000001,0,-117.92,-5.96,-5.96,67.800000000000011,-20.18]
[157.9,0,-117.95,-5.77,-5.77,67.900000000000006,-19.990000000000002]
[158,0,-117.99,-5.59,-5.59,68,-19.810000000000002]
[158.1,0,-118.02,-5.41,-5.41,68.099999999999994,-19.630000000000003]
[158.19999999999999,0,-118.05,-5.24,-5.24,68.199999999999989,-19.46]
[158.30000000000001,0,-118.1,-5.07,-5.07,68.300000000000011,-19.29]
[158.4,0,-118.14,-4.91,-4.91,68.400000000000006,-19.130000000000003]
[158.5,0,-118.17,-4.76,-4.76,68.5,-18.98]
[158.6,0,-118.22,-4.5999999999999996,-4.5999999999999996,68.599999999999994,-18.82]
[158.69999999999999,0,-118.25,-4.46,-4.46,68.699999999999989,-18.68]
[158.80000000000001,0,-118.29,-4.3099999999999996,-4.3099999999999996,68.800000000000011,-18.53]
[158.9,0,-118.33,-4.17,-4.17,68.900000000000006,-18.39]
[159,0,-118.36,-4.04,-4.04,69,-18.260000000000002]
[159.1,0,-118.41,-3.91,-3.91,69.099999999999994,-18.130000000000003]
[159.19999999999999,0,-118.45,-3.78,-3.78,69.199999999999989,-18]
[159.30000000000001,0,-118.5,-3.66,-3.66,69.300000000000011,-17.880000000000003]
[159.4,0,-118.53,-3.54,-3.54,69.400000000000006,-17.760000000000002]
[159.5,0,-118.57,-3.42,-3.42,69.5,-17.64]
[159.6,0,-118.61,-3.3,-3.3,69.599999999999994,-17.52]
[159.69999999999999,0,-118.65,-3.19,-3.19,69.699999999999989,-17.41]
[159.80000000000001,0,-118.69,-3.09,-3.09,69.800000000000011,-17.310000000000002]
[159.9,0,-118.74,-2.98,-2.98,69.900000000000006,-17.2]
[160,0,-118.78,-2.88,-2.88,70,-17.100000000000001]
[160.1,0,-118.82,-2.78,-2.78,70.099999999999994,-17]
[160.19999999999999,0,-118.87,-2.69,-2.69,70.199999999999989,-16.91]
[160.30000000000001,0,-118.9,-2.59,-2.59,70.300000000000011,-16.810000000000002]
[160.4,0,-118.94,-2.5,-2.5,70.400000000000006,-16.72]
[160.5,0,-118.99,-2.41,-2.41,{"$f":"A707-90","v":70.5},{"$f":"E707-$G$1","v":-16.630000000000003}]
[160.6,0,-119.02,-2.33,-2.33,70.599999999999994,-16.55]
[160.69999999999999,0,-119.07,-2.25,-2.25,70.699999999999989,-16.47]
[160.80000000000001,0,-119.12,-2.17,-2.17,70.800000000000011,-16.39]
[160.9,0,-119.16,-2.09,-2.09,70.900000000000006,-16.310000000000002]
[161,0,-119.21,-2.0099999999999998,-2.0099999999999998,71,-16.23]
[161.1,0,-119.25,-1.94,-1.94,71.099999999999994,-16.16]
[161.19999999999999,0,-119.29,-1.87,-1.87,71.199999999999989,-16.09]
[161.30000000000001,0,-119.34,-1.8,-1.8,71.300000000000011,-16.02]
[161.4,0,-119.38,-1.73,-1.73,71.400000000000006,-15.950000000000001]
[161.5,0,-119.43,-1.67,-1.67,71.5,-15.89]
[161.6,0,-119.47,-1.61,-1.61,71.599999999999994,-15.83]
[161.69999999999999,0,-119.52,-1.55,-1.55,71.699999999999989,-15.770000000000001]
[161.80000000000001,0,-119.57,-1.49,-1.49,71.800000000000011,-15.71]
[161.9,0,-119.61,-1.43,-1.43,71.900000000000006,-15.65]
[162,0,-119.66,-1.38,-1.38,72,-15.600000000000001]
[162.1,0,-119.7,-1.32,-1.32,72.099999999999994,-15.540000000000001]
[162.19999999999999,0,-119.74,-1.27,-1.27,72.199999999999989,-15.49]
[162.30000000000001,0,-119.81,-1.23,-1.23,72.300000000000011,-15.450000000000001]
[162.4,0,-119.85,-1.18,-1.18,72.400000000000006,-15.4]
[162.5,0,-119.89,-1.1299999999999999,-1.1299999999999999,72.5,-15.350000000000001]
[162.6,0,-119.94,-1.0900000000000001,-1.0900000000000001,72.599999999999994,-15.31]
[162.69999999999999,0,-119.99,-1.05,-1.05,72.699999999999989,-15.270000000000001]
[162.80000000000001,0,-120.04,-1.01,-1.01,72.800000000000011,-15.23]
[162.9,0,-120.09,-0.97,-0.97,72.900000000000006,-15.190000000000001]
[163,0,-120.13,-0.94,-0.94,73,-15.16]
[163.1,0,-120.19,-0.9,-0.9,73.099999999999994,-15.120000000000001]
[163.19999999999999,0,-120.24,-0.87,-0.87,73.199999999999989,-15.09]
[163.30000000000001,0,-120.29,-0.84,-0.84,73.300000000000011,-15.06]
[163.4,0,-120.34,-0.81,-0.81,73.400000000000006,-15.030000000000001]
[163.5,0,-120.39,-0.78,-0.78,73.5,-15]
[163.6,0,-120.44,-0.76,-0.76,73.599999999999994,-14.98]
[163.69999999999999,0,-120.5,-0.73,-0.73,73.699999999999989,-14.950000000000001]
[163.80000000000001,0,-120.55,-0.71,-0.71,73.800000000000011,-14.93]
[163.9,0,-120.61,-0.69,-0.69,73.900000000000006,-14.91]
[164,0,-120.65,-0.67,-0.67,74,-14.89]
[164.1,0,-120.7,-0.65,-0.65,74.099999999999994,-14.870000000000001]
[164.2,0,-120.75,-0.64,-0.64,74.199999999999989,-14.860000000000001]
[164.3,0,-120.8,-0.62,-0.62,74.300000000000011,-14.84]
[164.4,0,-120.87,-0.61,-0.61,74.400000000000006,-14.83]
[164.5,0,-120.92,-0.6,-0.6,74.5,-14.82]
[164.6,0,-120.99,-0.59,-0.59,74.599999999999994,-14.81]
[164.7,0,-121.03,-0.57999999999999996,-0.57999999999999996,74.699999999999989,-14.8]
[164.8,0,-121.08,-0.56999999999999995,-0.56999999999999995,74.800000000000011,-14.790000000000001]
[164.9,0,-121.14,-0.56999999999999995,-0.56999999999999995,74.900000000000006,-14.790000000000001]
[165,0,-121.19,-0.56000000000000005,-0.56000000000000005,75,-14.780000000000001]
[165.1,0,-121.26,-0.56000000000000005,-0.56000000000000005,75.099999999999994,-14.780000000000001]
[165.2,0,-121.31,-0.56000000000000005,-0.56000000000000005,75.199999999999989,-14.780000000000001]
[165.3,0,-121.37,-0.56000000000000005,-0.56000000000000005,75.300000000000011,-14.780000000000001]
[165.4,0,-121.43,-0.56999999999999995,-0.56999999999999995,75.400000000000006,-14.790000000000001]
[165.5,0,-121.49,-0.56999999999999995,-0.56999999999999995,75.5,-14.790000000000001]
[165.6,0,-121.55,-0.56999999999999995,-0.56999999999999995,75.599999999999994,-14.790000000000001]
[165.7,0,-121.61,-0.57999999999999996,-0.57999999999999996,75.699999999999989,-14.8]
[165.8,0,-121.67,-0.59,-0.59,75.800000000000011,-14.81]
[165.9,0,-121.72,-0.6,-0.6,75.900000000000006,-14.82]
[166,0,-121.79,-0.61,-0.61,76,-14.83]
[166.1,0,-121.85,-0.62,-0.62,76.099999999999994,-14.84]
[166.2,0,-121.91,-0.64,-0.64,76.199999999999989,-14.860000000000001]
[166.3,0,-121.96,-0.65,-0.65,76.300000000000011,-14.870000000000001]
[166.4,0,-122.03,-0.67,-0.67,76.400000000000006,-14.89]
[166.5,0,-122.09,-0.69,-0.69,76.5,-14.91]
[166.6,0,-122.16,-0.71,-0.71,76.599999999999994,-14.93]
[166.7,0,-122.21,-0.73,-0.73,76.699999999999989,-14.950000000000001]
[166.8,0,-122.28,-0.75,-0.75,76.800000000000011,-14.97]
[166.9,0,-122.35,-0.78,-0.78,{"$f":"A771-90","v":76.900000000000006},{"$f":"E771-$G$1","v":-15}]
[167,0,-122.42,-0.81,-0.81,77,-15.030000000000001]
[167.1,0,-122.48,-0.83,-0.83,77.099999999999994,-15.05]
[167.2,0,-122.55,-0.86,-0.86,77.199999999999989,-15.08]
[167.3,0,-122.61,-0.89,-0.89,77.300000000000011,-15.110000000000001]
[167.4,0,-122.68,-0.93,-0.93,77.400000000000006,-15.15]
[167.5,0,-122.75,-0.96,-0.96,77.5,-15.18]
[167.6,0,-122.82,-1,-1,77.599999999999994,-15.22]
[167.7,0,-122.89,-1.03,-1.03,77.699999999999989,-15.25]
[167.8,0,-122.96,-1.07,-1.07,77.800000000000011,-15.290000000000001]
[167.9,0,-123.02,-1.1100000000000001,-1.1100000000000001,77.900000000000006,-15.33]
[168,0,-123.11,-1.1499999999999999,-1.1499999999999999,78,-15.370000000000001]
[168.1,0,-123.18,-1.2,-1.2,78.099999999999994,-15.42]
[168.2,0,-123.24,-1.24,-1.24,78.199999999999989,-15.46]
[168.3,0,-123.32,-1.29,-1.29,78.300000000000011,-15.510000000000002]
[168.4,0,-123.39,-1.34,-1.34,78.400000000000006,-15.56]
[168.5,0,-123.47,-1.39,-1.39,78.5,-15.610000000000001]
[168.6,0,-123.53,-1.44,-1.44,78.599999999999994,-15.66]
[168.7,0,-123.61,-1.49,-1.49,78.699999999999989,-15.71]
[168.8,0,-123.7,-1.55,-1.55,78.800000000000011,-15.770000000000001]
[168.9,0,-123.77,-1.6,-1.6,78.900000000000006,-15.82]
[169,0,-123.84,-1.66,-1.66,79,-15.88]
[169.1,0,-123.93,-1.72,-1.72,79.099999999999994,-15.940000000000001]
[169.2,0,-124,-1.78,-1.78,79.199999999999989,-16]
[169.3,0,-124.07,-1.85,-1.85,79.300000000000011,-16.07]
[169.4,0,-124.16,-1.91,-1.91,79.400000000000006,-16.13]
[169.5,0,-124.24,-1.98,-1.98,79.5,-16.2]
[169.6,0,-124.33,-2.0499999999999998,-2.0499999999999998,79.599999999999994,-16.27]
[169.7,0,-124.41,-2.12,-2.12,79.699999999999989,-16.34]
[169.8,0,-124.49,-2.19,-2.19,79.800000000000011,-16.41]
[169.9,0,-124.59,-2.27,-2.27,79.900000000000006,-16.490000000000002]
[170,0,-124.66,-2.34,-2.34,80,-16.560000000000002]
[170.1,0,-124.75,-2.42,-2.42,80.099999999999994,-16.64]
[170.2,0,-124.84,-2.5,-2.5,80.199999999999989,-16.72]
[170.3,0,-124.92,-2.59,-2.59,80.300000000000011,-16.810000000000002]
[170.4,0,-125.02,-2.67,-2.67,80.400000000000006,-16.89]
[170.5,0,-125.11,-2.76,-2.76,80.5,-16.98]
[170.6,0,-125.2,-2.85,-2.85,80.599999999999994,-17.07]
[170.7,0,-125.3,-2.94,-2.94,80.699999999999989,-17.16]
[170.8,0,-125.38,-3.03,-3.03,80.800000000000011,-17.25]
[170.9,0,-125.48,-3.13,-3.13,80.900000000000006,-17.350000000000001]
[171,0,-125.57,-3.22,-3.22,81,-17.440000000000001]
[171.1,0,-125.67,-3.33,-3.33,81.099999999999994,-17.55]
[171.2,0,-125.77,-3.43,-3.43,81.199999999999989,-17.650000000000002]
[171.3,0,-125.87,-3.53,-3.53,81.300000000000011,-17.75]
[171.4,0,-125.96,-3.64,-3.64,81.400000000000006,-17.86]
[171.5,0,-126.07,-3.75,-3.75,81.5,-17.97]
[171.6,0,-126.16,-3.86,-3.86,81.599999999999994,-18.080000000000002]
[171.7,0,-126.27,-3.98,-3.98,81.699999999999989,-18.2]
[171.8,0,-126.38,-4.0999999999999996,-4.0999999999999996,81.800000000000011,-18.32]
[171.9,0,-126.49,-4.22,-4.22,81.900000000000006,-18.440000000000001]
[172,0,-126.58,-4.34,-4.34,82,-18.560000000000002]
[172.1,0,-126.7,-4.47,-4.47,82.1,-18.690000000000001]
[172.2,0,-126.8,-4.5999999999999996,-4.5999999999999996,82.199999999999989,-18.82]
[172.3,0,-126.91,-4.7300000000000004,-4.7300000000000004,82.300000000000011,-18.950000000000003]
[172.4,0,-127.03,-4.87,-4.87,82.4,-19.09]
[172.5,0,-127.14,-5,-5,82.5,-19.22]
[172.6,0,-127.26,-5.15,-5.15,82.6,-19.37]
[172.7,0,-127.38,-5.29,-5.29,82.699999999999989,-19.510000000000002]
[172.8,0,-127.5,-5.44,-5.44,82.800000000000011,-19.66]
[172.9,0,-127.62,-5.59,-5.59,82.9,-19.810000000000002]
[173,0,-127.74,-5.75,-5.75,83,-19.97]
[173.1,0,-127.87,-5.91,-5.91,83.1,-20.130000000000003]
[173.2,0,-127.99,-6.08,-6.08,83.199999999999989,-20.3]
[173.3,0,-128.12,-6.24,-6.24,{"$f":"A835-90","v":83.300000000000011},{"$f":"E835-$G$1","v":-20.46}]
[173.4,0,-128.26,-6.42,-6.42,83.4,-20.64]
[173.5,0,-128.38,-6.59,-6.59,83.5,-20.810000000000002]
[173.6,0,-128.51,-6.78,-6.78,83.6,-21]
[173.7,0,-128.66,-6.96,-6.96,83.699999999999989,-21.18]
[173.8,0,-128.80000000000001,-7.15,-7.15,83.800000000000011,-21.37]
[173.9,0,-128.94,-7.35,-7.35,83.9,-21.57]
[174,0,-129.09,-7.55,-7.55,84,-21.77]
[174.1,0,-129.22,-7.76,-7.76,84.1,-21.98]
[174.2,0,-129.37,-7.97,-7.97,84.199999999999989,-22.19]
[174.3,0,-129.52000000000001,-8.19,-8.19,84.300000000000011,-22.41]
[174.4,0,-129.68,-8.42,-8.42,84.4,-22.64]
[174.5,0,-129.83000000000001,-8.65,-8.65,84.5,-22.87]
[174.6,0,-129.97999999999999,-8.89,-8.89,84.6,-23.11]
[174.7,0,-130.15,-9.14,-9.14,84.699999999999989,-23.36]
[174.8,0,-130.32,-9.4,-9.4,84.800000000000011,-23.62]
[174.9,0,-130.49,-9.66,-9.66,84.9,-23.880000000000003]
[175,0,-130.66,-9.93,-9.93,85,-24.15]
[175.1,0,-130.83000000000001,-10.210000000000001,-10.210000000000001,85.1,-24.43]
[175.2,0,-131.01,-10.51,-10.51,85.199999999999989,-24.73]
[175.3,0,-131.19999999999999,-10.81,-10.81,85.300000000000011,-25.03]
[175.4,0,-131.37,-11.12,-11.12,85.4,-25.34]
[175.5,0,-131.56,-11.45,-11.45,85.5,-25.67]
[175.6,0,-131.76,-11.78,-11.78,85.6,-26]
[175.7,0,-131.96,-12.13,-12.13,85.699999999999989,-26.35]
[175.8,0,-132.16999999999999,-12.5,-12.5,85.800000000000011,-26.72]
[175.9,0,-132.37,-12.88,-12.88,85.9,-27.1]
[176,0,-132.59,-13.28,-13.28,86,-27.5]
[176.1,0,-132.81,-13.7,-13.7,86.1,-27.92]
[176.2,0,-133.04,-14.14,-14.14,86.199999999999989,-28.36]
[176.3,0,-133.26,-14.6,-14.6,86.300000000000011,-28.82]
[176.4,0,-133.5,-15.08,-15.08,86.4,-29.3]
[176.5,0,-133.74,-15.59,-15.59,86.5,-29.810000000000002]
[176.6,0,-133.99,-16.14,-16.14,86.6,-30.36]
[176.7,0,-134.26,-16.71,-16.71,86.699999999999989,-30.93]
[176.8,0,-134.54,-17.32,-17.32,86.800000000000011,-31.54]
[176.9,0,-134.81,-17.98,-17.98,86.9,-32.200000000000003]
[177,0,-135.08000000000001,-18.68,-18.68,87,-32.9]
[177.1,0,-135.38,-19.43,-19.43,87.1,-33.65]
[177.2,0,-135.69,-20.25,-20.25,87.199999999999989,-34.47]
[177.3,0,-136,-21.13,-21.13,87.300000000000011,-35.35]
[177.4,0,-136.33000000000001,-22.09,-22.09,87.4,-36.31]
[177.5,0,-136.66999999999999,-23.14,-23.14,87.5,-37.36]
[177.6,0,-137.03,-24.26,-24.26,87.6,-38.480000000000004]
[177.7,0,-137.38999999999999,-25.46,-25.46,87.699999999999989,-39.68]
[177.8,0,-137.78,-26.68,-26.68,87.800000000000011,-40.9]
[177.9,0,-138.19,-27.81,-27.81,87.9,-42.03]
[178,0,-138.61000000000001,-28.65,-28.65,88,-42.87]
[178.1,0,-139.05000000000001,-28.96,-28.96,88.1,-43.18]
[178.2,0,-139.53,-28.61,-28.61,88.199999999999989,-42.83]
[178.3,0,-140.02000000000001,-27.75,-27.75,88.300000000000011,-41.97]
[178.4,0,-140.55000000000001,-26.63,-26.63,88.4,-40.85]
[178.5,0,-141.11000000000001,-25.44,-25.44,88.5,-39.660000000000004]
[178.6,0,-141.71,-24.29,-24.29,88.6,-38.51]
[178.7,0,-142.35,-23.2,-23.2,88.699999999999989,-37.42]
[178.8,0,-143.05000000000001,-22.2,-22.2,88.800000000000011,-36.42]
[178.9,0,-143.81,-21.28,-21.28,88.9,-35.5]
[179,0,-144.65,-20.440000000000001,-20.440000000000001,89,-34.660000000000004]
[179.1,0,-145.57,-19.66,-19.66,89.1,-33.880000000000003]
[179.2,0,-146.58000000000001,-18.95,-18.95,89.199999999999989,-33.17]
[179.3,0,-147.75,-18.28,-18.28,89.300000000000011,-32.5]
[179.4,0,-149.09,-17.670000000000002,-17.670000000000002,89.4,-31.89]
[179.5,0,-150.68,-17.09,-17.09,89.5,-31.310000000000002]
[179.6,0,-152.63999999999999,-16.55,-16.55,89.6,-30.770000000000003]
[179.7,0,-155.15,-16.04,-16.04,{"$f":"A899-90","v":89.699999999999989},{"$f":"E899-$G$1","v":-30.259999999999998}]
[179.8,0,-158.71,-15.57,-15.57,89.800000000000011,-29.79]
[179.9,0,-164.85,-15.12,-15.12,89.9,-29.34]
[180,0,-164.85,-15.12,-15.12,90,-29.34]

{"sheet":"Antenna Data","index":3,"n_rows":903,"n_cols":8,"rows_kept":903,"cut":false,"hidden":false,"merged":[]}
[null,{"$f":"IF(Home!$K$10=1,'Antenna Data'!C1,IF(Home!$K$10=2,'Antenna Data'!D1,IF(Home!$K$10=3,'Antenna Data'!E1,IF(Home!$K$10=4,'Antenna Data'!F1,IF(Home!$K$10=5,'Antenna Data'!G1,IF(Home!$K$10=6,'Antenna Data'!H1,IF(Home!G11=0,\"No Name\",Home!G11)))))))","v":"12el 144 DK7ZB"},"5el 144","9el 144 DK7ZB Wimo","10el 144 DK7ZB","12el 144 DK7ZB","2x12el Stack 144 DK7ZB","Dipole"]
[null,{"$f":"IF(Home!$K$10=1,'Antenna Data'!C2,IF(Home!$K$10=2,'Antenna Data'!D2,IF(Home!$K$10=3,'Antenna Data'!E2,IF(Home!$K$10=4,'Antenna Data'!F2,IF(Home!$K$10=5,'Antenna Data'!G2,IF(Home!$K$10=6,'Antenna Data'!H2,'Import Other Antenna'!G1))))))","v":16.37},10.48,14.22,15.25,16.37,19.329999999999998,2.15]
[0,{"$f":"IF(Home!$K$10=1,'Antenna Data'!C3,IF(Home!$K$10=2,'Antenna Data'!D3,IF(Home!$K$10=3,'Antenna Data'!E3,IF(Home!$K$10=4,'Antenna Data'!F3,IF(Home!$K$10=5,'Antenna Data'!G3,IF(Home!$K$10=6,'Antenna Data'!H3,'Import Other Antenna'!G2))))))","v":0},0,0,0,0,0,0]
[9.9999999999994316E-2,{"$f":"IF(Home!$K$10=1,'Antenna Data'!C4,IF(Home!$K$10=2,'Antenna Data'!D4,IF(Home!$K$10=3,'Antenna Data'!E4,IF(Home!$K$10=4,'Antenna Data'!F4,IF(Home!$K$10=5,'Antenna Data'!G4,IF(Home!$K$10=6,'Antenna Data'!H4,'Import Other Antenna'!G3))))))","v":0},0,0,0,0,0,0]
[0.20000000000000284,{"$f":"IF(Home!$K$10=1,'Antenna Data'!C5,IF(Home!$K$10=2,'Antenna Data'!D5,IF(Home!$K$10=3,'Antenna Data'!E5,IF(Home!$K$10=4,'Antenna Data'!F5,IF(Home!$K$10=5,'Antenna Data'!G5,IF(Home!$K$10=6,'Antenna Data'!H5,'Import Other Antenna'!G4))))))","v":0},0,0,0,0,0,0]
[0.29999999999999716,{"$f":"IF(Home!$K$10=1,'Antenna Data'!C6,IF(Home!$K$10=2,'Antenna Data'!D6,IF(Home!$K$10=3,'Antenna Data'!E6,IF(Home!$K$10=4,'Antenna Data'!F6,IF(Home!$K$10=5,'Antenna Data'!G6,IF(Home!$K$10=6,'Antenna Data'!H6,'Import Other Antenna'!G5))))))","v":0},0,0,0,0,0,0]
[0.40000000000000568,{"$f":"IF(Home!$K$10=1,'Antenna Data'!C7,IF(Home!$K$10=2,'Antenna Data'!D7,IF(Home!$K$10=3,'Antenna Data'!E7,IF(Home!$K$10=4,'Antenna Data'!F7,IF(Home!$K$10=5,'Antenna Data'!G7,IF(Home!$K$10=6,'Antenna Data'!H7,'Import Other Antenna'!G6))))))","v":0},0,0,0,0,-9.9999999999980105E-3,0]
[0.5,{"$f":"IF(Home!$K$10=1,'Antenna Data'!C8,IF(Home!$K$10=2,'Antenna Data'!D8,IF(Home!$K$10=3,'Antenna Data'!E8,IF(Home!$K$10=4,'Antenna Data'!F8,IF(Home!$K$10=5,'Antenna Data'!G8,IF(Home!$K$10=6,'Antenna Data'!H8,'Import Other Antenna'!G7))))))","v":0},0,0,0,0,-9.9999999999980105E-3,0]
[0.59999999999999432,{"$f":"IF(Home!$K$10=1,'Antenna Data'!C9,IF(Home!$K$10=2,'Antenna Data'!D9,IF(Home!$K$10=3,'Antenna Data'!E9,IF(Home!$K$10=4,'Antenna Data'!F9,IF(Home!$K$10=5,'Antenna Data'!G9,IF(Home!$K$10=6,'Antenna Data'!H9,'Import Other Antenna'!G8))))))","v":0},0,0,0,0,-1.9999999999999574E-2,0]
[0.70000000000000284,{"$f":"IF(Home!$K$10=1,'Antenna Data'!C10,IF(Home!$K$10=2,'Antenna Data'!D10,IF(Home!$K$10=3,'Antenna Data'!E10,IF(Home!$K$10=4,'Antenna Data'!F10,IF(Home!$K$10=5,'Antenna Data'!G10,IF(Home!$K$10=6,'Antenna Data'!H10,'Import Other Antenna'!G9))))))","v":0},0,0,-9.9999999999997868E-3,0,-2.9999999999997584E-2,0]
[0.79999999999999716,{"$f":"IF(Home!$K$10=1,'Antenna Data'!C11,IF(Home!$K$10=2,'Antenna Data'!D11,IF(Home!$K$10=3,'Antenna Data'!E11,IF(Home!$K$10=4,'Antenna Data'!F11,IF(Home!$K$10=5,'Antenna Data'!G11,IF(Home!$K$10=6,'Antenna Data'!H11,'Import Other Antenna'!G10))))))","v":-1.0000000000001563E-2},0,0,-9.9999999999997868E-3,-1.0000000000001563E-2,-3.9999999999999147E-2,0]
[0.90000000000000568,{"$f":"IF(Home!$K$10=1,'Antenna Data'!C12,IF(Home!$K$10=2,'Antenna Data'!D12,IF(Home!$K$10=3,'Antenna Data'!E12,IF(Home!$K$10=4,'Antenna Data'!F12,IF(Home!$K$10=5,'Antenna Data'!G12,IF(Home!$K$10=6,'Antenna Data'!H12,'Import Other Antenna'!G11))))))","v":-1.0000000000001563E-2},0,0,-9.9999999999997868E-3,-1.0000000000001563E-2,-4.9999999999997158E-2,0]
[1,{"$f":"IF(Home!$K$10=1,'Antenna Data'!C13,IF(Home!$K$10=2,'Antenna Data'!D13,IF(Home!$K$10=3,'Antenna Data'!E13,IF(Home!$K$10=4,'Antenna Data'!F13,IF(Home!$K$10=5,'Antenna Data'!G13,IF(Home!$K$10=6,'Antenna Data'!H13,'Import Other Antenna'!G12))))))","v":-1.0000000000001563E-2},0,-9.9999999999997868E-3,-9.9999999999997868E-3,-1.0000000000001563E-2,-5.9999999999998721E-2,0]
[1.0999999999999943,{"$f":"IF(Home!$K$10=1,'Antenna Data'!C14,IF(Home!$K$10=2,'Antenna Data'!D14,IF(Home!$K$10=3,'Antenna Data'!E14,IF(Home!$K$10=4,'Antenna Data'!F14,IF(Home!$K$10=5,'Antenna Data'!G14,IF(Home!$K$10=6,'Antenna Data'!H14,'Import Other Antenna'!G13))))))","v":-1.0000000000001563E-2},0,-9.9999999999997868E-3,-9.9999999999997868E-3,-1.0000000000001563E-2,-7.9999999999998295E-2,0]
[1.2000000000000028,{"$f":"IF(Home!$K$10=1,'Antenna Data'!C15,IF(Home!$K$10=2,'Antenna Data'!D15,IF(Home!$K$10=3,'Antenna Data'!E15,IF(Home!$K$10=4,'Antenna Data'!F15,IF(Home!$K$10=5,'Antenna Data'!G15,IF(Home!$K$10=6,'Antenna Data'!H15,'Import Other Antenna'!G14))))))","v":-1.9999999999999574E-2},0,-9.9999999999997868E-3,-9.9999999999997868E-3,-1.9999999999999574E-2,-8.9999999999999858E-2,0]
[1.2999999999999972,{"$f":"IF(Home!$K$10=1,'Antenna Data'!C16,IF(Home!$K$10=2,'Antenna Data'!D16,IF(Home!$K$10=3,'Antenna Data'!E16,IF(Home!$K$10=4,'Antenna Data'!F16,IF(Home!$K$10=5,'Antenna Data'!G16,IF(Home!$K$10=6,'Antenna Data'!H16,'Import Other Antenna'!G15))))))","v":-1.9999999999999574E-2},0,-9.9999999999997868E-3,-1.9999999999999574E-2,-1.9999999999999574E-2,-0.10999999999999943,0]
[1.4000000000000057,{"$f":"IF(Home!$K$10=1,'Antenna Data'!C17,IF(Home!$K$10=2,'Antenna Data'!D17,IF(Home!$K$10=3,'Antenna Data'!E17,IF(Home!$K$10=4,'Antenna Data'!F17,IF(Home!$K$10=5,'Antenna Data'!G17,IF(Home!$K$10=6,'Antenna Data'!H17,'Import Other Antenna'!G16))))))","v":-1.9999999999999574E-2},0,-9.9999999999997868E-3,-1.9999999999999574E-2,-1.9999999999999574E-2,-0.11999999999999744,0]
[1.5,{"$f":"IF(Home!$K$10=1,'Antenna Data'!C18,IF(Home!$K$10=2,'Antenna Data'!D18,IF(Home!$K$10=3,'Antenna Data'!E18,IF(Home!$K$10=4,'Antenna Data'!F18,IF(Home!$K$10=5,'Antenna Data'!G18,IF(Home!$K$10=6,'Antenna Data'!H18,'Import Other Antenna'!G17))))))","v":-3.0000000000001137E-2},0,-9.9999999999997868E-3,-1.9999999999999574E-2,-3.0000000000001137E-2,-0.13999999999999702,0]
[1.5999999999999943,{"$f":"IF(Home!$K$10=1,'Antenna Data'!C19,IF(Home!$K$10=2,'Antenna Data'!D19,IF(Home!$K$10=3,'Antenna Data'!E19,IF(Home!$K$10=4,'Antenna Data'!F19,IF(Home!$K$10=5,'Antenna Data'!G19,IF(Home!$K$10=6,'Antenna Data'!H19,'Import Other Antenna'!G18))))))","v":-3.0000000000001137E-2},0,-2.000000000000135E-2,-1.9999999999999574E-2,-3.0000000000001137E-2,-0.15999999999999659,0]
[1.7000000000000028,{"$f":"IF(Home!$K$10=1,'Antenna Data'!C20,IF(Home!$K$10=2,'Antenna Data'!D20,IF(Home!$K$10=3,'Antenna Data'!E20,IF(Home!$K$10=4,'Antenna Data'!F20,IF(Home!$K$10=5,'Antenna Data'!G20,IF(Home!$K$10=6,'Antenna Data'!H20,'Import Other Antenna'!G19))))))","v":-3.0000000000001137E-2},0,-2.000000000000135E-2,-2.9999999999999361E-2,-3.0000000000001137E-2,-0.17999999999999972,0]
[1.7999999999999972,{"$f":"IF(Home!$K$10=1,'Antenna Data'!C21,IF(Home!$K$10=2,'Antenna Data'!D21,IF(Home!$K$10=3,'Antenna Data'!E21,IF(Home!$K$10=4,'Antenna Data'!F21,IF(Home!$K$10=5,'Antenna Data'!G21,IF(Home!$K$10=6,'Antenna Data'!H21,'Import Other Antenna'!G20))))))","v":-4.00000000000027E-2},0,-2.000000000000135E-2,-2.9999999999999361E-2,-4.00000000000027E-2,-0.2099999999999973,0]
[1.9000000000000057,{"$f":"IF(Home!$K$10=1,'Antenna Data'!C22,IF(Home!$K$10=2,'Antenna Data'!D22,IF(Home!$K$10=3,'Antenna Data'!E22,IF(Home!$K$10=4,'Antenna Data'!F22,IF(Home!$K$10=5,'Antenna Data'!G22,IF(Home!$K$10=6,'Antenna Data'!H22,'Import Other Antenna'!G21))))))","v":-4.00000000000027E-2},0,-2.000000000000135E-2,-2.9999999999999361E-2,-4.00000000000027E-2,-0.22999999999999687,0]
[2,{"$f":"IF(Home!$K$10=1,'Antenna Data'!C23,IF(Home!$K$10=2,'Antenna Data'!D23,IF(Home!$K$10=3,'Antenna Data'!E23,IF(Home!$K$10=4,'Antenna Data'!F23,IF(Home!$K$10=5,'Antenna Data'!G23,IF(Home!$K$10=6,'Antenna Data'!H23,'Import Other Antenna'!G22))))))","v":-5.0000000000000711E-2},-9.9999999999997868E-3,-3.0000000000001137E-2,-3.9999999999999147E-2,-5.0000000000000711E-2,-0.25999999999999801,0]
[2.0999999999999943,{"$f":"IF(Home!$K$10=1,'Antenna Data'!C24,IF(Home!$K$10=2,'Antenna Data'!D24,IF(Home!$K$10=3,'Antenna Data'!E24,IF(Home!$K$10=4,'Antenna Data'!F24,IF(Home!$K$10=5,'Antenna Data'!G24,IF(Home!$K$10=6,'Antenna Data'!H24,'Import Other Antenna'!G23))))))","v":-5.0000000000000711E-2},-9.9999999999997868E-3,-3.0000000000001137E-2,-3.9999999999999147E-2,-5.0000000000000711E-2,-0.27999999999999758,0]
[2.2000000000000028,{"$f":"IF(Home!$K$10=1,'Antenna Data'!C25,IF(Home!$K$10=2,'Antenna Data'!D25,IF(Home!$K$10=3,'Antenna Data'!E25,IF(Home!$K$10=4,'Antenna Data'!F25,IF(Home!$K$10=5,'Antenna Data'!G25,IF(Home!$K$10=6,'Antenna Data'!H25,'Import Other Antenna'!G24))))))","v":-6.0000000000002274E-2},-9.9999999999997868E-3,-3.0000000000001137E-2,-3.9999999999999147E-2,-6.0000000000002274E-2,-0.30999999999999872,0]
[2.2999999999999972,{"$f":"IF(Home!$K$10=1,'Antenna Data'!C26,IF(Home!$K$10=2,'Antenna Data'!D26,IF(Home!$K$10=3,'Antenna Data'!E26,IF(Home!$K$10=4,'Antenna Data'!F26,IF(Home!$K$10=5,'Antenna Data'!G26,IF(Home!$K$10=6,'Antenna Data'!H26,'Import Other Antenna'!G25))))))","v":-6.0000000000002274E-2},-9.9999999999997868E-3,-4.0000000000000924E-2,-5.0000000000000711E-2,-6.0000000000002274E-2,-0.33999999999999986,0]
[2.4000000000000057,{"$f":"IF(Home!$K$10=1,'Antenna Data'!C27,IF(Home!$K$10=2,'Antenna Data'!D27,IF(Home!$K$10=3,'Antenna Data'!E27,IF(Home!$K$10=4,'Antenna Data'!F27,IF(Home!$K$10=5,'Antenna Data'!G27,IF(Home!$K$10=6,'Antenna Data'!H27,'Import Other Antenna'!G26))))))","v":-7.0000000000000284E-2},-9.9999999999997868E-3,-4.0000000000000924E-2,-5.0000000000000711E-2,-7.0000000000000284E-2,-0.36999999999999744,0]
[2.5,{"$f":"IF(Home!$K$10=1,'Antenna Data'!C28,IF(Home!$K$10=2,'Antenna Data'!D28,IF(Home!$K$10=3,'Antenna Data'!E28,IF(Home!$K$10=4,'Antenna Data'!F28,IF(Home!$K$10=5,'Antenna Data'!G28,IF(Home!$K$10=6,'Antenna Data'!H28,'Import Other Antenna'!G27))))))","v":-7.0000000000000284E-2},-9.9999999999997868E-3,-4.0000000000000924E-2,-6.0000000000000497E-2,-7.0000000000000284E-2,-0.39999999999999858,0]
[2.5999999999999943,{"$f":"IF(Home!$K$10=1,'Antenna Data'!C29,IF(Home!$K$10=2,'Antenna Data'!D29,IF(Home!$K$10=3,'Antenna Data'!E29,IF(Home!$K$10=4,'Antenna Data'!F29,IF(Home!$K$10=5,'Antenna Data'!G29,IF(Home!$K$10=6,'Antenna Data'!H29,'Import Other Antenna'!G28))))))","v":-8.0000000000001847E-2},-9.9999999999997868E-3,-5.0000000000000711E-2,-6.0000000000000497E-2,-8.0000000000001847E-2,-0.43999999999999773,0]
[2.7000000000000028,{"$f":"IF(Home!$K$10=1,'Antenna Data'!C30,IF(Home!$K$10=2,'Antenna Data'!D30,IF(Home!$K$10=3,'Antenna Data'!E30,IF(Home!$K$10=4,'Antenna Data'!F30,IF(Home!$K$10=5,'Antenna Data'!G30,IF(Home!$K$10=6,'Antenna Data'!H30,'Import Other Antenna'!G29))))))","v":-8.9999999999999858E-2},-9.9999999999997868E-3,-5.0000000000000711E-2,-7.0000000000000284E-2,-8.9999999999999858E-2,-0.46999999999999886,0]
[2.7999999999999972,{"$f":"IF(Home!$K$10=1,'Antenna Data'!C31,IF(Home!$K$10=2,'Antenna Data'!D31,IF(Home!$K$10=3,'Antenna Data'!E31,IF(Home!$K$10=4,'Antenna Data'!F31,IF(Home!$K$10=5,'Antenna Data'!G31,IF(Home!$K$10=6,'Antenna Data'!H31,'Import Other Antenna'!G30))))))","v":-8.9999999999999858E-2},-9.9999999999997868E-3,-5.0000000000000711E-2,-7.0000000000000284E-2,-8.9999999999999858E-2,-0.50999999999999801,0]
[2.9000000000000057,{"$f":"IF(Home!$K$10=1,'Antenna Data'!C32,IF(Home!$K$10=2,'Antenna Data'!D32,IF(Home!$K$10=3,'Antenna Data'!E32,IF(Home!$K$10=4,'Antenna Data'!F32,IF(Home!$K$10=5,'Antenna Data'!G32,IF(Home!$K$10=6,'Antenna Data'!H32,'Import Other Antenna'!G31))))))","v":-0.10000000000000142},-1.9999999999999574E-2,-6.0000000000000497E-2,-8.0000000000000071E-2,-0.10000000000000142,-0.53999999999999915,0]
[3,{"$f":"IF(Home!$K$10=1,'Antenna Data'!C33,IF(Home!$K$10=2,'Antenna Data'!D33,IF(Home!$K$10=3,'Antenna Data'!E33,IF(Home!$K$10=4,'Antenna Data'!F33,IF(Home!$K$10=5,'Antenna Data'!G33,IF(Home!$K$10=6,'Antenna Data'!H33,'Import Other Antenna'!G32))))))","v":-0.10999999999999943},-1.9999999999999574E-2,-6.0000000000000497E-2,-8.0000000000000071E-2,-0.10999999999999943,-0.57999999999999829,0]
[3.0999999999999943,{"$f":"IF(Home!$K$10=1,'Antenna Data'!C34,IF(Home!$K$10=2,'Antenna Data'!D34,IF(Home!$K$10=3,'Antenna Data'!E34,IF(Home!$K$10=4,'Antenna Data'!F34,IF(Home!$K$10=5,'Antenna Data'!G34,IF(Home!$K$10=6,'Antenna Data'!H34,'Import Other Antenna'!G33))))))","v":-0.10999999999999943},-1.9999999999999574E-2,-7.0000000000000284E-2,-8.9999999999999858E-2,-0.10999999999999943,-0.61999999999999744,0]
[3.2000000000000028,{"$f":"IF(Home!$K$10=1,'Antenna Data'!C35,IF(Home!$K$10=2,'Antenna Data'!D35,IF(Home!$K$10=3,'Antenna Data'!E35,IF(Home!$K$10=4,'Antenna Data'!F35,IF(Home!$K$10=5,'Antenna Data'!G35,IF(Home!$K$10=6,'Antenna Data'!H35,'Import Other Antenna'!G34))))))","v":-0.12000000000000099},-1.9999999999999574E-2,-7.0000000000000284E-2,-8.9999999999999858E-2,-0.12000000000000099,-0.65999999999999659,0]
[3.2999999999999972,{"$f":"IF(Home!$K$10=1,'Antenna Data'!C36,IF(Home!$K$10=2,'Antenna Data'!D36,IF(Home!$K$10=3,'Antenna Data'!E36,IF(Home!$K$10=4,'Antenna Data'!F36,IF(Home!$K$10=5,'Antenna Data'!G36,IF(Home!$K$10=6,'Antenna Data'!H36,'Import Other Antenna'!G35))))))","v":-0.13000000000000256},-1.9999999999999574E-2,-7.0000000000000284E-2,-9.9999999999999645E-2,-0.13000000000000256,-0.7099999999999973,0]
[3.4000000000000057,{"$f":"IF(Home!$K$10=1,'Antenna Data'!C37,IF(Home!$K$10=2,'Antenna Data'!D37,IF(Home!$K$10=3,'Antenna Data'!E37,IF(Home!$K$10=4,'Antenna Data'!F37,IF(Home!$K$10=5,'Antenna Data'!G37,IF(Home!$K$10=6,'Antenna Data'!H37,'Import Other Antenna'!G36))))))","v":-0.14000000000000057},-1.9999999999999574E-2,-8.0000000000000071E-2,-9.9999999999999645E-2,-0.14000000000000057,-0.75,0]
[3.5,{"$f":"IF(Home!$K$10=1,'Antenna Data'!C38,IF(Home!$K$10=2,'Antenna Data'!D38,IF(Home!$K$10=3,'Antenna Data'!E38,IF(Home!$K$10=4,'Antenna Data'!F38,IF(Home!$K$10=5,'Antenna Data'!G38,IF(Home!$K$10=6,'Antenna Data'!H38,'Import Other Antenna'!G37))))))","v":-0.15000000000000213},-1.9999999999999574E-2,-8.0000000000000071E-2,-0.10999999999999943,-0.15000000000000213,-0.79999999999999716,0]
[3.5999999999999943,{"$f":"IF(Home!$K$10=1,'Antenna Data'!C39,IF(Home!$K$10=2,'Antenna Data'!D39,IF(Home!$K$10=3,'Antenna Data'!E39,IF(Home!$K$10=4,'Antenna Data'!F39,IF(Home!$K$10=5,'Antenna Data'!G39,IF(Home!$K$10=6,'Antenna Data'!H39,'Import Other Antenna'!G38))))))","v":-0.16000000000000014},-3.0000000000001137E-2,-8.9999999999999858E-2,-0.11999999999999922,-0.16000000000000014,-0.84999999999999787,0]
[3.7000000000000028,{"$f":"IF(Home!$K$10=1,'Antenna Data'!C40,IF(Home!$K$10=2,'Antenna Data'!D40,IF(Home!$K$10=3,'Antenna Data'!E40,IF(Home!$K$10=4,'Antenna Data'!F40,IF(Home!$K$10=5,'Antenna Data'!G40,IF(Home!$K$10=6,'Antenna Data'!H40,'Import Other Antenna'!G39))))))","v":-0.16000000000000014},-3.0000000000001137E-2,-8.9999999999999858E-2,-0.11999999999999922,-0.16000000000000014,-0.88999999999999702,0]
[3.7999999999999972,{"$f":"IF(Home!$K$10=1,'Antenna Data'!C41,IF(Home!$K$10=2,'Antenna Data'!D41,IF(Home!$K$10=3,'Antenna Data'!E41,IF(Home!$K$10=4,'Antenna Data'!F41,IF(Home!$K$10=5,'Antenna Data'!G41,IF(Home!$K$10=6,'Antenna Data'!H41,'Import Other Antenna'!G40))))))","v":-0.17000000000000171},-3.0000000000001137E-2,-0.10000000000000142,-0.13000000000000078,-0.17000000000000171,-0.93999999999999773,0]
[3.9000000000000057,{"$f":"IF(Home!$K$10=1,'Antenna Data'!C42,IF(Home!$K$10=2,'Antenna Data'!D42,IF(Home!$K$10=3,'Antenna Data'!E42,IF(Home!$K$10=4,'Antenna Data'!F42,IF(Home!$K$10=5,'Antenna Data'!G42,IF(Home!$K$10=6,'Antenna Data'!H42,'Import Other Antenna'!G41))))))","v":-0.17999999999999972},-3.0000000000001137E-2,-0.10000000000000142,-0.14000000000000057,-0.17999999999999972,-1,0]
[4,{"$f":"IF(Home!$K$10=1,'Antenna Data'!C43,IF(Home!$K$10=2,'Antenna Data'!D43,IF(Home!$K$10=3,'Antenna Data'!E43,IF(Home!$K$10=4,'Antenna Data'!F43,IF(Home!$K$10=5,'Antenna Data'!G43,IF(Home!$K$10=6,'Antenna Data'!H43,'Import Other Antenna'!G42))))))","v":-0.19000000000000128},-3.0000000000001137E-2,-0.11000000000000121,-0.14000000000000057,-0.19000000000000128,-1.0499999999999972,0]
[4.0999999999999943,{"$f":"IF(Home!$K$10=1,'Antenna Data'!C44,IF(Home!$K$10=2,'Antenna Data'!D44,IF(Home!$K$10=3,'Antenna Data'!E44,IF(Home!$K$10=4,'Antenna Data'!F44,IF(Home!$K$10=5,'Antenna Data'!G44,IF(Home!$K$10=6,'Antenna Data'!H44,'Import Other Antenna'!G43))))))","v":-0.19999999999999929},-3.0000000000001137E-2,-0.11000000000000121,-0.15000000000000036,-0.19999999999999929,-1.0999999999999979,0]
[4.2000000000000028,{"$f":"IF(Home!$K$10=1,'Antenna Data'!C45,IF(Home!$K$10=2,'Antenna Data'!D45,IF(Home!$K$10=3,'Antenna Data'!E45,IF(Home!$K$10=4,'Antenna Data'!F45,IF(Home!$K$10=5,'Antenna Data'!G45,IF(Home!$K$10=6,'Antenna Data'!H45,'Import Other Antenna'!G44))))))","v":-0.21000000000000085},-4.0000000000000924E-2,-0.12000000000000099,-0.16000000000000014,-0.21000000000000085,-1.1599999999999966,0]
[4.2999999999999972,{"$f":"IF(Home!$K$10=1,'Antenna Data'!C46,IF(Home!$K$10=2,'Antenna Data'!D46,IF(Home!$K$10=3,'Antenna Data'!E46,IF(Home!$K$10=4,'Antenna Data'!F46,IF(Home!$K$10=5,'Antenna Data'!G46,IF(Home!$K$10=6,'Antenna Data'!H46,'Import Other Antenna'!G45))))))","v":-0.22000000000000242},-4.0000000000000924E-2,-0.13000000000000078,-0.16000000000000014,-0.22000000000000242,-1.2199999999999989,0]
[4.4000000000000057,{"$f":"IF(Home!$K$10=1,'Antenna Data'!C47,IF(Home!$K$10=2,'Antenna Data'!D47,IF(Home!$K$10=3,'Antenna Data'!E47,IF(Home!$K$10=4,'Antenna Data'!F47,IF(Home!$K$10=5,'Antenna Data'!G47,IF(Home!$K$10=6,'Antenna Data'!H47,'Import Other Antenna'!G46))))))","v":-0.23000000000000043},-4.0000000000000924E-2,-0.13000000000000078,-0.16999999999999993,-0.23000000000000043,-1.2799999999999976,0]
[4.5,{"$f":"IF(Home!$K$10=1,'Antenna Data'!C48,IF(Home!$K$10=2,'Antenna Data'!D48,IF(Home!$K$10=3,'Antenna Data'!E48,IF(Home!$K$10=4,'Antenna Data'!F48,IF(Home!$K$10=5,'Antenna Data'!G48,IF(Home!$K$10=6,'Antenna Data'!H48,'Import Other Antenna'!G47))))))","v":-0.24000000000000199},-4.0000000000000924E-2,-0.14000000000000057,-0.17999999999999972,-0.24000000000000199,-1.3399999999999999,0]
[4.5999999999999943,{"$f":"IF(Home!$K$10=1,'Antenna Data'!C49,IF(Home!$K$10=2,'Antenna Data'!D49,IF(Home!$K$10=3,'Antenna Data'!E49,IF(Home!$K$10=4,'Antenna Data'!F49,IF(Home!$K$10=5,'Antenna Data'!G49,IF(Home!$K$10=6,'Antenna Data'!H49,'Import Other Antenna'!G48))))))","v":-0.26000000000000156},-4.0000000000000924E-2,-0.14000000000000057,-0.1899999999999995,-0.26000000000000156,-1.3999999999999986,0]
[4.7000000000000028,{"$f":"IF(Home!$K$10=1,'Antenna Data'!C50,IF(Home!$K$10=2,'Antenna Data'!D50,IF(Home!$K$10=3,'Antenna Data'!E50,IF(Home!$K$10=4,'Antenna Data'!F50,IF(Home!$K$10=5,'Antenna Data'!G50,IF(Home!$K$10=6,'Antenna Data'!H50,'Import Other Antenna'!G49))))))","v":-0.26999999999999957},-5.0000000000000711E-2,-0.15000000000000036,-0.19999999999999929,-0.26999999999999957,-1.4699999999999989,0]
[4.7999999999999972,{"$f":"IF(Home!$K$10=1,'Antenna Data'!C51,IF(Home!$K$10=2,'Antenna Data'!D51,IF(Home!$K$10=3,'Antenna Data'!E51,IF(Home!$K$10=4,'Antenna Data'!F51,IF(Home!$K$10=5,'Antenna Data'!G51,IF(Home!$K$10=6,'Antenna Data'!H51,'Import Other Antenna'!G50))))))","v":-0.28000000000000114},-5.0000000000000711E-2,-0.16000000000000014,-0.21000000000000085,-0.28000000000000114,-1.5299999999999976,0]
[4.9000000000000057,{"$f":"IF(Home!$K$10=1,'Antenna Data'!C52,IF(Home!$K$10=2,'Antenna Data'!D52,IF(Home!$K$10=3,'Antenna Data'!E52,IF(Home!$K$10=4,'Antenna Data'!F52,IF(Home!$K$10=5,'Antenna Data'!G52,IF(Home!$K$10=6,'Antenna Data'!H52,'Import Other Antenna'!G51))))))","v":-0.2900000000000027},-5.0000000000000711E-2,-0.16000000000000014,-0.21000000000000085,-0.2900000000000027,-1.5999999999999979,0]
[5,{"$f":"IF(Home!$K$10=1,'Antenna Data'!C53,IF(Home!$K$10=2,'Antenna Data'!D53,IF(Home!$K$10=3,'Antenna Data'!E53,IF(Home!$K$10=4,'Antenna Data'!F53,IF(Home!$K$10=5,'Antenna Data'!G53,IF(Home!$K$10=6,'Antenna Data'!H53,'Import Other Antenna'!G52))))))","v":-0.30000000000000071},-5.0000000000000711E-2,-0.16999999999999993,-0.22000000000000064,-0.30000000000000071,-1.6699999999999982,0]
[5.0999999999999943,{"$f":"IF(Home!$K$10=1,'Antenna Data'!C54,IF(Home!$K$10=2,'Antenna Data'!D54,IF(Home!$K$10=3,'Antenna Data'!E54,IF(Home!$K$10=4,'Antenna Data'!F54,IF(Home!$K$10=5,'Antenna Data'!G54,IF(Home!$K$10=6,'Antenna Data'!H54,'Import Other Antenna'!G53))))))","v":-0.32000000000000028},-6.0000000000000497E-2,-0.18000000000000149,-0.23000000000000043,-0.32000000000000028,-1.7399999999999984,0]
[5.2000000000000028,{"$f":"IF(Home!$K$10=1,'Antenna Data'!C55,IF(Home!$K$10=2,'Antenna Data'!D55,IF(Home!$K$10=3,'Antenna Data'!E55,IF(Home!$K$10=4,'Antenna Data'!F55,IF(Home!$K$10=5,'Antenna Data'!G55,IF(Home!$K$10=6,'Antenna Data'!H55,'Import Other Antenna'!G54))))))","v":-0.33000000000000185},-6.0000000000000497E-2,-0.19000000000000128,-0.24000000000000021,-0.33000000000000185,-1.8099999999999987,0]
[5.2999999999999972,{"$f":"IF(Home!$K$10=1,'Antenna Data'!C56,IF(Home!$K$10=2,'Antenna Data'!D56,IF(Home!$K$10=3,'Antenna Data'!E56,IF(Home!$K$10=4,'Antenna Data'!F56,IF(Home!$K$10=5,'Antenna Data'!G56,IF(Home!$K$10=6,'Antenna Data'!H56,'Import Other Antenna'!G55))))))","v":-0.33999999999999986},-6.0000000000000497E-2,-0.19000000000000128,-0.25,-0.33999999999999986,-1.889999999999997,0]
[5.4000000000000057,{"$f":"IF(Home!$K$10=1,'Antenna Data'!C57,IF(Home!$K$10=2,'Antenna Data'!D57,IF(Home!$K$10=3,'Antenna Data'!E57,IF(Home!$K$10=4,'Antenna Data'!F57,IF(Home!$K$10=5,'Antenna Data'!G57,IF(Home!$K$10=6,'Antenna Data'!H57,'Import Other Antenna'!G56))))))","v":-0.35000000000000142},-6.0000000000000497E-2,-0.20000000000000107,-0.25999999999999979,-0.35000000000000142,-1.9599999999999973,0]
[5.5,{"$f":"IF(Home!$K$10=1,'Antenna Data'!C58,IF(Home!$K$10=2,'Antenna Data'!D58,IF(Home!$K$10=3,'Antenna Data'!E58,IF(Home!$K$10=4,'Antenna Data'!F58,IF(Home!$K$10=5,'Antenna Data'!G58,IF(Home!$K$10=6,'Antenna Data'!H58,'Import Other Antenna'!G57))))))","v":-0.37000000000000099},-7.0000000000000284E-2,-0.21000000000000085,-0.26999999999999957,-0.37000000000000099,-2.0399999999999991,0]
[5.5999999999999943,{"$f":"IF(Home!$K$10=1,'Antenna Data'!C59,IF(Home!$K$10=2,'Antenna Data'!D59,IF(Home!$K$10=3,'Antenna Data'!E59,IF(Home!$K$10=4,'Antenna Data'!F59,IF(Home!$K$10=5,'Antenna Data'!G59,IF(Home!$K$10=6,'Antenna Data'!H59,'Import Other Antenna'!G58))))))","v":-0.38000000000000078},-7.0000000000000284E-2,-0.22000000000000064,-0.27999999999999936,-0.38000000000000078,-2.1199999999999974,0]
[5.7000000000000028,{"$f":"IF(Home!$K$10=1,'Antenna Data'!C60,IF(Home!$K$10=2,'Antenna Data'!D60,IF(Home!$K$10=3,'Antenna Data'!E60,IF(Home!$K$10=4,'Antenna Data'!F60,IF(Home!$K$10=5,'Antenna Data'!G60,IF(Home!$K$10=6,'Antenna Data'!H60,'Import Other Antenna'!G59))))))","v":-0.40000000000000036},-7.0000000000000284E-2,-0.22000000000000064,-0.28999999999999915,-0.40000000000000036,-2.1999999999999993,0]
[5.7999999999999972,{"$f":"IF(Home!$K$10=1,'Antenna Data'!C61,IF(Home!$K$10=2,'Antenna Data'!D61,IF(Home!$K$10=3,'Antenna Data'!E61,IF(Home!$K$10=4,'Antenna Data'!F61,IF(Home!$K$10=5,'Antenna Data'!G61,IF(Home!$K$10=6,'Antenna Data'!H61,'Import Other Antenna'!G60))))))","v":-0.41000000000000014},-7.0000000000000284E-2,-0.23000000000000043,-0.30000000000000071,-0.41000000000000014,-2.2799999999999976,0]
[5.9000000000000057,{"$f":"IF(Home!$K$10=1,'Antenna Data'!C62,IF(Home!$K$10=2,'Antenna Data'!D62,IF(Home!$K$10=3,'Antenna Data'!E62,IF(Home!$K$10=4,'Antenna Data'!F62,IF(Home!$K$10=5,'Antenna Data'!G62,IF(Home!$K$10=6,'Antenna Data'!H62,'Import Other Antenna'!G61))))))","v":-0.43000000000000149},-8.0000000000000071E-2,-0.24000000000000021,-0.3100000000000005,-0.43000000000000149,-2.3699999999999974,0]
[6,{"$f":"IF(Home!$K$10=1,'Antenna Data'!C63,IF(Home!$K$10=2,'Antenna Data'!D63,IF(Home!$K$10=3,'Antenna Data'!E63,IF(Home!$K$10=4,'Antenna Data'!F63,IF(Home!$K$10=5,'Antenna Data'!G63,IF(Home!$K$10=6,'Antenna Data'!H63,'Import Other Antenna'!G62))))))","v":-0.44000000000000128},-8.0000000000000071E-2,-0.25,-0.32000000000000028,-0.44000000000000128,-2.4599999999999973,0]
[6.0999999999999943,{"$f":"IF(Home!$K$10=1,'Antenna Data'!C64,IF(Home!$K$10=2,'Antenna Data'!D64,IF(Home!$K$10=3,'Antenna Data'!E64,IF(Home!$K$10=4,'Antenna Data'!F64,IF(Home!$K$10=5,'Antenna Data'!G64,IF(Home!$K$10=6,'Antenna Data'!H64,'Import Other Antenna'!G63))))))","v":-0.46000000000000085},-8.0000000000000071E-2,-0.25999999999999979,-0.33000000000000007,-0.46000000000000085,-2.5399999999999991,0]
[6.2000000000000028,{"$f":"IF(Home!$K$10=1,'Antenna Data'!C65,IF(Home!$K$10=2,'Antenna Data'!D65,IF(Home!$K$10=3,'Antenna Data'!E65,IF(Home!$K$10=4,'Antenna Data'!F65,IF(Home!$K$10=5,'Antenna Data'!G65,IF(Home!$K$10=6,'Antenna Data'!H65,'Import Other Antenna'!G64))))))","v":-0.47000000000000064},-8.0000000000000071E-2,-0.25999999999999979,-0.34999999999999964,-0.47000000000000064,-2.639999999999997,0]
[6.2999999999999972,{"$f":"IF(Home!$K$10=1,'Antenna Data'!C66,IF(Home!$K$10=2,'Antenna Data'!D66,IF(Home!$K$10=3,'Antenna Data'!E66,IF(Home!$K$10=4,'Antenna Data'!F66,IF(Home!$K$10=5,'Antenna Data'!G66,IF(Home!$K$10=6,'Antenna Data'!H66,'Import Other Antenna'!G65))))))","v":-0.49000000000000021},-8.9999999999999858E-2,-0.27000000000000135,-0.35999999999999943,-0.49000000000000021,-2.7299999999999969,0]
[6.4000000000000057,{"$f":"IF(Home!$K$10=1,'Antenna Data'!C67,IF(Home!$K$10=2,'Antenna Data'!D67,IF(Home!$K$10=3,'Antenna Data'!E67,IF(Home!$K$10=4,'Antenna Data'!F67,IF(Home!$K$10=5,'Antenna Data'!G67,IF(Home!$K$10=6,'Antenna Data'!H67,'Import Other Antenna'!G66))))))","v":-0.50000000000000178},-8.9999999999999858E-2,-0.28000000000000114,-0.36999999999999922,-0.50000000000000178,-2.8199999999999967,0]
[6.5,{"$f":"IF(Home!$K$10=1,'Antenna Data'!C68,IF(Home!$K$10=2,'Antenna Data'!D68,IF(Home!$K$10=3,'Antenna Data'!E68,IF(Home!$K$10=4,'Antenna Data'!F68,IF(Home!$K$10=5,'Antenna Data'!G68,IF(Home!$K$10=6,'Antenna Data'!H68,'Import Other Antenna'!G67))))))","v":-0.52000000000000135},-8.9999999999999858E-2,-0.29000000000000092,-0.38000000000000078,-0.52000000000000135,-2.9199999999999982,0]
[6.5999999999999943,{"$f":"IF(Home!$K$10=1,'Antenna Data'!C69,IF(Home!$K$10=2,'Antenna Data'!D69,IF(Home!$K$10=3,'Antenna Data'!E69,IF(Home!$K$10=4,'Antenna Data'!F69,IF(Home!$K$10=5,'Antenna Data'!G69,IF(Home!$K$10=6,'Antenna Data'!H69,'Import Other Antenna'!G68))))))","v":-0.54000000000000092},-9.9999999999999645E-2,-0.30000000000000071,-0.39000000000000057,-0.54000000000000092,-3.0199999999999996,0]
[6.7000000000000028,{"$f":"IF(Home!$K$10=1,'Antenna Data'!C70,IF(Home!$K$10=2,'Antenna Data'!D70,IF(Home!$K$10=3,'Antenna Data'!E70,IF(Home!$K$10=4,'Antenna Data'!F70,IF(Home!$K$10=5,'Antenna Data'!G70,IF(Home!$K$10=6,'Antenna Data'!H70,'Import Other Antenna'!G69))))))","v":-0.55000000000000071},-9.9999999999999645E-2,-0.3100000000000005,-0.40000000000000036,-0.55000000000000071,-3.1199999999999974,0]
[6.7999999999999972,{"$f":"IF(Home!$K$10=1,'Antenna Data'!C71,IF(Home!$K$10=2,'Antenna Data'!D71,IF(Home!$K$10=3,'Antenna Data'!E71,IF(Home!$K$10=4,'Antenna Data'!F71,IF(Home!$K$10=5,'Antenna Data'!G71,IF(Home!$K$10=6,'Antenna Data'!H71,'Import Other Antenna'!G70))))))","v":-0.57000000000000028},-9.9999999999999645E-2,-0.32000000000000028,-0.41999999999999993,-0.57000000000000028,-3.2199999999999989,0]
[6.9000000000000057,{"$f":"IF(Home!$K$10=1,'Antenna Data'!C72,IF(Home!$K$10=2,'Antenna Data'!D72,IF(Home!$K$10=3,'Antenna Data'!E72,IF(Home!$K$10=4,'Antenna Data'!F72,IF(Home!$K$10=5,'Antenna Data'!G72,IF(Home!$K$10=6,'Antenna Data'!H72,'Import Other Antenna'!G71))))))","v":-0.59000000000000163},-9.9999999999999645E-2,-0.33000000000000007,-0.42999999999999972,-0.59000000000000163,-3.3299999999999983,0]
[7,{"$f":"IF(Home!$K$10=1,'Antenna Data'!C73,IF(Home!$K$10=2,'Antenna Data'!D73,IF(Home!$K$10=3,'Antenna Data'!E73,IF(Home!$K$10=4,'Antenna Data'!F73,IF(Home!$K$10=5,'Antenna Data'!G73,IF(Home!$K$10=6,'Antenna Data'!H73,'Import Other Antenna'!G72))))))","v":-0.61000000000000121},-0.11000000000000121,-0.33999999999999986,-0.4399999999999995,-0.61000000000000121,-3.4299999999999979,0]
[7.0999999999999943,{"$f":"IF(Home!$K$10=1,'Antenna Data'!C74,IF(Home!$K$10=2,'Antenna Data'!D74,IF(Home!$K$10=3,'Antenna Data'!E74,IF(Home!$K$10=4,'Antenna Data'!F74,IF(Home!$K$10=5,'Antenna Data'!G74,IF(Home!$K$10=6,'Antenna Data'!H74,'Import Other Antenna'!G73))))))","v":-0.62000000000000099},-0.11000000000000121,-0.35000000000000142,-0.46000000000000085,-0.62000000000000099,-3.5399999999999991,0]
[7.2000000000000028,{"$f":"IF(Home!$K$10=1,'Antenna Data'!C75,IF(Home!$K$10=2,'Antenna Data'!D75,IF(Home!$K$10=3,'Antenna Data'!E75,IF(Home!$K$10=4,'Antenna Data'!F75,IF(Home!$K$10=5,'Antenna Data'!G75,IF(Home!$K$10=6,'Antenna Data'!H75,'Import Other Antenna'!G74))))))","v":-0.64000000000000057},-0.11000000000000121,-0.36000000000000121,-0.47000000000000064,-0.64000000000000057,-3.6599999999999984,0]
[7.2999999999999972,{"$f":"IF(Home!$K$10=1,'Antenna Data'!C76,IF(Home!$K$10=2,'Antenna Data'!D76,IF(Home!$K$10=3,'Antenna Data'!E76,IF(Home!$K$10=4,'Antenna Data'!F76,IF(Home!$K$10=5,'Antenna Data'!G76,IF(Home!$K$10=6,'Antenna Data'!H76,'Import Other Antenna'!G75))))))","v":-0.66000000000000014},-0.12000000000000099,-0.37000000000000099,-0.48000000000000043,-0.66000000000000014,-3.7699999999999978,0]
[7.4000000000000057,{"$f":"IF(Home!$K$10=1,'Antenna Data'!C77,IF(Home!$K$10=2,'Antenna Data'!D77,IF(Home!$K$10=3,'Antenna Data'!E77,IF(Home!$K$10=4,'Antenna Data'!F77,IF(Home!$K$10=5,'Antenna Data'!G77,IF(Home!$K$10=6,'Antenna Data'!H77,'Import Other Antenna'!G76))))))","v":-0.68000000000000149},-0.12000000000000099,-0.38000000000000078,-0.5,-0.68000000000000149,-3.8899999999999988,0]
[7.5,{"$f":"IF(Home!$K$10=1,'Antenna Data'!C78,IF(Home!$K$10=2,'Antenna Data'!D78,IF(Home!$K$10=3,'Antenna Data'!E78,IF(Home!$K$10=4,'Antenna Data'!F78,IF(Home!$K$10=5,'Antenna Data'!G78,IF(Home!$K$10=6,'Antenna Data'!H78,'Import Other Antenna'!G77))))))","v":-0.70000000000000107},-0.12000000000000099,-0.39000000000000057,-0.50999999999999979,-0.70000000000000107,-4.009999999999998,0]
[7.5999999999999943,{"$f":"IF(Home!$K$10=1,'Antenna Data'!C79,IF(Home!$K$10=2,'Antenna Data'!D79,IF(Home!$K$10=3,'Antenna Data'!E79,IF(Home!$K$10=4,'Antenna Data'!F79,IF(Home!$K$10=5,'Antenna Data'!G79,IF(Home!$K$10=6,'Antenna Data'!H79,'Import Other Antenna'!G78))))))","v":-0.72000000000000064},-0.13000000000000078,-0.40000000000000036,-0.51999999999999957,-0.72000000000000064,-4.129999999999999,0]
[7.7000000000000028,{"$f":"IF(Home!$K$10=1,'Antenna Data'!C80,IF(Home!$K$10=2,'Antenna Data'!D80,IF(Home!$K$10=3,'Antenna Data'!E80,IF(Home!$K$10=4,'Antenna Data'!F80,IF(Home!$K$10=5,'Antenna Data'!G80,IF(Home!$K$10=6,'Antenna Data'!H80,'Import Other Antenna'!G79))))))","v":-0.74000000000000021},-0.13000000000000078,-0.41000000000000014,-0.53999999999999915,-0.74000000000000021,-4.2499999999999982,0]
[7.7999999999999972,{"$f":"IF(Home!$K$10=1,'Antenna Data'!C81,IF(Home!$K$10=2,'Antenna Data'!D81,IF(Home!$K$10=3,'Antenna Data'!E81,IF(Home!$K$10=4,'Antenna Data'!F81,IF(Home!$K$10=5,'Antenna Data'!G81,IF(Home!$K$10=6,'Antenna Data'!H81,'Import Other Antenna'!G80))))))","v":-0.76000000000000156},-0.14000000000000057,-0.41999999999999993,-0.55000000000000071,-0.76000000000000156,-4.379999999999999,0]
[7.9000000000000057,{"$f":"IF(Home!$K$10=1,'Antenna Data'!C82,IF(Home!$K$10=2,'Antenna Data'!D82,IF(Home!$K$10=3,'Antenna Data'!E82,IF(Home!$K$10=4,'Antenna Data'!F82,IF(Home!$K$10=5,'Antenna Data'!G82,IF(Home!$K$10=6,'Antenna Data'!H82,'Import Other Antenna'!G81))))))","v":-0.78000000000000114},-0.14000000000000057,-0.44000000000000128,-0.57000000000000028,-0.78000000000000114,-4.509999999999998,0]
[8,{"$f":"IF(Home!$K$10=1,'Antenna Data'!C83,IF(Home!$K$10=2,'Antenna Data'!D83,IF(Home!$K$10=3,'Antenna Data'!E83,IF(Home!$K$10=4,'Antenna Data'!F83,IF(Home!$K$10=5,'Antenna Data'!G83,IF(Home!$K$10=6,'Antenna Data'!H83,'Import Other Antenna'!G82))))))","v":-0.80000000000000071},-0.14000000000000057,-0.45000000000000107,-0.58000000000000007,-0.80000000000000071,-4.6399999999999988,0]
[8.0999999999999943,{"$f":"IF(Home!$K$10=1,'Antenna Data'!C84,IF(Home!$K$10=2,'Antenna Data'!D84,IF(Home!$K$10=3,'Antenna Data'!E84,IF(Home!$K$10=4,'Antenna Data'!F84,IF(Home!$K$10=5,'Antenna Data'!G84,IF(Home!$K$10=6,'Antenna Data'!H84,'Import Other Antenna'!G83))))))","v":-0.82000000000000028},-0.15000000000000036,-0.46000000000000085,-0.59999999999999964,-0.82000000000000028,-4.7699999999999978,0]
[8.2000000000000028,{"$f":"IF(Home!$K$10=1,'Antenna Data'!C85,IF(Home!$K$10=2,'Antenna Data'!D85,IF(Home!$K$10=3,'Antenna Data'!E85,IF(Home!$K$10=4,'Antenna Data'!F85,IF(Home!$K$10=5,'Antenna Data'!G85,IF(Home!$K$10=6,'Antenna Data'!H85,'Import Other Antenna'!G84))))))","v":-0.84000000000000163},-0.15000000000000036,-0.47000000000000064,-0.60999999999999943,-0.84000000000000163,-4.9099999999999984,0]
[8.2999999999999972,{"$f":"IF(Home!$K$10=1,'Antenna Data'!C86,IF(Home!$K$10=2,'Antenna Data'!D86,IF(Home!$K$10=3,'Antenna Data'!E86,IF(Home!$K$10=4,'Antenna Data'!F86,IF(Home!$K$10=5,'Antenna Data'!G86,IF(Home!$K$10=6,'Antenna Data'!H86,'Import Other Antenna'!G85))))))","v":-0.87000000000000099},-0.15000000000000036,-0.48000000000000043,-0.63000000000000078,-0.87000000000000099,-5.0499999999999989,0]
[8.4000000000000057,{"$f":"IF(Home!$K$10=1,'Antenna Data'!C87,IF(Home!$K$10=2,'Antenna Data'!D87,IF(Home!$K$10=3,'Antenna Data'!E87,IF(Home!$K$10=4,'Antenna Data'!F87,IF(Home!$K$10=5,'Antenna Data'!G87,IF(Home!$K$10=6,'Antenna Data'!H87,'Import Other Antenna'!G86))))))","v":-0.89000000000000057},-0.16000000000000014,-0.49000000000000021,-0.64000000000000057,-0.89000000000000057,-5.1999999999999975,0]
[8.5,{"$f":"IF(Home!$K$10=1,'Antenna Data'!C88,IF(Home!$K$10=2,'Antenna Data'!D88,IF(Home!$K$10=3,'Antenna Data'!E88,IF(Home!$K$10=4,'Antenna Data'!F88,IF(Home!$K$10=5,'Antenna Data'!G88,IF(Home!$K$10=6,'Antenna Data'!H88,'Import Other Antenna'!G87))))))","v":-0.91000000000000014},-0.16000000000000014,-0.50999999999999979,-0.66000000000000014,-0.91000000000000014,-5.3399999999999981,0]
[8.5999999999999943,{"$f":"IF(Home!$K$10=1,'Antenna Data'!C89,IF(Home!$K$10=2,'Antenna Data'!D89,IF(Home!$K$10=3,'Antenna Data'!E89,IF(Home!$K$10=4,'Antenna Data'!F89,IF(Home!$K$10=5,'Antenna Data'!G89,IF(Home!$K$10=6,'Antenna Data'!H89,'Import Other Antenna'!G88))))))","v":-0.93000000000000149},-0.16999999999999993,-0.52000000000000135,-0.67999999999999972,-0.93000000000000149,-5.4899999999999984,0]
[8.7000000000000028,{"$f":"IF(Home!$K$10=1,'Antenna Data'!C90,IF(Home!$K$10=2,'Antenna Data'!D90,IF(Home!$K$10=3,'Antenna Data'!E90,IF(Home!$K$10=4,'Antenna Data'!F90,IF(Home!$K$10=5,'Antenna Data'!G90,IF(Home!$K$10=6,'Antenna Data'!H90,'Import Other Antenna'!G89))))))","v":-0.96000000000000085},-0.16999999999999993,-0.53000000000000114,-0.6899999999999995,-0.96000000000000085,-5.6399999999999988,0]
[8.7999999999999972,{"$f":"IF(Home!$K$10=1,'Antenna Data'!C91,IF(Home!$K$10=2,'Antenna Data'!D91,IF(Home!$K$10=3,'Antenna Data'!E91,IF(Home!$K$10=4,'Antenna Data'!F91,IF(Home!$K$10=5,'Antenna Data'!G91,IF(Home!$K$10=6,'Antenna Data'!H91,'Import Other Antenna'!G90))))))","v":-0.98000000000000043},-0.16999999999999993,-0.54000000000000092,-0.71000000000000085,-0.98000000000000043,-5.7999999999999989,0]
[8.9000000000000057,{"$f":"IF(Home!$K$10=1,'Antenna Data'!C92,IF(Home!$K$10=2,'Antenna Data'!D92,IF(Home!$K$10=3,'Antenna Data'!E92,IF(Home!$K$10=4,'Antenna Data'!F92,IF(Home!$K$10=5,'Antenna Data'!G92,IF(Home!$K$10=6,'Antenna Data'!H92,'Import Other Antenna'!G91))))))","v":-1.0000000000000018},-0.17999999999999972,-0.5600000000000005,-0.73000000000000043,-1.0000000000000018,-5.9599999999999991,0]
[9,{"$f":"IF(Home!$K$10=1,'Antenna Data'!C93,IF(Home!$K$10=2,'Antenna Data'!D93,IF(Home!$K$10=3,'Antenna Data'!E93,IF(Home!$K$10=4,'Antenna Data'!F93,IF(Home!$K$10=5,'Antenna Data'!G93,IF(Home!$K$10=6,'Antenna Data'!H93,'Import Other Antenna'!G92))))))","v":-1.0300000000000011},-0.17999999999999972,-0.57000000000000028,-0.74000000000000021,-1.0300000000000011,-6.1199999999999974,0]
[9.0999999999999943,{"$f":"IF(Home!$K$10=1,'Antenna Data'!C94,IF(Home!$K$10=2,'Antenna Data'!D94,IF(Home!$K$10=3,'Antenna Data'!E94,IF(Home!$K$10=4,'Antenna Data'!F94,IF(Home!$K$10=5,'Antenna Data'!G94,IF(Home!$K$10=6,'Antenna Data'!H94,'Import Other Antenna'!G93))))))","v":-1.0500000000000007},-0.19000000000000128,-0.58000000000000007,-0.75999999999999979,-1.0500000000000007,-6.2899999999999991,0]
[9.2000000000000028,{"$f":"IF(Home!$K$10=1,'Antenna Data'!C95,IF(Home!$K$10=2,'Antenna Data'!D95,IF(Home!$K$10=3,'Antenna Data'!E95,IF(Home!$K$10=4,'Antenna Data'!F95,IF(Home!$K$10=5,'Antenna Data'!G95,IF(Home!$K$10=6,'Antenna Data'!H95,'Import Other Antenna'!G94))))))","v":-1.0800000000000018},-0.19000000000000128,-0.60000000000000142,-0.77999999999999936,-1.0800000000000018,-6.4599999999999991,0]
[9.2999999999999972,{"$f":"IF(Home!$K$10=1,'Antenna Data'!C96,IF(Home!$K$10=2,'Antenna Data'!D96,IF(Home!$K$10=3,'Antenna Data'!E96,IF(Home!$K$10=4,'Antenna Data'!F96,IF(Home!$K$10=5,'Antenna Data'!G96,IF(Home!$K$10=6,'Antenna Data'!H96,'Import Other Antenna'!G95))))))","v":-1.1000000000000014},-0.19000000000000128,-0.61000000000000121,-0.80000000000000071,-1.1000000000000014,-6.629999999999999,0]
[9.4000000000000057,{"$f":"IF(Home!$K$10=1,'Antenna Data'!C97,IF(Home!$K$10=2,'Antenna Data'!D97,IF(Home!$K$10=3,'Antenna Data'!E97,IF(Home!$K$10=4,'Antenna Data'!F97,IF(Home!$K$10=5,'Antenna Data'!G97,IF(Home!$K$10=6,'Antenna Data'!H97,'Import Other Antenna'!G96))))))","v":-1.1300000000000008},-0.20000000000000107,-0.62000000000000099,-0.8100000000000005,-1.1300000000000008,-6.8099999999999987,0]
[9.5,{"$f":"IF(Home!$K$10=1,'Antenna Data'!C98,IF(Home!$K$10=2,'Antenna Data'!D98,IF(Home!$K$10=3,'Antenna Data'!E98,IF(Home!$K$10=4,'Antenna Data'!F98,IF(Home!$K$10=5,'Antenna Data'!G98,IF(Home!$K$10=6,'Antenna Data'!H98,'Import Other Antenna'!G97))))))","v":-1.1500000000000004},-0.20000000000000107,-0.64000000000000057,-0.83000000000000007,-1.1500000000000004,-6.9899999999999984,0]
[9.5999999999999943,{"$f":"IF(Home!$K$10=1,'Antenna Data'!C99,IF(Home!$K$10=2,'Antenna Data'!D99,IF(Home!$K$10=3,'Antenna Data'!E99,IF(Home!$K$10=4,'Antenna Data'!F99,IF(Home!$K$10=5,'Antenna Data'!G99,IF(Home!$K$10=6,'Antenna Data'!H99,'Import Other Antenna'!G98))))))","v":-1.1800000000000015},-0.21000000000000085,-0.65000000000000036,-0.84999999999999964,-1.1800000000000015,-7.1799999999999979,0]
[9.7000000000000028,{"$f":"IF(Home!$K$10=1,'Antenna Data'!C100,IF(Home!$K$10=2,'Antenna Data'!D100,IF(Home!$K$10=3,'Antenna Data'!E100,IF(Home!$K$10=4,'Antenna Data'!F100,IF(Home!$K$10=5,'Antenna Data'!G100,IF(Home!$K$10=6,'Antenna Data'!H100,'Import Other Antenna'!G99))))))","v":-1.2100000000000009},-0.21000000000000085,-0.66999999999999993,-0.86999999999999922,-1.2100000000000009,-7.3699999999999974,0]
[9.7999999999999972,{"$f":"IF(Home!$K$10=1,'Antenna Data'!C101,IF(Home!$K$10=2,'Antenna Data'!D101,IF(Home!$K$10=3,'Antenna Data'!E101,IF(Home!$K$10=4,'Antenna Data'!F101,IF(Home!$K$10=5,'Antenna Data'!G101,IF(Home!$K$10=6,'Antenna Data'!H101,'Import Other Antenna'!G100))))))","v":-1.2300000000000004},-0.22000000000000064,-0.68000000000000149,-0.89000000000000057,-1.2300000000000004,-7.5699999999999985,0]
[9.9000000000000057,{"$f":"IF(Home!$K$10=1,'Antenna Data'!C102,IF(Home!$K$10=2,'Antenna Data'!D102,IF(Home!$K$10=3,'Antenna Data'!E102,IF(Home!$K$10=4,'Antenna Data'!F102,IF(Home!$K$10=5,'Antenna Data'!G102,IF(Home!$K$10=6,'Antenna Data'!H102,'Import Other Antenna'!G101))))))","v":-1.2600000000000016},-0.22000000000000064,-0.70000000000000107,-0.91000000000000014,-1.2600000000000016,-7.7699999999999978,0]
[10,{"$f":"IF(Home!$K$10=1,'Antenna Data'!C103,IF(Home!$K$10=2,'Antenna Data'!D103,IF(Home!$K$10=3,'Antenna Data'!E103,IF(Home!$K$10=4,'Antenna Data'!F103,IF(Home!$K$10=5,'Antenna Data'!G103,IF(Home!$K$10=6,'Antenna Data'!H103,'Import Other Antenna'!G102))))))","v":-1.2900000000000009},-0.23000000000000043,-0.71000000000000085,-0.92999999999999972,-1.2900000000000009,-7.9699999999999989,0]
[10.099999999999994,{"$f":"IF(Home!$K$10=1,'Antenna Data'!C104,IF(Home!$K$10=2,'Antenna Data'!D104,IF(Home!$K$10=3,'Antenna Data'!E104,IF(Home!$K$10=4,'Antenna Data'!F104,IF(Home!$K$10=5,'Antenna Data'!G104,IF(Home!$K$10=6,'Antenna Data'!H104,'Import Other Antenna'!G103))))))","v":-1.3100000000000005},-0.23000000000000043,-0.73000000000000043,-0.94999999999999929,-1.3100000000000005,-8.1799999999999979,0]
[10.200000000000003,{"$f":"IF(Home!$K$10=1,'Antenna Data'!C105,IF(Home!$K$10=2,'Antenna Data'!D105,IF(Home!$K$10=3,'Antenna Data'!E105,IF(Home!$K$10=4,'Antenna Data'!F105,IF(Home!$K$10=5,'Antenna Data'!G105,IF(Home!$K$10=6,'Antenna Data'!H105,'Import Other Antenna'!G104))))))","v":-1.3400000000000016},-0.24000000000000021,-0.74000000000000021,-0.97000000000000064,-1.3400000000000016,-8.3999999999999986,0]
[10.299999999999997,{"$f":"IF(Home!$K$10=1,'Antenna Data'!C106,IF(Home!$K$10=2,'Antenna Data'!D106,IF(Home!$K$10=3,'Antenna Data'!E106,IF(Home!$K$10=4,'Antenna Data'!F106,IF(Home!$K$10=5,'Antenna Data'!G106,IF(Home!$K$10=6,'Antenna Data'!H106,'Import Other Antenna'!G105))))))","v":-1.370000000000001},-0.24000000000000021,-0.75999999999999979,-0.99000000000000021,-1.370000000000001,-8.6199999999999974,0]
[10.400000000000006,{"$f":"IF(Home!$K$10=1,'Antenna Data'!C107,IF(Home!$K$10=2,'Antenna Data'!D107,IF(Home!$K$10=3,'Antenna Data'!E107,IF(Home!$K$10=4,'Antenna Data'!F107,IF(Home!$K$10=5,'Antenna Data'!G107,IF(Home!$K$10=6,'Antenna Data'!H107,'Import Other Antenna'!G106))))))","v":-1.4000000000000004},-0.24000000000000021,-0.77000000000000135,-1.0099999999999998,-1.4000000000000004,-8.8399999999999981,0]
[10.5,{"$f":"IF(Home!$K$10=1,'Antenna Data'!C108,IF(Home!$K$10=2,'Antenna Data'!D108,IF(Home!$K$10=3,'Antenna Data'!E108,IF(Home!$K$10=4,'Antenna Data'!F108,IF(Home!$K$10=5,'Antenna Data'!G108,IF(Home!$K$10=6,'Antenna Data'!H108,'Import Other Antenna'!G107))))))","v":-1.4300000000000015},-0.25,-0.79000000000000092,-1.0299999999999994,-1.4300000000000015,-9.0799999999999983,0]
[10.599999999999994,{"$f":"IF(Home!$K$10=1,'Antenna Data'!C109,IF(Home!$K$10=2,'Antenna Data'!D109,IF(Home!$K$10=3,'Antenna Data'!E109,IF(Home!$K$10=4,'Antenna Data'!F109,IF(Home!$K$10=5,'Antenna Data'!G109,IF(Home!$K$10=6,'Antenna Data'!H109,'Import Other Antenna'!G108))))))","v":-1.4600000000000009},-0.25,-0.80000000000000071,-1.0500000000000007,-1.4600000000000009,-9.3099999999999987,0]
[10.700000000000003,{"$f":"IF(Home!$K$10=1,'Antenna Data'!C110,IF(Home!$K$10=2,'Antenna Data'!D110,IF(Home!$K$10=3,'Antenna Data'!E110,IF(Home!$K$10=4,'Antenna Data'!F110,IF(Home!$K$10=5,'Antenna Data'!G110,IF(Home!$K$10=6,'Antenna Data'!H110,'Import Other Antenna'!G109))))))","v":-1.4900000000000002},-0.25999999999999979,-0.82000000000000028,-1.0700000000000003,-1.4900000000000002,-9.5599999999999987,0]
[10.799999999999997,{"$f":"IF(Home!$K$10=1,'Antenna Data'!C111,IF(Home!$K$10=2,'Antenna Data'!D111,IF(Home!$K$10=3,'Antenna Data'!E111,IF(Home!$K$10=4,'Antenna Data'!F111,IF(Home!$K$10=5,'Antenna Data'!G111,IF(Home!$K$10=6,'Antenna Data'!H111,'Import Other Antenna'!G110))))))","v":-1.5200000000000014},-0.25999999999999979,-0.83999999999999986,-1.0899999999999999,-1.5200000000000014,-9.8099999999999987,0]
[10.900000000000006,{"$f":"IF(Home!$K$10=1,'Antenna Data'!C112,IF(Home!$K$10=2,'Antenna Data'!D112,IF(Home!$K$10=3,'Antenna Data'!E112,IF(Home!$K$10=4,'Antenna Data'!F112,IF(Home!$K$10=5,'Antenna Data'!G112,IF(Home!$K$10=6,'Antenna Data'!H112,'Import Other Antenna'!G111))))))","v":-1.5500000000000007},-0.26999999999999957,-0.85000000000000142,-1.1099999999999994,-1.5500000000000007,-10.069999999999999,0]
[11,{"$f":"IF(Home!$K$10=1,'Antenna Data'!C113,IF(Home!$K$10=2,'Antenna Data'!D113,IF(Home!$K$10=3,'Antenna Data'!E113,IF(Home!$K$10=4,'Antenna Data'!F113,IF(Home!$K$10=5,'Antenna Data'!G113,IF(Home!$K$10=6,'Antenna Data'!H113,'Import Other Antenna'!G112))))))","v":-1.5800000000000018},-0.26999999999999957,-0.87000000000000099,-1.1400000000000006,-1.5800000000000018,-10.339999999999998,0]
[11.099999999999994,{"$f":"IF(Home!$K$10=1,'Antenna Data'!C114,IF(Home!$K$10=2,'Antenna Data'!D114,IF(Home!$K$10=3,'Antenna Data'!E114,IF(Home!$K$10=4,'Antenna Data'!F114,IF(Home!$K$10=5,'Antenna Data'!G114,IF(Home!$K$10=6,'Antenna Data'!H114,'Import Other Antenna'!G113))))))","v":-1.6100000000000012},-0.28000000000000114,-0.89000000000000057,-1.1600000000000001,-1.6100000000000012,-10.609999999999998,0]
[11.200000000000003,{"$f":"IF(Home!$K$10=1,'Antenna Data'!C115,IF(Home!$K$10=2,'Antenna Data'!D115,IF(Home!$K$10=3,'Antenna Data'!E115,IF(Home!$K$10=4,'Antenna Data'!F115,IF(Home!$K$10=5,'Antenna Data'!G115,IF(Home!$K$10=6,'Antenna Data'!H115,'Import Other Antenna'!G114))))))","v":-1.6500000000000004},-0.29000000000000092,-0.90000000000000036,-1.1799999999999997,-1.6500000000000004,-10.889999999999999,0]
[11.299999999999997,{"$f":"IF(Home!$K$10=1,'Antenna Data'!C116,IF(Home!$K$10=2,'Antenna Data'!D116,IF(Home!$K$10=3,'Antenna Data'!E116,IF(Home!$K$10=4,'Antenna Data'!F116,IF(Home!$K$10=5,'Antenna Data'!G116,IF(Home!$K$10=6,'Antenna Data'!H116,'Import Other Antenna'!G115))))))","v":-1.6800000000000015},-0.29000000000000092,-0.91999999999999993,-1.1999999999999993,-1.6800000000000015,-11.179999999999998,0]
[11.400000000000006,{"$f":"IF(Home!$K$10=1,'Antenna Data'!C117,IF(Home!$K$10=2,'Antenna Data'!D117,IF(Home!$K$10=3,'Antenna Data'!E117,IF(Home!$K$10=4,'Antenna Data'!F117,IF(Home!$K$10=5,'Antenna Data'!G117,IF(Home!$K$10=6,'Antenna Data'!H117,'Import Other Antenna'!G116))))))","v":-1.7100000000000009},-0.30000000000000071,-0.94000000000000128,-1.2300000000000004,-1.7100000000000009,-11.489999999999998,0]
[11.5,{"$f":"IF(Home!$K$10=1,'Antenna Data'!C118,IF(Home!$K$10=2,'Antenna Data'!D118,IF(Home!$K$10=3,'Antenna Data'!E118,IF(Home!$K$10=4,'Antenna Data'!F118,IF(Home!$K$10=5,'Antenna Data'!G118,IF(Home!$K$10=6,'Antenna Data'!H118,'Import Other Antenna'!G117))))))","v":-1.7400000000000002},-0.30000000000000071,-0.96000000000000085,-1.25,-1.7400000000000002,-11.799999999999997,0]
[11.599999999999994,{"$f":"IF(Home!$K$10=1,'Antenna Data'!C119,IF(Home!$K$10=2,'Antenna Data'!D119,IF(Home!$K$10=3,'Antenna Data'!E119,IF(Home!$K$10=4,'Antenna Data'!F119,IF(Home!$K$10=5,'Antenna Data'!G119,IF(Home!$K$10=6,'Antenna Data'!H119,'Import Other Antenna'!G118))))))","v":-1.7800000000000011},-0.3100000000000005,-0.97000000000000064,-1.2699999999999996,-1.7800000000000011,-12.119999999999997,0]
[11.700000000000003,{"$f":"IF(Home!$K$10=1,'Antenna Data'!C120,IF(Home!$K$10=2,'Antenna Data'!D120,IF(Home!$K$10=3,'Antenna Data'!E120,IF(Home!$K$10=4,'Antenna Data'!F120,IF(Home!$K$10=5,'Antenna Data'!G120,IF(Home!$K$10=6,'Antenna Data'!H120,'Import Other Antenna'!G119))))))","v":-1.8100000000000005},-0.3100000000000005,-0.99000000000000021,-1.3000000000000007,-1.8100000000000005,-12.45,0]
[11.799999999999997,{"$f":"IF(Home!$K$10=1,'Antenna Data'!C121,IF(Home!$K$10=2,'Antenna Data'!D121,IF(Home!$K$10=3,'Antenna Data'!E121,IF(Home!$K$10=4,'Antenna Data'!F121,IF(Home!$K$10=5,'Antenna Data'!G121,IF(Home!$K$10=6,'Antenna Data'!H121,'Import Other Antenna'!G120))))))","v":-1.8500000000000014},-0.32000000000000028,-1.0099999999999998,-1.3200000000000003,-1.8500000000000014,-12.79,0]
[11.900000000000006,{"$f":"IF(Home!$K$10=1,'Antenna Data'!C122,IF(Home!$K$10=2,'Antenna Data'!D122,IF(Home!$K$10=3,'Antenna Data'!E122,IF(Home!$K$10=4,'Antenna Data'!F122,IF(Home!$K$10=5,'Antenna Data'!G122,IF(Home!$K$10=6,'Antenna Data'!H122,'Import Other Antenna'!G121))))))","v":-1.8800000000000008},-0.32000000000000028,-1.0300000000000011,-1.3499999999999996,-1.8800000000000008,-13.149999999999999,0]
[12,{"$f":"IF(Home!$K$10=1,'Antenna Data'!C123,IF(Home!$K$10=2,'Antenna Data'!D123,IF(Home!$K$10=3,'Antenna Data'!E123,IF(Home!$K$10=4,'Antenna Data'!F123,IF(Home!$K$10=5,'Antenna Data'!G123,IF(Home!$K$10=6,'Antenna Data'!H123,'Import Other Antenna'!G122))))))","v":-1.9200000000000017},-0.33000000000000007,-1.0500000000000007,-1.3699999999999992,-1.9200000000000017,-13.52,0]
[12.099999999999994,{"$f":"IF(Home!$K$10=1,'Antenna Data'!C124,IF(Home!$K$10=2,'Antenna Data'!D124,IF(Home!$K$10=3,'Antenna Data'!E124,IF(Home!$K$10=4,'Antenna Data'!F124,IF(Home!$K$10=5,'Antenna Data'!G124,IF(Home!$K$10=6,'Antenna Data'!H124,'Import Other Antenna'!G123))))))","v":-1.9500000000000011},-0.33000000000000007,-1.0700000000000003,-1.3900000000000006,-1.9500000000000011,-13.909999999999998,0]
[12.200000000000003,{"$f":"IF(Home!$K$10=1,'Antenna Data'!C125,IF(Home!$K$10=2,'Antenna Data'!D125,IF(Home!$K$10=3,'Antenna Data'!E125,IF(Home!$K$10=4,'Antenna Data'!F125,IF(Home!$K$10=5,'Antenna Data'!G125,IF(Home!$K$10=6,'Antenna Data'!H125,'Import Other Antenna'!G124))))))","v":-1.9900000000000002},-0.33999999999999986,-1.0899999999999999,-1.42,-1.9900000000000002,-14.309999999999999,0]
[12.299999999999997,{"$f":"IF(Home!$K$10=1,'Antenna Data'!C126,IF(Home!$K$10=2,'Antenna Data'!D126,IF(Home!$K$10=3,'Antenna Data'!E126,IF(Home!$K$10=4,'Antenna Data'!F126,IF(Home!$K$10=5,'Antenna Data'!G126,IF(Home!$K$10=6,'Antenna Data'!H126,'Import Other Antenna'!G125))))))","v":-2.0200000000000014},-0.34999999999999964,-1.1000000000000014,-1.4499999999999993,-2.0200000000000014,-14.729999999999999,0]
[12.400000000000006,{"$f":"IF(Home!$K$10=1,'Antenna Data'!C127,IF(Home!$K$10=2,'Antenna Data'!D127,IF(Home!$K$10=3,'Antenna Data'!E127,IF(Home!$K$10=4,'Antenna Data'!F127,IF(Home!$K$10=5,'Antenna Data'!G127,IF(Home!$K$10=6,'Antenna Data'!H127,'Import Other Antenna'!G126))))))","v":-2.0600000000000005},-0.34999999999999964,-1.120000000000001,-1.4700000000000006,-2.0600000000000005,-15.169999999999998,0]
[12.5,{"$f":"IF(Home!$K$10=1,'Antenna Data'!C128,IF(Home!$K$10=2,'Antenna Data'!D128,IF(Home!$K$10=3,'Antenna Data'!E128,IF(Home!$K$10=4,'Antenna Data'!F128,IF(Home!$K$10=5,'Antenna Data'!G128,IF(Home!$K$10=6,'Antenna Data'!H128,'Import Other Antenna'!G127))))))","v":-2.1000000000000014},-0.36000000000000121,-1.1400000000000006,-1.5,-2.1000000000000014,-15.629999999999999,0]
[12.599999999999994,{"$f":"IF(Home!$K$10=1,'Antenna Data'!C129,IF(Home!$K$10=2,'Antenna Data'!D129,IF(Home!$K$10=3,'Antenna Data'!E129,IF(Home!$K$10=4,'Antenna Data'!F129,IF(Home!$K$10=5,'Antenna Data'!G129,IF(Home!$K$10=6,'Antenna Data'!H129,'Import Other Antenna'!G128))))))","v":-2.1400000000000006},-0.36000000000000121,-1.1600000000000001,-1.5199999999999996,-2.1400000000000006,-16.11,0]
[12.700000000000003,{"$f":"IF(Home!$K$10=1,'Antenna Data'!C130,IF(Home!$K$10=2,'Antenna Data'!D130,IF(Home!$K$10=3,'Antenna Data'!E130,IF(Home!$K$10=4,'Antenna Data'!F130,IF(Home!$K$10=5,'Antenna Data'!G130,IF(Home!$K$10=6,'Antenna Data'!H130,'Import Other Antenna'!G129))))))","v":-2.1700000000000017},-0.37000000000000099,-1.1800000000000015,-1.5500000000000007,-2.1700000000000017,-16.619999999999997,0]
[12.799999999999997,{"$f":"IF(Home!$K$10=1,'Antenna Data'!C131,IF(Home!$K$10=2,'Antenna Data'!D131,IF(Home!$K$10=3,'Antenna Data'!E131,IF(Home!$K$10=4,'Antenna Data'!F131,IF(Home!$K$10=5,'Antenna Data'!G131,IF(Home!$K$10=6,'Antenna Data'!H131,'Import Other Antenna'!G130))))))","v":-2.2100000000000009},-0.38000000000000078,-1.2000000000000011,-1.58,-2.2100000000000009,-17.159999999999997,0]
[12.900000000000006,{"$f":"IF(Home!$K$10=1,'Antenna Data'!C132,IF(Home!$K$10=2,'Antenna Data'!D132,IF(Home!$K$10=3,'Antenna Data'!E132,IF(Home!$K$10=4,'Antenna Data'!F132,IF(Home!$K$10=5,'Antenna Data'!G132,IF(Home!$K$10=6,'Antenna Data'!H132,'Import Other Antenna'!G131))))))","v":-2.2500000000000018},-0.38000000000000078,-1.2300000000000004,-1.5999999999999996,-2.2500000000000018,-17.72,0]
[13,{"$f":"IF(Home!$K$10=1,'Antenna Data'!C133,IF(Home!$K$10=2,'Antenna Data'!D133,IF(Home!$K$10=3,'Antenna Data'!E133,IF(Home!$K$10=4,'Antenna Data'!F133,IF(Home!$K$10=5,'Antenna Data'!G133,IF(Home!$K$10=6,'Antenna Data'!H133,'Import Other Antenna'!G132))))))","v":-2.2900000000000009},-0.39000000000000057,-1.25,-1.6300000000000008,-2.2900000000000009,-18.329999999999998,0]
[13.099999999999994,{"$f":"IF(Home!$K$10=1,'Antenna Data'!C134,IF(Home!$K$10=2,'Antenna Data'!D134,IF(Home!$K$10=3,'Antenna Data'!E134,IF(Home!$K$10=4,'Antenna Data'!F134,IF(Home!$K$10=5,'Antenna Data'!G134,IF(Home!$K$10=6,'Antenna Data'!H134,'Import Other Antenna'!G133))))))","v":-2.3300000000000018},-0.39000000000000057,-1.2700000000000014,-1.6600000000000001,-2.3300000000000018,-18.97,0]
[13.200000000000003,{"$f":"IF(Home!$K$10=1,'Antenna Data'!C135,IF(Home!$K$10=2,'Antenna Data'!D135,IF(Home!$K$10=3,'Antenna Data'!E135,IF(Home!$K$10=4,'Antenna Data'!F135,IF(Home!$K$10=5,'Antenna Data'!G135,IF(Home!$K$10=6,'Antenna Data'!H135,'Import Other Antenna'!G134))))))","v":-2.370000000000001},-0.40000000000000036,-1.2900000000000009,-1.6899999999999995,-2.370000000000001,-19.659999999999997,0]
[13.299999999999997,{"$f":"IF(Home!$K$10=1,'Antenna Data'!C136,IF(Home!$K$10=2,'Antenna Data'!D136,IF(Home!$K$10=3,'Antenna Data'!E136,IF(Home!$K$10=4,'Antenna Data'!F136,IF(Home!$K$10=5,'Antenna Data'!G136,IF(Home!$K$10=6,'Antenna Data'!H136,'Import Other Antenna'!G135))))))","v":-2.41},-0.41000000000000014,-1.3100000000000005,-1.7100000000000009,-2.41,-20.409999999999997,0]
[13.400000000000006,{"$f":"IF(Home!$K$10=1,'Antenna Data'!C137,IF(Home!$K$10=2,'Antenna Data'!D137,IF(Home!$K$10=3,'Antenna Data'!E137,IF(Home!$K$10=4,'Antenna Data'!F137,IF(Home!$K$10=5,'Antenna Data'!G137,IF(Home!$K$10=6,'Antenna Data'!H137,'Import Other Antenna'!G136))))))","v":-2.4600000000000009},-0.41000000000000014,-1.33,-1.7400000000000002,-2.4600000000000009,-21.209999999999997,0]
[13.5,{"$f":"IF(Home!$K$10=1,'Antenna Data'!C138,IF(Home!$K$10=2,'Antenna Data'!D138,IF(Home!$K$10=3,'Antenna Data'!E138,IF(Home!$K$10=4,'Antenna Data'!F138,IF(Home!$K$10=5,'Antenna Data'!G138,IF(Home!$K$10=6,'Antenna Data'!H138,'Import Other Antenna'!G137))))))","v":-2.5000000000000018},-0.41999999999999993,-1.3500000000000014,-1.7699999999999996,-2.5000000000000018,-22.099999999999998,0]
[13.599999999999994,{"$f":"IF(Home!$K$10=1,'Antenna Data'!C139,IF(Home!$K$10=2,'Antenna Data'!D139,IF(Home!$K$10=3,'Antenna Data'!E139,IF(Home!$K$10=4,'Antenna Data'!F139,IF(Home!$K$10=5,'Antenna Data'!G139,IF(Home!$K$10=6,'Antenna Data'!H139,'Import Other Antenna'!G138))))))","v":-2.5400000000000009},-0.42999999999999972,-1.3800000000000008,-1.8000000000000007,-2.5400000000000009,-23.07,0]
[13.700000000000003,{"$f":"IF(Home!$K$10=1,'Antenna Data'!C140,IF(Home!$K$10=2,'Antenna Data'!D140,IF(Home!$K$10=3,'Antenna Data'!E140,IF(Home!$K$10=4,'Antenna Data'!F140,IF(Home!$K$10=5,'Antenna Data'!G140,IF(Home!$K$10=6,'Antenna Data'!H140,'Import Other Antenna'!G139))))))","v":-2.5800000000000018},-0.42999999999999972,-1.4000000000000004,-1.83,-2.5800000000000018,-24.159999999999997,0]
[13.799999999999997,{"$f":"IF(Home!$K$10=1,'Antenna Data'!C141,IF(Home!$K$10=2,'Antenna Data'!D141,IF(Home!$K$10=3,'Antenna Data'!E141,IF(Home!$K$10=4,'Antenna Data'!F141,IF(Home!$K$10=5,'Antenna Data'!G141,IF(Home!$K$10=6,'Antenna Data'!H141,'Import Other Antenna'!G140))))))","v":-2.6300000000000008},-0.44000000000000128,-1.42,-1.8599999999999994,-2.6300000000000008,-25.4,0]
[13.900000000000006,{"$f":"IF(Home!$K$10=1,'Antenna Data'!C142,IF(Home!$K$10=2,'Antenna Data'!D142,IF(Home!$K$10=3,'Antenna Data'!E142,IF(Home!$K$10=4,'Antenna Data'!F142,IF(Home!$K$10=5,'Antenna Data'!G142,IF(Home!$K$10=6,'Antenna Data'!H142,'Import Other Antenna'!G141))))))","v":-2.6700000000000017},-0.45000000000000107,-1.4400000000000013,-1.8900000000000006,-2.6700000000000017,-26.82,0]
[14,{"$f":"IF(Home!$K$10=1,'Antenna Data'!C143,IF(Home!$K$10=2,'Antenna Data'!D143,IF(Home!$K$10=3,'Antenna Data'!E143,IF(Home!$K$10=4,'Antenna Data'!F143,IF(Home!$K$10=5,'Antenna Data'!G143,IF(Home!$K$10=6,'Antenna Data'!H143,'Import Other Antenna'!G142))))))","v":-2.7200000000000006},-0.45000000000000107,-1.4700000000000006,-1.92,-2.7200000000000006,-28.509999999999998,0]
[14.099999999999994,{"$f":"IF(Home!$K$10=1,'Antenna Data'!C144,IF(Home!$K$10=2,'Antenna Data'!D144,IF(Home!$K$10=3,'Antenna Data'!E144,IF(Home!$K$10=4,'Antenna Data'!F144,IF(Home!$K$10=5,'Antenna Data'!G144,IF(Home!$K$10=6,'Antenna Data'!H144,'Import Other Antenna'!G143))))))","v":-2.7600000000000016},-0.46000000000000085,-1.4900000000000002,-1.9499999999999993,-2.7600000000000016,-30.58,0]
[14.200000000000003,{"$f":"IF(Home!$K$10=1,'Antenna Data'!C145,IF(Home!$K$10=2,'Antenna Data'!D145,IF(Home!$K$10=3,'Antenna Data'!E145,IF(Home!$K$10=4,'Antenna Data'!F145,IF(Home!$K$10=5,'Antenna Data'!G145,IF(Home!$K$10=6,'Antenna Data'!H145,'Import Other Antenna'!G144))))))","v":-2.8100000000000005},-0.47000000000000064,-1.5099999999999998,-1.9800000000000004,-2.8100000000000005,-33.28,0]
[14.299999999999997,{"$f":"IF(Home!$K$10=1,'Antenna Data'!C146,IF(Home!$K$10=2,'Antenna Data'!D146,IF(Home!$K$10=3,'Antenna Data'!E146,IF(Home!$K$10=4,'Antenna Data'!F146,IF(Home!$K$10=5,'Antenna Data'!G146,IF(Home!$K$10=6,'Antenna Data'!H146,'Import Other Antenna'!G145))))))","v":-2.8500000000000014},-0.47000000000000064,-1.5400000000000009,-2.0099999999999998,-2.8500000000000014,-37.159999999999997,0]
[14.400000000000006,{"$f":"IF(Home!$K$10=1,'Antenna Data'!C147,IF(Home!$K$10=2,'Antenna Data'!D147,IF(Home!$K$10=3,'Antenna Data'!E147,IF(Home!$K$10=4,'Antenna Data'!F147,IF(Home!$K$10=5,'Antenna Data'!G147,IF(Home!$K$10=6,'Antenna Data'!H147,'Import Other Antenna'!G146))))))","v":-2.9000000000000004},-0.48000000000000043,-1.5600000000000005,-2.0500000000000007,-2.9000000000000004,-44.26,0]
[14.5,{"$f":"IF(Home!$K$10=1,'Antenna Data'!C148,IF(Home!$K$10=2,'Antenna Data'!D148,IF(Home!$K$10=3,'Antenna Data'!E148,IF(Home!$K$10=4,'Antenna Data'!F148,IF(Home!$K$10=5,'Antenna Data'!G148,IF(Home!$K$10=6,'Antenna Data'!H148,'Import Other Antenna'!G147))))))","v":-2.9500000000000011},-0.49000000000000021,-1.58,-2.08,-2.9500000000000011,-56.32,0]
[14.599999999999994,{"$f":"IF(Home!$K$10=1,'Antenna Data'!C149,IF(Home!$K$10=2,'Antenna Data'!D149,IF(Home!$K$10=3,'Antenna Data'!E149,IF(Home!$K$10=4,'Antenna Data'!F149,IF(Home!$K$10=5,'Antenna Data'!G149,IF(Home!$K$10=6,'Antenna Data'!H149,'Import Other Antenna'!G148))))))","v":-2.99},-0.49000000000000021,-1.6100000000000012,-2.1099999999999994,-2.99,-40.83,0]
[14.700000000000003,{"$f":"IF(Home!$K$10=1,'Antenna Data'!C150,IF(Home!$K$10=2,'Antenna Data'!D150,IF(Home!$K$10=3,'Antenna Data'!E150,IF(Home!$K$10=4,'Antenna Data'!F150,IF(Home!$K$10=5,'Antenna Data'!G150,IF(Home!$K$10=6,'Antenna Data'!H150,'Import Other Antenna'!G149))))))","v":-3.0400000000000009},-0.5,-1.6300000000000008,-2.1400000000000006,-3.0400000000000009,-35.61,0]
[14.799999999999997,{"$f":"IF(Home!$K$10=1,'Antenna Data'!C151,IF(Home!$K$10=2,'Antenna Data'!D151,IF(Home!$K$10=3,'Antenna Data'!E151,IF(Home!$K$10=4,'Antenna Data'!F151,IF(Home!$K$10=5,'Antenna Data'!G151,IF(Home!$K$10=6,'Antenna Data'!H151,'Import Other Antenna'!G150))))))","v":-3.0900000000000016},-0.50999999999999979,-1.6600000000000001,-2.1799999999999997,-3.0900000000000016,-32.409999999999997,0]
[14.900000000000006,{"$f":"IF(Home!$K$10=1,'Antenna Data'!C152,IF(Home!$K$10=2,'Antenna Data'!D152,IF(Home!$K$10=3,'Antenna Data'!E152,IF(Home!$K$10=4,'Antenna Data'!F152,IF(Home!$K$10=5,'Antenna Data'!G152,IF(Home!$K$10=6,'Antenna Data'!H152,'Import Other Antenna'!G151))))))","v":-3.1400000000000006},-0.50999999999999979,-1.6800000000000015,-2.2100000000000009,-3.1400000000000006,-30.099999999999998,0]
[15,{"$f":"IF(Home!$K$10=1,'Antenna Data'!C153,IF(Home!$K$10=2,'Antenna Data'!D153,IF(Home!$K$10=3,'Antenna Data'!E153,IF(Home!$K$10=4,'Antenna Data'!F153,IF(Home!$K$10=5,'Antenna Data'!G153,IF(Home!$K$10=6,'Antenna Data'!H153,'Import Other Antenna'!G152))))))","v":-3.1900000000000013},-0.51999999999999957,-1.7100000000000009,-2.2400000000000002,-3.1900000000000013,-28.29,0]
[15.099999999999994,{"$f":"IF(Home!$K$10=1,'Antenna Data'!C154,IF(Home!$K$10=2,'Antenna Data'!D154,IF(Home!$K$10=3,'Antenna Data'!E154,IF(Home!$K$10=4,'Antenna Data'!F154,IF(Home!$K$10=5,'Antenna Data'!G154,IF(Home!$K$10=6,'Antenna Data'!H154,'Import Other Antenna'!G153))))))","v":-3.24},-0.53000000000000114,-1.7300000000000004,-2.2799999999999994,-3.24,-26.82,0]
[15.200000000000003,{"$f":"IF(Home!$K$10=1,'Antenna Data'!C155,IF(Home!$K$10=2,'Antenna Data'!D155,IF(Home!$K$10=3,'Antenna Data'!E155,IF(Home!$K$10=4,'Antenna Data'!F155,IF(Home!$K$10=5,'Antenna Data'!G155,IF(Home!$K$10=6,'Antenna Data'!H155,'Import Other Antenna'!G154))))))","v":-3.2900000000000009},-0.54000000000000092,-1.7599999999999998,-2.3100000000000005,-3.2900000000000009,-25.58,0]
[15.299999999999997,{"$f":"IF(Home!$K$10=1,'Antenna Data'!C156,IF(Home!$K$10=2,'Antenna Data'!D156,IF(Home!$K$10=3,'Antenna Data'!E156,IF(Home!$K$10=4,'Antenna Data'!F156,IF(Home!$K$10=5,'Antenna Data'!G156,IF(Home!$K$10=6,'Antenna Data'!H156,'Import Other Antenna'!G155))))))","v":-3.3400000000000016},-0.54000000000000092,-1.7900000000000009,-2.3499999999999996,-3.3400000000000016,-24.5,0]
[15.400000000000006,{"$f":"IF(Home!$K$10=1,'Antenna Data'!C157,IF(Home!$K$10=2,'Antenna Data'!D157,IF(Home!$K$10=3,'Antenna Data'!E157,IF(Home!$K$10=4,'Antenna Data'!F157,IF(Home!$K$10=5,'Antenna Data'!G157,IF(Home!$K$10=6,'Antenna Data'!H157,'Import Other Antenna'!G156))))))","v":-3.3900000000000006},-0.55000000000000071,-1.8100000000000005,-2.3800000000000008,-3.3900000000000006,-23.56,0]
[15.5,{"$f":"IF(Home!$K$10=1,'Antenna Data'!C158,IF(Home!$K$10=2,'Antenna Data'!D158,IF(Home!$K$10=3,'Antenna Data'!E158,IF(Home!$K$10=4,'Antenna Data'!F158,IF(Home!$K$10=5,'Antenna Data'!G158,IF(Home!$K$10=6,'Antenna Data'!H158,'Import Other Antenna'!G157))))))","v":-3.4500000000000011},-0.5600000000000005,-1.8399999999999999,-2.42,-3.4500000000000011,-22.72,0]
[15.599999999999994,{"$f":"IF(Home!$K$10=1,'Antenna Data'!C159,IF(Home!$K$10=2,'Antenna Data'!D159,IF(Home!$K$10=3,'Antenna Data'!E159,IF(Home!$K$10=4,'Antenna Data'!F159,IF(Home!$K$10=5,'Antenna Data'!G159,IF(Home!$K$10=6,'Antenna Data'!H159,'Import Other Antenna'!G158))))))","v":-3.5000000000000018},-0.57000000000000028,-1.870000000000001,-2.4499999999999993,-3.5000000000000018,-21.959999999999997,0]
[15.700000000000003,{"$f":"IF(Home!$K$10=1,'Antenna Data'!C160,IF(Home!$K$10=2,'Antenna Data'!D160,IF(Home!$K$10=3,'Antenna Data'!E160,IF(Home!$K$10=4,'Antenna Data'!F160,IF(Home!$K$10=5,'Antenna Data'!G160,IF(Home!$K$10=6,'Antenna Data'!H160,'Import Other Antenna'!G159))))))","v":-3.5500000000000007},-0.57000000000000028,-1.8900000000000006,-2.4900000000000002,-3.5500000000000007,-21.279999999999998,0]
[15.799999999999997,{"$f":"IF(Home!$K$10=1,'Antenna Data'!C161,IF(Home!$K$10=2,'Antenna Data'!D161,IF(Home!$K$10=3,'Antenna Data'!E161,IF(Home!$K$10=4,'Antenna Data'!F161,IF(Home!$K$10=5,'Antenna Data'!G161,IF(Home!$K$10=6,'Antenna Data'!H161,'Import Other Antenna'!G160))))))","v":-3.6100000000000012},-0.58000000000000007,-1.92,-2.5199999999999996,-3.6100000000000012,-20.65,0]
[15.900000000000006,{"$f":"IF(Home!$K$10=1,'Antenna Data'!C162,IF(Home!$K$10=2,'Antenna Data'!D162,IF(Home!$K$10=3,'Antenna Data'!E162,IF(Home!$K$10=4,'Antenna Data'!F162,IF(Home!$K$10=5,'Antenna Data'!G162,IF(Home!$K$10=6,'Antenna Data'!H162,'Import Other Antenna'!G161))))))","v":-3.66},-0.58999999999999986,-1.9500000000000011,-2.5600000000000005,-3.66,-20.079999999999998,0]
[16,{"$f":"IF(Home!$K$10=1,'Antenna Data'!C163,IF(Home!$K$10=2,'Antenna Data'!D163,IF(Home!$K$10=3,'Antenna Data'!E163,IF(Home!$K$10=4,'Antenna Data'!F163,IF(Home!$K$10=5,'Antenna Data'!G163,IF(Home!$K$10=6,'Antenna Data'!H163,'Import Other Antenna'!G162))))))","v":-3.7200000000000006},-0.59999999999999964,-1.9800000000000004,-2.5999999999999996,-3.7200000000000006,-19.549999999999997,0]
[16.099999999999994,{"$f":"IF(Home!$K$10=1,'Antenna Data'!C164,IF(Home!$K$10=2,'Antenna Data'!D164,IF(Home!$K$10=3,'Antenna Data'!E164,IF(Home!$K$10=4,'Antenna Data'!F164,IF(Home!$K$10=5,'Antenna Data'!G164,IF(Home!$K$10=6,'Antenna Data'!H164,'Import Other Antenna'!G163))))))","v":-3.7800000000000011},-0.59999999999999964,-2.0099999999999998,-2.6400000000000006,-3.7800000000000011,-19.059999999999999,0]
[16.200000000000003,{"$f":"IF(Home!$K$10=1,'Antenna Data'!C165,IF(Home!$K$10=2,'Antenna Data'!D165,IF(Home!$K$10=3,'Antenna Data'!E165,IF(Home!$K$10=4,'Antenna Data'!F165,IF(Home!$K$10=5,'Antenna Data'!G165,IF(Home!$K$10=6,'Antenna Data'!H165,'Import Other Antenna'!G164))))))","v":-3.8300000000000018},-0.61000000000000121,-2.0300000000000011,-2.67,-3.8300000000000018,-18.599999999999998,0]
[16.299999999999997,{"$f":"IF(Home!$K$10=1,'Antenna Data'!C166,IF(Home!$K$10=2,'Antenna Data'!D166,IF(Home!$K$10=3,'Antenna Data'!E166,IF(Home!$K$10=4,'Antenna Data'!F166,IF(Home!$K$10=5,'Antenna Data'!G166,IF(Home!$K$10=6,'Antenna Data'!H166,'Import Other Antenna'!G165))))))","v":-3.8900000000000006},-0.62000000000000099,-2.0600000000000005,-2.7100000000000009,-3.8900000000000006,-18.169999999999998,0]
[16.400000000000006,{"$f":"IF(Home!$K$10=1,'Antenna Data'!C167,IF(Home!$K$10=2,'Antenna Data'!D167,IF(Home!$K$10=3,'Antenna Data'!E167,IF(Home!$K$10=4,'Antenna Data'!F167,IF(Home!$K$10=5,'Antenna Data'!G167,IF(Home!$K$10=6,'Antenna Data'!H167,'Import Other Antenna'!G166))))))","v":-3.9500000000000011},-0.63000000000000078,-2.09,-2.75,-3.9500000000000011,-17.77,0]
[16.5,{"$f":"IF(Home!$K$10=1,'Antenna Data'!C168,IF(Home!$K$10=2,'Antenna Data'!D168,IF(Home!$K$10=3,'Antenna Data'!E168,IF(Home!$K$10=4,'Antenna Data'!F168,IF(Home!$K$10=5,'Antenna Data'!G168,IF(Home!$K$10=6,'Antenna Data'!H168,'Import Other Antenna'!G167))))))","v":-4.0100000000000016},-0.64000000000000057,-2.120000000000001,-2.7899999999999991,-4.0100000000000016,-17.399999999999999,0]
[16.599999999999994,{"$f":"IF(Home!$K$10=1,'Antenna Data'!C169,IF(Home!$K$10=2,'Antenna Data'!D169,IF(Home!$K$10=3,'Antenna Data'!E169,IF(Home!$K$10=4,'Antenna Data'!F169,IF(Home!$K$10=5,'Antenna Data'!G169,IF(Home!$K$10=6,'Antenna Data'!H169,'Import Other Antenna'!G168))))))","v":-4.07},-0.64000000000000057,-2.1500000000000004,-2.83,-4.07,-17.049999999999997,0]
[16.700000000000003,{"$f":"IF(Home!$K$10=1,'Antenna Data'!C170,IF(Home!$K$10=2,'Antenna Data'!D170,IF(Home!$K$10=3,'Antenna Data'!E170,IF(Home!$K$10=4,'Antenna Data'!F170,IF(Home!$K$10=5,'Antenna Data'!G170,IF(Home!$K$10=6,'Antenna Data'!H170,'Import Other Antenna'!G169))))))","v":-4.1300000000000008},-0.65000000000000036,-2.1800000000000015,-2.8699999999999992,-4.1300000000000008,-16.72,0]
[16.799999999999997,{"$f":"IF(Home!$K$10=1,'Antenna Data'!C171,IF(Home!$K$10=2,'Antenna Data'!D171,IF(Home!$K$10=3,'Antenna Data'!E171,IF(Home!$K$10=4,'Antenna Data'!F171,IF(Home!$K$10=5,'Antenna Data'!G171,IF(Home!$K$10=6,'Antenna Data'!H171,'Import Other Antenna'!G170))))))","v":-4.1900000000000013},-0.66000000000000014,-2.2100000000000009,-2.91,-4.1900000000000013,-16.399999999999999,0]
[16.900000000000006,{"$f":"IF(Home!$K$10=1,'Antenna Data'!C172,IF(Home!$K$10=2,'Antenna Data'!D172,IF(Home!$K$10=3,'Antenna Data'!E172,IF(Home!$K$10=4,'Antenna Data'!F172,IF(Home!$K$10=5,'Antenna Data'!G172,IF(Home!$K$10=6,'Antenna Data'!H172,'Import Other Antenna'!G171))))))","v":-4.2500000000000018},-0.66999999999999993,-2.2400000000000002,-2.9499999999999993,-4.2500000000000018,-16.099999999999998,0]
[17,{"$f":"IF(Home!$K$10=1,'Antenna Data'!C173,IF(Home!$K$10=2,'Antenna Data'!D173,IF(Home!$K$10=3,'Antenna Data'!E173,IF(Home!$K$10=4,'Antenna Data'!F173,IF(Home!$K$10=5,'Antenna Data'!G173,IF(Home!$K$10=6,'Antenna Data'!H173,'Import Other Antenna'!G172))))))","v":-4.3100000000000005},-0.67999999999999972,-2.2700000000000014,-2.99,-4.3100000000000005,-15.819999999999999,0]
[17.099999999999994,{"$f":"IF(Home!$K$10=1,'Antenna Data'!C174,IF(Home!$K$10=2,'Antenna Data'!D174,IF(Home!$K$10=3,'Antenna Data'!E174,IF(Home!$K$10=4,'Antenna Data'!F174,IF(Home!$K$10=5,'Antenna Data'!G174,IF(Home!$K$10=6,'Antenna Data'!H174,'Import Other Antenna'!G173))))))","v":-4.3800000000000008},-0.69000000000000128,-2.3000000000000007,-3.0299999999999994,-4.3800000000000008,-15.559999999999999,0]
[17.200000000000003,{"$f":"IF(Home!$K$10=1,'Antenna Data'!C175,IF(Home!$K$10=2,'Antenna Data'!D175,IF(Home!$K$10=3,'Antenna Data'!E175,IF(Home!$K$10=4,'Antenna Data'!F175,IF(Home!$K$10=5,'Antenna Data'!G175,IF(Home!$K$10=6,'Antenna Data'!H175,'Import Other Antenna'!G174))))))","v":-4.4400000000000013},-0.69000000000000128,-2.34,-3.08,-4.4400000000000013,-15.309999999999999,0]
[17.299999999999997,{"$f":"IF(Home!$K$10=1,'Antenna Data'!C176,IF(Home!$K$10=2,'Antenna Data'!D176,IF(Home!$K$10=3,'Antenna Data'!E176,IF(Home!$K$10=4,'Antenna Data'!F176,IF(Home!$K$10=5,'Antenna Data'!G176,IF(Home!$K$10=6,'Antenna Data'!H176,'Import Other Antenna'!G175))))))","v":-4.5100000000000016},-0.70000000000000107,-2.370000000000001,-3.1199999999999992,-4.5100000000000016,-15.069999999999999,0]
[17.400000000000006,{"$f":"IF(Home!$K$10=1,'Antenna Data'!C177,IF(Home!$K$10=2,'Antenna Data'!D177,IF(Home!$K$10=3,'Antenna Data'!E177,IF(Home!$K$10=4,'Antenna Data'!F177,IF(Home!$K$10=5,'Antenna Data'!G177,IF(Home!$K$10=6,'Antenna Data'!H177,'Import Other Antenna'!G176))))))","v":-4.57},-0.71000000000000085,-2.4000000000000004,-3.16,-4.57,-14.839999999999998,0]
[17.5,{"$f":"IF(Home!$K$10=1,'Antenna Data'!C178,IF(Home!$K$10=2,'Antenna Data'!D178,IF(Home!$K$10=3,'Antenna Data'!E178,IF(Home!$K$10=4,'Antenna Data'!F178,IF(Home!$K$10=5,'Antenna Data'!G178,IF(Home!$K$10=6,'Antenna Data'!H178,'Import Other Antenna'!G177))))))","v":-4.6400000000000006},-0.72000000000000064,-2.4300000000000015,-3.1999999999999993,-4.6400000000000006,-14.619999999999997,0]
[17.599999999999994,{"$f":"IF(Home!$K$10=1,'Antenna Data'!C179,IF(Home!$K$10=2,'Antenna Data'!D179,IF(Home!$K$10=3,'Antenna Data'!E179,IF(Home!$K$10=4,'Antenna Data'!F179,IF(Home!$K$10=5,'Antenna Data'!G179,IF(Home!$K$10=6,'Antenna Data'!H179,'Import Other Antenna'!G178))))))","v":-4.7000000000000011},-0.73000000000000043,-2.4600000000000009,-3.25,-4.7000000000000011,-14.419999999999998,0]
[17.700000000000003,{"$f":"IF(Home!$K$10=1,'Antenna Data'!C180,IF(Home!$K$10=2,'Antenna Data'!D180,IF(Home!$K$10=3,'Antenna Data'!E180,IF(Home!$K$10=4,'Antenna Data'!F180,IF(Home!$K$10=5,'Antenna Data'!G180,IF(Home!$K$10=6,'Antenna Data'!H180,'Import Other Antenna'!G179))))))","v":-4.7700000000000014},-0.74000000000000021,-2.5,-3.2899999999999991,-4.7700000000000014,-14.219999999999999,0]
[17.799999999999997,{"$f":"IF(Home!$K$10=1,'Antenna Data'!C181,IF(Home!$K$10=2,'Antenna Data'!D181,IF(Home!$K$10=3,'Antenna Data'!E181,IF(Home!$K$10=4,'Antenna Data'!F181,IF(Home!$K$10=5,'Antenna Data'!G181,IF(Home!$K$10=6,'Antenna Data'!H181,'Import Other Antenna'!G180))))))","v":-4.8400000000000016},-0.75,-2.5300000000000011,-3.34,-4.8400000000000016,-14.04,0]
[17.900000000000006,{"$f":"IF(Home!$K$10=1,'Antenna Data'!C182,IF(Home!$K$10=2,'Antenna Data'!D182,IF(Home!$K$10=3,'Antenna Data'!E182,IF(Home!$K$10=4,'Antenna Data'!F182,IF(Home!$K$10=5,'Antenna Data'!G182,IF(Home!$K$10=6,'Antenna Data'!H182,'Import Other Antenna'!G181))))))","v":-4.91},-0.75,-2.5600000000000005,-3.3800000000000008,-4.91,-13.86,0]
[18,{"$f":"IF(Home!$K$10=1,'Antenna Data'!C183,IF(Home!$K$10=2,'Antenna Data'!D183,IF(Home!$K$10=3,'Antenna Data'!E183,IF(Home!$K$10=4,'Antenna Data'!F183,IF(Home!$K$10=5,'Antenna Data'!G183,IF(Home!$K$10=6,'Antenna Data'!H183,'Import Other Antenna'!G182))))))","v":-4.9800000000000004},-0.75999999999999979,-2.6000000000000014,-3.4299999999999997,-4.9800000000000004,-13.689999999999998,0]
[18.099999999999994,{"$f":"IF(Home!$K$10=1,'Antenna Data'!C184,IF(Home!$K$10=2,'Antenna Data'!D184,IF(Home!$K$10=3,'Antenna Data'!E184,IF(Home!$K$10=4,'Antenna Data'!F184,IF(Home!$K$10=5,'Antenna Data'!G184,IF(Home!$K$10=6,'Antenna Data'!H184,'Import Other Antenna'!G183))))))","v":-5.0500000000000007},-0.76999999999999957,-2.6300000000000008,-3.4700000000000006,-5.0500000000000007,-13.529999999999998,0]
[18.200000000000003,{"$f":"IF(Home!$K$10=1,'Antenna Data'!C185,IF(Home!$K$10=2,'Antenna Data'!D185,IF(Home!$K$10=3,'Antenna Data'!E185,IF(Home!$K$10=4,'Antenna Data'!F185,IF(Home!$K$10=5,'Antenna Data'!G185,IF(Home!$K$10=6,'Antenna Data'!H185,'Import Other Antenna'!G184))))))","v":-5.120000000000001},-0.78000000000000114,-2.67,-3.5199999999999996,-5.120000000000001,-13.379999999999999,0]
[18.299999999999997,{"$f":"IF(Home!$K$10=1,'Antenna Data'!C186,IF(Home!$K$10=2,'Antenna Data'!D186,IF(Home!$K$10=3,'Antenna Data'!E186,IF(Home!$K$10=4,'Antenna Data'!F186,IF(Home!$K$10=5,'Antenna Data'!G186,IF(Home!$K$10=6,'Antenna Data'!H186,'Import Other Antenna'!G185))))))","v":-5.1900000000000013},-0.79000000000000092,-2.7000000000000011,-3.5600000000000005,-5.1900000000000013,-13.229999999999999,0]
[18.400000000000006,{"$f":"IF(Home!$K$10=1,'Antenna Data'!C187,IF(Home!$K$10=2,'Antenna Data'!D187,IF(Home!$K$10=3,'Antenna Data'!E187,IF(Home!$K$10=4,'Antenna Data'!F187,IF(Home!$K$10=5,'Antenna Data'!G187,IF(Home!$K$10=6,'Antenna Data'!H187,'Import Other Antenna'!G186))))))","v":-5.2700000000000014},-0.80000000000000071,-2.74,-3.6099999999999994,-5.2700000000000014,-13.089999999999998,0]
[18.5,{"$f":"IF(Home!$K$10=1,'Antenna Data'!C188,IF(Home!$K$10=2,'Antenna Data'!D188,IF(Home!$K$10=3,'Antenna Data'!E188,IF(Home!$K$10=4,'Antenna Data'!F188,IF(Home!$K$10=5,'Antenna Data'!G188,IF(Home!$K$10=6,'Antenna Data'!H188,'Import Other Antenna'!G187))))))","v":-5.3400000000000016},-0.8100000000000005,-2.7700000000000014,-3.66,-5.3400000000000016,-12.959999999999997,0]
[18.599999999999994,{"$f":"IF(Home!$K$10=1,'Antenna Data'!C189,IF(Home!$K$10=2,'Antenna Data'!D189,IF(Home!$K$10=3,'Antenna Data'!E189,IF(Home!$K$10=4,'Antenna Data'!F189,IF(Home!$K$10=5,'Antenna Data'!G189,IF(Home!$K$10=6,'Antenna Data'!H189,'Import Other Antenna'!G188))))))","v":-5.4200000000000017},-0.82000000000000028,-2.8100000000000005,-3.7100000000000009,-5.4200000000000017,-12.839999999999998,0]
[18.700000000000003,{"$f":"IF(Home!$K$10=1,'Antenna Data'!C190,IF(Home!$K$10=2,'Antenna Data'!D190,IF(Home!$K$10=3,'Antenna Data'!E190,IF(Home!$K$10=4,'Antenna Data'!F190,IF(Home!$K$10=5,'Antenna Data'!G190,IF(Home!$K$10=6,'Antenna Data'!H190,'Import Other Antenna'!G189))))))","v":-5.49},-0.83000000000000007,-2.84,-3.76,-5.49,-12.719999999999999,0]
[18.799999999999997,{"$f":"IF(Home!$K$10=1,'Antenna Data'!C191,IF(Home!$K$10=2,'Antenna Data'!D191,IF(Home!$K$10=3,'Antenna Data'!E191,IF(Home!$K$10=4,'Antenna Data'!F191,IF(Home!$K$10=5,'Antenna Data'!G191,IF(Home!$K$10=6,'Antenna Data'!H191,'Import Other Antenna'!G190))))))","v":-5.57},-0.83999999999999986,-2.8800000000000008,-3.8000000000000007,-5.57,-12.599999999999998,0]
[18.900000000000006,{"$f":"IF(Home!$K$10=1,'Antenna Data'!C192,IF(Home!$K$10=2,'Antenna Data'!D192,IF(Home!$K$10=3,'Antenna Data'!E192,IF(Home!$K$10=4,'Antenna Data'!F192,IF(Home!$K$10=5,'Antenna Data'!G192,IF(Home!$K$10=6,'Antenna Data'!H192,'Import Other Antenna'!G191))))))","v":-5.65},-0.84999999999999964,-2.92,-3.8499999999999996,-5.65,-12.499999999999998,0]
[19,{"$f":"IF(Home!$K$10=1,'Antenna Data'!C193,IF(Home!$K$10=2,'Antenna Data'!D193,IF(Home!$K$10=3,'Antenna Data'!E193,IF(Home!$K$10=4,'Antenna Data'!F193,IF(Home!$K$10=5,'Antenna Data'!G193,IF(Home!$K$10=6,'Antenna Data'!H193,'Import Other Antenna'!G192))))))","v":-5.73},-0.86000000000000121,-2.9500000000000011,-3.9000000000000004,-5.73,-12.399999999999999,0]
[19.099999999999994,{"$f":"IF(Home!$K$10=1,'Antenna Data'!C194,IF(Home!$K$10=2,'Antenna Data'!D194,IF(Home!$K$10=3,'Antenna Data'!E194,IF(Home!$K$10=4,'Antenna Data'!F194,IF(Home!$K$10=5,'Antenna Data'!G194,IF(Home!$K$10=6,'Antenna Data'!H194,'Import Other Antenna'!G193))))))","v":-5.8100000000000005},-0.87000000000000099,-2.99,-3.9499999999999993,-5.8100000000000005,-12.299999999999997,0]
[19.200000000000003,{"$f":"IF(Home!$K$10=1,'Antenna Data'!C195,IF(Home!$K$10=2,'Antenna Data'!D195,IF(Home!$K$10=3,'Antenna Data'!E195,IF(Home!$K$10=4,'Antenna Data'!F195,IF(Home!$K$10=5,'Antenna Data'!G195,IF(Home!$K$10=6,'Antenna Data'!H195,'Import Other Antenna'!G194))))))","v":-5.8900000000000006},-0.87000000000000099,-3.0300000000000011,-4.01,-5.8900000000000006,-12.209999999999997,0]
[19.299999999999997,{"$f":"IF(Home!$K$10=1,'Antenna Data'!C196,IF(Home!$K$10=2,'Antenna Data'!D196,IF(Home!$K$10=3,'Antenna Data'!E196,IF(Home!$K$10=4,'Antenna Data'!F196,IF(Home!$K$10=5,'Antenna Data'!G196,IF(Home!$K$10=6,'Antenna Data'!H196,'Import Other Antenna'!G195))))))","v":-5.9700000000000006},-0.88000000000000078,-3.0700000000000003,-4.0600000000000005,-5.9700000000000006,-12.119999999999997,0]
[19.400000000000006,{"$f":"IF(Home!$K$10=1,'Antenna Data'!C197,IF(Home!$K$10=2,'Antenna Data'!D197,IF(Home!$K$10=3,'Antenna Data'!E197,IF(Home!$K$10=4,'Antenna Data'!F197,IF(Home!$K$10=5,'Antenna Data'!G197,IF(Home!$K$10=6,'Antenna Data'!H197,'Import Other Antenna'!G196))))))","v":-6.0500000000000007},-0.89000000000000057,-3.1100000000000012,-4.1099999999999994,-6.0500000000000007,-12.04,0]
[19.5,{"$f":"IF(Home!$K$10=1,'Antenna Data'!C198,IF(Home!$K$10=2,'Antenna Data'!D198,IF(Home!$K$10=3,'Antenna Data'!E198,IF(Home!$K$10=4,'Antenna Data'!F198,IF(Home!$K$10=5,'Antenna Data'!G198,IF(Home!$K$10=6,'Antenna Data'!H198,'Import Other Antenna'!G197))))))","v":-6.1300000000000008},-0.90000000000000036,-3.1500000000000004,-4.16,-6.1300000000000008,-11.969999999999999,0]
[19.599999999999994,{"$f":"IF(Home!$K$10=1,'Antenna Data'!C199,IF(Home!$K$10=2,'Antenna Data'!D199,IF(Home!$K$10=3,'Antenna Data'!E199,IF(Home!$K$10=4,'Antenna Data'!F199,IF(Home!$K$10=5,'Antenna Data'!G199,IF(Home!$K$10=6,'Antenna Data'!H199,'Import Other Antenna'!G198))))))","v":-6.2200000000000006},-0.91000000000000014,-3.1900000000000013,-4.2100000000000009,-6.2200000000000006,-11.899999999999999,0]
[19.700000000000003,{"$f":"IF(Home!$K$10=1,'Antenna Data'!C200,IF(Home!$K$10=2,'Antenna Data'!D200,IF(Home!$K$10=3,'Antenna Data'!E200,IF(Home!$K$10=4,'Antenna Data'!F200,IF(Home!$K$10=5,'Antenna Data'!G200,IF(Home!$K$10=6,'Antenna Data'!H200,'Import Other Antenna'!G199))))))","v":-6.3000000000000007},-0.91999999999999993,-3.2300000000000004,-4.2699999999999996,-6.3000000000000007,-11.829999999999998,0]
[19.799999999999997,{"$f":"IF(Home!$K$10=1,'Antenna Data'!C201,IF(Home!$K$10=2,'Antenna Data'!D201,IF(Home!$K$10=3,'Antenna Data'!E201,IF(Home!$K$10=4,'Antenna Data'!F201,IF(Home!$K$10=5,'Antenna Data'!G201,IF(Home!$K$10=6,'Antenna Data'!H201,'Import Other Antenna'!G200))))))","v":-6.3900000000000006},-0.92999999999999972,-3.2700000000000014,-4.32,-6.3900000000000006,-11.77,0]
[19.900000000000006,{"$f":"IF(Home!$K$10=1,'Antenna Data'!C202,IF(Home!$K$10=2,'Antenna Data'!D202,IF(Home!$K$10=3,'Antenna Data'!E202,IF(Home!$K$10=4,'Antenna Data'!F202,IF(Home!$K$10=5,'Antenna Data'!G202,IF(Home!$K$10=6,'Antenna Data'!H202,'Import Other Antenna'!G201))))))","v":-6.48},-0.94000000000000128,-3.3100000000000005,-4.3800000000000008,-6.48,-11.709999999999997,0]
[20,{"$f":"IF(Home!$K$10=1,'Antenna Data'!C203,IF(Home!$K$10=2,'Antenna Data'!D203,IF(Home!$K$10=3,'Antenna Data'!E203,IF(Home!$K$10=4,'Antenna Data'!F203,IF(Home!$K$10=5,'Antenna Data'!G203,IF(Home!$K$10=6,'Antenna Data'!H203,'Import Other Antenna'!G202))))))","v":-6.57},-0.95000000000000107,-3.3500000000000014,-4.43,-6.57,-11.659999999999998,0]
[20.099999999999994,{"$f":"IF(Home!$K$10=1,'Antenna Data'!C204,IF(Home!$K$10=2,'Antenna Data'!D204,IF(Home!$K$10=3,'Antenna Data'!E204,IF(Home!$K$10=4,'Antenna Data'!F204,IF(Home!$K$10=5,'Antenna Data'!G204,IF(Home!$K$10=6,'Antenna Data'!H204,'Import Other Antenna'!G203))))))","v":-6.66},-0.96000000000000085,-3.3900000000000006,-4.49,-6.66,-11.61,0]
[20.200000000000003,{"$f":"IF(Home!$K$10=1,'Antenna Data'!C205,IF(Home!$K$10=2,'Antenna Data'!D205,IF(Home!$K$10=3,'Antenna Data'!E205,IF(Home!$K$10=4,'Antenna Data'!F205,IF(Home!$K$10=5,'Antenna Data'!G205,IF(Home!$K$10=6,'Antenna Data'!H205,'Import Other Antenna'!G204))))))","v":-6.7500000000000018},-0.97000000000000064,-3.4300000000000015,-4.5399999999999991,-6.7500000000000018,-11.569999999999999,0]
[20.299999999999997,{"$f":"IF(Home!$K$10=1,'Antenna Data'!C206,IF(Home!$K$10=2,'Antenna Data'!D206,IF(Home!$K$10=3,'Antenna Data'!E206,IF(Home!$K$10=4,'Antenna Data'!F206,IF(Home!$K$10=5,'Antenna Data'!G206,IF(Home!$K$10=6,'Antenna Data'!H206,'Import Other Antenna'!G205))))))","v":-6.8400000000000016},-0.98000000000000043,-3.4700000000000006,-4.5999999999999996,-6.8400000000000016,-11.529999999999998,0]
[20.400000000000006,{"$f":"IF(Home!$K$10=1,'Antenna Data'!C207,IF(Home!$K$10=2,'Antenna Data'!D207,IF(Home!$K$10=3,'Antenna Data'!E207,IF(Home!$K$10=4,'Antenna Data'!F207,IF(Home!$K$10=5,'Antenna Data'!G207,IF(Home!$K$10=6,'Antenna Data'!H207,'Import Other Antenna'!G206))))))","v":-6.9300000000000015},-0.99000000000000021,-3.51,-4.66,-6.9300000000000015,-11.489999999999998,0]
[20.5,{"$f":"IF(Home!$K$10=1,'Antenna Data'!C208,IF(Home!$K$10=2,'Antenna Data'!D208,IF(Home!$K$10=3,'Antenna Data'!E208,IF(Home!$K$10=4,'Antenna Data'!F208,IF(Home!$K$10=5,'Antenna Data'!G208,IF(Home!$K$10=6,'Antenna Data'!H208,'Import Other Antenna'!G207))))))","v":-7.0200000000000014},-1,-3.5600000000000005,-4.7200000000000006,-7.0200000000000014,-11.459999999999997,0]
[20.599999999999994,{"$f":"IF(Home!$K$10=1,'Antenna Data'!C209,IF(Home!$K$10=2,'Antenna Data'!D209,IF(Home!$K$10=3,'Antenna Data'!E209,IF(Home!$K$10=4,'Antenna Data'!F209,IF(Home!$K$10=5,'Antenna Data'!G209,IF(Home!$K$10=6,'Antenna Data'!H209,'Import Other Antenna'!G208))))))","v":-7.120000000000001},-1.0199999999999996,-3.6000000000000014,-4.7799999999999994,-7.120000000000001,-11.429999999999998,0]
[20.700000000000003,{"$f":"IF(Home!$K$10=1,'Antenna Data'!C210,IF(Home!$K$10=2,'Antenna Data'!D210,IF(Home!$K$10=3,'Antenna Data'!E210,IF(Home!$K$10=4,'Antenna Data'!F210,IF(Home!$K$10=5,'Antenna Data'!G210,IF(Home!$K$10=6,'Antenna Data'!H210,'Import Other Antenna'!G209))))))","v":-7.2200000000000006},-1.0300000000000011,-3.6400000000000006,-4.83,-7.2200000000000006,-11.409999999999998,0]
[20.799999999999997,{"$f":"IF(Home!$K$10=1,'Antenna Data'!C211,IF(Home!$K$10=2,'Antenna Data'!D211,IF(Home!$K$10=3,'Antenna Data'!E211,IF(Home!$K$10=4,'Antenna Data'!F211,IF(Home!$K$10=5,'Antenna Data'!G211,IF(Home!$K$10=6,'Antenna Data'!H211,'Import Other Antenna'!G210))))))","v":-7.3100000000000005},-1.0400000000000009,-3.6900000000000013,-4.8900000000000006,-7.3100000000000005,-11.379999999999999,0]
[20.900000000000006,{"$f":"IF(Home!$K$10=1,'Antenna Data'!C212,IF(Home!$K$10=2,'Antenna Data'!D212,IF(Home!$K$10=3,'Antenna Data'!E212,IF(Home!$K$10=4,'Antenna Data'!F212,IF(Home!$K$10=5,'Antenna Data'!G212,IF(Home!$K$10=6,'Antenna Data'!H212,'Import Other Antenna'!G211))))))","v":-7.41},-1.0500000000000007,-3.7300000000000004,-4.9499999999999993,-7.41,-11.369999999999997,0]
[21,{"$f":"IF(Home!$K$10=1,'Antenna Data'!C213,IF(Home!$K$10=2,'Antenna Data'!D213,IF(Home!$K$10=3,'Antenna Data'!E213,IF(Home!$K$10=4,'Antenna Data'!F213,IF(Home!$K$10=5,'Antenna Data'!G213,IF(Home!$K$10=6,'Antenna Data'!H213,'Import Other Antenna'!G212))))))","v":-7.5100000000000016},-1.0600000000000005,-3.7800000000000011,-5.0199999999999996,-7.5100000000000016,-11.349999999999998,0]
[21.099999999999994,{"$f":"IF(Home!$K$10=1,'Antenna Data'!C214,IF(Home!$K$10=2,'Antenna Data'!D214,IF(Home!$K$10=3,'Antenna Data'!E214,IF(Home!$K$10=4,'Antenna Data'!F214,IF(Home!$K$10=5,'Antenna Data'!G214,IF(Home!$K$10=6,'Antenna Data'!H214,'Import Other Antenna'!G213))))))","v":-7.6100000000000012},-1.0700000000000003,-3.8200000000000003,-5.08,-7.6100000000000012,-11.339999999999998,0]
[21.200000000000003,{"$f":"IF(Home!$K$10=1,'Antenna Data'!C215,IF(Home!$K$10=2,'Antenna Data'!D215,IF(Home!$K$10=3,'Antenna Data'!E215,IF(Home!$K$10=4,'Antenna Data'!F215,IF(Home!$K$10=5,'Antenna Data'!G215,IF(Home!$K$10=6,'Antenna Data'!H215,'Import Other Antenna'!G214))))))","v":-7.7200000000000006},-1.08,-3.870000000000001,-5.1400000000000006,-7.7200000000000006,-11.339999999999998,0]
[21.299999999999997,{"$f":"IF(Home!$K$10=1,'Antenna Data'!C216,IF(Home!$K$10=2,'Antenna Data'!D216,IF(Home!$K$10=3,'Antenna Data'!E216,IF(Home!$K$10=4,'Antenna Data'!F216,IF(Home!$K$10=5,'Antenna Data'!G216,IF(Home!$K$10=6,'Antenna Data'!H216,'Import Other Antenna'!G215))))))","v":-7.82},-1.0899999999999999,-3.92,-5.1999999999999993,-7.82,-11.329999999999998,0]
[21.400000000000006,{"$f":"IF(Home!$K$10=1,'Antenna Data'!C217,IF(Home!$K$10=2,'Antenna Data'!D217,IF(Home!$K$10=3,'Antenna Data'!E217,IF(Home!$K$10=4,'Antenna Data'!F217,IF(Home!$K$10=5,'Antenna Data'!G217,IF(Home!$K$10=6,'Antenna Data'!H217,'Import Other Antenna'!G216))))))","v":-7.9300000000000015},-1.0999999999999996,-3.9600000000000009,-5.27,-7.9300000000000015,-11.329999999999998,0]
[21.5,{"$f":"IF(Home!$K$10=1,'Antenna Data'!C218,IF(Home!$K$10=2,'Antenna Data'!D218,IF(Home!$K$10=3,'Antenna Data'!E218,IF(Home!$K$10=4,'Antenna Data'!F218,IF(Home!$K$10=5,'Antenna Data'!G218,IF(Home!$K$10=6,'Antenna Data'!H218,'Import Other Antenna'!G217))))))","v":-8.0300000000000011},-1.1100000000000012,-4.01,-5.33,-8.0300000000000011,-11.339999999999998,0]
[21.599999999999994,{"$f":"IF(Home!$K$10=1,'Antenna Data'!C219,IF(Home!$K$10=2,'Antenna Data'!D219,IF(Home!$K$10=3,'Antenna Data'!E219,IF(Home!$K$10=4,'Antenna Data'!F219,IF(Home!$K$10=5,'Antenna Data'!G219,IF(Home!$K$10=6,'Antenna Data'!H219,'Import Other Antenna'!G218))))))","v":-8.14},-1.120000000000001,-4.0600000000000005,-5.3900000000000006,-8.14,-11.339999999999998,0]
[21.700000000000003,{"$f":"IF(Home!$K$10=1,'Antenna Data'!C220,IF(Home!$K$10=2,'Antenna Data'!D220,IF(Home!$K$10=3,'Antenna Data'!E220,IF(Home!$K$10=4,'Antenna Data'!F220,IF(Home!$K$10=5,'Antenna Data'!G220,IF(Home!$K$10=6,'Antenna Data'!H220,'Import Other Antenna'!G219))))))","v":-8.2500000000000018},-1.1300000000000008,-4.1000000000000014,-5.4600000000000009,-8.2500000000000018,-11.36,0]
[21.799999999999997,{"$f":"IF(Home!$K$10=1,'Antenna Data'!C221,IF(Home!$K$10=2,'Antenna Data'!D221,IF(Home!$K$10=3,'Antenna Data'!E221,IF(Home!$K$10=4,'Antenna Data'!F221,IF(Home!$K$10=5,'Antenna Data'!G221,IF(Home!$K$10=6,'Antenna Data'!H221,'Import Other Antenna'!G220))))))","v":-8.3600000000000012},-1.1500000000000004,-4.1500000000000004,-5.5299999999999994,-8.3600000000000012,-11.369999999999997,0]
[21.900000000000006,{"$f":"IF(Home!$K$10=1,'Antenna Data'!C222,IF(Home!$K$10=2,'Antenna Data'!D222,IF(Home!$K$10=3,'Antenna Data'!E222,IF(Home!$K$10=4,'Antenna Data'!F222,IF(Home!$K$10=5,'Antenna Data'!G222,IF(Home!$K$10=6,'Antenna Data'!H222,'Import Other Antenna'!G221))))))","v":-8.4700000000000006},-1.1600000000000001,-4.2000000000000011,-5.59,-8.4700000000000006,-11.389999999999997,0]
[22,{"$f":"IF(Home!$K$10=1,'Antenna Data'!C223,IF(Home!$K$10=2,'Antenna Data'!D223,IF(Home!$K$10=3,'Antenna Data'!E223,IF(Home!$K$10=4,'Antenna Data'!F223,IF(Home!$K$10=5,'Antenna Data'!G223,IF(Home!$K$10=6,'Antenna Data'!H223,'Import Other Antenna'!G222))))))","v":-8.59},-1.17,-4.25,-5.66,-8.59,-11.409999999999998,0]
[22.099999999999994,{"$f":"IF(Home!$K$10=1,'Antenna Data'!C224,IF(Home!$K$10=2,'Antenna Data'!D224,IF(Home!$K$10=3,'Antenna Data'!E224,IF(Home!$K$10=4,'Antenna Data'!F224,IF(Home!$K$10=5,'Antenna Data'!G224,IF(Home!$K$10=6,'Antenna Data'!H224,'Import Other Antenna'!G223))))))","v":-8.7000000000000011},-1.1799999999999997,-4.3000000000000007,-5.73,-8.7000000000000011,-11.429999999999998,0]
[22.200000000000003,{"$f":"IF(Home!$K$10=1,'Antenna Data'!C225,IF(Home!$K$10=2,'Antenna Data'!D225,IF(Home!$K$10=3,'Antenna Data'!E225,IF(Home!$K$10=4,'Antenna Data'!F225,IF(Home!$K$10=5,'Antenna Data'!G225,IF(Home!$K$10=6,'Antenna Data'!H225,'Import Other Antenna'!G224))))))","v":-8.82},-1.1900000000000013,-4.3500000000000014,-5.8000000000000007,-8.82,-11.459999999999997,0]
[22.299999999999997,{"$f":"IF(Home!$K$10=1,'Antenna Data'!C226,IF(Home!$K$10=2,'Antenna Data'!D226,IF(Home!$K$10=3,'Antenna Data'!E226,IF(Home!$K$10=4,'Antenna Data'!F226,IF(Home!$K$10=5,'Antenna Data'!G226,IF(Home!$K$10=6,'Antenna Data'!H226,'Import Other Antenna'!G225))))))","v":-8.9400000000000013},-1.2000000000000011,-4.4000000000000004,-5.8699999999999992,-8.9400000000000013,-11.489999999999998,0]
[22.400000000000006,{"$f":"IF(Home!$K$10=1,'Antenna Data'!C227,IF(Home!$K$10=2,'Antenna Data'!D227,IF(Home!$K$10=3,'Antenna Data'!E227,IF(Home!$K$10=4,'Antenna Data'!F227,IF(Home!$K$10=5,'Antenna Data'!G227,IF(Home!$K$10=6,'Antenna Data'!H227,'Import Other Antenna'!G226))))))","v":-9.0500000000000007},-1.2100000000000009,-4.4500000000000011,-5.9399999999999995,-9.0500000000000007,-11.52,0]
[22.5,{"$f":"IF(Home!$K$10=1,'Antenna Data'!C228,IF(Home!$K$10=2,'Antenna Data'!D228,IF(Home!$K$10=3,'Antenna Data'!E228,IF(Home!$K$10=4,'Antenna Data'!F228,IF(Home!$K$10=5,'Antenna Data'!G228,IF(Home!$K$10=6,'Antenna Data'!H228,'Import Other Antenna'!G227))))))","v":-9.18},-1.2300000000000004,-4.51,-6.01,-9.18,-11.559999999999999,0]
[22.599999999999994,{"$f":"IF(Home!$K$10=1,'Antenna Data'!C229,IF(Home!$K$10=2,'Antenna Data'!D229,IF(Home!$K$10=3,'Antenna Data'!E229,IF(Home!$K$10=4,'Antenna Data'!F229,IF(Home!$K$10=5,'Antenna Data'!G229,IF(Home!$K$10=6,'Antenna Data'!H229,'Import Other Antenna'!G228))))))","v":-9.3000000000000007},-1.2400000000000002,-4.5600000000000005,-6.08,-9.3000000000000007,-11.599999999999998,0]
[22.700000000000003,{"$f":"IF(Home!$K$10=1,'Antenna Data'!C230,IF(Home!$K$10=2,'Antenna Data'!D230,IF(Home!$K$10=3,'Antenna Data'!E230,IF(Home!$K$10=4,'Antenna Data'!F230,IF(Home!$K$10=5,'Antenna Data'!G230,IF(Home!$K$10=6,'Antenna Data'!H230,'Import Other Antenna'!G229))))))","v":-9.4200000000000017},-1.25,-4.6100000000000012,-6.15,-9.4200000000000017,-11.639999999999997,0]
[22.799999999999997,{"$f":"IF(Home!$K$10=1,'Antenna Data'!C231,IF(Home!$K$10=2,'Antenna Data'!D231,IF(Home!$K$10=3,'Antenna Data'!E231,IF(Home!$K$10=4,'Antenna Data'!F231,IF(Home!$K$10=5,'Antenna Data'!G231,IF(Home!$K$10=6,'Antenna Data'!H231,'Import Other Antenna'!G230))))))","v":-9.5500000000000007},-1.2599999999999998,-4.67,-6.23,-9.5500000000000007,-11.689999999999998,0]
[22.900000000000006,{"$f":"IF(Home!$K$10=1,'Antenna Data'!C232,IF(Home!$K$10=2,'Antenna Data'!D232,IF(Home!$K$10=3,'Antenna Data'!E232,IF(Home!$K$10=4,'Antenna Data'!F232,IF(Home!$K$10=5,'Antenna Data'!G232,IF(Home!$K$10=6,'Antenna Data'!H232,'Import Other Antenna'!G231))))))","v":-9.68},-1.2699999999999996,-4.7200000000000006,-6.3000000000000007,-9.68,-11.739999999999998,0]
[23,{"$f":"IF(Home!$K$10=1,'Antenna Data'!C233,IF(Home!$K$10=2,'Antenna Data'!D233,IF(Home!$K$10=3,'Antenna Data'!E233,IF(Home!$K$10=4,'Antenna Data'!F233,IF(Home!$K$10=5,'Antenna Data'!G233,IF(Home!$K$10=6,'Antenna Data'!H233,'Import Other Antenna'!G232))))))","v":-9.8100000000000023},-1.2900000000000009,-4.7700000000000014,-6.3800000000000008,-9.8100000000000023,-11.799999999999997,0]
[23.099999999999994,{"$f":"IF(Home!$K$10=1,'Antenna Data'!C234,IF(Home!$K$10=2,'Antenna Data'!D234,IF(Home!$K$10=3,'Antenna Data'!E234,IF(Home!$K$10=4,'Antenna Data'!F234,IF(Home!$K$10=5,'Antenna Data'!G234,IF(Home!$K$10=6,'Antenna Data'!H234,'Import Other Antenna'!G233))))))","v":-9.9400000000000013},-1.3000000000000007,-4.83,-6.4499999999999993,-9.9400000000000013,-11.849999999999998,0]
[23.200000000000003,{"$f":"IF(Home!$K$10=1,'Antenna Data'!C235,IF(Home!$K$10=2,'Antenna Data'!D235,IF(Home!$K$10=3,'Antenna Data'!E235,IF(Home!$K$10=4,'Antenna Data'!F235,IF(Home!$K$10=5,'Antenna Data'!G235,IF(Home!$K$10=6,'Antenna Data'!H235,'Import Other Antenna'!G234))))))","v":-10.07},-1.3100000000000005,-4.8800000000000008,-6.5299999999999994,-10.07,-11.909999999999998,0]
[23.299999999999997,{"$f":"IF(Home!$K$10=1,'Antenna Data'!C236,IF(Home!$K$10=2,'Antenna Data'!D236,IF(Home!$K$10=3,'Antenna Data'!E236,IF(Home!$K$10=4,'Antenna Data'!F236,IF(Home!$K$10=5,'Antenna Data'!G236,IF(Home!$K$10=6,'Antenna Data'!H236,'Import Other Antenna'!G235))))))","v":-10.210000000000001},-1.3200000000000003,-4.9400000000000013,-6.6099999999999994,-10.210000000000001,-11.979999999999999,0]
[23.400000000000006,{"$f":"IF(Home!$K$10=1,'Antenna Data'!C237,IF(Home!$K$10=2,'Antenna Data'!D237,IF(Home!$K$10=3,'Antenna Data'!E237,IF(Home!$K$10=4,'Antenna Data'!F237,IF(Home!$K$10=5,'Antenna Data'!G237,IF(Home!$K$10=6,'Antenna Data'!H237,'Import Other Antenna'!G236))))))","v":-10.34},-1.33,-5,-6.68,-10.34,-12.04,0]
[23.5,{"$f":"IF(Home!$K$10=1,'Antenna Data'!C238,IF(Home!$K$10=2,'Antenna Data'!D238,IF(Home!$K$10=3,'Antenna Data'!E238,IF(Home!$K$10=4,'Antenna Data'!F238,IF(Home!$K$10=5,'Antenna Data'!G238,IF(Home!$K$10=6,'Antenna Data'!H238,'Import Other Antenna'!G237))))))","v":-10.48},-1.3499999999999996,-5.0500000000000007,-6.76,-10.48,-12.11,0]
[23.599999999999994,{"$f":"IF(Home!$K$10=1,'Antenna Data'!C239,IF(Home!$K$10=2,'Antenna Data'!D239,IF(Home!$K$10=3,'Antenna Data'!E239,IF(Home!$K$10=4,'Antenna Data'!F239,IF(Home!$K$10=5,'Antenna Data'!G239,IF(Home!$K$10=6,'Antenna Data'!H239,'Import Other Antenna'!G238))))))","v":-10.620000000000001},-1.3600000000000012,-5.1100000000000012,-6.84,-10.620000000000001,-12.189999999999998,0]
[23.700000000000003,{"$f":"IF(Home!$K$10=1,'Antenna Data'!C240,IF(Home!$K$10=2,'Antenna Data'!D240,IF(Home!$K$10=3,'Antenna Data'!E240,IF(Home!$K$10=4,'Antenna Data'!F240,IF(Home!$K$10=5,'Antenna Data'!G240,IF(Home!$K$10=6,'Antenna Data'!H240,'Import Other Antenna'!G239))))))","v":-10.760000000000002},-1.370000000000001,-5.17,-6.92,-10.760000000000002,-12.259999999999998,0]
[23.799999999999997,{"$f":"IF(Home!$K$10=1,'Antenna Data'!C241,IF(Home!$K$10=2,'Antenna Data'!D241,IF(Home!$K$10=3,'Antenna Data'!E241,IF(Home!$K$10=4,'Antenna Data'!F241,IF(Home!$K$10=5,'Antenna Data'!G241,IF(Home!$K$10=6,'Antenna Data'!H241,'Import Other Antenna'!G240))))))","v":-10.91},-1.3800000000000008,-5.23,-7,-10.91,-12.339999999999998,0]
[23.900000000000006,{"$f":"IF(Home!$K$10=1,'Antenna Data'!C242,IF(Home!$K$10=2,'Antenna Data'!D242,IF(Home!$K$10=3,'Antenna Data'!E242,IF(Home!$K$10=4,'Antenna Data'!F242,IF(Home!$K$10=5,'Antenna Data'!G242,IF(Home!$K$10=6,'Antenna Data'!H242,'Import Other Antenna'!G241))))))","v":-11.060000000000002},-1.4000000000000004,-5.2900000000000009,-7.09,-11.060000000000002,-12.429999999999998,0]
[24,{"$f":"IF(Home!$K$10=1,'Antenna Data'!C243,IF(Home!$K$10=2,'Antenna Data'!D243,IF(Home!$K$10=3,'Antenna Data'!E243,IF(Home!$K$10=4,'Antenna Data'!F243,IF(Home!$K$10=5,'Antenna Data'!G243,IF(Home!$K$10=6,'Antenna Data'!H243,'Import Other Antenna'!G242))))))","v":-11.200000000000001},-1.4100000000000001,-5.3500000000000014,-7.17,-11.200000000000001,-12.509999999999998,0]
[24.099999999999994,{"$f":"IF(Home!$K$10=1,'Antenna Data'!C244,IF(Home!$K$10=2,'Antenna Data'!D244,IF(Home!$K$10=3,'Antenna Data'!E244,IF(Home!$K$10=4,'Antenna Data'!F244,IF(Home!$K$10=5,'Antenna Data'!G244,IF(Home!$K$10=6,'Antenna Data'!H244,'Import Other Antenna'!G243))))))","v":-11.350000000000001},-1.42,-5.41,-7.26,-11.350000000000001,-12.599999999999998,0]
[24.200000000000003,{"$f":"IF(Home!$K$10=1,'Antenna Data'!C245,IF(Home!$K$10=2,'Antenna Data'!D245,IF(Home!$K$10=3,'Antenna Data'!E245,IF(Home!$K$10=4,'Antenna Data'!F245,IF(Home!$K$10=5,'Antenna Data'!G245,IF(Home!$K$10=6,'Antenna Data'!H245,'Import Other Antenna'!G244))))))","v":-11.510000000000002},-1.4299999999999997,-5.4700000000000006,-7.34,-11.510000000000002,-12.7,0]
[24.299999999999997,{"$f":"IF(Home!$K$10=1,'Antenna Data'!C246,IF(Home!$K$10=2,'Antenna Data'!D246,IF(Home!$K$10=3,'Antenna Data'!E246,IF(Home!$K$10=4,'Antenna Data'!F246,IF(Home!$K$10=5,'Antenna Data'!G246,IF(Home!$K$10=6,'Antenna Data'!H246,'Import Other Antenna'!G245))))))","v":-11.66},-1.4500000000000011,-5.5300000000000011,-7.43,-11.66,-12.799999999999997,0]
[24.400000000000006,{"$f":"IF(Home!$K$10=1,'Antenna Data'!C247,IF(Home!$K$10=2,'Antenna Data'!D247,IF(Home!$K$10=3,'Antenna Data'!E247,IF(Home!$K$10=4,'Antenna Data'!F247,IF(Home!$K$10=5,'Antenna Data'!G247,IF(Home!$K$10=6,'Antenna Data'!H247,'Import Other Antenna'!G246))))))","v":-11.82},-1.4600000000000009,-5.6000000000000014,-7.51,-11.82,-12.899999999999999,0]
[24.5,{"$f":"IF(Home!$K$10=1,'Antenna Data'!C248,IF(Home!$K$10=2,'Antenna Data'!D248,IF(Home!$K$10=3,'Antenna Data'!E248,IF(Home!$K$10=4,'Antenna Data'!F248,IF(Home!$K$10=5,'Antenna Data'!G248,IF(Home!$K$10=6,'Antenna Data'!H248,'Import Other Antenna'!G247))))))","v":-11.98},-1.4700000000000006,-5.66,-7.6,-11.98,-12.999999999999998,0]
[24.599999999999994,{"$f":"IF(Home!$K$10=1,'Antenna Data'!C249,IF(Home!$K$10=2,'Antenna Data'!D249,IF(Home!$K$10=3,'Antenna Data'!E249,IF(Home!$K$10=4,'Antenna Data'!F249,IF(Home!$K$10=5,'Antenna Data'!G249,IF(Home!$K$10=6,'Antenna Data'!H249,'Import Other Antenna'!G248))))))","v":-12.14},-1.4900000000000002,-5.7200000000000006,-7.69,-12.14,-13.11,0]
[24.700000000000003,{"$f":"IF(Home!$K$10=1,'Antenna Data'!C250,IF(Home!$K$10=2,'Antenna Data'!D250,IF(Home!$K$10=3,'Antenna Data'!E250,IF(Home!$K$10=4,'Antenna Data'!F250,IF(Home!$K$10=5,'Antenna Data'!G250,IF(Home!$K$10=6,'Antenna Data'!H250,'Import Other Antenna'!G249))))))","v":-12.3},-1.5,-5.7900000000000009,-7.78,-12.3,-13.219999999999999,0]
[24.799999999999997,{"$f":"IF(Home!$K$10=1,'Antenna Data'!C251,IF(Home!$K$10=2,'Antenna Data'!D251,IF(Home!$K$10=3,'Antenna Data'!E251,IF(Home!$K$10=4,'Antenna Data'!F251,IF(Home!$K$10=5,'Antenna Data'!G251,IF(Home!$K$10=6,'Antenna Data'!H251,'Import Other Antenna'!G250))))))","v":-12.47},-1.5099999999999998,-5.8500000000000014,-7.87,-12.47,-13.339999999999998,0]
[24.900000000000006,{"$f":"IF(Home!$K$10=1,'Antenna Data'!C252,IF(Home!$K$10=2,'Antenna Data'!D252,IF(Home!$K$10=3,'Antenna Data'!E252,IF(Home!$K$10=4,'Antenna Data'!F252,IF(Home!$K$10=5,'Antenna Data'!G252,IF(Home!$K$10=6,'Antenna Data'!H252,'Import Other Antenna'!G251))))))","v":-12.63},-1.5300000000000011,-5.92,-7.96,-12.63,-13.459999999999997,0]
[25,{"$f":"IF(Home!$K$10=1,'Antenna Data'!C253,IF(Home!$K$10=2,'Antenna Data'!D253,IF(Home!$K$10=3,'Antenna Data'!E253,IF(Home!$K$10=4,'Antenna Data'!F253,IF(Home!$K$10=5,'Antenna Data'!G253,IF(Home!$K$10=6,'Antenna Data'!H253,'Import Other Antenna'!G252))))))","v":-12.8},-1.5400000000000009,-5.99,-8.0599999999999987,-12.8,-13.579999999999998,0]
[25.099999999999994,{"$f":"IF(Home!$K$10=1,'Antenna Data'!C254,IF(Home!$K$10=2,'Antenna Data'!D254,IF(Home!$K$10=3,'Antenna Data'!E254,IF(Home!$K$10=4,'Antenna Data'!F254,IF(Home!$K$10=5,'Antenna Data'!G254,IF(Home!$K$10=6,'Antenna Data'!H254,'Import Other Antenna'!G253))))))","v":-12.98},-1.5500000000000007,-6.0500000000000007,-8.15,-12.98,-13.709999999999997,0]
[25.200000000000003,{"$f":"IF(Home!$K$10=1,'Antenna Data'!C255,IF(Home!$K$10=2,'Antenna Data'!D255,IF(Home!$K$10=3,'Antenna Data'!E255,IF(Home!$K$10=4,'Antenna Data'!F255,IF(Home!$K$10=5,'Antenna Data'!G255,IF(Home!$K$10=6,'Antenna Data'!H255,'Import Other Antenna'!G254))))))","v":-13.15},-1.5700000000000003,-6.120000000000001,-8.25,-13.15,-13.839999999999998,0]
[25.299999999999997,{"$f":"IF(Home!$K$10=1,'Antenna Data'!C256,IF(Home!$K$10=2,'Antenna Data'!D256,IF(Home!$K$10=3,'Antenna Data'!E256,IF(Home!$K$10=4,'Antenna Data'!F256,IF(Home!$K$10=5,'Antenna Data'!G256,IF(Home!$K$10=6,'Antenna Data'!H256,'Import Other Antenna'!G255))))))","v":-13.330000000000002},-1.58,-6.1900000000000013,-8.34,-13.330000000000002,-13.969999999999999,0]
[25.400000000000006,{"$f":"IF(Home!$K$10=1,'Antenna Data'!C257,IF(Home!$K$10=2,'Antenna Data'!D257,IF(Home!$K$10=3,'Antenna Data'!E257,IF(Home!$K$10=4,'Antenna Data'!F257,IF(Home!$K$10=5,'Antenna Data'!G257,IF(Home!$K$10=6,'Antenna Data'!H257,'Import Other Antenna'!G256))))))","v":-13.510000000000002},-1.5899999999999999,-6.2600000000000007,-8.4400000000000013,-13.510000000000002,-14.11,0]
[25.5,{"$f":"IF(Home!$K$10=1,'Antenna Data'!C258,IF(Home!$K$10=2,'Antenna Data'!D258,IF(Home!$K$10=3,'Antenna Data'!E258,IF(Home!$K$10=4,'Antenna Data'!F258,IF(Home!$K$10=5,'Antenna Data'!G258,IF(Home!$K$10=6,'Antenna Data'!H258,'Import Other Antenna'!G257))))))","v":-13.690000000000001},-1.6100000000000012,-6.330000000000001,-8.5399999999999991,-13.690000000000001,-14.249999999999998,0]
[25.599999999999994,{"$f":"IF(Home!$K$10=1,'Antenna Data'!C259,IF(Home!$K$10=2,'Antenna Data'!D259,IF(Home!$K$10=3,'Antenna Data'!E259,IF(Home!$K$10=4,'Antenna Data'!F259,IF(Home!$K$10=5,'Antenna Data'!G259,IF(Home!$K$10=6,'Antenna Data'!H259,'Import Other Antenna'!G258))))))","v":-13.870000000000001},-1.620000000000001,-6.4,-8.64,-13.870000000000001,-14.399999999999999,0]
[25.700000000000003,{"$f":"IF(Home!$K$10=1,'Antenna Data'!C260,IF(Home!$K$10=2,'Antenna Data'!D260,IF(Home!$K$10=3,'Antenna Data'!E260,IF(Home!$K$10=4,'Antenna Data'!F260,IF(Home!$K$10=5,'Antenna Data'!G260,IF(Home!$K$10=6,'Antenna Data'!H260,'Import Other Antenna'!G259))))))","v":-14.06},-1.6400000000000006,-6.4700000000000006,-8.74,-14.06,-14.549999999999997,0]
[25.799999999999997,{"$f":"IF(Home!$K$10=1,'Antenna Data'!C261,IF(Home!$K$10=2,'Antenna Data'!D261,IF(Home!$K$10=3,'Antenna Data'!E261,IF(Home!$K$10=4,'Antenna Data'!F261,IF(Home!$K$10=5,'Antenna Data'!G261,IF(Home!$K$10=6,'Antenna Data'!H261,'Import Other Antenna'!G260))))))","v":-14.25},-1.6500000000000004,-6.5500000000000007,-8.84,-14.25,-14.7,0]
[25.900000000000006,{"$f":"IF(Home!$K$10=1,'Antenna Data'!C262,IF(Home!$K$10=2,'Antenna Data'!D262,IF(Home!$K$10=3,'Antenna Data'!E262,IF(Home!$K$10=4,'Antenna Data'!F262,IF(Home!$K$10=5,'Antenna Data'!G262,IF(Home!$K$10=6,'Antenna Data'!H262,'Import Other Antenna'!G261))))))","v":-14.440000000000001},-1.6600000000000001,-6.620000000000001,-8.9499999999999993,-14.440000000000001,-14.86,0]
[26,{"$f":"IF(Home!$K$10=1,'Antenna Data'!C263,IF(Home!$K$10=2,'Antenna Data'!D263,IF(Home!$K$10=3,'Antenna Data'!E263,IF(Home!$K$10=4,'Antenna Data'!F263,IF(Home!$K$10=5,'Antenna Data'!G263,IF(Home!$K$10=6,'Antenna Data'!H263,'Import Other Antenna'!G262))))))","v":-14.63},-1.6799999999999997,-6.69,-9.0500000000000007,-14.63,-15.02,0]
[26.099999999999994,{"$f":"IF(Home!$K$10=1,'Antenna Data'!C264,IF(Home!$K$10=2,'Antenna Data'!D264,IF(Home!$K$10=3,'Antenna Data'!E264,IF(Home!$K$10=4,'Antenna Data'!F264,IF(Home!$K$10=5,'Antenna Data'!G264,IF(Home!$K$10=6,'Antenna Data'!H264,'Import Other Antenna'!G263))))))","v":-14.82},-1.6900000000000013,-6.7700000000000005,-9.16,-14.82,-15.189999999999998,0]
[26.200000000000003,{"$f":"IF(Home!$K$10=1,'Antenna Data'!C265,IF(Home!$K$10=2,'Antenna Data'!D265,IF(Home!$K$10=3,'Antenna Data'!E265,IF(Home!$K$10=4,'Antenna Data'!F265,IF(Home!$K$10=5,'Antenna Data'!G265,IF(Home!$K$10=6,'Antenna Data'!H265,'Import Other Antenna'!G264))))))","v":-15.020000000000001},-1.7100000000000009,-6.8400000000000007,-9.27,-15.020000000000001,-15.359999999999998,0]
[26.299999999999997,{"$f":"IF(Home!$K$10=1,'Antenna Data'!C266,IF(Home!$K$10=2,'Antenna Data'!D266,IF(Home!$K$10=3,'Antenna Data'!E266,IF(Home!$K$10=4,'Antenna Data'!F266,IF(Home!$K$10=5,'Antenna Data'!G266,IF(Home!$K$10=6,'Antenna Data'!H266,'Import Other Antenna'!G265))))))","v":-15.22},-1.7200000000000006,-6.9200000000000008,-9.370000000000001,-15.22,-15.529999999999998,0]
[26.400000000000006,{"$f":"IF(Home!$K$10=1,'Antenna Data'!C267,IF(Home!$K$10=2,'Antenna Data'!D267,IF(Home!$K$10=3,'Antenna Data'!E267,IF(Home!$K$10=4,'Antenna Data'!F267,IF(Home!$K$10=5,'Antenna Data'!G267,IF(Home!$K$10=6,'Antenna Data'!H267,'Import Other Antenna'!G266))))))","v":-15.420000000000002},-1.7400000000000002,-7.0000000000000009,-9.48,-15.420000000000002,-15.709999999999997,0]
[26.5,{"$f":"IF(Home!$K$10=1,'Antenna Data'!C268,IF(Home!$K$10=2,'Antenna Data'!D268,IF(Home!$K$10=3,'Antenna Data'!E268,IF(Home!$K$10=4,'Antenna Data'!F268,IF(Home!$K$10=5,'Antenna Data'!G268,IF(Home!$K$10=6,'Antenna Data'!H268,'Import Other Antenna'!G267))))))","v":-15.620000000000001},-1.75,-7.080000000000001,-9.6,-15.620000000000001,-15.889999999999999,0]
[26.599999999999994,{"$f":"IF(Home!$K$10=1,'Antenna Data'!C269,IF(Home!$K$10=2,'Antenna Data'!D269,IF(Home!$K$10=3,'Antenna Data'!E269,IF(Home!$K$10=4,'Antenna Data'!F269,IF(Home!$K$10=5,'Antenna Data'!G269,IF(Home!$K$10=6,'Antenna Data'!H269,'Import Other Antenna'!G268))))))","v":-15.82},-1.7599999999999998,-7.160000000000001,-9.7100000000000009,-15.82,-16.079999999999998,0]
[26.700000000000003,{"$f":"IF(Home!$K$10=1,'Antenna Data'!C270,IF(Home!$K$10=2,'Antenna Data'!D270,IF(Home!$K$10=3,'Antenna Data'!E270,IF(Home!$K$10=4,'Antenna Data'!F270,IF(Home!$K$10=5,'Antenna Data'!G270,IF(Home!$K$10=6,'Antenna Data'!H270,'Import Other Antenna'!G269))))))","v":-16.02},-1.7800000000000011,-7.24,-9.82,-16.02,-16.27,0]
[26.799999999999997,{"$f":"IF(Home!$K$10=1,'Antenna Data'!C271,IF(Home!$K$10=2,'Antenna Data'!D271,IF(Home!$K$10=3,'Antenna Data'!E271,IF(Home!$K$10=4,'Antenna Data'!F271,IF(Home!$K$10=5,'Antenna Data'!G271,IF(Home!$K$10=6,'Antenna Data'!H271,'Import Other Antenna'!G270))))))","v":-16.23},-1.7900000000000009,-7.32,-9.9400000000000013,-16.23,-16.47,0]
[26.900000000000006,{"$f":"IF(Home!$K$10=1,'Antenna Data'!C272,IF(Home!$K$10=2,'Antenna Data'!D272,IF(Home!$K$10=3,'Antenna Data'!E272,IF(Home!$K$10=4,'Antenna Data'!F272,IF(Home!$K$10=5,'Antenna Data'!G272,IF(Home!$K$10=6,'Antenna Data'!H272,'Import Other Antenna'!G271))))))","v":-16.43},-1.8100000000000005,-7.4,-10.050000000000001,-16.43,-16.669999999999998,0]
[27,{"$f":"IF(Home!$K$10=1,'Antenna Data'!C273,IF(Home!$K$10=2,'Antenna Data'!D273,IF(Home!$K$10=3,'Antenna Data'!E273,IF(Home!$K$10=4,'Antenna Data'!F273,IF(Home!$K$10=5,'Antenna Data'!G273,IF(Home!$K$10=6,'Antenna Data'!H273,'Import Other Antenna'!G272))))))","v":-16.630000000000003},-1.8200000000000003,-7.48,-10.17,-16.630000000000003,-16.869999999999997,0]
[27.099999999999994,{"$f":"IF(Home!$K$10=1,'Antenna Data'!C274,IF(Home!$K$10=2,'Antenna Data'!D274,IF(Home!$K$10=3,'Antenna Data'!E274,IF(Home!$K$10=4,'Antenna Data'!F274,IF(Home!$K$10=5,'Antenna Data'!G274,IF(Home!$K$10=6,'Antenna Data'!H274,'Import Other Antenna'!G273))))))","v":-16.84},-1.8399999999999999,-7.57,-10.29,-16.84,-17.079999999999998,0]
[27.200000000000003,{"$f":"IF(Home!$K$10=1,'Antenna Data'!C275,IF(Home!$K$10=2,'Antenna Data'!D275,IF(Home!$K$10=3,'Antenna Data'!E275,IF(Home!$K$10=4,'Antenna Data'!F275,IF(Home!$K$10=5,'Antenna Data'!G275,IF(Home!$K$10=6,'Antenna Data'!H275,'Import Other Antenna'!G274))))))","v":-17.040000000000003},-1.8499999999999996,-7.65,-10.41,-17.040000000000003,-17.29,0]
[27.299999999999997,{"$f":"IF(Home!$K$10=1,'Antenna Data'!C276,IF(Home!$K$10=2,'Antenna Data'!D276,IF(Home!$K$10=3,'Antenna Data'!E276,IF(Home!$K$10=4,'Antenna Data'!F276,IF(Home!$K$10=5,'Antenna Data'!G276,IF(Home!$K$10=6,'Antenna Data'!H276,'Import Other Antenna'!G275))))))","v":-17.25},-1.870000000000001,-7.74,-10.54,-17.25,-17.5,0]
[27.400000000000006,{"$f":"IF(Home!$K$10=1,'Antenna Data'!C277,IF(Home!$K$10=2,'Antenna Data'!D277,IF(Home!$K$10=3,'Antenna Data'!E277,IF(Home!$K$10=4,'Antenna Data'!F277,IF(Home!$K$10=5,'Antenna Data'!G277,IF(Home!$K$10=6,'Antenna Data'!H277,'Import Other Antenna'!G276))))))","v":-17.450000000000003},-1.8800000000000008,-7.82,-10.66,-17.450000000000003,-17.72,0]
[27.5,{"$f":"IF(Home!$K$10=1,'Antenna Data'!C278,IF(Home!$K$10=2,'Antenna Data'!D278,IF(Home!$K$10=3,'Antenna Data'!E278,IF(Home!$K$10=4,'Antenna Data'!F278,IF(Home!$K$10=5,'Antenna Data'!G278,IF(Home!$K$10=6,'Antenna Data'!H278,'Import Other Antenna'!G277))))))","v":-17.650000000000002},-1.9000000000000004,-7.910000000000001,-10.79,-17.650000000000002,-17.939999999999998,0]
[27.599999999999994,{"$f":"IF(Home!$K$10=1,'Antenna Data'!C279,IF(Home!$K$10=2,'Antenna Data'!D279,IF(Home!$K$10=3,'Antenna Data'!E279,IF(Home!$K$10=4,'Antenna Data'!F279,IF(Home!$K$10=5,'Antenna Data'!G279,IF(Home!$K$10=6,'Antenna Data'!H279,'Import Other Antenna'!G278))))))","v":-17.84},-1.9100000000000001,-8,-10.91,-17.84,-18.159999999999997,0]
[27.700000000000003,{"$f":"IF(Home!$K$10=1,'Antenna Data'!C280,IF(Home!$K$10=2,'Antenna Data'!D280,IF(Home!$K$10=3,'Antenna Data'!E280,IF(Home!$K$10=4,'Antenna Data'!F280,IF(Home!$K$10=5,'Antenna Data'!G280,IF(Home!$K$10=6,'Antenna Data'!H280,'Import Other Antenna'!G279))))))","v":-18.04},-1.9299999999999997,-8.09,-11.04,-18.04,-18.389999999999997,0]
[27.799999999999997,{"$f":"IF(Home!$K$10=1,'Antenna Data'!C281,IF(Home!$K$10=2,'Antenna Data'!D281,IF(Home!$K$10=3,'Antenna Data'!E281,IF(Home!$K$10=4,'Antenna Data'!F281,IF(Home!$K$10=5,'Antenna Data'!G281,IF(Home!$K$10=6,'Antenna Data'!H281,'Import Other Antenna'!G280))))))","v":-18.23},-1.9500000000000011,-8.18,-11.17,-18.23,-18.619999999999997,0]
[27.900000000000006,{"$f":"IF(Home!$K$10=1,'Antenna Data'!C282,IF(Home!$K$10=2,'Antenna Data'!D282,IF(Home!$K$10=3,'Antenna Data'!E282,IF(Home!$K$10=4,'Antenna Data'!F282,IF(Home!$K$10=5,'Antenna Data'!G282,IF(Home!$K$10=6,'Antenna Data'!H282,'Import Other Antenna'!G281))))))","v":-18.41},-1.9600000000000009,-8.27,-11.31,-18.41,-18.84,0]
[28,{"$f":"IF(Home!$K$10=1,'Antenna Data'!C283,IF(Home!$K$10=2,'Antenna Data'!D283,IF(Home!$K$10=3,'Antenna Data'!E283,IF(Home!$K$10=4,'Antenna Data'!F283,IF(Home!$K$10=5,'Antenna Data'!G283,IF(Home!$K$10=6,'Antenna Data'!H283,'Import Other Antenna'!G282))))))","v":-18.59},-1.9800000000000004,-8.370000000000001,-11.44,-18.59,-19.069999999999997,0]
[28.099999999999994,{"$f":"IF(Home!$K$10=1,'Antenna Data'!C284,IF(Home!$K$10=2,'Antenna Data'!D284,IF(Home!$K$10=3,'Antenna Data'!E284,IF(Home!$K$10=4,'Antenna Data'!F284,IF(Home!$K$10=5,'Antenna Data'!G284,IF(Home!$K$10=6,'Antenna Data'!H284,'Import Other Antenna'!G283))))))","v":-18.760000000000002},-1.9900000000000002,-8.4600000000000009,-11.58,-18.760000000000002,-19.299999999999997,0]
[28.200000000000003,{"$f":"IF(Home!$K$10=1,'Antenna Data'!C285,IF(Home!$K$10=2,'Antenna Data'!D285,IF(Home!$K$10=3,'Antenna Data'!E285,IF(Home!$K$10=4,'Antenna Data'!F285,IF(Home!$K$10=5,'Antenna Data'!G285,IF(Home!$K$10=6,'Antenna Data'!H285,'Import Other Antenna'!G284))))))","v":-18.920000000000002},-2.0099999999999998,-8.56,-11.72,-18.920000000000002,-19.529999999999998,0]
[28.299999999999997,{"$f":"IF(Home!$K$10=1,'Antenna Data'!C286,IF(Home!$K$10=2,'Antenna Data'!D286,IF(Home!$K$10=3,'Antenna Data'!E286,IF(Home!$K$10=4,'Antenna Data'!F286,IF(Home!$K$10=5,'Antenna Data'!G286,IF(Home!$K$10=6,'Antenna Data'!H286,'Import Other Antenna'!G285))))))","v":-19.080000000000002},-2.0199999999999996,-8.65,-11.85,-19.080000000000002,-19.759999999999998,0]
[28.400000000000006,{"$f":"IF(Home!$K$10=1,'Antenna Data'!C287,IF(Home!$K$10=2,'Antenna Data'!D287,IF(Home!$K$10=3,'Antenna Data'!E287,IF(Home!$K$10=4,'Antenna Data'!F287,IF(Home!$K$10=5,'Antenna Data'!G287,IF(Home!$K$10=6,'Antenna Data'!H287,'Import Other Antenna'!G286))))))","v":-19.220000000000002},-2.0400000000000009,-8.75,-12,-19.220000000000002,-19.989999999999998,0]
[28.5,{"$f":"IF(Home!$K$10=1,'Antenna Data'!C288,IF(Home!$K$10=2,'Antenna Data'!D288,IF(Home!$K$10=3,'Antenna Data'!E288,IF(Home!$K$10=4,'Antenna Data'!F288,IF(Home!$K$10=5,'Antenna Data'!G288,IF(Home!$K$10=6,'Antenna Data'!H288,'Import Other Antenna'!G287))))))","v":-19.36},-2.0600000000000005,-8.8500000000000014,-12.14,-19.36,-20.209999999999997,0]
[28.599999999999994,{"$f":"IF(Home!$K$10=1,'Antenna Data'!C289,IF(Home!$K$10=2,'Antenna Data'!D289,IF(Home!$K$10=3,'Antenna Data'!E289,IF(Home!$K$10=4,'Antenna Data'!F289,IF(Home!$K$10=5,'Antenna Data'!G289,IF(Home!$K$10=6,'Antenna Data'!H289,'Import Other Antenna'!G288))))))","v":-19.48},-2.0700000000000003,-8.9500000000000011,-12.29,-19.48,-20.419999999999998,0]
[28.700000000000003,{"$f":"IF(Home!$K$10=1,'Antenna Data'!C290,IF(Home!$K$10=2,'Antenna Data'!D290,IF(Home!$K$10=3,'Antenna Data'!E290,IF(Home!$K$10=4,'Antenna Data'!F290,IF(Home!$K$10=5,'Antenna Data'!G290,IF(Home!$K$10=6,'Antenna Data'!H290,'Import Other Antenna'!G289))))))","v":-19.59},-2.09,-9.0500000000000007,-12.43,-19.59,-20.63,0]
[28.799999999999997,{"$f":"IF(Home!$K$10=1,'Antenna Data'!C291,IF(Home!$K$10=2,'Antenna Data'!D291,IF(Home!$K$10=3,'Antenna Data'!E291,IF(Home!$K$10=4,'Antenna Data'!F291,IF(Home!$K$10=5,'Antenna Data'!G291,IF(Home!$K$10=6,'Antenna Data'!H291,'Import Other Antenna'!G290))))))","v":-19.690000000000001},-2.1100000000000012,-9.16,-12.58,-19.690000000000001,-20.84,0]
[28.900000000000006,{"$f":"IF(Home!$K$10=1,'Antenna Data'!C292,IF(Home!$K$10=2,'Antenna Data'!D292,IF(Home!$K$10=3,'Antenna Data'!E292,IF(Home!$K$10=4,'Antenna Data'!F292,IF(Home!$K$10=5,'Antenna Data'!G292,IF(Home!$K$10=6,'Antenna Data'!H292,'Import Other Antenna'!G291))))))","v":-19.78},-2.120000000000001,-9.2600000000000016,-12.73,-19.78,-21.029999999999998,0]
[29,{"$f":"IF(Home!$K$10=1,'Antenna Data'!C293,IF(Home!$K$10=2,'Antenna Data'!D293,IF(Home!$K$10=3,'Antenna Data'!E293,IF(Home!$K$10=4,'Antenna Data'!F293,IF(Home!$K$10=5,'Antenna Data'!G293,IF(Home!$K$10=6,'Antenna Data'!H293,'Import Other Antenna'!G292))))))","v":-19.850000000000001},-2.1400000000000006,-9.370000000000001,-12.89,-19.850000000000001,-21.209999999999997,0]
[29.099999999999994,{"$f":"IF(Home!$K$10=1,'Antenna Data'!C294,IF(Home!$K$10=2,'Antenna Data'!D294,IF(Home!$K$10=3,'Antenna Data'!E294,IF(Home!$K$10=4,'Antenna Data'!F294,IF(Home!$K$10=5,'Antenna Data'!G294,IF(Home!$K$10=6,'Antenna Data'!H294,'Import Other Antenna'!G293))))))","v":-19.900000000000002},-2.1500000000000004,-9.4700000000000006,-13.04,-19.900000000000002,-21.38,0]
[29.200000000000003,{"$f":"IF(Home!$K$10=1,'Antenna Data'!C295,IF(Home!$K$10=2,'Antenna Data'!D295,IF(Home!$K$10=3,'Antenna Data'!E295,IF(Home!$K$10=4,'Antenna Data'!F295,IF(Home!$K$10=5,'Antenna Data'!G295,IF(Home!$K$10=6,'Antenna Data'!H295,'Import Other Antenna'!G294))))))","v":-19.940000000000001},-2.17,-9.5800000000000018,-13.2,-19.940000000000001,-21.54,0]
[29.299999999999997,{"$f":"IF(Home!$K$10=1,'Antenna Data'!C296,IF(Home!$K$10=2,'Antenna Data'!D296,IF(Home!$K$10=3,'Antenna Data'!E296,IF(Home!$K$10=4,'Antenna Data'!F296,IF(Home!$K$10=5,'Antenna Data'!G296,IF(Home!$K$10=6,'Antenna Data'!H296,'Import Other Antenna'!G295))))))","v":-19.970000000000002},-2.1900000000000013,-9.6900000000000013,-13.36,-19.970000000000002,-21.68,0]
[29.400000000000006,{"$f":"IF(Home!$K$10=1,'Antenna Data'!C297,IF(Home!$K$10=2,'Antenna Data'!D297,IF(Home!$K$10=3,'Antenna Data'!E297,IF(Home!$K$10=4,'Antenna Data'!F297,IF(Home!$K$10=5,'Antenna Data'!G297,IF(Home!$K$10=6,'Antenna Data'!H297,'Import Other Antenna'!G296))))))","v":-19.98},-2.2000000000000011,-9.8000000000000007,-13.52,-19.98,-21.799999999999997,0]
[29.5,{"$f":"IF(Home!$K$10=1,'Antenna Data'!C298,IF(Home!$K$10=2,'Antenna Data'!D298,IF(Home!$K$10=3,'Antenna Data'!E298,IF(Home!$K$10=4,'Antenna Data'!F298,IF(Home!$K$10=5,'Antenna Data'!G298,IF(Home!$K$10=6,'Antenna Data'!H298,'Import Other Antenna'!G297))))))","v":-19.98},-2.2200000000000006,-9.9200000000000017,-13.68,-19.98,-21.909999999999997,0]
[29.599999999999994,{"$f":"IF(Home!$K$10=1,'Antenna Data'!C299,IF(Home!$K$10=2,'Antenna Data'!D299,IF(Home!$K$10=3,'Antenna Data'!E299,IF(Home!$K$10=4,'Antenna Data'!F299,IF(Home!$K$10=5,'Antenna Data'!G299,IF(Home!$K$10=6,'Antenna Data'!H299,'Import Other Antenna'!G298))))))","v":-19.96},-2.2400000000000002,-10.030000000000001,-13.85,-19.96,-21.99,0]
[29.700000000000003,{"$f":"IF(Home!$K$10=1,'Antenna Data'!C300,IF(Home!$K$10=2,'Antenna Data'!D300,IF(Home!$K$10=3,'Antenna Data'!E300,IF(Home!$K$10=4,'Antenna Data'!F300,IF(Home!$K$10=5,'Antenna Data'!G300,IF(Home!$K$10=6,'Antenna Data'!H300,'Import Other Antenna'!G299))))))","v":-19.920000000000002},-2.2599999999999998,-10.15,-14.02,-19.920000000000002,-22.06,0]
[29.799999999999997,{"$f":"IF(Home!$K$10=1,'Antenna Data'!C301,IF(Home!$K$10=2,'Antenna Data'!D301,IF(Home!$K$10=3,'Antenna Data'!E301,IF(Home!$K$10=4,'Antenna Data'!F301,IF(Home!$K$10=5,'Antenna Data'!G301,IF(Home!$K$10=6,'Antenna Data'!H301,'Import Other Antenna'!G300))))))","v":-19.880000000000003},-2.2699999999999996,-10.27,-14.19,-19.880000000000003,-22.099999999999998,0]
[29.900000000000006,{"$f":"IF(Home!$K$10=1,'Antenna Data'!C302,IF(Home!$K$10=2,'Antenna Data'!D302,IF(Home!$K$10=3,'Antenna Data'!E302,IF(Home!$K$10=4,'Antenna Data'!F302,IF(Home!$K$10=5,'Antenna Data'!G302,IF(Home!$K$10=6,'Antenna Data'!H302,'Import Other Antenna'!G301))))))","v":-19.82},-2.2900000000000009,-10.39,-14.36,-19.82,-22.119999999999997,0]
[30,{"$f":"IF(Home!$K$10=1,'Antenna Data'!C303,IF(Home!$K$10=2,'Antenna Data'!D303,IF(Home!$K$10=3,'Antenna Data'!E303,IF(Home!$K$10=4,'Antenna Data'!F303,IF(Home!$K$10=5,'Antenna Data'!G303,IF(Home!$K$10=6,'Antenna Data'!H303,'Import Other Antenna'!G302))))))","v":-19.75},-2.3100000000000005,-10.510000000000002,-14.53,-19.75,-22.13,0]
[30.099999999999994,{"$f":"IF(Home!$K$10=1,'Antenna Data'!C304,IF(Home!$K$10=2,'Antenna Data'!D304,IF(Home!$K$10=3,'Antenna Data'!E304,IF(Home!$K$10=4,'Antenna Data'!F304,IF(Home!$K$10=5,'Antenna Data'!G304,IF(Home!$K$10=6,'Antenna Data'!H304,'Import Other Antenna'!G303))))))","v":-19.670000000000002},-2.3200000000000003,-10.63,-14.71,-19.670000000000002,-22.11,0]
[30.200000000000003,{"$f":"IF(Home!$K$10=1,'Antenna Data'!C305,IF(Home!$K$10=2,'Antenna Data'!D305,IF(Home!$K$10=3,'Antenna Data'!E305,IF(Home!$K$10=4,'Antenna Data'!F305,IF(Home!$K$10=5,'Antenna Data'!G305,IF(Home!$K$10=6,'Antenna Data'!H305,'Import Other Antenna'!G304))))))","v":-19.580000000000002},-2.34,-10.760000000000002,-14.89,-19.580000000000002,-22.07,0]
[30.299999999999997,{"$f":"IF(Home!$K$10=1,'Antenna Data'!C306,IF(Home!$K$10=2,'Antenna Data'!D306,IF(Home!$K$10=3,'Antenna Data'!E306,IF(Home!$K$10=4,'Antenna Data'!F306,IF(Home!$K$10=5,'Antenna Data'!G306,IF(Home!$K$10=6,'Antenna Data'!H306,'Import Other Antenna'!G305))))))","v":-19.48},-2.3600000000000012,-10.88,-15.07,-19.48,-22.009999999999998,0]
[30.400000000000006,{"$f":"IF(Home!$K$10=1,'Antenna Data'!C307,IF(Home!$K$10=2,'Antenna Data'!D307,IF(Home!$K$10=3,'Antenna Data'!E307,IF(Home!$K$10=4,'Antenna Data'!F307,IF(Home!$K$10=5,'Antenna Data'!G307,IF(Home!$K$10=6,'Antenna Data'!H307,'Import Other Antenna'!G306))))))","v":-19.37},-2.3800000000000008,-11.010000000000002,-15.25,-19.37,-21.939999999999998,0]
[30.5,{"$f":"IF(Home!$K$10=1,'Antenna Data'!C308,IF(Home!$K$10=2,'Antenna Data'!D308,IF(Home!$K$10=3,'Antenna Data'!E308,IF(Home!$K$10=4,'Antenna Data'!F308,IF(Home!$K$10=5,'Antenna Data'!G308,IF(Home!$K$10=6,'Antenna Data'!H308,'Import Other Antenna'!G307))))))","v":-19.260000000000002},-2.4000000000000004,-11.14,-15.44,-19.260000000000002,-21.849999999999998,0]
[30.599999999999994,{"$f":"IF(Home!$K$10=1,'Antenna Data'!C309,IF(Home!$K$10=2,'Antenna Data'!D309,IF(Home!$K$10=3,'Antenna Data'!E309,IF(Home!$K$10=4,'Antenna Data'!F309,IF(Home!$K$10=5,'Antenna Data'!G309,IF(Home!$K$10=6,'Antenna Data'!H309,'Import Other Antenna'!G308))))))","v":-19.14},-2.41,-11.280000000000001,-15.63,-19.14,-21.75,0]
[30.700000000000003,{"$f":"IF(Home!$K$10=1,'Antenna Data'!C310,IF(Home!$K$10=2,'Antenna Data'!D310,IF(Home!$K$10=3,'Antenna Data'!E310,IF(Home!$K$10=4,'Antenna Data'!F310,IF(Home!$K$10=5,'Antenna Data'!G310,IF(Home!$K$10=6,'Antenna Data'!H310,'Import Other Antenna'!G309))))))","v":-19.02},-2.4299999999999997,-11.41,-15.82,-19.02,-21.63,0]
[30.799999999999997,{"$f":"IF(Home!$K$10=1,'Antenna Data'!C311,IF(Home!$K$10=2,'Antenna Data'!D311,IF(Home!$K$10=3,'Antenna Data'!E311,IF(Home!$K$10=4,'Antenna Data'!F311,IF(Home!$K$10=5,'Antenna Data'!G311,IF(Home!$K$10=6,'Antenna Data'!H311,'Import Other Antenna'!G310))))))","v":-18.89},-2.4500000000000011,-11.55,-16.010000000000002,-18.89,-21.5,0]
[30.900000000000006,{"$f":"IF(Home!$K$10=1,'Antenna Data'!C312,IF(Home!$K$10=2,'Antenna Data'!D312,IF(Home!$K$10=3,'Antenna Data'!E312,IF(Home!$K$10=4,'Antenna Data'!F312,IF(Home!$K$10=5,'Antenna Data'!G312,IF(Home!$K$10=6,'Antenna Data'!H312,'Import Other Antenna'!G311))))))","v":-18.75},-2.4700000000000006,-11.690000000000001,-16.2,-18.75,-21.369999999999997,0]
[31,{"$f":"IF(Home!$K$10=1,'Antenna Data'!C313,IF(Home!$K$10=2,'Antenna Data'!D313,IF(Home!$K$10=3,'Antenna Data'!E313,IF(Home!$K$10=4,'Antenna Data'!F313,IF(Home!$K$10=5,'Antenna Data'!G313,IF(Home!$K$10=6,'Antenna Data'!H313,'Import Other Antenna'!G312))))))","v":-18.62},-2.4900000000000002,-11.83,-16.39,-18.62,-21.22,0]
[31.099999999999994,{"$f":"IF(Home!$K$10=1,'Antenna Data'!C314,IF(Home!$K$10=2,'Antenna Data'!D314,IF(Home!$K$10=3,'Antenna Data'!E314,IF(Home!$K$10=4,'Antenna Data'!F314,IF(Home!$K$10=5,'Antenna Data'!G314,IF(Home!$K$10=6,'Antenna Data'!H314,'Import Other Antenna'!G313))))))","v":-18.48},-2.5,-11.97,-16.59,-18.48,-21.069999999999997,0]
[31.200000000000003,{"$f":"IF(Home!$K$10=1,'Antenna Data'!C315,IF(Home!$K$10=2,'Antenna Data'!D315,IF(Home!$K$10=3,'Antenna Data'!E315,IF(Home!$K$10=4,'Antenna Data'!F315,IF(Home!$K$10=5,'Antenna Data'!G315,IF(Home!$K$10=6,'Antenna Data'!H315,'Import Other Antenna'!G314))))))","v":-18.34},-2.5200000000000005,-12.120000000000001,-16.79,-18.34,-20.919999999999998,0]
[31.299999999999997,{"$f":"IF(Home!$K$10=1,'Antenna Data'!C316,IF(Home!$K$10=2,'Antenna Data'!D316,IF(Home!$K$10=3,'Antenna Data'!E316,IF(Home!$K$10=4,'Antenna Data'!F316,IF(Home!$K$10=5,'Antenna Data'!G316,IF(Home!$K$10=6,'Antenna Data'!H316,'Import Other Antenna'!G315))))))","v":-18.200000000000003},-2.54,-12.270000000000001,-16.989999999999998,-18.200000000000003,-20.759999999999998,0]
[31.400000000000006,{"$f":"IF(Home!$K$10=1,'Antenna Data'!C317,IF(Home!$K$10=2,'Antenna Data'!D317,IF(Home!$K$10=3,'Antenna Data'!E317,IF(Home!$K$10=4,'Antenna Data'!F317,IF(Home!$K$10=5,'Antenna Data'!G317,IF(Home!$K$10=6,'Antenna Data'!H317,'Import Other Antenna'!G316))))))","v":-18.060000000000002},-2.5600000000000005,-12.42,-17.190000000000001,-18.060000000000002,-20.599999999999998,0]
[31.5,{"$f":"IF(Home!$K$10=1,'Antenna Data'!C318,IF(Home!$K$10=2,'Antenna Data'!D318,IF(Home!$K$10=3,'Antenna Data'!E318,IF(Home!$K$10=4,'Antenna Data'!F318,IF(Home!$K$10=5,'Antenna Data'!G318,IF(Home!$K$10=6,'Antenna Data'!H318,'Import Other Antenna'!G317))))))","v":-17.920000000000002},-2.58,-12.58,-17.39,-17.920000000000002,-20.439999999999998,0]
[31.599999999999994,{"$f":"IF(Home!$K$10=1,'Antenna Data'!C319,IF(Home!$K$10=2,'Antenna Data'!D319,IF(Home!$K$10=3,'Antenna Data'!E319,IF(Home!$K$10=4,'Antenna Data'!F319,IF(Home!$K$10=5,'Antenna Data'!G319,IF(Home!$K$10=6,'Antenna Data'!H319,'Import Other Antenna'!G318))))))","v":-17.78},-2.6000000000000005,-12.73,-17.59,-17.78,-20.279999999999998,0]
[31.700000000000003,{"$f":"IF(Home!$K$10=1,'Antenna Data'!C320,IF(Home!$K$10=2,'Antenna Data'!D320,IF(Home!$K$10=3,'Antenna Data'!E320,IF(Home!$K$10=4,'Antenna Data'!F320,IF(Home!$K$10=5,'Antenna Data'!G320,IF(Home!$K$10=6,'Antenna Data'!H320,'Import Other Antenna'!G319))))))","v":-17.630000000000003},-2.62,-12.89,-17.79,-17.630000000000003,-20.11,0]
[31.799999999999997,{"$f":"IF(Home!$K$10=1,'Antenna Data'!C321,IF(Home!$K$10=2,'Antenna Data'!D321,IF(Home!$K$10=3,'Antenna Data'!E321,IF(Home!$K$10=4,'Antenna Data'!F321,IF(Home!$K$10=5,'Antenna Data'!G321,IF(Home!$K$10=6,'Antenna Data'!H321,'Import Other Antenna'!G320))))))","v":-17.490000000000002},-2.6300000000000008,-13.05,-17.990000000000002,-17.490000000000002,-19.95,0]
[31.900000000000006,{"$f":"IF(Home!$K$10=1,'Antenna Data'!C322,IF(Home!$K$10=2,'Antenna Data'!D322,IF(Home!$K$10=3,'Antenna Data'!E322,IF(Home!$K$10=4,'Antenna Data'!F322,IF(Home!$K$10=5,'Antenna Data'!G322,IF(Home!$K$10=6,'Antenna Data'!H322,'Import Other Antenna'!G321))))))","v":-17.36},-2.6500000000000004,-13.22,-18.190000000000001,-17.36,-19.79,0]
[32,{"$f":"IF(Home!$K$10=1,'Antenna Data'!C323,IF(Home!$K$10=2,'Antenna Data'!D323,IF(Home!$K$10=3,'Antenna Data'!E323,IF(Home!$K$10=4,'Antenna Data'!F323,IF(Home!$K$10=5,'Antenna Data'!G323,IF(Home!$K$10=6,'Antenna Data'!H323,'Import Other Antenna'!G322))))))","v":-17.220000000000002},-2.6700000000000008,-13.39,-18.39,-17.220000000000002,-19.639999999999997,0]
[32.099999999999994,{"$f":"IF(Home!$K$10=1,'Antenna Data'!C324,IF(Home!$K$10=2,'Antenna Data'!D324,IF(Home!$K$10=3,'Antenna Data'!E324,IF(Home!$K$10=4,'Antenna Data'!F324,IF(Home!$K$10=5,'Antenna Data'!G324,IF(Home!$K$10=6,'Antenna Data'!H324,'Import Other Antenna'!G323))))))","v":-17.080000000000002},-2.6900000000000004,-13.56,-18.59,-17.080000000000002,-19.479999999999997,0]
[32.200000000000003,{"$f":"IF(Home!$K$10=1,'Antenna Data'!C325,IF(Home!$K$10=2,'Antenna Data'!D325,IF(Home!$K$10=3,'Antenna Data'!E325,IF(Home!$K$10=4,'Antenna Data'!F325,IF(Home!$K$10=5,'Antenna Data'!G325,IF(Home!$K$10=6,'Antenna Data'!H325,'Import Other Antenna'!G324))))))","v":-16.95},-2.7100000000000009,-13.74,-18.78,-16.95,-19.329999999999998,0]
[32.299999999999997,{"$f":"IF(Home!$K$10=1,'Antenna Data'!C326,IF(Home!$K$10=2,'Antenna Data'!D326,IF(Home!$K$10=3,'Antenna Data'!E326,IF(Home!$K$10=4,'Antenna Data'!F326,IF(Home!$K$10=5,'Antenna Data'!G326,IF(Home!$K$10=6,'Antenna Data'!H326,'Import Other Antenna'!G325))))))","v":-16.82},-2.7300000000000004,-13.92,-18.98,-16.82,-19.18,0]
[32.400000000000006,{"$f":"IF(Home!$K$10=1,'Antenna Data'!C327,IF(Home!$K$10=2,'Antenna Data'!D327,IF(Home!$K$10=3,'Antenna Data'!E327,IF(Home!$K$10=4,'Antenna Data'!F327,IF(Home!$K$10=5,'Antenna Data'!G327,IF(Home!$K$10=6,'Antenna Data'!H327,'Import Other Antenna'!G326))))))","v":-16.690000000000001},-2.75,-14.100000000000001,-19.170000000000002,-16.690000000000001,-19.029999999999998,0]
[32.5,{"$f":"IF(Home!$K$10=1,'Antenna Data'!C328,IF(Home!$K$10=2,'Antenna Data'!D328,IF(Home!$K$10=3,'Antenna Data'!E328,IF(Home!$K$10=4,'Antenna Data'!F328,IF(Home!$K$10=5,'Antenna Data'!G328,IF(Home!$K$10=6,'Antenna Data'!H328,'Import Other Antenna'!G327))))))","v":-16.560000000000002},-2.7700000000000005,-14.280000000000001,-19.350000000000001,-16.560000000000002,-18.889999999999997,0]
[32.599999999999994,{"$f":"IF(Home!$K$10=1,'Antenna Data'!C329,IF(Home!$K$10=2,'Antenna Data'!D329,IF(Home!$K$10=3,'Antenna Data'!E329,IF(Home!$K$10=4,'Antenna Data'!F329,IF(Home!$K$10=5,'Antenna Data'!G329,IF(Home!$K$10=6,'Antenna Data'!H329,'Import Other Antenna'!G328))))))","v":-16.440000000000001},-2.79,-14.47,-19.53,-16.440000000000001,-18.75,0]
[32.700000000000003,{"$f":"IF(Home!$K$10=1,'Antenna Data'!C330,IF(Home!$K$10=2,'Antenna Data'!D330,IF(Home!$K$10=3,'Antenna Data'!E330,IF(Home!$K$10=4,'Antenna Data'!F330,IF(Home!$K$10=5,'Antenna Data'!G330,IF(Home!$K$10=6,'Antenna Data'!H330,'Import Other Antenna'!G329))))))","v":-16.310000000000002},-2.8100000000000005,-14.67,-19.71,-16.310000000000002,-18.619999999999997,0]
[32.799999999999997,{"$f":"IF(Home!$K$10=1,'Antenna Data'!C331,IF(Home!$K$10=2,'Antenna Data'!D331,IF(Home!$K$10=3,'Antenna Data'!E331,IF(Home!$K$10=4,'Antenna Data'!F331,IF(Home!$K$10=5,'Antenna Data'!G331,IF(Home!$K$10=6,'Antenna Data'!H331,'Import Other Antenna'!G330))))))","v":-16.190000000000001},-2.83,-14.870000000000001,-19.87,-16.190000000000001,-18.479999999999997,0]
[32.900000000000006,{"$f":"IF(Home!$K$10=1,'Antenna Data'!C332,IF(Home!$K$10=2,'Antenna Data'!D332,IF(Home!$K$10=3,'Antenna Data'!E332,IF(Home!$K$10=4,'Antenna Data'!F332,IF(Home!$K$10=5,'Antenna Data'!G332,IF(Home!$K$10=6,'Antenna Data'!H332,'Import Other Antenna'!G331))))))","v":-16.07},-2.8500000000000005,-15.07,-20.03,-16.07,-18.36,0]
[33,{"$f":"IF(Home!$K$10=1,'Antenna Data'!C333,IF(Home!$K$10=2,'Antenna Data'!D333,IF(Home!$K$10=3,'Antenna Data'!E333,IF(Home!$K$10=4,'Antenna Data'!F333,IF(Home!$K$10=5,'Antenna Data'!G333,IF(Home!$K$10=6,'Antenna Data'!H333,'Import Other Antenna'!G332))))))","v":-15.96},-2.87,-15.280000000000001,-20.18,-15.96,-18.229999999999997,0]
[33.099999999999994,{"$f":"IF(Home!$K$10=1,'Antenna Data'!C334,IF(Home!$K$10=2,'Antenna Data'!D334,IF(Home!$K$10=3,'Antenna Data'!E334,IF(Home!$K$10=4,'Antenna Data'!F334,IF(Home!$K$10=5,'Antenna Data'!G334,IF(Home!$K$10=6,'Antenna Data'!H334,'Import Other Antenna'!G333))))))","v":-15.850000000000001},-2.8900000000000006,-15.49,-20.329999999999998,-15.850000000000001,-18.119999999999997,0]
[33.200000000000003,{"$f":"IF(Home!$K$10=1,'Antenna Data'!C335,IF(Home!$K$10=2,'Antenna Data'!D335,IF(Home!$K$10=3,'Antenna Data'!E335,IF(Home!$K$10=4,'Antenna Data'!F335,IF(Home!$K$10=5,'Antenna Data'!G335,IF(Home!$K$10=6,'Antenna Data'!H335,'Import Other Antenna'!G334))))))","v":-15.74},-2.91,-15.71,-20.46,-15.74,-18,0]
[33.299999999999997,{"$f":"IF(Home!$K$10=1,'Antenna Data'!C336,IF(Home!$K$10=2,'Antenna Data'!D336,IF(Home!$K$10=3,'Antenna Data'!E336,IF(Home!$K$10=4,'Antenna Data'!F336,IF(Home!$K$10=5,'Antenna Data'!G336,IF(Home!$K$10=6,'Antenna Data'!H336,'Import Other Antenna'!G335))))))","v":-15.63},-2.9300000000000006,-15.93,-20.58,-15.63,-17.889999999999997,0]
[33.400000000000006,{"$f":"IF(Home!$K$10=1,'Antenna Data'!C337,IF(Home!$K$10=2,'Antenna Data'!D337,IF(Home!$K$10=3,'Antenna Data'!E337,IF(Home!$K$10=4,'Antenna Data'!F337,IF(Home!$K$10=5,'Antenna Data'!G337,IF(Home!$K$10=6,'Antenna Data'!H337,'Import Other Antenna'!G336))))))","v":-15.520000000000001},-2.95,-16.16,-20.69,-15.520000000000001,-17.79,0]
[33.5,{"$f":"IF(Home!$K$10=1,'Antenna Data'!C338,IF(Home!$K$10=2,'Antenna Data'!D338,IF(Home!$K$10=3,'Antenna Data'!E338,IF(Home!$K$10=4,'Antenna Data'!F338,IF(Home!$K$10=5,'Antenna Data'!G338,IF(Home!$K$10=6,'Antenna Data'!H338,'Import Other Antenna'!G337))))))","v":-15.420000000000002},-2.9700000000000006,-16.39,-20.78,-15.420000000000002,-17.68,0]
[33.599999999999994,{"$f":"IF(Home!$K$10=1,'Antenna Data'!C339,IF(Home!$K$10=2,'Antenna Data'!D339,IF(Home!$K$10=3,'Antenna Data'!E339,IF(Home!$K$10=4,'Antenna Data'!F339,IF(Home!$K$10=5,'Antenna Data'!G339,IF(Home!$K$10=6,'Antenna Data'!H339,'Import Other Antenna'!G338))))))","v":-15.32},-2.99,-16.630000000000003,-20.86,-15.32,-17.59,0]
[33.700000000000003,{"$f":"IF(Home!$K$10=1,'Antenna Data'!C340,IF(Home!$K$10=2,'Antenna Data'!D340,IF(Home!$K$10=3,'Antenna Data'!E340,IF(Home!$K$10=4,'Antenna Data'!F340,IF(Home!$K$10=5,'Antenna Data'!G340,IF(Home!$K$10=6,'Antenna Data'!H340,'Import Other Antenna'!G339))))))","v":-15.22},-3.0100000000000007,-16.880000000000003,-20.93,-15.22,-17.489999999999998,0]
[33.799999999999997,{"$f":"IF(Home!$K$10=1,'Antenna Data'!C341,IF(Home!$K$10=2,'Antenna Data'!D341,IF(Home!$K$10=3,'Antenna Data'!E341,IF(Home!$K$10=4,'Antenna Data'!F341,IF(Home!$K$10=5,'Antenna Data'!G341,IF(Home!$K$10=6,'Antenna Data'!H341,'Import Other Antenna'!G340))))))","v":-15.13},-3.0300000000000002,-17.130000000000003,-20.98,-15.13,-17.409999999999997,0]
[33.900000000000006,{"$f":"IF(Home!$K$10=1,'Antenna Data'!C342,IF(Home!$K$10=2,'Antenna Data'!D342,IF(Home!$K$10=3,'Antenna Data'!E342,IF(Home!$K$10=4,'Antenna Data'!F342,IF(Home!$K$10=5,'Antenna Data'!G342,IF(Home!$K$10=6,'Antenna Data'!H342,'Import Other Antenna'!G341))))))","v":-15.030000000000001},-3.0500000000000007,-17.39,-21.02,-15.030000000000001,-17.32,0]
[34,{"$f":"IF(Home!$K$10=1,'Antenna Data'!C343,IF(Home!$K$10=2,'Antenna Data'!D343,IF(Home!$K$10=3,'Antenna Data'!E343,IF(Home!$K$10=4,'Antenna Data'!F343,IF(Home!$K$10=5,'Antenna Data'!G343,IF(Home!$K$10=6,'Antenna Data'!H343,'Import Other Antenna'!G342))))))","v":-14.940000000000001},-3.08,-17.66,-21.04,-14.940000000000001,-17.239999999999998,0]
[34.099999999999994,{"$f":"IF(Home!$K$10=1,'Antenna Data'!C344,IF(Home!$K$10=2,'Antenna Data'!D344,IF(Home!$K$10=3,'Antenna Data'!E344,IF(Home!$K$10=4,'Antenna Data'!F344,IF(Home!$K$10=5,'Antenna Data'!G344,IF(Home!$K$10=6,'Antenna Data'!H344,'Import Other Antenna'!G343))))))","v":-14.860000000000001},-3.1000000000000005,-17.93,-21.05,-14.860000000000001,-17.159999999999997,0]
[34.200000000000003,{"$f":"IF(Home!$K$10=1,'Antenna Data'!C345,IF(Home!$K$10=2,'Antenna Data'!D345,IF(Home!$K$10=3,'Antenna Data'!E345,IF(Home!$K$10=4,'Antenna Data'!F345,IF(Home!$K$10=5,'Antenna Data'!G345,IF(Home!$K$10=6,'Antenna Data'!H345,'Import Other Antenna'!G344))))))","v":-14.770000000000001},-3.12,-18.22,-21.04,-14.770000000000001,-17.089999999999996,0]
[34.299999999999997,{"$f":"IF(Home!$K$10=1,'Antenna Data'!C346,IF(Home!$K$10=2,'Antenna Data'!D346,IF(Home!$K$10=3,'Antenna Data'!E346,IF(Home!$K$10=4,'Antenna Data'!F346,IF(Home!$K$10=5,'Antenna Data'!G346,IF(Home!$K$10=6,'Antenna Data'!H346,'Import Other Antenna'!G345))))))","v":-14.690000000000001},-3.1400000000000006,-18.510000000000002,-21.02,-14.690000000000001,-17.02,0]
[34.400000000000006,{"$f":"IF(Home!$K$10=1,'Antenna Data'!C347,IF(Home!$K$10=2,'Antenna Data'!D347,IF(Home!$K$10=3,'Antenna Data'!E347,IF(Home!$K$10=4,'Antenna Data'!F347,IF(Home!$K$10=5,'Antenna Data'!G347,IF(Home!$K$10=6,'Antenna Data'!H347,'Import Other Antenna'!G346))))))","v":-14.610000000000001},-3.16,-18.810000000000002,-20.990000000000002,-14.610000000000001,-16.959999999999997,0]
[34.5,{"$f":"IF(Home!$K$10=1,'Antenna Data'!C348,IF(Home!$K$10=2,'Antenna Data'!D348,IF(Home!$K$10=3,'Antenna Data'!E348,IF(Home!$K$10=4,'Antenna Data'!F348,IF(Home!$K$10=5,'Antenna Data'!G348,IF(Home!$K$10=6,'Antenna Data'!H348,'Import Other Antenna'!G347))))))","v":-14.530000000000001},-3.1800000000000006,-19.130000000000003,-20.94,-14.530000000000001,-16.899999999999999,0]
[34.599999999999994,{"$f":"IF(Home!$K$10=1,'Antenna Data'!C349,IF(Home!$K$10=2,'Antenna Data'!D349,IF(Home!$K$10=3,'Antenna Data'!E349,IF(Home!$K$10=4,'Antenna Data'!F349,IF(Home!$K$10=5,'Antenna Data'!G349,IF(Home!$K$10=6,'Antenna Data'!H349,'Import Other Antenna'!G348))))))","v":-14.46},-3.2,-19.450000000000003,-20.87,-14.46,-16.839999999999996,0]
[34.700000000000003,{"$f":"IF(Home!$K$10=1,'Antenna Data'!C350,IF(Home!$K$10=2,'Antenna Data'!D350,IF(Home!$K$10=3,'Antenna Data'!E350,IF(Home!$K$10=4,'Antenna Data'!F350,IF(Home!$K$10=5,'Antenna Data'!G350,IF(Home!$K$10=6,'Antenna Data'!H350,'Import Other Antenna'!G349))))))","v":-14.39},-3.2300000000000004,-19.78,-20.8,-14.39,-16.79,0]
[34.799999999999997,{"$f":"IF(Home!$K$10=1,'Antenna Data'!C351,IF(Home!$K$10=2,'Antenna Data'!D351,IF(Home!$K$10=3,'Antenna Data'!E351,IF(Home!$K$10=4,'Antenna Data'!F351,IF(Home!$K$10=5,'Antenna Data'!G351,IF(Home!$K$10=6,'Antenna Data'!H351,'Import Other Antenna'!G350))))))","v":-14.32},-3.25,-20.130000000000003,-20.71,-14.32,-16.739999999999998,0]
[34.900000000000006,{"$f":"IF(Home!$K$10=1,'Antenna Data'!C352,IF(Home!$K$10=2,'Antenna Data'!D352,IF(Home!$K$10=3,'Antenna Data'!E352,IF(Home!$K$10=4,'Antenna Data'!F352,IF(Home!$K$10=5,'Antenna Data'!G352,IF(Home!$K$10=6,'Antenna Data'!H352,'Import Other Antenna'!G351))))))","v":-14.25},-3.2700000000000005,-20.490000000000002,-20.62,-14.25,-16.689999999999998,0]
[35,{"$f":"IF(Home!$K$10=1,'Antenna Data'!C353,IF(Home!$K$10=2,'Antenna Data'!D353,IF(Home!$K$10=3,'Antenna Data'!E353,IF(Home!$K$10=4,'Antenna Data'!F353,IF(Home!$K$10=5,'Antenna Data'!G353,IF(Home!$K$10=6,'Antenna Data'!H353,'Import Other Antenna'!G352))))))","v":-14.180000000000001},-3.29,-20.87,-20.509999999999998,-14.180000000000001,-16.649999999999999,0]
[35.099999999999994,{"$f":"IF(Home!$K$10=1,'Antenna Data'!C354,IF(Home!$K$10=2,'Antenna Data'!D354,IF(Home!$K$10=3,'Antenna Data'!E354,IF(Home!$K$10=4,'Antenna Data'!F354,IF(Home!$K$10=5,'Antenna Data'!G354,IF(Home!$K$10=6,'Antenna Data'!H354,'Import Other Antenna'!G353))))))","v":-14.120000000000001},-3.3100000000000005,-21.26,-20.399999999999999,-14.120000000000001,-16.619999999999997,0]
[35.200000000000003,{"$f":"IF(Home!$K$10=1,'Antenna Data'!C355,IF(Home!$K$10=2,'Antenna Data'!D355,IF(Home!$K$10=3,'Antenna Data'!E355,IF(Home!$K$10=4,'Antenna Data'!F355,IF(Home!$K$10=5,'Antenna Data'!G355,IF(Home!$K$10=6,'Antenna Data'!H355,'Import Other Antenna'!G354))))))","v":-14.06},-3.3400000000000007,-21.67,-20.28,-14.06,-16.579999999999998,0]
[35.299999999999997,{"$f":"IF(Home!$K$10=1,'Antenna Data'!C356,IF(Home!$K$10=2,'Antenna Data'!D356,IF(Home!$K$10=3,'Antenna Data'!E356,IF(Home!$K$10=4,'Antenna Data'!F356,IF(Home!$K$10=5,'Antenna Data'!G356,IF(Home!$K$10=6,'Antenna Data'!H356,'Import Other Antenna'!G355))))))","v":-14},-3.3600000000000003,-22.09,-20.149999999999999,-14,-16.549999999999997,0]
[35.400000000000006,{"$f":"IF(Home!$K$10=1,'Antenna Data'!C357,IF(Home!$K$10=2,'Antenna Data'!D357,IF(Home!$K$10=3,'Antenna Data'!E357,IF(Home!$K$10=4,'Antenna Data'!F357,IF(Home!$K$10=5,'Antenna Data'!G357,IF(Home!$K$10=6,'Antenna Data'!H357,'Import Other Antenna'!G356))))))","v":-13.950000000000001},-3.3800000000000008,-22.54,-20.02,-13.950000000000001,-16.529999999999998,0]
[35.5,{"$f":"IF(Home!$K$10=1,'Antenna Data'!C358,IF(Home!$K$10=2,'Antenna Data'!D358,IF(Home!$K$10=3,'Antenna Data'!E358,IF(Home!$K$10=4,'Antenna Data'!F358,IF(Home!$K$10=5,'Antenna Data'!G358,IF(Home!$K$10=6,'Antenna Data'!H358,'Import Other Antenna'!G357))))))","v":-13.89},-3.4000000000000004,-23.009999999999998,-19.88,-13.89,-16.5,0]
[35.599999999999994,{"$f":"IF(Home!$K$10=1,'Antenna Data'!C359,IF(Home!$K$10=2,'Antenna Data'!D359,IF(Home!$K$10=3,'Antenna Data'!E359,IF(Home!$K$10=4,'Antenna Data'!F359,IF(Home!$K$10=5,'Antenna Data'!G359,IF(Home!$K$10=6,'Antenna Data'!H359,'Import Other Antenna'!G358))))))","v":-13.840000000000002},-3.4300000000000006,-23.5,-19.740000000000002,-13.840000000000002,-16.479999999999997,0]
[35.700000000000003,{"$f":"IF(Home!$K$10=1,'Antenna Data'!C360,IF(Home!$K$10=2,'Antenna Data'!D360,IF(Home!$K$10=3,'Antenna Data'!E360,IF(Home!$K$10=4,'Antenna Data'!F360,IF(Home!$K$10=5,'Antenna Data'!G360,IF(Home!$K$10=6,'Antenna Data'!H360,'Import Other Antenna'!G359))))))","v":-13.790000000000001},-3.45,-24.03,-19.600000000000001,-13.790000000000001,-16.47,0]
[35.799999999999997,{"$f":"IF(Home!$K$10=1,'Antenna Data'!C361,IF(Home!$K$10=2,'Antenna Data'!D361,IF(Home!$K$10=3,'Antenna Data'!E361,IF(Home!$K$10=4,'Antenna Data'!F361,IF(Home!$K$10=5,'Antenna Data'!G361,IF(Home!$K$10=6,'Antenna Data'!H361,'Import Other Antenna'!G360))))))","v":-13.740000000000002},-3.4700000000000006,-24.58,-19.45,-13.740000000000002,-16.459999999999997,0]
[35.900000000000006,{"$f":"IF(Home!$K$10=1,'Antenna Data'!C362,IF(Home!$K$10=2,'Antenna Data'!D362,IF(Home!$K$10=3,'Antenna Data'!E362,IF(Home!$K$10=4,'Antenna Data'!F362,IF(Home!$K$10=5,'Antenna Data'!G362,IF(Home!$K$10=6,'Antenna Data'!H362,'Import Other Antenna'!G361))))))","v":-13.700000000000001},-3.5,-25.16,-19.309999999999999,-13.700000000000001,-16.45,0]
[36,{"$f":"IF(Home!$K$10=1,'Antenna Data'!C363,IF(Home!$K$10=2,'Antenna Data'!D363,IF(Home!$K$10=3,'Antenna Data'!E363,IF(Home!$K$10=4,'Antenna Data'!F363,IF(Home!$K$10=5,'Antenna Data'!G363,IF(Home!$K$10=6,'Antenna Data'!H363,'Import Other Antenna'!G362))))))","v":-13.66},-3.5200000000000005,-25.79,-19.16,-13.66,-16.439999999999998,0]
[36.099999999999994,{"$f":"IF(Home!$K$10=1,'Antenna Data'!C364,IF(Home!$K$10=2,'Antenna Data'!D364,IF(Home!$K$10=3,'Antenna Data'!E364,IF(Home!$K$10=4,'Antenna Data'!F364,IF(Home!$K$10=5,'Antenna Data'!G364,IF(Home!$K$10=6,'Antenna Data'!H364,'Import Other Antenna'!G363))))))","v":-13.620000000000001},-3.54,-26.450000000000003,-19.009999999999998,-13.620000000000001,-16.439999999999998,0]
[36.200000000000003,{"$f":"IF(Home!$K$10=1,'Antenna Data'!C365,IF(Home!$K$10=2,'Antenna Data'!D365,IF(Home!$K$10=3,'Antenna Data'!E365,IF(Home!$K$10=4,'Antenna Data'!F365,IF(Home!$K$10=5,'Antenna Data'!G365,IF(Home!$K$10=6,'Antenna Data'!H365,'Import Other Antenna'!G364))))))","v":-13.580000000000002},-3.5700000000000003,-27.17,-18.850000000000001,-13.580000000000002,-16.439999999999998,0]
[36.299999999999997,{"$f":"IF(Home!$K$10=1,'Antenna Data'!C366,IF(Home!$K$10=2,'Antenna Data'!D366,IF(Home!$K$10=3,'Antenna Data'!E366,IF(Home!$K$10=4,'Antenna Data'!F366,IF(Home!$K$10=5,'Antenna Data'!G366,IF(Home!$K$10=6,'Antenna Data'!H366,'Import Other Antenna'!G365))))))","v":-13.540000000000001},-3.5900000000000007,-27.94,-18.7,-13.540000000000001,-16.45,0]
[36.400000000000006,{"$f":"IF(Home!$K$10=1,'Antenna Data'!C367,IF(Home!$K$10=2,'Antenna Data'!D367,IF(Home!$K$10=3,'Antenna Data'!E367,IF(Home!$K$10=4,'Antenna Data'!F367,IF(Home!$K$10=5,'Antenna Data'!G367,IF(Home!$K$10=6,'Antenna Data'!H367,'Import Other Antenna'!G366))))))","v":-13.510000000000002},-3.6100000000000003,-28.770000000000003,-18.55,-13.510000000000002,-16.459999999999997,0]
[36.5,{"$f":"IF(Home!$K$10=1,'Antenna Data'!C368,IF(Home!$K$10=2,'Antenna Data'!D368,IF(Home!$K$10=3,'Antenna Data'!E368,IF(Home!$K$10=4,'Antenna Data'!F368,IF(Home!$K$10=5,'Antenna Data'!G368,IF(Home!$K$10=6,'Antenna Data'!H368,'Import Other Antenna'!G367))))))","v":-13.48},-3.6400000000000006,-29.68,-18.399999999999999,-13.48,-16.47,0]
[36.599999999999994,{"$f":"IF(Home!$K$10=1,'Antenna Data'!C369,IF(Home!$K$10=2,'Antenna Data'!D369,IF(Home!$K$10=3,'Antenna Data'!E369,IF(Home!$K$10=4,'Antenna Data'!F369,IF(Home!$K$10=5,'Antenna Data'!G369,IF(Home!$K$10=6,'Antenna Data'!H369,'Import Other Antenna'!G368))))))","v":-13.450000000000001},-3.66,-30.68,-18.25,-13.450000000000001,-16.479999999999997,0]
[36.700000000000003,{"$f":"IF(Home!$K$10=1,'Antenna Data'!C370,IF(Home!$K$10=2,'Antenna Data'!D370,IF(Home!$K$10=3,'Antenna Data'!E370,IF(Home!$K$10=4,'Antenna Data'!F370,IF(Home!$K$10=5,'Antenna Data'!G370,IF(Home!$K$10=6,'Antenna Data'!H370,'Import Other Antenna'!G369))))))","v":-13.420000000000002},-3.6800000000000006,-31.770000000000003,-18.11,-13.420000000000002,-16.5,0]
[36.799999999999997,{"$f":"IF(Home!$K$10=1,'Antenna Data'!C371,IF(Home!$K$10=2,'Antenna Data'!D371,IF(Home!$K$10=3,'Antenna Data'!E371,IF(Home!$K$10=4,'Antenna Data'!F371,IF(Home!$K$10=5,'Antenna Data'!G371,IF(Home!$K$10=6,'Antenna Data'!H371,'Import Other Antenna'!G370))))))","v":-13.39},-3.7100000000000009,-32.96,-17.96,-13.39,-16.52,0]
[36.900000000000006,{"$f":"IF(Home!$K$10=1,'Antenna Data'!C372,IF(Home!$K$10=2,'Antenna Data'!D372,IF(Home!$K$10=3,'Antenna Data'!E372,IF(Home!$K$10=4,'Antenna Data'!F372,IF(Home!$K$10=5,'Antenna Data'!G372,IF(Home!$K$10=6,'Antenna Data'!H372,'Import Other Antenna'!G371))))))","v":-13.370000000000001},-3.7300000000000004,-34.26,-17.82,-13.370000000000001,-16.549999999999997,0]
[37,{"$f":"IF(Home!$K$10=1,'Antenna Data'!C373,IF(Home!$K$10=2,'Antenna Data'!D373,IF(Home!$K$10=3,'Antenna Data'!E373,IF(Home!$K$10=4,'Antenna Data'!F373,IF(Home!$K$10=5,'Antenna Data'!G373,IF(Home!$K$10=6,'Antenna Data'!H373,'Import Other Antenna'!G372))))))","v":-13.350000000000001},-3.7600000000000007,-35.630000000000003,-17.670000000000002,-13.350000000000001,-16.579999999999998,0]
[37.099999999999994,{"$f":"IF(Home!$K$10=1,'Antenna Data'!C374,IF(Home!$K$10=2,'Antenna Data'!D374,IF(Home!$K$10=3,'Antenna Data'!E374,IF(Home!$K$10=4,'Antenna Data'!F374,IF(Home!$K$10=5,'Antenna Data'!G374,IF(Home!$K$10=6,'Antenna Data'!H374,'Import Other Antenna'!G373))))))","v":-13.330000000000002},-3.7800000000000002,-36.980000000000004,-17.53,-13.330000000000002,-16.61,0]
[37.200000000000003,{"$f":"IF(Home!$K$10=1,'Antenna Data'!C375,IF(Home!$K$10=2,'Antenna Data'!D375,IF(Home!$K$10=3,'Antenna Data'!E375,IF(Home!$K$10=4,'Antenna Data'!F375,IF(Home!$K$10=5,'Antenna Data'!G375,IF(Home!$K$10=6,'Antenna Data'!H375,'Import Other Antenna'!G374))))))","v":-13.31},-3.8100000000000005,-38.06,-17.39,-13.31,-16.649999999999999,0]
[37.299999999999997,{"$f":"IF(Home!$K$10=1,'Antenna Data'!C376,IF(Home!$K$10=2,'Antenna Data'!D376,IF(Home!$K$10=3,'Antenna Data'!E376,IF(Home!$K$10=4,'Antenna Data'!F376,IF(Home!$K$10=5,'Antenna Data'!G376,IF(Home!$K$10=6,'Antenna Data'!H376,'Import Other Antenna'!G375))))))","v":-13.3},-3.83,-38.520000000000003,-17.25,-13.3,-16.689999999999998,0]
[37.400000000000006,{"$f":"IF(Home!$K$10=1,'Antenna Data'!C377,IF(Home!$K$10=2,'Antenna Data'!D377,IF(Home!$K$10=3,'Antenna Data'!E377,IF(Home!$K$10=4,'Antenna Data'!F377,IF(Home!$K$10=5,'Antenna Data'!G377,IF(Home!$K$10=6,'Antenna Data'!H377,'Import Other Antenna'!G376))))))","v":-13.280000000000001},-3.8600000000000003,-38.17,-17.12,-13.280000000000001,-16.729999999999997,0]
[37.5,{"$f":"IF(Home!$K$10=1,'Antenna Data'!C378,IF(Home!$K$10=2,'Antenna Data'!D378,IF(Home!$K$10=3,'Antenna Data'!E378,IF(Home!$K$10=4,'Antenna Data'!F378,IF(Home!$K$10=5,'Antenna Data'!G378,IF(Home!$K$10=6,'Antenna Data'!H378,'Import Other Antenna'!G377))))))","v":-13.270000000000001},-3.8800000000000008,-37.18,-16.989999999999998,-13.270000000000001,-16.77,0]
[37.599999999999994,{"$f":"IF(Home!$K$10=1,'Antenna Data'!C379,IF(Home!$K$10=2,'Antenna Data'!D379,IF(Home!$K$10=3,'Antenna Data'!E379,IF(Home!$K$10=4,'Antenna Data'!F379,IF(Home!$K$10=5,'Antenna Data'!G379,IF(Home!$K$10=6,'Antenna Data'!H379,'Import Other Antenna'!G378))))))","v":-13.260000000000002},-3.91,-35.880000000000003,-16.86,-13.260000000000002,-16.82,0]
[37.700000000000003,{"$f":"IF(Home!$K$10=1,'Antenna Data'!C380,IF(Home!$K$10=2,'Antenna Data'!D380,IF(Home!$K$10=3,'Antenna Data'!E380,IF(Home!$K$10=4,'Antenna Data'!F380,IF(Home!$K$10=5,'Antenna Data'!G380,IF(Home!$K$10=6,'Antenna Data'!H380,'Import Other Antenna'!G379))))))","v":-13.260000000000002},-3.9300000000000006,-34.549999999999997,-16.73,-13.260000000000002,-16.88,0]
[37.799999999999997,{"$f":"IF(Home!$K$10=1,'Antenna Data'!C381,IF(Home!$K$10=2,'Antenna Data'!D381,IF(Home!$K$10=3,'Antenna Data'!E381,IF(Home!$K$10=4,'Antenna Data'!F381,IF(Home!$K$10=5,'Antenna Data'!G381,IF(Home!$K$10=6,'Antenna Data'!H381,'Import Other Antenna'!G380))))))","v":-13.25},-3.9600000000000009,-33.28,-16.600000000000001,-13.25,-16.93,0]
[37.900000000000006,{"$f":"IF(Home!$K$10=1,'Antenna Data'!C382,IF(Home!$K$10=2,'Antenna Data'!D382,IF(Home!$K$10=3,'Antenna Data'!E382,IF(Home!$K$10=4,'Antenna Data'!F382,IF(Home!$K$10=5,'Antenna Data'!G382,IF(Home!$K$10=6,'Antenna Data'!H382,'Import Other Antenna'!G381))))))","v":-13.25},-3.9800000000000004,-32.11,-16.48,-13.25,-16.989999999999998,0]
[38,{"$f":"IF(Home!$K$10=1,'Antenna Data'!C383,IF(Home!$K$10=2,'Antenna Data'!D383,IF(Home!$K$10=3,'Antenna Data'!E383,IF(Home!$K$10=4,'Antenna Data'!F383,IF(Home!$K$10=5,'Antenna Data'!G383,IF(Home!$K$10=6,'Antenna Data'!H383,'Import Other Antenna'!G382))))))","v":-13.25},-4.0100000000000007,-31.04,-16.36,-13.25,-17.049999999999997,0]
[38.099999999999994,{"$f":"IF(Home!$K$10=1,'Antenna Data'!C384,IF(Home!$K$10=2,'Antenna Data'!D384,IF(Home!$K$10=3,'Antenna Data'!E384,IF(Home!$K$10=4,'Antenna Data'!F384,IF(Home!$K$10=5,'Antenna Data'!G384,IF(Home!$K$10=6,'Antenna Data'!H384,'Import Other Antenna'!G383))))))","v":-13.25},-4.03,-30.08,-16.239999999999998,-13.25,-17.119999999999997,0]
[38.199999999999989,{"$f":"IF(Home!$K$10=1,'Antenna Data'!C385,IF(Home!$K$10=2,'Antenna Data'!D385,IF(Home!$K$10=3,'Antenna Data'!E385,IF(Home!$K$10=4,'Antenna Data'!F385,IF(Home!$K$10=5,'Antenna Data'!G385,IF(Home!$K$10=6,'Antenna Data'!H385,'Import Other Antenna'!G384))))))","v":-13.25},-4.0600000000000005,-29.200000000000003,-16.12,-13.25,-17.189999999999998,0]
[38.300000000000011,{"$f":"IF(Home!$K$10=1,'Antenna Data'!C386,IF(Home!$K$10=2,'Antenna Data'!D386,IF(Home!$K$10=3,'Antenna Data'!E386,IF(Home!$K$10=4,'Antenna Data'!F386,IF(Home!$K$10=5,'Antenna Data'!G386,IF(Home!$K$10=6,'Antenna Data'!H386,'Import Other Antenna'!G385))))))","v":-13.25},-4.08,-28.39,-16.010000000000002,-13.25,-17.259999999999998,0]
[38.400000000000006,{"$f":"IF(Home!$K$10=1,'Antenna Data'!C387,IF(Home!$K$10=2,'Antenna Data'!D387,IF(Home!$K$10=3,'Antenna Data'!E387,IF(Home!$K$10=4,'Antenna Data'!F387,IF(Home!$K$10=5,'Antenna Data'!G387,IF(Home!$K$10=6,'Antenna Data'!H387,'Import Other Antenna'!G386))))))","v":-13.260000000000002},-4.1100000000000003,-27.65,-15.89,-13.260000000000002,-17.34,0]
[38.5,{"$f":"IF(Home!$K$10=1,'Antenna Data'!C388,IF(Home!$K$10=2,'Antenna Data'!D388,IF(Home!$K$10=3,'Antenna Data'!E388,IF(Home!$K$10=4,'Antenna Data'!F388,IF(Home!$K$10=5,'Antenna Data'!G388,IF(Home!$K$10=6,'Antenna Data'!H388,'Import Other Antenna'!G387))))))","v":-13.270000000000001},-4.1400000000000006,-26.97,-15.78,-13.270000000000001,-17.409999999999997,0]
[38.599999999999994,{"$f":"IF(Home!$K$10=1,'Antenna Data'!C389,IF(Home!$K$10=2,'Antenna Data'!D389,IF(Home!$K$10=3,'Antenna Data'!E389,IF(Home!$K$10=4,'Antenna Data'!F389,IF(Home!$K$10=5,'Antenna Data'!G389,IF(Home!$K$10=6,'Antenna Data'!H389,'Import Other Antenna'!G388))))))","v":-13.280000000000001},-4.16,-26.33,-15.68,-13.280000000000001,-17.5,0]
[38.699999999999989,{"$f":"IF(Home!$K$10=1,'Antenna Data'!C390,IF(Home!$K$10=2,'Antenna Data'!D390,IF(Home!$K$10=3,'Antenna Data'!E390,IF(Home!$K$10=4,'Antenna Data'!F390,IF(Home!$K$10=5,'Antenna Data'!G390,IF(Home!$K$10=6,'Antenna Data'!H390,'Import Other Antenna'!G389))))))","v":-13.290000000000001},-4.1900000000000004,-25.75,-15.57,-13.290000000000001,-17.579999999999998,0]
[38.800000000000011,{"$f":"IF(Home!$K$10=1,'Antenna Data'!C391,IF(Home!$K$10=2,'Antenna Data'!D391,IF(Home!$K$10=3,'Antenna Data'!E391,IF(Home!$K$10=4,'Antenna Data'!F391,IF(Home!$K$10=5,'Antenna Data'!G391,IF(Home!$K$10=6,'Antenna Data'!H391,'Import Other Antenna'!G390))))))","v":-13.31},-4.2200000000000006,-25.19,-15.47,-13.31,-17.669999999999998,0]
[38.900000000000006,{"$f":"IF(Home!$K$10=1,'Antenna Data'!C392,IF(Home!$K$10=2,'Antenna Data'!D392,IF(Home!$K$10=3,'Antenna Data'!E392,IF(Home!$K$10=4,'Antenna Data'!F392,IF(Home!$K$10=5,'Antenna Data'!G392,IF(Home!$K$10=6,'Antenna Data'!H392,'Import Other Antenna'!G391))))))","v":-13.330000000000002},-4.24,-24.68,-15.37,-13.330000000000002,-17.77,0]
[39,{"$f":"IF(Home!$K$10=1,'Antenna Data'!C393,IF(Home!$K$10=2,'Antenna Data'!D393,IF(Home!$K$10=3,'Antenna Data'!E393,IF(Home!$K$10=4,'Antenna Data'!F393,IF(Home!$K$10=5,'Antenna Data'!G393,IF(Home!$K$10=6,'Antenna Data'!H393,'Import Other Antenna'!G392))))))","v":-13.340000000000002},-4.2700000000000005,-24.19,-15.27,-13.340000000000002,-17.86,0]
[39.099999999999994,{"$f":"IF(Home!$K$10=1,'Antenna Data'!C394,IF(Home!$K$10=2,'Antenna Data'!D394,IF(Home!$K$10=3,'Antenna Data'!E394,IF(Home!$K$10=4,'Antenna Data'!F394,IF(Home!$K$10=5,'Antenna Data'!G394,IF(Home!$K$10=6,'Antenna Data'!H394,'Import Other Antenna'!G393))))))","v":-13.370000000000001},-4.3000000000000007,-23.73,-15.17,-13.370000000000001,-17.959999999999997,0]
[39.199999999999989,{"$f":"IF(Home!$K$10=1,'Antenna Data'!C395,IF(Home!$K$10=2,'Antenna Data'!D395,IF(Home!$K$10=3,'Antenna Data'!E395,IF(Home!$K$10=4,'Antenna Data'!F395,IF(Home!$K$10=5,'Antenna Data'!G395,IF(Home!$K$10=6,'Antenna Data'!H395,'Import Other Antenna'!G394))))))","v":-13.39},-4.32,-23.3,-15.08,-13.39,-18.069999999999997,0]
[39.300000000000011,{"$f":"IF(Home!$K$10=1,'Antenna Data'!C396,IF(Home!$K$10=2,'Antenna Data'!D396,IF(Home!$K$10=3,'Antenna Data'!E396,IF(Home!$K$10=4,'Antenna Data'!F396,IF(Home!$K$10=5,'Antenna Data'!G396,IF(Home!$K$10=6,'Antenna Data'!H396,'Import Other Antenna'!G395))))))","v":-13.41},-4.3500000000000005,-22.89,-14.99,-13.41,-18.169999999999998,0]
[39.400000000000006,{"$f":"IF(Home!$K$10=1,'Antenna Data'!C397,IF(Home!$K$10=2,'Antenna Data'!D397,IF(Home!$K$10=3,'Antenna Data'!E397,IF(Home!$K$10=4,'Antenna Data'!F397,IF(Home!$K$10=5,'Antenna Data'!G397,IF(Home!$K$10=6,'Antenna Data'!H397,'Import Other Antenna'!G396))))))","v":-13.440000000000001},-4.3800000000000008,-22.5,-14.9,-13.440000000000001,-18.279999999999998,0]
[39.5,{"$f":"IF(Home!$K$10=1,'Antenna Data'!C398,IF(Home!$K$10=2,'Antenna Data'!D398,IF(Home!$K$10=3,'Antenna Data'!E398,IF(Home!$K$10=4,'Antenna Data'!F398,IF(Home!$K$10=5,'Antenna Data'!G398,IF(Home!$K$10=6,'Antenna Data'!H398,'Import Other Antenna'!G397))))))","v":-13.47},-4.41,-22.12,-14.81,-13.47,-18.399999999999999,0]
[39.599999999999994,{"$f":"IF(Home!$K$10=1,'Antenna Data'!C399,IF(Home!$K$10=2,'Antenna Data'!D399,IF(Home!$K$10=3,'Antenna Data'!E399,IF(Home!$K$10=4,'Antenna Data'!F399,IF(Home!$K$10=5,'Antenna Data'!G399,IF(Home!$K$10=6,'Antenna Data'!H399,'Import Other Antenna'!G398))))))","v":-13.5},-4.4300000000000006,-21.77,-14.73,-13.5,-18.52,0]
[39.699999999999989,{"$f":"IF(Home!$K$10=1,'Antenna Data'!C400,IF(Home!$K$10=2,'Antenna Data'!D400,IF(Home!$K$10=3,'Antenna Data'!E400,IF(Home!$K$10=4,'Antenna Data'!F400,IF(Home!$K$10=5,'Antenna Data'!G400,IF(Home!$K$10=6,'Antenna Data'!H400,'Import Other Antenna'!G399))))))","v":-13.540000000000001},-4.4600000000000009,-21.43,-14.64,-13.540000000000001,-18.639999999999997,0]
[39.800000000000011,{"$f":"IF(Home!$K$10=1,'Antenna Data'!C401,IF(Home!$K$10=2,'Antenna Data'!D401,IF(Home!$K$10=3,'Antenna Data'!E401,IF(Home!$K$10=4,'Antenna Data'!F401,IF(Home!$K$10=5,'Antenna Data'!G401,IF(Home!$K$10=6,'Antenna Data'!H401,'Import Other Antenna'!G400))))))","v":-13.57},-4.49,-21.11,-14.56,-13.57,-18.77,0]
[39.900000000000006,{"$f":"IF(Home!$K$10=1,'Antenna Data'!C402,IF(Home!$K$10=2,'Antenna Data'!D402,IF(Home!$K$10=3,'Antenna Data'!E402,IF(Home!$K$10=4,'Antenna Data'!F402,IF(Home!$K$10=5,'Antenna Data'!G402,IF(Home!$K$10=6,'Antenna Data'!H402,'Import Other Antenna'!G401))))))","v":-13.610000000000001},-4.5200000000000005,-20.8,-14.48,-13.610000000000001,-18.889999999999997,0]
[40,{"$f":"IF(Home!$K$10=1,'Antenna Data'!C403,IF(Home!$K$10=2,'Antenna Data'!D403,IF(Home!$K$10=3,'Antenna Data'!E403,IF(Home!$K$10=4,'Antenna Data'!F403,IF(Home!$K$10=5,'Antenna Data'!G403,IF(Home!$K$10=6,'Antenna Data'!H403,'Import Other Antenna'!G402))))))","v":-13.65},-4.54,-20.5,-14.41,-13.65,-19.029999999999998,0]
[40.099999999999994,{"$f":"IF(Home!$K$10=1,'Antenna Data'!C404,IF(Home!$K$10=2,'Antenna Data'!D404,IF(Home!$K$10=3,'Antenna Data'!E404,IF(Home!$K$10=4,'Antenna Data'!F404,IF(Home!$K$10=5,'Antenna Data'!G404,IF(Home!$K$10=6,'Antenna Data'!H404,'Import Other Antenna'!G403))))))","v":-13.690000000000001},-4.57,-20.21,-14.33,-13.690000000000001,-19.169999999999998,0]
[40.199999999999989,{"$f":"IF(Home!$K$10=1,'Antenna Data'!C405,IF(Home!$K$10=2,'Antenna Data'!D405,IF(Home!$K$10=3,'Antenna Data'!E405,IF(Home!$K$10=4,'Antenna Data'!F405,IF(Home!$K$10=5,'Antenna Data'!G405,IF(Home!$K$10=6,'Antenna Data'!H405,'Import Other Antenna'!G404))))))","v":-13.73},-4.6000000000000005,-19.940000000000001,-14.26,-13.73,-19.309999999999999,0]
[40.300000000000011,{"$f":"IF(Home!$K$10=1,'Antenna Data'!C406,IF(Home!$K$10=2,'Antenna Data'!D406,IF(Home!$K$10=3,'Antenna Data'!E406,IF(Home!$K$10=4,'Antenna Data'!F406,IF(Home!$K$10=5,'Antenna Data'!G406,IF(Home!$K$10=6,'Antenna Data'!H406,'Import Other Antenna'!G405))))))","v":-13.780000000000001},-4.6300000000000008,-19.670000000000002,-14.19,-13.780000000000001,-19.45,0]
[40.400000000000006,{"$f":"IF(Home!$K$10=1,'Antenna Data'!C407,IF(Home!$K$10=2,'Antenna Data'!D407,IF(Home!$K$10=3,'Antenna Data'!E407,IF(Home!$K$10=4,'Antenna Data'!F407,IF(Home!$K$10=5,'Antenna Data'!G407,IF(Home!$K$10=6,'Antenna Data'!H407,'Import Other Antenna'!G406))))))","v":-13.830000000000002},-4.66,-19.420000000000002,-14.120000000000001,-13.830000000000002,-19.599999999999998,0]
[40.5,{"$f":"IF(Home!$K$10=1,'Antenna Data'!C408,IF(Home!$K$10=2,'Antenna Data'!D408,IF(Home!$K$10=3,'Antenna Data'!E408,IF(Home!$K$10=4,'Antenna Data'!F408,IF(Home!$K$10=5,'Antenna Data'!G408,IF(Home!$K$10=6,'Antenna Data'!H408,'Import Other Antenna'!G407))))))","v":-13.88},-4.6900000000000004,-19.170000000000002,-14.05,-13.88,-19.75,0]
[40.599999999999994,{"$f":"IF(Home!$K$10=1,'Antenna Data'!C409,IF(Home!$K$10=2,'Antenna Data'!D409,IF(Home!$K$10=3,'Antenna Data'!E409,IF(Home!$K$10=4,'Antenna Data'!F409,IF(Home!$K$10=5,'Antenna Data'!G409,IF(Home!$K$10=6,'Antenna Data'!H409,'Import Other Antenna'!G408))))))","v":-13.930000000000001},-4.7200000000000006,-18.93,-13.98,-13.930000000000001,-19.909999999999997,0]
[40.699999999999989,{"$f":"IF(Home!$K$10=1,'Antenna Data'!C410,IF(Home!$K$10=2,'Antenna Data'!D410,IF(Home!$K$10=3,'Antenna Data'!E410,IF(Home!$K$10=4,'Antenna Data'!F410,IF(Home!$K$10=5,'Antenna Data'!G410,IF(Home!$K$10=6,'Antenna Data'!H410,'Import Other Antenna'!G409))))))","v":-13.990000000000002},-4.74,-18.700000000000003,-13.92,-13.990000000000002,-20.069999999999997,0]
[40.800000000000011,{"$f":"IF(Home!$K$10=1,'Antenna Data'!C411,IF(Home!$K$10=2,'Antenna Data'!D411,IF(Home!$K$10=3,'Antenna Data'!E411,IF(Home!$K$10=4,'Antenna Data'!F411,IF(Home!$K$10=5,'Antenna Data'!G411,IF(Home!$K$10=6,'Antenna Data'!H411,'Import Other Antenna'!G410))))))","v":-14.040000000000001},-4.7700000000000005,-18.48,-13.86,-14.040000000000001,-20.239999999999998,0]
[40.900000000000006,{"$f":"IF(Home!$K$10=1,'Antenna Data'!C412,IF(Home!$K$10=2,'Antenna Data'!D412,IF(Home!$K$10=3,'Antenna Data'!E412,IF(Home!$K$10=4,'Antenna Data'!F412,IF(Home!$K$10=5,'Antenna Data'!G412,IF(Home!$K$10=6,'Antenna Data'!H412,'Import Other Antenna'!G411))))))","v":-14.100000000000001},-4.8000000000000007,-18.27,-13.8,-14.100000000000001,-20.409999999999997,0]
[41,{"$f":"IF(Home!$K$10=1,'Antenna Data'!C413,IF(Home!$K$10=2,'Antenna Data'!D413,IF(Home!$K$10=3,'Antenna Data'!E413,IF(Home!$K$10=4,'Antenna Data'!F413,IF(Home!$K$10=5,'Antenna Data'!G413,IF(Home!$K$10=6,'Antenna Data'!H413,'Import Other Antenna'!G412))))))","v":-14.170000000000002},-4.83,-18.060000000000002,-13.74,-14.170000000000002,-20.58,0]
[41.099999999999994,{"$f":"IF(Home!$K$10=1,'Antenna Data'!C414,IF(Home!$K$10=2,'Antenna Data'!D414,IF(Home!$K$10=3,'Antenna Data'!E414,IF(Home!$K$10=4,'Antenna Data'!F414,IF(Home!$K$10=5,'Antenna Data'!G414,IF(Home!$K$10=6,'Antenna Data'!H414,'Import Other Antenna'!G413))))))","v":-14.23},-4.8600000000000003,-17.86,-13.68,-14.23,-20.759999999999998,0]
[41.199999999999989,{"$f":"IF(Home!$K$10=1,'Antenna Data'!C415,IF(Home!$K$10=2,'Antenna Data'!D415,IF(Home!$K$10=3,'Antenna Data'!E415,IF(Home!$K$10=4,'Antenna Data'!F415,IF(Home!$K$10=5,'Antenna Data'!G415,IF(Home!$K$10=6,'Antenna Data'!H415,'Import Other Antenna'!G414))))))","v":-14.3},-4.8900000000000006,-17.66,-13.629999999999999,-14.3,-20.95,0]
[41.300000000000011,{"$f":"IF(Home!$K$10=1,'Antenna Data'!C416,IF(Home!$K$10=2,'Antenna Data'!D416,IF(Home!$K$10=3,'Antenna Data'!E416,IF(Home!$K$10=4,'Antenna Data'!F416,IF(Home!$K$10=5,'Antenna Data'!G416,IF(Home!$K$10=6,'Antenna Data'!H416,'Import Other Antenna'!G415))))))","v":-14.370000000000001},-4.9200000000000008,-17.47,-13.58,-14.370000000000001,-21.13,0]
[41.400000000000006,{"$f":"IF(Home!$K$10=1,'Antenna Data'!C417,IF(Home!$K$10=2,'Antenna Data'!D417,IF(Home!$K$10=3,'Antenna Data'!E417,IF(Home!$K$10=4,'Antenna Data'!F417,IF(Home!$K$10=5,'Antenna Data'!G417,IF(Home!$K$10=6,'Antenna Data'!H417,'Import Other Antenna'!G416))))))","v":-14.440000000000001},-4.95,-17.29,-13.53,-14.440000000000001,-21.33,0]
[41.5,{"$f":"IF(Home!$K$10=1,'Antenna Data'!C418,IF(Home!$K$10=2,'Antenna Data'!D418,IF(Home!$K$10=3,'Antenna Data'!E418,IF(Home!$K$10=4,'Antenna Data'!F418,IF(Home!$K$10=5,'Antenna Data'!G418,IF(Home!$K$10=6,'Antenna Data'!H418,'Import Other Antenna'!G417))))))","v":-14.510000000000002},-4.9800000000000004,-17.11,-13.48,-14.510000000000002,-21.52,0]
[41.599999999999994,{"$f":"IF(Home!$K$10=1,'Antenna Data'!C419,IF(Home!$K$10=2,'Antenna Data'!D419,IF(Home!$K$10=3,'Antenna Data'!E419,IF(Home!$K$10=4,'Antenna Data'!F419,IF(Home!$K$10=5,'Antenna Data'!G419,IF(Home!$K$10=6,'Antenna Data'!H419,'Import Other Antenna'!G418))))))","v":-14.590000000000002},-5.0100000000000007,-16.940000000000001,-13.43,-14.590000000000002,-21.729999999999997,0]
[41.699999999999989,{"$f":"IF(Home!$K$10=1,'Antenna Data'!C420,IF(Home!$K$10=2,'Antenna Data'!D420,IF(Home!$K$10=3,'Antenna Data'!E420,IF(Home!$K$10=4,'Antenna Data'!F420,IF(Home!$K$10=5,'Antenna Data'!G420,IF(Home!$K$10=6,'Antenna Data'!H420,'Import Other Antenna'!G419))))))","v":-14.670000000000002},-5.04,-16.77,-13.379999999999999,-14.670000000000002,-21.93,0]
[41.800000000000011,{"$f":"IF(Home!$K$10=1,'Antenna Data'!C421,IF(Home!$K$10=2,'Antenna Data'!D421,IF(Home!$K$10=3,'Antenna Data'!E421,IF(Home!$K$10=4,'Antenna Data'!F421,IF(Home!$K$10=5,'Antenna Data'!G421,IF(Home!$K$10=6,'Antenna Data'!H421,'Import Other Antenna'!G420))))))","v":-14.75},-5.07,-16.61,-13.34,-14.75,-22.15,0]
[41.900000000000006,{"$f":"IF(Home!$K$10=1,'Antenna Data'!C422,IF(Home!$K$10=2,'Antenna Data'!D422,IF(Home!$K$10=3,'Antenna Data'!E422,IF(Home!$K$10=4,'Antenna Data'!F422,IF(Home!$K$10=5,'Antenna Data'!G422,IF(Home!$K$10=6,'Antenna Data'!H422,'Import Other Antenna'!G421))))))","v":-14.830000000000002},-5.1000000000000005,-16.45,-13.29,-14.830000000000002,-22.36,0]
[42,{"$f":"IF(Home!$K$10=1,'Antenna Data'!C423,IF(Home!$K$10=2,'Antenna Data'!D423,IF(Home!$K$10=3,'Antenna Data'!E423,IF(Home!$K$10=4,'Antenna Data'!F423,IF(Home!$K$10=5,'Antenna Data'!G423,IF(Home!$K$10=6,'Antenna Data'!H423,'Import Other Antenna'!G422))))))","v":-14.920000000000002},-5.1400000000000006,-16.3,-13.25,-14.920000000000002,-22.589999999999996,0]
[42.099999999999994,{"$f":"IF(Home!$K$10=1,'Antenna Data'!C424,IF(Home!$K$10=2,'Antenna Data'!D424,IF(Home!$K$10=3,'Antenna Data'!E424,IF(Home!$K$10=4,'Antenna Data'!F424,IF(Home!$K$10=5,'Antenna Data'!G424,IF(Home!$K$10=6,'Antenna Data'!H424,'Import Other Antenna'!G423))))))","v":-15.010000000000002},-5.1700000000000008,-16.150000000000002,-13.21,-15.010000000000002,-22.81,0]
[42.199999999999989,{"$f":"IF(Home!$K$10=1,'Antenna Data'!C425,IF(Home!$K$10=2,'Antenna Data'!D425,IF(Home!$K$10=3,'Antenna Data'!E425,IF(Home!$K$10=4,'Antenna Data'!F425,IF(Home!$K$10=5,'Antenna Data'!G425,IF(Home!$K$10=6,'Antenna Data'!H425,'Import Other Antenna'!G424))))))","v":-15.100000000000001},-5.2,-16,-13.18,-15.100000000000001,-23.049999999999997,0]
[42.300000000000011,{"$f":"IF(Home!$K$10=1,'Antenna Data'!C426,IF(Home!$K$10=2,'Antenna Data'!D426,IF(Home!$K$10=3,'Antenna Data'!E426,IF(Home!$K$10=4,'Antenna Data'!F426,IF(Home!$K$10=5,'Antenna Data'!G426,IF(Home!$K$10=6,'Antenna Data'!H426,'Import Other Antenna'!G425))))))","v":-15.200000000000001},-5.23,-15.860000000000001,-13.14,-15.200000000000001,-23.29,0]
[42.400000000000006,{"$f":"IF(Home!$K$10=1,'Antenna Data'!C427,IF(Home!$K$10=2,'Antenna Data'!D427,IF(Home!$K$10=3,'Antenna Data'!E427,IF(Home!$K$10=4,'Antenna Data'!F427,IF(Home!$K$10=5,'Antenna Data'!G427,IF(Home!$K$10=6,'Antenna Data'!H427,'Import Other Antenna'!G426))))))","v":-15.290000000000001},-5.2600000000000007,-15.72,-13.1,-15.290000000000001,-23.529999999999998,0]
[42.5,{"$f":"IF(Home!$K$10=1,'Antenna Data'!C428,IF(Home!$K$10=2,'Antenna Data'!D428,IF(Home!$K$10=3,'Antenna Data'!E428,IF(Home!$K$10=4,'Antenna Data'!F428,IF(Home!$K$10=5,'Antenna Data'!G428,IF(Home!$K$10=6,'Antenna Data'!H428,'Import Other Antenna'!G427))))))","v":-15.39},-5.29,-15.59,-13.07,-15.39,-23.779999999999998,0]
[42.599999999999994,{"$f":"IF(Home!$K$10=1,'Antenna Data'!C429,IF(Home!$K$10=2,'Antenna Data'!D429,IF(Home!$K$10=3,'Antenna Data'!E429,IF(Home!$K$10=4,'Antenna Data'!F429,IF(Home!$K$10=5,'Antenna Data'!G429,IF(Home!$K$10=6,'Antenna Data'!H429,'Import Other Antenna'!G428))))))","v":-15.500000000000002},-5.32,-15.450000000000001,-13.04,-15.500000000000002,-24.04,0]
[42.699999999999989,{"$f":"IF(Home!$K$10=1,'Antenna Data'!C430,IF(Home!$K$10=2,'Antenna Data'!D430,IF(Home!$K$10=3,'Antenna Data'!E430,IF(Home!$K$10=4,'Antenna Data'!F430,IF(Home!$K$10=5,'Antenna Data'!G430,IF(Home!$K$10=6,'Antenna Data'!H430,'Import Other Antenna'!G429))))))","v":-15.600000000000001},-5.36,-15.33,-13.01,-15.600000000000001,-24.299999999999997,0]
[42.800000000000011,{"$f":"IF(Home!$K$10=1,'Antenna Data'!C431,IF(Home!$K$10=2,'Antenna Data'!D431,IF(Home!$K$10=3,'Antenna Data'!E431,IF(Home!$K$10=4,'Antenna Data'!F431,IF(Home!$K$10=5,'Antenna Data'!G431,IF(Home!$K$10=6,'Antenna Data'!H431,'Import Other Antenna'!G430))))))","v":-15.71},-5.3900000000000006,-15.200000000000001,-12.98,-15.71,-24.57,0]
[42.900000000000006,{"$f":"IF(Home!$K$10=1,'Antenna Data'!C432,IF(Home!$K$10=2,'Antenna Data'!D432,IF(Home!$K$10=3,'Antenna Data'!E432,IF(Home!$K$10=4,'Antenna Data'!F432,IF(Home!$K$10=5,'Antenna Data'!G432,IF(Home!$K$10=6,'Antenna Data'!H432,'Import Other Antenna'!G431))))))","v":-15.82},-5.4200000000000008,-15.08,-12.95,-15.82,-24.839999999999996,0]
[43,{"$f":"IF(Home!$K$10=1,'Antenna Data'!C433,IF(Home!$K$10=2,'Antenna Data'!D433,IF(Home!$K$10=3,'Antenna Data'!E433,IF(Home!$K$10=4,'Antenna Data'!F433,IF(Home!$K$10=5,'Antenna Data'!G433,IF(Home!$K$10=6,'Antenna Data'!H433,'Import Other Antenna'!G432))))))","v":-15.940000000000001},-5.45,-14.96,-12.93,-15.940000000000001,-25.13,0]
[43.099999999999994,{"$f":"IF(Home!$K$10=1,'Antenna Data'!C434,IF(Home!$K$10=2,'Antenna Data'!D434,IF(Home!$K$10=3,'Antenna Data'!E434,IF(Home!$K$10=4,'Antenna Data'!F434,IF(Home!$K$10=5,'Antenna Data'!G434,IF(Home!$K$10=6,'Antenna Data'!H434,'Import Other Antenna'!G433))))))","v":-16.060000000000002},-5.49,-14.850000000000001,-12.9,-16.060000000000002,-25.409999999999997,0]
[43.199999999999989,{"$f":"IF(Home!$K$10=1,'Antenna Data'!C435,IF(Home!$K$10=2,'Antenna Data'!D435,IF(Home!$K$10=3,'Antenna Data'!E435,IF(Home!$K$10=4,'Antenna Data'!F435,IF(Home!$K$10=5,'Antenna Data'!G435,IF(Home!$K$10=6,'Antenna Data'!H435,'Import Other Antenna'!G434))))))","v":-16.18},-5.5200000000000005,-14.74,-12.879999999999999,-16.18,-25.709999999999997,0]
[43.300000000000011,{"$f":"IF(Home!$K$10=1,'Antenna Data'!C436,IF(Home!$K$10=2,'Antenna Data'!D436,IF(Home!$K$10=3,'Antenna Data'!E436,IF(Home!$K$10=4,'Antenna Data'!F436,IF(Home!$K$10=5,'Antenna Data'!G436,IF(Home!$K$10=6,'Antenna Data'!H436,'Import Other Antenna'!G435))))))","v":-16.3},-5.5500000000000007,-14.63,-12.86,-16.3,-26.009999999999998,0]
[43.400000000000006,{"$f":"IF(Home!$K$10=1,'Antenna Data'!C437,IF(Home!$K$10=2,'Antenna Data'!D437,IF(Home!$K$10=3,'Antenna Data'!E437,IF(Home!$K$10=4,'Antenna Data'!F437,IF(Home!$K$10=5,'Antenna Data'!G437,IF(Home!$K$10=6,'Antenna Data'!H437,'Import Other Antenna'!G436))))))","v":-16.43},-5.5900000000000007,-14.520000000000001,-12.84,-16.43,-26.32,0]
[43.5,{"$f":"IF(Home!$K$10=1,'Antenna Data'!C438,IF(Home!$K$10=2,'Antenna Data'!D438,IF(Home!$K$10=3,'Antenna Data'!E438,IF(Home!$K$10=4,'Antenna Data'!F438,IF(Home!$K$10=5,'Antenna Data'!G438,IF(Home!$K$10=6,'Antenna Data'!H438,'Import Other Antenna'!G437))))))","v":-16.560000000000002},-5.62,-14.42,-12.82,-16.560000000000002,-26.639999999999997,0]
[43.599999999999994,{"$f":"IF(Home!$K$10=1,'Antenna Data'!C439,IF(Home!$K$10=2,'Antenna Data'!D439,IF(Home!$K$10=3,'Antenna Data'!E439,IF(Home!$K$10=4,'Antenna Data'!F439,IF(Home!$K$10=5,'Antenna Data'!G439,IF(Home!$K$10=6,'Antenna Data'!H439,'Import Other Antenna'!G438))))))","v":-16.7},-5.65,-14.32,-12.8,-16.7,-26.97,0]
[43.699999999999989,{"$f":"IF(Home!$K$10=1,'Antenna Data'!C440,IF(Home!$K$10=2,'Antenna Data'!D440,IF(Home!$K$10=3,'Antenna Data'!E440,IF(Home!$K$10=4,'Antenna Data'!F440,IF(Home!$K$10=5,'Antenna Data'!G440,IF(Home!$K$10=6,'Antenna Data'!H440,'Import Other Antenna'!G439))))))","v":-16.84},-5.69,-14.22,-12.79,-16.84,-27.299999999999997,0]
[43.800000000000011,{"$f":"IF(Home!$K$10=1,'Antenna Data'!C441,IF(Home!$K$10=2,'Antenna Data'!D441,IF(Home!$K$10=3,'Antenna Data'!E441,IF(Home!$K$10=4,'Antenna Data'!F441,IF(Home!$K$10=5,'Antenna Data'!G441,IF(Home!$K$10=6,'Antenna Data'!H441,'Import Other Antenna'!G440))))))","v":-16.98},-5.7200000000000006,-14.120000000000001,-12.77,-16.98,-27.64,0]
[43.900000000000006,{"$f":"IF(Home!$K$10=1,'Antenna Data'!C442,IF(Home!$K$10=2,'Antenna Data'!D442,IF(Home!$K$10=3,'Antenna Data'!E442,IF(Home!$K$10=4,'Antenna Data'!F442,IF(Home!$K$10=5,'Antenna Data'!G442,IF(Home!$K$10=6,'Antenna Data'!H442,'Import Other Antenna'!G441))))))","v":-17.12},-5.75,-14.030000000000001,-12.76,-17.12,-27.99,0]
[44,{"$f":"IF(Home!$K$10=1,'Antenna Data'!C443,IF(Home!$K$10=2,'Antenna Data'!D443,IF(Home!$K$10=3,'Antenna Data'!E443,IF(Home!$K$10=4,'Antenna Data'!F443,IF(Home!$K$10=5,'Antenna Data'!G443,IF(Home!$K$10=6,'Antenna Data'!H443,'Import Other Antenna'!G442))))))","v":-17.27},-5.79,-13.940000000000001,-12.75,-17.27,-28.349999999999998,0]
[44.099999999999994,{"$f":"IF(Home!$K$10=1,'Antenna Data'!C444,IF(Home!$K$10=2,'Antenna Data'!D444,IF(Home!$K$10=3,'Antenna Data'!E444,IF(Home!$K$10=4,'Antenna Data'!F444,IF(Home!$K$10=5,'Antenna Data'!G444,IF(Home!$K$10=6,'Antenna Data'!H444,'Import Other Antenna'!G443))))))","v":-17.43},-5.82,-13.850000000000001,-12.74,-17.43,-28.72,0]
[44.199999999999989,{"$f":"IF(Home!$K$10=1,'Antenna Data'!C445,IF(Home!$K$10=2,'Antenna Data'!D445,IF(Home!$K$10=3,'Antenna Data'!E445,IF(Home!$K$10=4,'Antenna Data'!F445,IF(Home!$K$10=5,'Antenna Data'!G445,IF(Home!$K$10=6,'Antenna Data'!H445,'Import Other Antenna'!G444))))))","v":-17.580000000000002},-5.86,-13.76,-12.73,-17.580000000000002,-29.089999999999996,0]
[44.300000000000011,{"$f":"IF(Home!$K$10=1,'Antenna Data'!C446,IF(Home!$K$10=2,'Antenna Data'!D446,IF(Home!$K$10=3,'Antenna Data'!E446,IF(Home!$K$10=4,'Antenna Data'!F446,IF(Home!$K$10=5,'Antenna Data'!G446,IF(Home!$K$10=6,'Antenna Data'!H446,'Import Other Antenna'!G445))))))","v":-17.740000000000002},-5.8900000000000006,-13.68,-12.73,-17.740000000000002,-29.479999999999997,0]
[44.400000000000006,{"$f":"IF(Home!$K$10=1,'Antenna Data'!C447,IF(Home!$K$10=2,'Antenna Data'!D447,IF(Home!$K$10=3,'Antenna Data'!E447,IF(Home!$K$10=4,'Antenna Data'!F447,IF(Home!$K$10=5,'Antenna Data'!G447,IF(Home!$K$10=6,'Antenna Data'!H447,'Import Other Antenna'!G446))))))","v":-17.91},-5.9300000000000006,-13.59,-12.72,-17.91,-29.869999999999997,0]
[44.5,{"$f":"IF(Home!$K$10=1,'Antenna Data'!C448,IF(Home!$K$10=2,'Antenna Data'!D448,IF(Home!$K$10=3,'Antenna Data'!E448,IF(Home!$K$10=4,'Antenna Data'!F448,IF(Home!$K$10=5,'Antenna Data'!G448,IF(Home!$K$10=6,'Antenna Data'!H448,'Import Other Antenna'!G447))))))","v":-18.080000000000002},-5.9600000000000009,-13.510000000000002,-12.72,-18.080000000000002,-30.279999999999998,0]
[44.599999999999994,{"$f":"IF(Home!$K$10=1,'Antenna Data'!C449,IF(Home!$K$10=2,'Antenna Data'!D449,IF(Home!$K$10=3,'Antenna Data'!E449,IF(Home!$K$10=4,'Antenna Data'!F449,IF(Home!$K$10=5,'Antenna Data'!G449,IF(Home!$K$10=6,'Antenna Data'!H449,'Import Other Antenna'!G448))))))","v":-18.25},-6,-13.440000000000001,-12.71,-18.25,-30.699999999999996,0]
[44.699999999999989,{"$f":"IF(Home!$K$10=1,'Antenna Data'!C450,IF(Home!$K$10=2,'Antenna Data'!D450,IF(Home!$K$10=3,'Antenna Data'!E450,IF(Home!$K$10=4,'Antenna Data'!F450,IF(Home!$K$10=5,'Antenna Data'!G450,IF(Home!$K$10=6,'Antenna Data'!H450,'Import Other Antenna'!G449))))))","v":-18.43},-6.03,-13.360000000000001,-12.71,-18.43,-31.119999999999997,0]
[44.800000000000011,{"$f":"IF(Home!$K$10=1,'Antenna Data'!C451,IF(Home!$K$10=2,'Antenna Data'!D451,IF(Home!$K$10=3,'Antenna Data'!E451,IF(Home!$K$10=4,'Antenna Data'!F451,IF(Home!$K$10=5,'Antenna Data'!G451,IF(Home!$K$10=6,'Antenna Data'!H451,'Import Other Antenna'!G450))))))","v":-18.61},-6.07,-13.290000000000001,-12.71,-18.61,-31.56,0]
[44.900000000000006,{"$f":"IF(Home!$K$10=1,'Antenna Data'!C452,IF(Home!$K$10=2,'Antenna Data'!D452,IF(Home!$K$10=3,'Antenna Data'!E452,IF(Home!$K$10=4,'Antenna Data'!F452,IF(Home!$K$10=5,'Antenna Data'!G452,IF(Home!$K$10=6,'Antenna Data'!H452,'Import Other Antenna'!G451))))))","v":-18.79},-6.1000000000000005,-13.21,-12.71,-18.79,-32.01,0]
[45,{"$f":"IF(Home!$K$10=1,'Antenna Data'!C453,IF(Home!$K$10=2,'Antenna Data'!D453,IF(Home!$K$10=3,'Antenna Data'!E453,IF(Home!$K$10=4,'Antenna Data'!F453,IF(Home!$K$10=5,'Antenna Data'!G453,IF(Home!$K$10=6,'Antenna Data'!H453,'Import Other Antenna'!G452))))))","v":-18.98},-6.1400000000000006,-13.14,-12.72,-18.98,-32.47,0]
[45.099999999999994,{"$f":"IF(Home!$K$10=1,'Antenna Data'!C454,IF(Home!$K$10=2,'Antenna Data'!D454,IF(Home!$K$10=3,'Antenna Data'!E454,IF(Home!$K$10=4,'Antenna Data'!F454,IF(Home!$K$10=5,'Antenna Data'!G454,IF(Home!$K$10=6,'Antenna Data'!H454,'Import Other Antenna'!G453))))))","v":-19.18},-6.1700000000000008,-13.07,-12.72,-19.18,-32.949999999999996,0]
[45.199999999999989,{"$f":"IF(Home!$K$10=1,'Antenna Data'!C455,IF(Home!$K$10=2,'Antenna Data'!D455,IF(Home!$K$10=3,'Antenna Data'!E455,IF(Home!$K$10=4,'Antenna Data'!F455,IF(Home!$K$10=5,'Antenna Data'!G455,IF(Home!$K$10=6,'Antenna Data'!H455,'Import Other Antenna'!G454))))))","v":-19.37},-6.2100000000000009,-13.010000000000002,-12.73,-19.37,-33.43,0]
[45.300000000000011,{"$f":"IF(Home!$K$10=1,'Antenna Data'!C456,IF(Home!$K$10=2,'Antenna Data'!D456,IF(Home!$K$10=3,'Antenna Data'!E456,IF(Home!$K$10=4,'Antenna Data'!F456,IF(Home!$K$10=5,'Antenna Data'!G456,IF(Home!$K$10=6,'Antenna Data'!H456,'Import Other Antenna'!G455))))))","v":-19.580000000000002},-6.25,-12.940000000000001,-12.73,-19.580000000000002,-33.93,0]
[45.400000000000006,{"$f":"IF(Home!$K$10=1,'Antenna Data'!C457,IF(Home!$K$10=2,'Antenna Data'!D457,IF(Home!$K$10=3,'Antenna Data'!E457,IF(Home!$K$10=4,'Antenna Data'!F457,IF(Home!$K$10=5,'Antenna Data'!G457,IF(Home!$K$10=6,'Antenna Data'!H457,'Import Other Antenna'!G456))))))","v":-19.78},-6.28,-12.88,-12.74,-19.78,-34.44,0]
[45.5,{"$f":"IF(Home!$K$10=1,'Antenna Data'!C458,IF(Home!$K$10=2,'Antenna Data'!D458,IF(Home!$K$10=3,'Antenna Data'!E458,IF(Home!$K$10=4,'Antenna Data'!F458,IF(Home!$K$10=5,'Antenna Data'!G458,IF(Home!$K$10=6,'Antenna Data'!H458,'Import Other Antenna'!G457))))))","v":-20},-6.32,-12.82,-12.75,-20,-34.97,0]
[45.599999999999994,{"$f":"IF(Home!$K$10=1,'Antenna Data'!C459,IF(Home!$K$10=2,'Antenna Data'!D459,IF(Home!$K$10=3,'Antenna Data'!E459,IF(Home!$K$10=4,'Antenna Data'!F459,IF(Home!$K$10=5,'Antenna Data'!G459,IF(Home!$K$10=6,'Antenna Data'!H459,'Import Other Antenna'!G458))))))","v":-20.21},-6.36,-12.760000000000002,-12.76,-20.21,-35.51,0]
[45.699999999999989,{"$f":"IF(Home!$K$10=1,'Antenna Data'!C460,IF(Home!$K$10=2,'Antenna Data'!D460,IF(Home!$K$10=3,'Antenna Data'!E460,IF(Home!$K$10=4,'Antenna Data'!F460,IF(Home!$K$10=5,'Antenna Data'!G460,IF(Home!$K$10=6,'Antenna Data'!H460,'Import Other Antenna'!G459))))))","v":-20.43},-6.4,-12.700000000000001,-12.78,-20.43,-36.06,0]
[45.800000000000011,{"$f":"IF(Home!$K$10=1,'Antenna Data'!C461,IF(Home!$K$10=2,'Antenna Data'!D461,IF(Home!$K$10=3,'Antenna Data'!E461,IF(Home!$K$10=4,'Antenna Data'!F461,IF(Home!$K$10=5,'Antenna Data'!G461,IF(Home!$K$10=6,'Antenna Data'!H461,'Import Other Antenna'!G460))))))","v":-20.66},-6.4300000000000006,-12.64,-12.79,-20.66,-36.629999999999995,0]
[45.900000000000006,{"$f":"IF(Home!$K$10=1,'Antenna Data'!C462,IF(Home!$K$10=2,'Antenna Data'!D462,IF(Home!$K$10=3,'Antenna Data'!E462,IF(Home!$K$10=4,'Antenna Data'!F462,IF(Home!$K$10=5,'Antenna Data'!G462,IF(Home!$K$10=6,'Antenna Data'!H462,'Import Other Antenna'!G461))))))","v":-20.89},-6.4700000000000006,-12.59,-12.81,-20.89,-37.209999999999994,0]
[46,{"$f":"IF(Home!$K$10=1,'Antenna Data'!C463,IF(Home!$K$10=2,'Antenna Data'!D463,IF(Home!$K$10=3,'Antenna Data'!E463,IF(Home!$K$10=4,'Antenna Data'!F463,IF(Home!$K$10=5,'Antenna Data'!G463,IF(Home!$K$10=6,'Antenna Data'!H463,'Import Other Antenna'!G462))))))","v":-21.12},-6.51,-12.540000000000001,-12.82,-21.12,-37.81,0]
[46.099999999999994,{"$f":"IF(Home!$K$10=1,'Antenna Data'!C464,IF(Home!$K$10=2,'Antenna Data'!D464,IF(Home!$K$10=3,'Antenna Data'!E464,IF(Home!$K$10=4,'Antenna Data'!F464,IF(Home!$K$10=5,'Antenna Data'!G464,IF(Home!$K$10=6,'Antenna Data'!H464,'Import Other Antenna'!G463))))))","v":-21.36},-6.5500000000000007,-12.49,-12.84,-21.36,-38.42,0]
[46.199999999999989,{"$f":"IF(Home!$K$10=1,'Antenna Data'!C465,IF(Home!$K$10=2,'Antenna Data'!D465,IF(Home!$K$10=3,'Antenna Data'!E465,IF(Home!$K$10=4,'Antenna Data'!F465,IF(Home!$K$10=5,'Antenna Data'!G465,IF(Home!$K$10=6,'Antenna Data'!H465,'Import Other Antenna'!G464))))))","v":-21.6},-6.58,-12.440000000000001,-12.86,-21.6,-39.04,0]
[46.300000000000011,{"$f":"IF(Home!$K$10=1,'Antenna Data'!C466,IF(Home!$K$10=2,'Antenna Data'!D466,IF(Home!$K$10=3,'Antenna Data'!E466,IF(Home!$K$10=4,'Antenna Data'!F466,IF(Home!$K$10=5,'Antenna Data'!G466,IF(Home!$K$10=6,'Antenna Data'!H466,'Import Other Antenna'!G465))))))","v":-21.84},-6.620000000000001,-12.39,-12.879999999999999,-21.84,-39.68,0]
[46.400000000000006,{"$f":"IF(Home!$K$10=1,'Antenna Data'!C467,IF(Home!$K$10=2,'Antenna Data'!D467,IF(Home!$K$10=3,'Antenna Data'!E467,IF(Home!$K$10=4,'Antenna Data'!F467,IF(Home!$K$10=5,'Antenna Data'!G467,IF(Home!$K$10=6,'Antenna Data'!H467,'Import Other Antenna'!G466))))))","v":-22.09},-6.66,-12.34,-12.9,-22.09,-40.340000000000003,0]
[46.5,{"$f":"IF(Home!$K$10=1,'Antenna Data'!C468,IF(Home!$K$10=2,'Antenna Data'!D468,IF(Home!$K$10=3,'Antenna Data'!E468,IF(Home!$K$10=4,'Antenna Data'!F468,IF(Home!$K$10=5,'Antenna Data'!G468,IF(Home!$K$10=6,'Antenna Data'!H468,'Import Other Antenna'!G467))))))","v":-22.34},-6.7000000000000011,-12.3,-12.93,-22.34,-41.01,0]
[46.599999999999994,{"$f":"IF(Home!$K$10=1,'Antenna Data'!C469,IF(Home!$K$10=2,'Antenna Data'!D469,IF(Home!$K$10=3,'Antenna Data'!E469,IF(Home!$K$10=4,'Antenna Data'!F469,IF(Home!$K$10=5,'Antenna Data'!G469,IF(Home!$K$10=6,'Antenna Data'!H469,'Import Other Antenna'!G468))))))","v":-22.59},-6.74,-12.25,-12.95,-22.59,-41.7,0]
[46.699999999999989,{"$f":"IF(Home!$K$10=1,'Antenna Data'!C470,IF(Home!$K$10=2,'Antenna Data'!D470,IF(Home!$K$10=3,'Antenna Data'!E470,IF(Home!$K$10=4,'Antenna Data'!F470,IF(Home!$K$10=5,'Antenna Data'!G470,IF(Home!$K$10=6,'Antenna Data'!H470,'Import Other Antenna'!G469))))))","v":-22.84},-6.78,-12.21,-12.98,-22.84,-42.4,0]
[46.800000000000011,{"$f":"IF(Home!$K$10=1,'Antenna Data'!C471,IF(Home!$K$10=2,'Antenna Data'!D471,IF(Home!$K$10=3,'Antenna Data'!E471,IF(Home!$K$10=4,'Antenna Data'!F471,IF(Home!$K$10=5,'Antenna Data'!G471,IF(Home!$K$10=6,'Antenna Data'!H471,'Import Other Antenna'!G470))))))","v":-23.09},-6.82,-12.170000000000002,-13.01,-23.09,-43.11,0]
[46.900000000000006,{"$f":"IF(Home!$K$10=1,'Antenna Data'!C472,IF(Home!$K$10=2,'Antenna Data'!D472,IF(Home!$K$10=3,'Antenna Data'!E472,IF(Home!$K$10=4,'Antenna Data'!F472,IF(Home!$K$10=5,'Antenna Data'!G472,IF(Home!$K$10=6,'Antenna Data'!H472,'Import Other Antenna'!G471))))))","v":-23.34},-6.86,-12.13,-13.04,-23.34,-43.84,0]
[47,{"$f":"IF(Home!$K$10=1,'Antenna Data'!C473,IF(Home!$K$10=2,'Antenna Data'!D473,IF(Home!$K$10=3,'Antenna Data'!E473,IF(Home!$K$10=4,'Antenna Data'!F473,IF(Home!$K$10=5,'Antenna Data'!G473,IF(Home!$K$10=6,'Antenna Data'!H473,'Import Other Antenna'!G472))))))","v":-23.580000000000002},-6.9,-12.09,-13.07,-23.580000000000002,-44.58,0]
[47.099999999999994,{"$f":"IF(Home!$K$10=1,'Antenna Data'!C474,IF(Home!$K$10=2,'Antenna Data'!D474,IF(Home!$K$10=3,'Antenna Data'!E474,IF(Home!$K$10=4,'Antenna Data'!F474,IF(Home!$K$10=5,'Antenna Data'!G474,IF(Home!$K$10=6,'Antenna Data'!H474,'Import Other Antenna'!G473))))))","v":-23.830000000000002},-6.94,-12.05,-13.1,-23.830000000000002,-45.34,0]
[47.199999999999989,{"$f":"IF(Home!$K$10=1,'Antenna Data'!C475,IF(Home!$K$10=2,'Antenna Data'!D475,IF(Home!$K$10=3,'Antenna Data'!E475,IF(Home!$K$10=4,'Antenna Data'!F475,IF(Home!$K$10=5,'Antenna Data'!G475,IF(Home!$K$10=6,'Antenna Data'!H475,'Import Other Antenna'!G474))))))","v":-24.060000000000002},-6.98,-12.02,-13.14,-24.060000000000002,-46.12,0]
[47.300000000000011,{"$f":"IF(Home!$K$10=1,'Antenna Data'!C476,IF(Home!$K$10=2,'Antenna Data'!D476,IF(Home!$K$10=3,'Antenna Data'!E476,IF(Home!$K$10=4,'Antenna Data'!F476,IF(Home!$K$10=5,'Antenna Data'!G476,IF(Home!$K$10=6,'Antenna Data'!H476,'Import Other Antenna'!G475))))))","v":-24.3},-7.0200000000000005,-11.99,-13.17,-24.3,-46.91,0]
[47.400000000000006,{"$f":"IF(Home!$K$10=1,'Antenna Data'!C477,IF(Home!$K$10=2,'Antenna Data'!D477,IF(Home!$K$10=3,'Antenna Data'!E477,IF(Home!$K$10=4,'Antenna Data'!F477,IF(Home!$K$10=5,'Antenna Data'!G477,IF(Home!$K$10=6,'Antenna Data'!H477,'Import Other Antenna'!G476))))))","v":-24.520000000000003},-7.0600000000000005,-11.950000000000001,-13.21,-24.520000000000003,-47.73,0]
[47.5,{"$f":"IF(Home!$K$10=1,'Antenna Data'!C478,IF(Home!$K$10=2,'Antenna Data'!D478,IF(Home!$K$10=3,'Antenna Data'!E478,IF(Home!$K$10=4,'Antenna Data'!F478,IF(Home!$K$10=5,'Antenna Data'!G478,IF(Home!$K$10=6,'Antenna Data'!H478,'Import Other Antenna'!G477))))))","v":-24.73},-7.1000000000000005,-11.920000000000002,-13.25,-24.73,-48.58,0]
[47.599999999999994,{"$f":"IF(Home!$K$10=1,'Antenna Data'!C479,IF(Home!$K$10=2,'Antenna Data'!D479,IF(Home!$K$10=3,'Antenna Data'!E479,IF(Home!$K$10=4,'Antenna Data'!F479,IF(Home!$K$10=5,'Antenna Data'!G479,IF(Home!$K$10=6,'Antenna Data'!H479,'Import Other Antenna'!G478))))))","v":-24.92},-7.1400000000000006,-11.89,-13.29,-24.92,-49.47,0]
[47.699999999999989,{"$f":"IF(Home!$K$10=1,'Antenna Data'!C480,IF(Home!$K$10=2,'Antenna Data'!D480,IF(Home!$K$10=3,'Antenna Data'!E480,IF(Home!$K$10=4,'Antenna Data'!F480,IF(Home!$K$10=5,'Antenna Data'!G480,IF(Home!$K$10=6,'Antenna Data'!H480,'Import Other Antenna'!G479))))))","v":-25.1},-7.1800000000000006,-11.860000000000001,-13.33,-25.1,-50.42,0]
[47.800000000000011,{"$f":"IF(Home!$K$10=1,'Antenna Data'!C481,IF(Home!$K$10=2,'Antenna Data'!D481,IF(Home!$K$10=3,'Antenna Data'!E481,IF(Home!$K$10=4,'Antenna Data'!F481,IF(Home!$K$10=5,'Antenna Data'!G481,IF(Home!$K$10=6,'Antenna Data'!H481,'Import Other Antenna'!G480))))))","v":-25.26},-7.2200000000000006,-11.84,-13.370000000000001,-25.26,-51.449999999999996,0]
[47.900000000000006,{"$f":"IF(Home!$K$10=1,'Antenna Data'!C482,IF(Home!$K$10=2,'Antenna Data'!D482,IF(Home!$K$10=3,'Antenna Data'!E482,IF(Home!$K$10=4,'Antenna Data'!F482,IF(Home!$K$10=5,'Antenna Data'!G482,IF(Home!$K$10=6,'Antenna Data'!H482,'Import Other Antenna'!G481))))))","v":-25.4},-7.26,-11.81,-13.42,-25.4,-52.58,0]
[48,{"$f":"IF(Home!$K$10=1,'Antenna Data'!C483,IF(Home!$K$10=2,'Antenna Data'!D483,IF(Home!$K$10=3,'Antenna Data'!E483,IF(Home!$K$10=4,'Antenna Data'!F483,IF(Home!$K$10=5,'Antenna Data'!G483,IF(Home!$K$10=6,'Antenna Data'!H483,'Import Other Antenna'!G482))))))","v":-25.520000000000003},-7.3100000000000005,-11.790000000000001,-13.47,-25.520000000000003,-53.86,0]
[48.099999999999994,{"$f":"IF(Home!$K$10=1,'Antenna Data'!C484,IF(Home!$K$10=2,'Antenna Data'!D484,IF(Home!$K$10=3,'Antenna Data'!E484,IF(Home!$K$10=4,'Antenna Data'!F484,IF(Home!$K$10=5,'Antenna Data'!G484,IF(Home!$K$10=6,'Antenna Data'!H484,'Import Other Antenna'!G483))))))","v":-25.61},-7.3500000000000005,-11.760000000000002,-13.51,-25.61,-55.36,0]
[48.199999999999989,{"$f":"IF(Home!$K$10=1,'Antenna Data'!C485,IF(Home!$K$10=2,'Antenna Data'!D485,IF(Home!$K$10=3,'Antenna Data'!E485,IF(Home!$K$10=4,'Antenna Data'!F485,IF(Home!$K$10=5,'Antenna Data'!G485,IF(Home!$K$10=6,'Antenna Data'!H485,'Import Other Antenna'!G484))))))","v":-25.68},-7.3900000000000006,-11.74,-13.56,-25.68,-57.21,0]
[48.300000000000011,{"$f":"IF(Home!$K$10=1,'Antenna Data'!C486,IF(Home!$K$10=2,'Antenna Data'!D486,IF(Home!$K$10=3,'Antenna Data'!E486,IF(Home!$K$10=4,'Antenna Data'!F486,IF(Home!$K$10=5,'Antenna Data'!G486,IF(Home!$K$10=6,'Antenna Data'!H486,'Import Other Antenna'!G485))))))","v":-25.72},-7.4300000000000006,-11.72,-13.61,-25.72,-59.61,0]
[48.400000000000006,{"$f":"IF(Home!$K$10=1,'Antenna Data'!C487,IF(Home!$K$10=2,'Antenna Data'!D487,IF(Home!$K$10=3,'Antenna Data'!E487,IF(Home!$K$10=4,'Antenna Data'!F487,IF(Home!$K$10=5,'Antenna Data'!G487,IF(Home!$K$10=6,'Antenna Data'!H487,'Import Other Antenna'!G486))))))","v":-25.73},-7.48,-11.700000000000001,-13.67,-25.73,-63.059999999999995,0]
[48.5,{"$f":"IF(Home!$K$10=1,'Antenna Data'!C488,IF(Home!$K$10=2,'Antenna Data'!D488,IF(Home!$K$10=3,'Antenna Data'!E488,IF(Home!$K$10=4,'Antenna Data'!F488,IF(Home!$K$10=5,'Antenna Data'!G488,IF(Home!$K$10=6,'Antenna Data'!H488,'Import Other Antenna'!G487))))))","v":-25.71},-7.5200000000000005,-11.68,-13.72,-25.71,-69.199999999999989,0]
[48.599999999999994,{"$f":"IF(Home!$K$10=1,'Antenna Data'!C489,IF(Home!$K$10=2,'Antenna Data'!D489,IF(Home!$K$10=3,'Antenna Data'!E489,IF(Home!$K$10=4,'Antenna Data'!F489,IF(Home!$K$10=5,'Antenna Data'!G489,IF(Home!$K$10=6,'Antenna Data'!H489,'Import Other Antenna'!G488))))))","v":-25.67},-7.5600000000000005,-11.670000000000002,-13.78,-25.67,-89.11,0]
[48.699999999999989,{"$f":"IF(Home!$K$10=1,'Antenna Data'!C490,IF(Home!$K$10=2,'Antenna Data'!D490,IF(Home!$K$10=3,'Antenna Data'!E490,IF(Home!$K$10=4,'Antenna Data'!F490,IF(Home!$K$10=5,'Antenna Data'!G490,IF(Home!$K$10=6,'Antenna Data'!H490,'Import Other Antenna'!G489))))))","v":-25.6},-7.61,-11.65,-13.83,-25.6,-67.56,0]
[48.800000000000011,{"$f":"IF(Home!$K$10=1,'Antenna Data'!C491,IF(Home!$K$10=2,'Antenna Data'!D491,IF(Home!$K$10=3,'Antenna Data'!E491,IF(Home!$K$10=4,'Antenna Data'!F491,IF(Home!$K$10=5,'Antenna Data'!G491,IF(Home!$K$10=6,'Antenna Data'!H491,'Import Other Antenna'!G490))))))","v":-25.51},-7.65,-11.64,-13.89,-25.51,-61.61,0]
[48.900000000000006,{"$f":"IF(Home!$K$10=1,'Antenna Data'!C492,IF(Home!$K$10=2,'Antenna Data'!D492,IF(Home!$K$10=3,'Antenna Data'!E492,IF(Home!$K$10=4,'Antenna Data'!F492,IF(Home!$K$10=5,'Antenna Data'!G492,IF(Home!$K$10=6,'Antenna Data'!H492,'Import Other Antenna'!G491))))))","v":-25.39},-7.69,-11.620000000000001,-13.95,-25.39,-57.96,0]
[49,{"$f":"IF(Home!$K$10=1,'Antenna Data'!C493,IF(Home!$K$10=2,'Antenna Data'!D493,IF(Home!$K$10=3,'Antenna Data'!E493,IF(Home!$K$10=4,'Antenna Data'!F493,IF(Home!$K$10=5,'Antenna Data'!G493,IF(Home!$K$10=6,'Antenna Data'!H493,'Import Other Antenna'!G492))))))","v":-25.25},-7.74,-11.610000000000001,-14.02,-25.25,-55.28,0]
[49.099999999999994,{"$f":"IF(Home!$K$10=1,'Antenna Data'!C494,IF(Home!$K$10=2,'Antenna Data'!D494,IF(Home!$K$10=3,'Antenna Data'!E494,IF(Home!$K$10=4,'Antenna Data'!F494,IF(Home!$K$10=5,'Antenna Data'!G494,IF(Home!$K$10=6,'Antenna Data'!H494,'Import Other Antenna'!G493))))))","v":-25.1},-7.78,-11.600000000000001,-14.08,-25.1,-53.129999999999995,0]
[49.199999999999989,{"$f":"IF(Home!$K$10=1,'Antenna Data'!C495,IF(Home!$K$10=2,'Antenna Data'!D495,IF(Home!$K$10=3,'Antenna Data'!E495,IF(Home!$K$10=4,'Antenna Data'!F495,IF(Home!$K$10=5,'Antenna Data'!G495,IF(Home!$K$10=6,'Antenna Data'!H495,'Import Other Antenna'!G494))))))","v":-24.93},-7.83,-11.59,-14.15,-24.93,-51.33,0]
[49.300000000000011,{"$f":"IF(Home!$K$10=1,'Antenna Data'!C496,IF(Home!$K$10=2,'Antenna Data'!D496,IF(Home!$K$10=3,'Antenna Data'!E496,IF(Home!$K$10=4,'Antenna Data'!F496,IF(Home!$K$10=5,'Antenna Data'!G496,IF(Home!$K$10=6,'Antenna Data'!H496,'Import Other Antenna'!G495))))))","v":-24.75},-7.870000000000001,-11.58,-14.21,-24.75,-49.76,0]
[49.400000000000006,{"$f":"IF(Home!$K$10=1,'Antenna Data'!C497,IF(Home!$K$10=2,'Antenna Data'!D497,IF(Home!$K$10=3,'Antenna Data'!E497,IF(Home!$K$10=4,'Antenna Data'!F497,IF(Home!$K$10=5,'Antenna Data'!G497,IF(Home!$K$10=6,'Antenna Data'!H497,'Import Other Antenna'!G496))))))","v":-24.560000000000002},-7.92,-11.57,-14.28,-24.560000000000002,-48.37,0]
[49.5,{"$f":"IF(Home!$K$10=1,'Antenna Data'!C498,IF(Home!$K$10=2,'Antenna Data'!D498,IF(Home!$K$10=3,'Antenna Data'!E498,IF(Home!$K$10=4,'Antenna Data'!F498,IF(Home!$K$10=5,'Antenna Data'!G498,IF(Home!$K$10=6,'Antenna Data'!H498,'Import Other Antenna'!G497))))))","v":-24.36},-7.9600000000000009,-11.57,-14.35,-24.36,-47.12,0]
[49.599999999999994,{"$f":"IF(Home!$K$10=1,'Antenna Data'!C499,IF(Home!$K$10=2,'Antenna Data'!D499,IF(Home!$K$10=3,'Antenna Data'!E499,IF(Home!$K$10=4,'Antenna Data'!F499,IF(Home!$K$10=5,'Antenna Data'!G499,IF(Home!$K$10=6,'Antenna Data'!H499,'Import Other Antenna'!G498))))))","v":-24.150000000000002},-8.01,-11.56,-14.43,-24.150000000000002,-45.98,0]
[49.699999999999989,{"$f":"IF(Home!$K$10=1,'Antenna Data'!C500,IF(Home!$K$10=2,'Antenna Data'!D500,IF(Home!$K$10=3,'Antenna Data'!E500,IF(Home!$K$10=4,'Antenna Data'!F500,IF(Home!$K$10=5,'Antenna Data'!G500,IF(Home!$K$10=6,'Antenna Data'!H500,'Import Other Antenna'!G499))))))","v":-23.94},-8.0500000000000007,-11.56,-14.5,-23.94,-44.93,0]
[49.800000000000011,{"$f":"IF(Home!$K$10=1,'Antenna Data'!C501,IF(Home!$K$10=2,'Antenna Data'!D501,IF(Home!$K$10=3,'Antenna Data'!E501,IF(Home!$K$10=4,'Antenna Data'!F501,IF(Home!$K$10=5,'Antenna Data'!G501,IF(Home!$K$10=6,'Antenna Data'!H501,'Import Other Antenna'!G500))))))","v":-23.72},-8.1000000000000014,-11.56,-14.58,-23.72,-43.95,0]
[49.900000000000006,{"$f":"IF(Home!$K$10=1,'Antenna Data'!C502,IF(Home!$K$10=2,'Antenna Data'!D502,IF(Home!$K$10=3,'Antenna Data'!E502,IF(Home!$K$10=4,'Antenna Data'!F502,IF(Home!$K$10=5,'Antenna Data'!G502,IF(Home!$K$10=6,'Antenna Data'!H502,'Import Other Antenna'!G501))))))","v":-23.51},-8.15,-11.56,-14.66,-23.51,-43.04,0]
[50,{"$f":"IF(Home!$K$10=1,'Antenna Data'!C503,IF(Home!$K$10=2,'Antenna Data'!D503,IF(Home!$K$10=3,'Antenna Data'!E503,IF(Home!$K$10=4,'Antenna Data'!F503,IF(Home!$K$10=5,'Antenna Data'!G503,IF(Home!$K$10=6,'Antenna Data'!H503,'Import Other Antenna'!G502))))))","v":-23.29},-8.1900000000000013,-11.56,-14.74,-23.29,-42.18,0]
[50.099999999999994,{"$f":"IF(Home!$K$10=1,'Antenna Data'!C504,IF(Home!$K$10=2,'Antenna Data'!D504,IF(Home!$K$10=3,'Antenna Data'!E504,IF(Home!$K$10=4,'Antenna Data'!F504,IF(Home!$K$10=5,'Antenna Data'!G504,IF(Home!$K$10=6,'Antenna Data'!H504,'Import Other Antenna'!G503))))))","v":-23.07},-8.24,-11.56,-14.82,-23.07,-41.379999999999995,0]
[50.199999999999989,{"$f":"IF(Home!$K$10=1,'Antenna Data'!C505,IF(Home!$K$10=2,'Antenna Data'!D505,IF(Home!$K$10=3,'Antenna Data'!E505,IF(Home!$K$10=4,'Antenna Data'!F505,IF(Home!$K$10=5,'Antenna Data'!G505,IF(Home!$K$10=6,'Antenna Data'!H505,'Import Other Antenna'!G504))))))","v":-22.85},-8.2900000000000009,-11.56,-14.91,-22.85,-40.61,0]
[50.300000000000011,{"$f":"IF(Home!$K$10=1,'Antenna Data'!C506,IF(Home!$K$10=2,'Antenna Data'!D506,IF(Home!$K$10=3,'Antenna Data'!E506,IF(Home!$K$10=4,'Antenna Data'!F506,IF(Home!$K$10=5,'Antenna Data'!G506,IF(Home!$K$10=6,'Antenna Data'!H506,'Import Other Antenna'!G505))))))","v":-22.64},-8.34,-11.56,-14.99,-22.64,-39.89,0]
[50.400000000000006,{"$f":"IF(Home!$K$10=1,'Antenna Data'!C507,IF(Home!$K$10=2,'Antenna Data'!D507,IF(Home!$K$10=3,'Antenna Data'!E507,IF(Home!$K$10=4,'Antenna Data'!F507,IF(Home!$K$10=5,'Antenna Data'!G507,IF(Home!$K$10=6,'Antenna Data'!H507,'Import Other Antenna'!G506))))))","v":-22.43},-8.3800000000000008,-11.57,-15.08,-22.43,-39.200000000000003,0]
[50.5,{"$f":"IF(Home!$K$10=1,'Antenna Data'!C508,IF(Home!$K$10=2,'Antenna Data'!D508,IF(Home!$K$10=3,'Antenna Data'!E508,IF(Home!$K$10=4,'Antenna Data'!F508,IF(Home!$K$10=5,'Antenna Data'!G508,IF(Home!$K$10=6,'Antenna Data'!H508,'Import Other Antenna'!G507))))))","v":-22.22},-8.43,-11.58,-15.17,-22.22,-38.54,0]
[50.599999999999994,{"$f":"IF(Home!$K$10=1,'Antenna Data'!C509,IF(Home!$K$10=2,'Antenna Data'!D509,IF(Home!$K$10=3,'Antenna Data'!E509,IF(Home!$K$10=4,'Antenna Data'!F509,IF(Home!$K$10=5,'Antenna Data'!G509,IF(Home!$K$10=6,'Antenna Data'!H509,'Import Other Antenna'!G508))))))","v":-22.01},-8.48,-11.58,-15.26,-22.01,-37.92,0]
[50.699999999999989,{"$f":"IF(Home!$K$10=1,'Antenna Data'!C510,IF(Home!$K$10=2,'Antenna Data'!D510,IF(Home!$K$10=3,'Antenna Data'!E510,IF(Home!$K$10=4,'Antenna Data'!F510,IF(Home!$K$10=5,'Antenna Data'!G510,IF(Home!$K$10=6,'Antenna Data'!H510,'Import Other Antenna'!G509))))))","v":-21.810000000000002},-8.5300000000000011,-11.59,-15.36,-21.810000000000002,-37.31,0]
[50.800000000000011,{"$f":"IF(Home!$K$10=1,'Antenna Data'!C511,IF(Home!$K$10=2,'Antenna Data'!D511,IF(Home!$K$10=3,'Antenna Data'!E511,IF(Home!$K$10=4,'Antenna Data'!F511,IF(Home!$K$10=5,'Antenna Data'!G511,IF(Home!$K$10=6,'Antenna Data'!H511,'Import Other Antenna'!G510))))))","v":-21.62},-8.58,-11.600000000000001,-15.46,-21.62,-36.739999999999995,0]
[50.900000000000006,{"$f":"IF(Home!$K$10=1,'Antenna Data'!C512,IF(Home!$K$10=2,'Antenna Data'!D512,IF(Home!$K$10=3,'Antenna Data'!E512,IF(Home!$K$10=4,'Antenna Data'!F512,IF(Home!$K$10=5,'Antenna Data'!G512,IF(Home!$K$10=6,'Antenna Data'!H512,'Import Other Antenna'!G511))))))","v":-21.42},-8.6300000000000008,-11.610000000000001,-15.55,-21.42,-36.19,0]
[51,{"$f":"IF(Home!$K$10=1,'Antenna Data'!C513,IF(Home!$K$10=2,'Antenna Data'!D513,IF(Home!$K$10=3,'Antenna Data'!E513,IF(Home!$K$10=4,'Antenna Data'!F513,IF(Home!$K$10=5,'Antenna Data'!G513,IF(Home!$K$10=6,'Antenna Data'!H513,'Import Other Antenna'!G512))))))","v":-21.23},-8.68,-11.620000000000001,-15.66,-21.23,-35.65,0]
[51.099999999999994,{"$f":"IF(Home!$K$10=1,'Antenna Data'!C514,IF(Home!$K$10=2,'Antenna Data'!D514,IF(Home!$K$10=3,'Antenna Data'!E514,IF(Home!$K$10=4,'Antenna Data'!F514,IF(Home!$K$10=5,'Antenna Data'!G514,IF(Home!$K$10=6,'Antenna Data'!H514,'Import Other Antenna'!G513))))))","v":-21.05},-8.73,-11.64,-15.76,-21.05,-35.14,0]
[51.199999999999989,{"$f":"IF(Home!$K$10=1,'Antenna Data'!C515,IF(Home!$K$10=2,'Antenna Data'!D515,IF(Home!$K$10=3,'Antenna Data'!E515,IF(Home!$K$10=4,'Antenna Data'!F515,IF(Home!$K$10=5,'Antenna Data'!G515,IF(Home!$K$10=6,'Antenna Data'!H515,'Import Other Antenna'!G514))))))","v":-20.87},-8.7800000000000011,-11.65,-15.86,-20.87,-34.65,0]
[51.300000000000011,{"$f":"IF(Home!$K$10=1,'Antenna Data'!C516,IF(Home!$K$10=2,'Antenna Data'!D516,IF(Home!$K$10=3,'Antenna Data'!E516,IF(Home!$K$10=4,'Antenna Data'!F516,IF(Home!$K$10=5,'Antenna Data'!G516,IF(Home!$K$10=6,'Antenna Data'!H516,'Import Other Antenna'!G515))))))","v":-20.69},-8.83,-11.670000000000002,-15.97,-20.69,-34.18,0]
[51.400000000000006,{"$f":"IF(Home!$K$10=1,'Antenna Data'!C517,IF(Home!$K$10=2,'Antenna Data'!D517,IF(Home!$K$10=3,'Antenna Data'!E517,IF(Home!$K$10=4,'Antenna Data'!F517,IF(Home!$K$10=5,'Antenna Data'!G517,IF(Home!$K$10=6,'Antenna Data'!H517,'Import Other Antenna'!G516))))))","v":-20.520000000000003},-8.8800000000000008,-11.68,-16.079999999999998,-20.520000000000003,-33.72,0]
[51.5,{"$f":"IF(Home!$K$10=1,'Antenna Data'!C518,IF(Home!$K$10=2,'Antenna Data'!D518,IF(Home!$K$10=3,'Antenna Data'!E518,IF(Home!$K$10=4,'Antenna Data'!F518,IF(Home!$K$10=5,'Antenna Data'!G518,IF(Home!$K$10=6,'Antenna Data'!H518,'Import Other Antenna'!G517))))))","v":-20.36},-8.93,-11.700000000000001,-16.2,-20.36,-33.28,0]
[51.599999999999994,{"$f":"IF(Home!$K$10=1,'Antenna Data'!C519,IF(Home!$K$10=2,'Antenna Data'!D519,IF(Home!$K$10=3,'Antenna Data'!E519,IF(Home!$K$10=4,'Antenna Data'!F519,IF(Home!$K$10=5,'Antenna Data'!G519,IF(Home!$K$10=6,'Antenna Data'!H519,'Import Other Antenna'!G518))))))","v":-20.200000000000003},-8.98,-11.72,-16.309999999999999,-20.200000000000003,-32.849999999999994,0]
[51.699999999999989,{"$f":"IF(Home!$K$10=1,'Antenna Data'!C520,IF(Home!$K$10=2,'Antenna Data'!D520,IF(Home!$K$10=3,'Antenna Data'!E520,IF(Home!$K$10=4,'Antenna Data'!F520,IF(Home!$K$10=5,'Antenna Data'!G520,IF(Home!$K$10=6,'Antenna Data'!H520,'Import Other Antenna'!G519))))))","v":-20.04},-9.0300000000000011,-11.74,-16.43,-20.04,-32.44,0]
[51.800000000000011,{"$f":"IF(Home!$K$10=1,'Antenna Data'!C521,IF(Home!$K$10=2,'Antenna Data'!D521,IF(Home!$K$10=3,'Antenna Data'!E521,IF(Home!$K$10=4,'Antenna Data'!F521,IF(Home!$K$10=5,'Antenna Data'!G521,IF(Home!$K$10=6,'Antenna Data'!H521,'Import Other Antenna'!G520))))))","v":-19.89},-9.08,-11.760000000000002,-16.55,-19.89,-32.04,0]
[51.900000000000006,{"$f":"IF(Home!$K$10=1,'Antenna Data'!C522,IF(Home!$K$10=2,'Antenna Data'!D522,IF(Home!$K$10=3,'Antenna Data'!E522,IF(Home!$K$10=4,'Antenna Data'!F522,IF(Home!$K$10=5,'Antenna Data'!G522,IF(Home!$K$10=6,'Antenna Data'!H522,'Import Other Antenna'!G521))))))","v":-19.740000000000002},-9.14,-11.780000000000001,-16.670000000000002,-19.740000000000002,-31.659999999999997,0]
[52,{"$f":"IF(Home!$K$10=1,'Antenna Data'!C523,IF(Home!$K$10=2,'Antenna Data'!D523,IF(Home!$K$10=3,'Antenna Data'!E523,IF(Home!$K$10=4,'Antenna Data'!F523,IF(Home!$K$10=5,'Antenna Data'!G523,IF(Home!$K$10=6,'Antenna Data'!H523,'Import Other Antenna'!G522))))))","v":-19.600000000000001},-9.1900000000000013,-11.81,-16.8,-19.600000000000001,-31.279999999999998,0]
[52.099999999999994,{"$f":"IF(Home!$K$10=1,'Antenna Data'!C524,IF(Home!$K$10=2,'Antenna Data'!D524,IF(Home!$K$10=3,'Antenna Data'!E524,IF(Home!$K$10=4,'Antenna Data'!F524,IF(Home!$K$10=5,'Antenna Data'!G524,IF(Home!$K$10=6,'Antenna Data'!H524,'Import Other Antenna'!G523))))))","v":-19.46},-9.24,-11.83,-16.93,-19.46,-30.919999999999998,0]
[52.199999999999989,{"$f":"IF(Home!$K$10=1,'Antenna Data'!C525,IF(Home!$K$10=2,'Antenna Data'!D525,IF(Home!$K$10=3,'Antenna Data'!E525,IF(Home!$K$10=4,'Antenna Data'!F525,IF(Home!$K$10=5,'Antenna Data'!G525,IF(Home!$K$10=6,'Antenna Data'!H525,'Import Other Antenna'!G524))))))","v":-19.32},-9.2900000000000009,-11.860000000000001,-17.059999999999999,-19.32,-30.57,0]
[52.300000000000011,{"$f":"IF(Home!$K$10=1,'Antenna Data'!C526,IF(Home!$K$10=2,'Antenna Data'!D526,IF(Home!$K$10=3,'Antenna Data'!E526,IF(Home!$K$10=4,'Antenna Data'!F526,IF(Home!$K$10=5,'Antenna Data'!G526,IF(Home!$K$10=6,'Antenna Data'!H526,'Import Other Antenna'!G525))))))","v":-19.190000000000001},-9.3500000000000014,-11.89,-17.190000000000001,-19.190000000000001,-30.24,0]
[52.400000000000006,{"$f":"IF(Home!$K$10=1,'Antenna Data'!C527,IF(Home!$K$10=2,'Antenna Data'!D527,IF(Home!$K$10=3,'Antenna Data'!E527,IF(Home!$K$10=4,'Antenna Data'!F527,IF(Home!$K$10=5,'Antenna Data'!G527,IF(Home!$K$10=6,'Antenna Data'!H527,'Import Other Antenna'!G526))))))","v":-19.07},-9.4,-11.920000000000002,-17.329999999999998,-19.07,-29.909999999999997,0]
[52.5,{"$f":"IF(Home!$K$10=1,'Antenna Data'!C528,IF(Home!$K$10=2,'Antenna Data'!D528,IF(Home!$K$10=3,'Antenna Data'!E528,IF(Home!$K$10=4,'Antenna Data'!F528,IF(Home!$K$10=5,'Antenna Data'!G528,IF(Home!$K$10=6,'Antenna Data'!H528,'Import Other Antenna'!G527))))))","v":-18.950000000000003},-9.4500000000000011,-11.950000000000001,-17.47,-18.950000000000003,-29.589999999999996,0]
[52.599999999999994,{"$f":"IF(Home!$K$10=1,'Antenna Data'!C529,IF(Home!$K$10=2,'Antenna Data'!D529,IF(Home!$K$10=3,'Antenna Data'!E529,IF(Home!$K$10=4,'Antenna Data'!F529,IF(Home!$K$10=5,'Antenna Data'!G529,IF(Home!$K$10=6,'Antenna Data'!H529,'Import Other Antenna'!G528))))))","v":-18.830000000000002},-9.51,-11.98,-17.61,-18.830000000000002,-29.279999999999998,0]
[52.699999999999989,{"$f":"IF(Home!$K$10=1,'Antenna Data'!C530,IF(Home!$K$10=2,'Antenna Data'!D530,IF(Home!$K$10=3,'Antenna Data'!E530,IF(Home!$K$10=4,'Antenna Data'!F530,IF(Home!$K$10=5,'Antenna Data'!G530,IF(Home!$K$10=6,'Antenna Data'!H530,'Import Other Antenna'!G529))))))","v":-18.720000000000002},-9.56,-12.010000000000002,-17.75,-18.720000000000002,-28.979999999999997,0]
[52.800000000000011,{"$f":"IF(Home!$K$10=1,'Antenna Data'!C531,IF(Home!$K$10=2,'Antenna Data'!D531,IF(Home!$K$10=3,'Antenna Data'!E531,IF(Home!$K$10=4,'Antenna Data'!F531,IF(Home!$K$10=5,'Antenna Data'!G531,IF(Home!$K$10=6,'Antenna Data'!H531,'Import Other Antenna'!G530))))))","v":-18.61},-9.620000000000001,-12.040000000000001,-17.899999999999999,-18.61,-28.689999999999998,0]
[52.900000000000006,{"$f":"IF(Home!$K$10=1,'Antenna Data'!C532,IF(Home!$K$10=2,'Antenna Data'!D532,IF(Home!$K$10=3,'Antenna Data'!E532,IF(Home!$K$10=4,'Antenna Data'!F532,IF(Home!$K$10=5,'Antenna Data'!G532,IF(Home!$K$10=6,'Antenna Data'!H532,'Import Other Antenna'!G531))))))","v":-18.5},-9.67,-12.08,-18.05,-18.5,-28.409999999999997,0]
[53,{"$f":"IF(Home!$K$10=1,'Antenna Data'!C533,IF(Home!$K$10=2,'Antenna Data'!D533,IF(Home!$K$10=3,'Antenna Data'!E533,IF(Home!$K$10=4,'Antenna Data'!F533,IF(Home!$K$10=5,'Antenna Data'!G533,IF(Home!$K$10=6,'Antenna Data'!H533,'Import Other Antenna'!G532))))))","v":-18.400000000000002},-9.73,-12.120000000000001,-18.21,-18.400000000000002,-28.14,0]
[53.099999999999994,{"$f":"IF(Home!$K$10=1,'Antenna Data'!C534,IF(Home!$K$10=2,'Antenna Data'!D534,IF(Home!$K$10=3,'Antenna Data'!E534,IF(Home!$K$10=4,'Antenna Data'!F534,IF(Home!$K$10=5,'Antenna Data'!G534,IF(Home!$K$10=6,'Antenna Data'!H534,'Import Other Antenna'!G533))))))","v":-18.3},-9.7900000000000009,-12.15,-18.37,-18.3,-27.869999999999997,0]
[53.199999999999989,{"$f":"IF(Home!$K$10=1,'Antenna Data'!C535,IF(Home!$K$10=2,'Antenna Data'!D535,IF(Home!$K$10=3,'Antenna Data'!E535,IF(Home!$K$10=4,'Antenna Data'!F535,IF(Home!$K$10=5,'Antenna Data'!G535,IF(Home!$K$10=6,'Antenna Data'!H535,'Import Other Antenna'!G534))))))","v":-18.21},-9.84,-12.190000000000001,-18.53,-18.21,-27.619999999999997,0]
[53.300000000000011,{"$f":"IF(Home!$K$10=1,'Antenna Data'!C536,IF(Home!$K$10=2,'Antenna Data'!D536,IF(Home!$K$10=3,'Antenna Data'!E536,IF(Home!$K$10=4,'Antenna Data'!F536,IF(Home!$K$10=5,'Antenna Data'!G536,IF(Home!$K$10=6,'Antenna Data'!H536,'Import Other Antenna'!G535))))))","v":-18.12},-9.9,-12.23,-18.690000000000001,-18.12,-27.369999999999997,0]
[53.400000000000006,{"$f":"IF(Home!$K$10=1,'Antenna Data'!C537,IF(Home!$K$10=2,'Antenna Data'!D537,IF(Home!$K$10=3,'Antenna Data'!E537,IF(Home!$K$10=4,'Antenna Data'!F537,IF(Home!$K$10=5,'Antenna Data'!G537,IF(Home!$K$10=6,'Antenna Data'!H537,'Import Other Antenna'!G536))))))","v":-18.03},-9.9600000000000009,-12.280000000000001,-18.86,-18.03,-27.13,0]
[53.5,{"$f":"IF(Home!$K$10=1,'Antenna Data'!C538,IF(Home!$K$10=2,'Antenna Data'!D538,IF(Home!$K$10=3,'Antenna Data'!E538,IF(Home!$K$10=4,'Antenna Data'!F538,IF(Home!$K$10=5,'Antenna Data'!G538,IF(Home!$K$10=6,'Antenna Data'!H538,'Import Other Antenna'!G537))))))","v":-17.950000000000003},-10.01,-12.32,-19.03,-17.950000000000003,-26.889999999999997,0]
[53.599999999999994,{"$f":"IF(Home!$K$10=1,'Antenna Data'!C539,IF(Home!$K$10=2,'Antenna Data'!D539,IF(Home!$K$10=3,'Antenna Data'!E539,IF(Home!$K$10=4,'Antenna Data'!F539,IF(Home!$K$10=5,'Antenna Data'!G539,IF(Home!$K$10=6,'Antenna Data'!H539,'Import Other Antenna'!G538))))))","v":-17.87},-10.07,-12.360000000000001,-19.21,-17.87,-26.659999999999997,0]
[53.699999999999989,{"$f":"IF(Home!$K$10=1,'Antenna Data'!C540,IF(Home!$K$10=2,'Antenna Data'!D540,IF(Home!$K$10=3,'Antenna Data'!E540,IF(Home!$K$10=4,'Antenna Data'!F540,IF(Home!$K$10=5,'Antenna Data'!G540,IF(Home!$K$10=6,'Antenna Data'!H540,'Import Other Antenna'!G539))))))","v":-17.8},-10.130000000000001,-12.41,-19.39,-17.8,-26.439999999999998,0]
[53.800000000000011,{"$f":"IF(Home!$K$10=1,'Antenna Data'!C541,IF(Home!$K$10=2,'Antenna Data'!D541,IF(Home!$K$10=3,'Antenna Data'!E541,IF(Home!$K$10=4,'Antenna Data'!F541,IF(Home!$K$10=5,'Antenna Data'!G541,IF(Home!$K$10=6,'Antenna Data'!H541,'Import Other Antenna'!G540))))))","v":-17.73},-10.190000000000001,-12.46,-19.57,-17.73,-26.229999999999997,0]
[53.900000000000006,{"$f":"IF(Home!$K$10=1,'Antenna Data'!C542,IF(Home!$K$10=2,'Antenna Data'!D542,IF(Home!$K$10=3,'Antenna Data'!E542,IF(Home!$K$10=4,'Antenna Data'!F542,IF(Home!$K$10=5,'Antenna Data'!G542,IF(Home!$K$10=6,'Antenna Data'!H542,'Import Other Antenna'!G541))))))","v":-17.66},-10.25,-12.510000000000002,-19.75,-17.66,-26.02,0]
[54,{"$f":"IF(Home!$K$10=1,'Antenna Data'!C543,IF(Home!$K$10=2,'Antenna Data'!D543,IF(Home!$K$10=3,'Antenna Data'!E543,IF(Home!$K$10=4,'Antenna Data'!F543,IF(Home!$K$10=5,'Antenna Data'!G543,IF(Home!$K$10=6,'Antenna Data'!H543,'Import Other Antenna'!G542))))))","v":-17.59},-10.31,-12.56,-19.940000000000001,-17.59,-25.82,0]
[54.099999999999994,{"$f":"IF(Home!$K$10=1,'Antenna Data'!C544,IF(Home!$K$10=2,'Antenna Data'!D544,IF(Home!$K$10=3,'Antenna Data'!E544,IF(Home!$K$10=4,'Antenna Data'!F544,IF(Home!$K$10=5,'Antenna Data'!G544,IF(Home!$K$10=6,'Antenna Data'!H544,'Import Other Antenna'!G543))))))","v":-17.53},-10.370000000000001,-12.610000000000001,-20.14,-17.53,-25.63,0]
[54.199999999999989,{"$f":"IF(Home!$K$10=1,'Antenna Data'!C545,IF(Home!$K$10=2,'Antenna Data'!D545,IF(Home!$K$10=3,'Antenna Data'!E545,IF(Home!$K$10=4,'Antenna Data'!F545,IF(Home!$K$10=5,'Antenna Data'!G545,IF(Home!$K$10=6,'Antenna Data'!H545,'Import Other Antenna'!G544))))))","v":-17.470000000000002},-10.43,-12.66,-20.329999999999998,-17.470000000000002,-25.439999999999998,0]
[54.300000000000011,{"$f":"IF(Home!$K$10=1,'Antenna Data'!C546,IF(Home!$K$10=2,'Antenna Data'!D546,IF(Home!$K$10=3,'Antenna Data'!E546,IF(Home!$K$10=4,'Antenna Data'!F546,IF(Home!$K$10=5,'Antenna Data'!G546,IF(Home!$K$10=6,'Antenna Data'!H546,'Import Other Antenna'!G545))))))","v":-17.420000000000002},-10.49,-12.71,-20.54,-17.420000000000002,-25.259999999999998,0]
[54.400000000000006,{"$f":"IF(Home!$K$10=1,'Antenna Data'!C547,IF(Home!$K$10=2,'Antenna Data'!D547,IF(Home!$K$10=3,'Antenna Data'!E547,IF(Home!$K$10=4,'Antenna Data'!F547,IF(Home!$K$10=5,'Antenna Data'!G547,IF(Home!$K$10=6,'Antenna Data'!H547,'Import Other Antenna'!G546))))))","v":-17.37},-10.55,-12.770000000000001,-20.740000000000002,-17.37,-25.08,0]
[54.5,{"$f":"IF(Home!$K$10=1,'Antenna Data'!C548,IF(Home!$K$10=2,'Antenna Data'!D548,IF(Home!$K$10=3,'Antenna Data'!E548,IF(Home!$K$10=4,'Antenna Data'!F548,IF(Home!$K$10=5,'Antenna Data'!G548,IF(Home!$K$10=6,'Antenna Data'!H548,'Import Other Antenna'!G547))))))","v":-17.32},-10.610000000000001,-12.83,-20.95,-17.32,-24.909999999999997,0]
[54.599999999999994,{"$f":"IF(Home!$K$10=1,'Antenna Data'!C549,IF(Home!$K$10=2,'Antenna Data'!D549,IF(Home!$K$10=3,'Antenna Data'!E549,IF(Home!$K$10=4,'Antenna Data'!F549,IF(Home!$K$10=5,'Antenna Data'!G549,IF(Home!$K$10=6,'Antenna Data'!H549,'Import Other Antenna'!G548))))))","v":-17.28},-10.67,-12.89,-21.16,-17.28,-24.75,0]
[54.699999999999989,{"$f":"IF(Home!$K$10=1,'Antenna Data'!C550,IF(Home!$K$10=2,'Antenna Data'!D550,IF(Home!$K$10=3,'Antenna Data'!E550,IF(Home!$K$10=4,'Antenna Data'!F550,IF(Home!$K$10=5,'Antenna Data'!G550,IF(Home!$K$10=6,'Antenna Data'!H550,'Import Other Antenna'!G549))))))","v":-17.23},-10.73,-12.950000000000001,-21.38,-17.23,-24.589999999999996,0]
[54.800000000000011,{"$f":"IF(Home!$K$10=1,'Antenna Data'!C551,IF(Home!$K$10=2,'Antenna Data'!D551,IF(Home!$K$10=3,'Antenna Data'!E551,IF(Home!$K$10=4,'Antenna Data'!F551,IF(Home!$K$10=5,'Antenna Data'!G551,IF(Home!$K$10=6,'Antenna Data'!H551,'Import Other Antenna'!G550))))))","v":-17.190000000000001},-10.8,-13.010000000000002,-21.6,-17.190000000000001,-24.439999999999998,0]
[54.900000000000006,{"$f":"IF(Home!$K$10=1,'Antenna Data'!C552,IF(Home!$K$10=2,'Antenna Data'!D552,IF(Home!$K$10=3,'Antenna Data'!E552,IF(Home!$K$10=4,'Antenna Data'!F552,IF(Home!$K$10=5,'Antenna Data'!G552,IF(Home!$K$10=6,'Antenna Data'!H552,'Import Other Antenna'!G551))))))","v":-17.16},-10.860000000000001,-13.07,-21.82,-17.16,-24.29,0]
[55,{"$f":"IF(Home!$K$10=1,'Antenna Data'!C553,IF(Home!$K$10=2,'Antenna Data'!D553,IF(Home!$K$10=3,'Antenna Data'!E553,IF(Home!$K$10=4,'Antenna Data'!F553,IF(Home!$K$10=5,'Antenna Data'!G553,IF(Home!$K$10=6,'Antenna Data'!H553,'Import Other Antenna'!G552))))))","v":-17.130000000000003},-10.92,-13.14,-22.04,-17.130000000000003,-24.139999999999997,0]
[55.099999999999994,{"$f":"IF(Home!$K$10=1,'Antenna Data'!C554,IF(Home!$K$10=2,'Antenna Data'!D554,IF(Home!$K$10=3,'Antenna Data'!E554,IF(Home!$K$10=4,'Antenna Data'!F554,IF(Home!$K$10=5,'Antenna Data'!G554,IF(Home!$K$10=6,'Antenna Data'!H554,'Import Other Antenna'!G553))))))","v":-17.100000000000001},-10.99,-13.200000000000001,-22.27,-17.100000000000001,-24.009999999999998,0]
[55.199999999999989,{"$f":"IF(Home!$K$10=1,'Antenna Data'!C555,IF(Home!$K$10=2,'Antenna Data'!D555,IF(Home!$K$10=3,'Antenna Data'!E555,IF(Home!$K$10=4,'Antenna Data'!F555,IF(Home!$K$10=5,'Antenna Data'!G555,IF(Home!$K$10=6,'Antenna Data'!H555,'Import Other Antenna'!G554))))))","v":-17.07},-11.05,-13.270000000000001,-22.509999999999998,-17.07,-23.869999999999997,0]
[55.300000000000011,{"$f":"IF(Home!$K$10=1,'Antenna Data'!C556,IF(Home!$K$10=2,'Antenna Data'!D556,IF(Home!$K$10=3,'Antenna Data'!E556,IF(Home!$K$10=4,'Antenna Data'!F556,IF(Home!$K$10=5,'Antenna Data'!G556,IF(Home!$K$10=6,'Antenna Data'!H556,'Import Other Antenna'!G555))))))","v":-17.05},-11.120000000000001,-13.34,-22.740000000000002,-17.05,-23.75,0]
[55.400000000000006,{"$f":"IF(Home!$K$10=1,'Antenna Data'!C557,IF(Home!$K$10=2,'Antenna Data'!D557,IF(Home!$K$10=3,'Antenna Data'!E557,IF(Home!$K$10=4,'Antenna Data'!F557,IF(Home!$K$10=5,'Antenna Data'!G557,IF(Home!$K$10=6,'Antenna Data'!H557,'Import Other Antenna'!G556))))))","v":-17.03},-11.18,-13.41,-22.98,-17.03,-23.619999999999997,0]
[55.5,{"$f":"IF(Home!$K$10=1,'Antenna Data'!C558,IF(Home!$K$10=2,'Antenna Data'!D558,IF(Home!$K$10=3,'Antenna Data'!E558,IF(Home!$K$10=4,'Antenna Data'!F558,IF(Home!$K$10=5,'Antenna Data'!G558,IF(Home!$K$10=6,'Antenna Data'!H558,'Import Other Antenna'!G557))))))","v":-17.010000000000002},-11.25,-13.49,-23.22,-17.010000000000002,-23.509999999999998,0]
[55.599999999999994,{"$f":"IF(Home!$K$10=1,'Antenna Data'!C559,IF(Home!$K$10=2,'Antenna Data'!D559,IF(Home!$K$10=3,'Antenna Data'!E559,IF(Home!$K$10=4,'Antenna Data'!F559,IF(Home!$K$10=5,'Antenna Data'!G559,IF(Home!$K$10=6,'Antenna Data'!H559,'Import Other Antenna'!G558))))))","v":-17},-11.31,-13.56,-23.46,-17,-23.389999999999997,0]
[55.699999999999989,{"$f":"IF(Home!$K$10=1,'Antenna Data'!C560,IF(Home!$K$10=2,'Antenna Data'!D560,IF(Home!$K$10=3,'Antenna Data'!E560,IF(Home!$K$10=4,'Antenna Data'!F560,IF(Home!$K$10=5,'Antenna Data'!G560,IF(Home!$K$10=6,'Antenna Data'!H560,'Import Other Antenna'!G559))))))","v":-16.990000000000002},-11.38,-13.64,-23.7,-16.990000000000002,-23.279999999999998,0]
[55.800000000000011,{"$f":"IF(Home!$K$10=1,'Antenna Data'!C561,IF(Home!$K$10=2,'Antenna Data'!D561,IF(Home!$K$10=3,'Antenna Data'!E561,IF(Home!$K$10=4,'Antenna Data'!F561,IF(Home!$K$10=5,'Antenna Data'!G561,IF(Home!$K$10=6,'Antenna Data'!H561,'Import Other Antenna'!G560))))))","v":-16.98},-11.450000000000001,-13.72,-23.939999999999998,-16.98,-23.18,0]
[55.900000000000006,{"$f":"IF(Home!$K$10=1,'Antenna Data'!C562,IF(Home!$K$10=2,'Antenna Data'!D562,IF(Home!$K$10=3,'Antenna Data'!E562,IF(Home!$K$10=4,'Antenna Data'!F562,IF(Home!$K$10=5,'Antenna Data'!G562,IF(Home!$K$10=6,'Antenna Data'!H562,'Import Other Antenna'!G561))))))","v":-16.970000000000002},-11.51,-13.8,-24.18,-16.970000000000002,-23.08,0]
[56,{"$f":"IF(Home!$K$10=1,'Antenna Data'!C563,IF(Home!$K$10=2,'Antenna Data'!D563,IF(Home!$K$10=3,'Antenna Data'!E563,IF(Home!$K$10=4,'Antenna Data'!F563,IF(Home!$K$10=5,'Antenna Data'!G563,IF(Home!$K$10=6,'Antenna Data'!H563,'Import Other Antenna'!G562))))))","v":-16.970000000000002},-11.58,-13.88,-24.41,-16.970000000000002,-22.99,0]
[56.099999999999994,{"$f":"IF(Home!$K$10=1,'Antenna Data'!C564,IF(Home!$K$10=2,'Antenna Data'!D564,IF(Home!$K$10=3,'Antenna Data'!E564,IF(Home!$K$10=4,'Antenna Data'!F564,IF(Home!$K$10=5,'Antenna Data'!G564,IF(Home!$K$10=6,'Antenna Data'!H564,'Import Other Antenna'!G563))))))","v":-16.970000000000002},-11.65,-13.97,-24.65,-16.970000000000002,-22.9,0]
[56.199999999999989,{"$f":"IF(Home!$K$10=1,'Antenna Data'!C565,IF(Home!$K$10=2,'Antenna Data'!D565,IF(Home!$K$10=3,'Antenna Data'!E565,IF(Home!$K$10=4,'Antenna Data'!F565,IF(Home!$K$10=5,'Antenna Data'!G565,IF(Home!$K$10=6,'Antenna Data'!H565,'Import Other Antenna'!G564))))))","v":-16.98},-11.72,-14.05,-24.880000000000003,-16.98,-22.81,0]
[56.300000000000011,{"$f":"IF(Home!$K$10=1,'Antenna Data'!C566,IF(Home!$K$10=2,'Antenna Data'!D566,IF(Home!$K$10=3,'Antenna Data'!E566,IF(Home!$K$10=4,'Antenna Data'!F566,IF(Home!$K$10=5,'Antenna Data'!G566,IF(Home!$K$10=6,'Antenna Data'!H566,'Import Other Antenna'!G565))))))","v":-16.98},-11.790000000000001,-14.14,-25.1,-16.98,-22.729999999999997,0]
[56.400000000000006,{"$f":"IF(Home!$K$10=1,'Antenna Data'!C567,IF(Home!$K$10=2,'Antenna Data'!D567,IF(Home!$K$10=3,'Antenna Data'!E567,IF(Home!$K$10=4,'Antenna Data'!F567,IF(Home!$K$10=5,'Antenna Data'!G567,IF(Home!$K$10=6,'Antenna Data'!H567,'Import Other Antenna'!G566))))))","v":-17},-11.86,-14.23,-25.32,-17,-22.659999999999997,0]
[56.5,{"$f":"IF(Home!$K$10=1,'Antenna Data'!C568,IF(Home!$K$10=2,'Antenna Data'!D568,IF(Home!$K$10=3,'Antenna Data'!E568,IF(Home!$K$10=4,'Antenna Data'!F568,IF(Home!$K$10=5,'Antenna Data'!G568,IF(Home!$K$10=6,'Antenna Data'!H568,'Import Other Antenna'!G567))))))","v":-17.010000000000002},-11.93,-14.32,-25.53,-17.010000000000002,-22.589999999999996,0]
[56.599999999999994,{"$f":"IF(Home!$K$10=1,'Antenna Data'!C569,IF(Home!$K$10=2,'Antenna Data'!D569,IF(Home!$K$10=3,'Antenna Data'!E569,IF(Home!$K$10=4,'Antenna Data'!F569,IF(Home!$K$10=5,'Antenna Data'!G569,IF(Home!$K$10=6,'Antenna Data'!H569,'Import Other Antenna'!G568))))))","v":-17.02},-12,-14.42,-25.72,-17.02,-22.52,0]
[56.699999999999989,{"$f":"IF(Home!$K$10=1,'Antenna Data'!C570,IF(Home!$K$10=2,'Antenna Data'!D570,IF(Home!$K$10=3,'Antenna Data'!E570,IF(Home!$K$10=4,'Antenna Data'!F570,IF(Home!$K$10=5,'Antenna Data'!G570,IF(Home!$K$10=6,'Antenna Data'!H570,'Import Other Antenna'!G569))))))","v":-17.040000000000003},-12.07,-14.51,-25.91,-17.040000000000003,-22.459999999999997,0]
[56.800000000000011,{"$f":"IF(Home!$K$10=1,'Antenna Data'!C571,IF(Home!$K$10=2,'Antenna Data'!D571,IF(Home!$K$10=3,'Antenna Data'!E571,IF(Home!$K$10=4,'Antenna Data'!F571,IF(Home!$K$10=5,'Antenna Data'!G571,IF(Home!$K$10=6,'Antenna Data'!H571,'Import Other Antenna'!G570))))))","v":-17.07},-12.14,-14.610000000000001,-26.07,-17.07,-22.4,0]
[56.900000000000006,{"$f":"IF(Home!$K$10=1,'Antenna Data'!C572,IF(Home!$K$10=2,'Antenna Data'!D572,IF(Home!$K$10=3,'Antenna Data'!E572,IF(Home!$K$10=4,'Antenna Data'!F572,IF(Home!$K$10=5,'Antenna Data'!G572,IF(Home!$K$10=6,'Antenna Data'!H572,'Import Other Antenna'!G571))))))","v":-17.09},-12.22,-14.71,-26.23,-17.09,-22.349999999999998,0]
[57,{"$f":"IF(Home!$K$10=1,'Antenna Data'!C573,IF(Home!$K$10=2,'Antenna Data'!D573,IF(Home!$K$10=3,'Antenna Data'!E573,IF(Home!$K$10=4,'Antenna Data'!F573,IF(Home!$K$10=5,'Antenna Data'!G573,IF(Home!$K$10=6,'Antenna Data'!H573,'Import Other Antenna'!G572))))))","v":-17.12},-12.290000000000001,-14.81,-26.36,-17.12,-22.299999999999997,0]
[57.099999999999994,{"$f":"IF(Home!$K$10=1,'Antenna Data'!C574,IF(Home!$K$10=2,'Antenna Data'!D574,IF(Home!$K$10=3,'Antenna Data'!E574,IF(Home!$K$10=4,'Antenna Data'!F574,IF(Home!$K$10=5,'Antenna Data'!G574,IF(Home!$K$10=6,'Antenna Data'!H574,'Import Other Antenna'!G573))))))","v":-17.150000000000002},-12.36,-14.92,-26.47,-17.150000000000002,-22.25,0]
[57.199999999999989,{"$f":"IF(Home!$K$10=1,'Antenna Data'!C575,IF(Home!$K$10=2,'Antenna Data'!D575,IF(Home!$K$10=3,'Antenna Data'!E575,IF(Home!$K$10=4,'Antenna Data'!F575,IF(Home!$K$10=5,'Antenna Data'!G575,IF(Home!$K$10=6,'Antenna Data'!H575,'Import Other Antenna'!G574))))))","v":-17.190000000000001},-12.440000000000001,-15.030000000000001,-26.560000000000002,-17.190000000000001,-22.209999999999997,0]
[57.300000000000011,{"$f":"IF(Home!$K$10=1,'Antenna Data'!C576,IF(Home!$K$10=2,'Antenna Data'!D576,IF(Home!$K$10=3,'Antenna Data'!E576,IF(Home!$K$10=4,'Antenna Data'!F576,IF(Home!$K$10=5,'Antenna Data'!G576,IF(Home!$K$10=6,'Antenna Data'!H576,'Import Other Antenna'!G575))))))","v":-17.220000000000002},-12.51,-15.14,-26.619999999999997,-17.220000000000002,-22.18,0]
[57.400000000000006,{"$f":"IF(Home!$K$10=1,'Antenna Data'!C577,IF(Home!$K$10=2,'Antenna Data'!D577,IF(Home!$K$10=3,'Antenna Data'!E577,IF(Home!$K$10=4,'Antenna Data'!F577,IF(Home!$K$10=5,'Antenna Data'!G577,IF(Home!$K$10=6,'Antenna Data'!H577,'Import Other Antenna'!G576))))))","v":-17.260000000000002},-12.59,-15.25,-26.66,-17.260000000000002,-22.15,0]
[57.5,{"$f":"IF(Home!$K$10=1,'Antenna Data'!C578,IF(Home!$K$10=2,'Antenna Data'!D578,IF(Home!$K$10=3,'Antenna Data'!E578,IF(Home!$K$10=4,'Antenna Data'!F578,IF(Home!$K$10=5,'Antenna Data'!G578,IF(Home!$K$10=6,'Antenna Data'!H578,'Import Other Antenna'!G577))))))","v":-17.310000000000002},-12.66,-15.360000000000001,-26.68,-17.310000000000002,-22.119999999999997,0]
[57.599999999999994,{"$f":"IF(Home!$K$10=1,'Antenna Data'!C579,IF(Home!$K$10=2,'Antenna Data'!D579,IF(Home!$K$10=3,'Antenna Data'!E579,IF(Home!$K$10=4,'Antenna Data'!F579,IF(Home!$K$10=5,'Antenna Data'!G579,IF(Home!$K$10=6,'Antenna Data'!H579,'Import Other Antenna'!G578))))))","v":-17.350000000000001},-12.74,-15.48,-26.67,-17.350000000000001,-22.099999999999998,0]
[57.699999999999989,{"$f":"IF(Home!$K$10=1,'Antenna Data'!C580,IF(Home!$K$10=2,'Antenna Data'!D580,IF(Home!$K$10=3,'Antenna Data'!E580,IF(Home!$K$10=4,'Antenna Data'!F580,IF(Home!$K$10=5,'Antenna Data'!G580,IF(Home!$K$10=6,'Antenna Data'!H580,'Import Other Antenna'!G579))))))","v":-17.400000000000002},-12.82,-15.600000000000001,-26.64,-17.400000000000002,-22.08,0]
[57.800000000000011,{"$f":"IF(Home!$K$10=1,'Antenna Data'!C581,IF(Home!$K$10=2,'Antenna Data'!D581,IF(Home!$K$10=3,'Antenna Data'!E581,IF(Home!$K$10=4,'Antenna Data'!F581,IF(Home!$K$10=5,'Antenna Data'!G581,IF(Home!$K$10=6,'Antenna Data'!H581,'Import Other Antenna'!G580))))))","v":-17.46},-12.89,-15.72,-26.58,-17.46,-22.06,0]
[57.900000000000006,{"$f":"IF(Home!$K$10=1,'Antenna Data'!C582,IF(Home!$K$10=2,'Antenna Data'!D582,IF(Home!$K$10=3,'Antenna Data'!E582,IF(Home!$K$10=4,'Antenna Data'!F582,IF(Home!$K$10=5,'Antenna Data'!G582,IF(Home!$K$10=6,'Antenna Data'!H582,'Import Other Antenna'!G581))))))","v":-17.510000000000002},-12.97,-15.850000000000001,-26.5,-17.510000000000002,-22.049999999999997,0]
[58,{"$f":"IF(Home!$K$10=1,'Antenna Data'!C583,IF(Home!$K$10=2,'Antenna Data'!D583,IF(Home!$K$10=3,'Antenna Data'!E583,IF(Home!$K$10=4,'Antenna Data'!F583,IF(Home!$K$10=5,'Antenna Data'!G583,IF(Home!$K$10=6,'Antenna Data'!H583,'Import Other Antenna'!G582))))))","v":-17.57},-13.05,-15.98,-26.4,-17.57,-22.049999999999997,0]
[58.099999999999994,{"$f":"IF(Home!$K$10=1,'Antenna Data'!C584,IF(Home!$K$10=2,'Antenna Data'!D584,IF(Home!$K$10=3,'Antenna Data'!E584,IF(Home!$K$10=4,'Antenna Data'!F584,IF(Home!$K$10=5,'Antenna Data'!G584,IF(Home!$K$10=6,'Antenna Data'!H584,'Import Other Antenna'!G583))))))","v":-17.64},-13.13,-16.11,-26.28,-17.64,-22.049999999999997,0]
[58.199999999999989,{"$f":"IF(Home!$K$10=1,'Antenna Data'!C585,IF(Home!$K$10=2,'Antenna Data'!D585,IF(Home!$K$10=3,'Antenna Data'!E585,IF(Home!$K$10=4,'Antenna Data'!F585,IF(Home!$K$10=5,'Antenna Data'!G585,IF(Home!$K$10=6,'Antenna Data'!H585,'Import Other Antenna'!G584))))))","v":-17.700000000000003},-13.21,-16.240000000000002,-26.15,-17.700000000000003,-22.049999999999997,0]
[58.300000000000011,{"$f":"IF(Home!$K$10=1,'Antenna Data'!C586,IF(Home!$K$10=2,'Antenna Data'!D586,IF(Home!$K$10=3,'Antenna Data'!E586,IF(Home!$K$10=4,'Antenna Data'!F586,IF(Home!$K$10=5,'Antenna Data'!G586,IF(Home!$K$10=6,'Antenna Data'!H586,'Import Other Antenna'!G585))))))","v":-17.77},-13.290000000000001,-16.380000000000003,-26,-17.77,-22.06,0]
[58.400000000000006,{"$f":"IF(Home!$K$10=1,'Antenna Data'!C587,IF(Home!$K$10=2,'Antenna Data'!D587,IF(Home!$K$10=3,'Antenna Data'!E587,IF(Home!$K$10=4,'Antenna Data'!F587,IF(Home!$K$10=5,'Antenna Data'!G587,IF(Home!$K$10=6,'Antenna Data'!H587,'Import Other Antenna'!G586))))))","v":-17.850000000000001},-13.370000000000001,-16.52,-25.83,-17.850000000000001,-22.08,0]
[58.5,{"$f":"IF(Home!$K$10=1,'Antenna Data'!C588,IF(Home!$K$10=2,'Antenna Data'!D588,IF(Home!$K$10=3,'Antenna Data'!E588,IF(Home!$K$10=4,'Antenna Data'!F588,IF(Home!$K$10=5,'Antenna Data'!G588,IF(Home!$K$10=6,'Antenna Data'!H588,'Import Other Antenna'!G587))))))","v":-17.920000000000002},-13.46,-16.66,-25.66,-17.920000000000002,-22.089999999999996,0]
[58.599999999999994,{"$f":"IF(Home!$K$10=1,'Antenna Data'!C589,IF(Home!$K$10=2,'Antenna Data'!D589,IF(Home!$K$10=3,'Antenna Data'!E589,IF(Home!$K$10=4,'Antenna Data'!F589,IF(Home!$K$10=5,'Antenna Data'!G589,IF(Home!$K$10=6,'Antenna Data'!H589,'Import Other Antenna'!G588))))))","v":-18},-13.540000000000001,-16.810000000000002,-25.47,-18,-22.119999999999997,0]
[58.699999999999989,{"$f":"IF(Home!$K$10=1,'Antenna Data'!C590,IF(Home!$K$10=2,'Antenna Data'!D590,IF(Home!$K$10=3,'Antenna Data'!E590,IF(Home!$K$10=4,'Antenna Data'!F590,IF(Home!$K$10=5,'Antenna Data'!G590,IF(Home!$K$10=6,'Antenna Data'!H590,'Import Other Antenna'!G589))))))","v":-18.09},-13.620000000000001,-16.96,-25.28,-18.09,-22.139999999999997,0]
[58.800000000000011,{"$f":"IF(Home!$K$10=1,'Antenna Data'!C591,IF(Home!$K$10=2,'Antenna Data'!D591,IF(Home!$K$10=3,'Antenna Data'!E591,IF(Home!$K$10=4,'Antenna Data'!F591,IF(Home!$K$10=5,'Antenna Data'!G591,IF(Home!$K$10=6,'Antenna Data'!H591,'Import Other Antenna'!G590))))))","v":-18.18},-13.71,-17.11,-25.08,-18.18,-22.18,0]
[58.900000000000006,{"$f":"IF(Home!$K$10=1,'Antenna Data'!C592,IF(Home!$K$10=2,'Antenna Data'!D592,IF(Home!$K$10=3,'Antenna Data'!E592,IF(Home!$K$10=4,'Antenna Data'!F592,IF(Home!$K$10=5,'Antenna Data'!G592,IF(Home!$K$10=6,'Antenna Data'!H592,'Import Other Antenna'!G591))))))","v":-18.27},-13.790000000000001,-17.27,-24.880000000000003,-18.27,-22.209999999999997,0]
[59,{"$f":"IF(Home!$K$10=1,'Antenna Data'!C593,IF(Home!$K$10=2,'Antenna Data'!D593,IF(Home!$K$10=3,'Antenna Data'!E593,IF(Home!$K$10=4,'Antenna Data'!F593,IF(Home!$K$10=5,'Antenna Data'!G593,IF(Home!$K$10=6,'Antenna Data'!H593,'Import Other Antenna'!G592))))))","v":-18.36},-13.88,-17.43,-24.68,-18.36,-22.259999999999998,0]
[59.099999999999994,{"$f":"IF(Home!$K$10=1,'Antenna Data'!C594,IF(Home!$K$10=2,'Antenna Data'!D594,IF(Home!$K$10=3,'Antenna Data'!E594,IF(Home!$K$10=4,'Antenna Data'!F594,IF(Home!$K$10=5,'Antenna Data'!G594,IF(Home!$K$10=6,'Antenna Data'!H594,'Import Other Antenna'!G593))))))","v":-18.46},-13.97,-17.600000000000001,-24.47,-18.46,-22.299999999999997,0]
[59.199999999999989,{"$f":"IF(Home!$K$10=1,'Antenna Data'!C595,IF(Home!$K$10=2,'Antenna Data'!D595,IF(Home!$K$10=3,'Antenna Data'!E595,IF(Home!$K$10=4,'Antenna Data'!F595,IF(Home!$K$10=5,'Antenna Data'!G595,IF(Home!$K$10=6,'Antenna Data'!H595,'Import Other Antenna'!G594))))))","v":-18.560000000000002},-14.05,-17.77,-24.259999999999998,-18.560000000000002,-22.349999999999998,0]
[59.300000000000011,{"$f":"IF(Home!$K$10=1,'Antenna Data'!C596,IF(Home!$K$10=2,'Antenna Data'!D596,IF(Home!$K$10=3,'Antenna Data'!E596,IF(Home!$K$10=4,'Antenna Data'!F596,IF(Home!$K$10=5,'Antenna Data'!G596,IF(Home!$K$10=6,'Antenna Data'!H596,'Import Other Antenna'!G595))))))","v":-18.670000000000002},-14.14,-17.940000000000001,-24.05,-18.670000000000002,-22.409999999999997,0]
[59.400000000000006,{"$f":"IF(Home!$K$10=1,'Antenna Data'!C597,IF(Home!$K$10=2,'Antenna Data'!D597,IF(Home!$K$10=3,'Antenna Data'!E597,IF(Home!$K$10=4,'Antenna Data'!F597,IF(Home!$K$10=5,'Antenna Data'!G597,IF(Home!$K$10=6,'Antenna Data'!H597,'Import Other Antenna'!G596))))))","v":-18.78},-14.23,-18.12,-23.85,-18.78,-22.47,0]
[59.5,{"$f":"IF(Home!$K$10=1,'Antenna Data'!C598,IF(Home!$K$10=2,'Antenna Data'!D598,IF(Home!$K$10=3,'Antenna Data'!E598,IF(Home!$K$10=4,'Antenna Data'!F598,IF(Home!$K$10=5,'Antenna Data'!G598,IF(Home!$K$10=6,'Antenna Data'!H598,'Import Other Antenna'!G597))))))","v":-18.89},-14.32,-18.3,-23.64,-18.89,-22.54,0]
[59.599999999999994,{"$f":"IF(Home!$K$10=1,'Antenna Data'!C599,IF(Home!$K$10=2,'Antenna Data'!D599,IF(Home!$K$10=3,'Antenna Data'!E599,IF(Home!$K$10=4,'Antenna Data'!F599,IF(Home!$K$10=5,'Antenna Data'!G599,IF(Home!$K$10=6,'Antenna Data'!H599,'Import Other Antenna'!G598))))))","v":-19.010000000000002},-14.41,-18.490000000000002,-23.439999999999998,-19.010000000000002,-22.619999999999997,0]
[59.699999999999989,{"$f":"IF(Home!$K$10=1,'Antenna Data'!C600,IF(Home!$K$10=2,'Antenna Data'!D600,IF(Home!$K$10=3,'Antenna Data'!E600,IF(Home!$K$10=4,'Antenna Data'!F600,IF(Home!$K$10=5,'Antenna Data'!G600,IF(Home!$K$10=6,'Antenna Data'!H600,'Import Other Antenna'!G599))))))","v":-19.130000000000003},-14.5,-18.690000000000001,-23.23,-19.130000000000003,-22.689999999999998,0]
[59.800000000000011,{"$f":"IF(Home!$K$10=1,'Antenna Data'!C601,IF(Home!$K$10=2,'Antenna Data'!D601,IF(Home!$K$10=3,'Antenna Data'!E601,IF(Home!$K$10=4,'Antenna Data'!F601,IF(Home!$K$10=5,'Antenna Data'!G601,IF(Home!$K$10=6,'Antenna Data'!H601,'Import Other Antenna'!G600))))))","v":-19.260000000000002},-14.59,-18.880000000000003,-23.03,-19.260000000000002,-22.779999999999998,0]
[59.900000000000006,{"$f":"IF(Home!$K$10=1,'Antenna Data'!C602,IF(Home!$K$10=2,'Antenna Data'!D602,IF(Home!$K$10=3,'Antenna Data'!E602,IF(Home!$K$10=4,'Antenna Data'!F602,IF(Home!$K$10=5,'Antenna Data'!G602,IF(Home!$K$10=6,'Antenna Data'!H602,'Import Other Antenna'!G601))))))","v":-19.39},-14.690000000000001,-19.09,-22.84,-19.39,-22.869999999999997,0]
[60,{"$f":"IF(Home!$K$10=1,'Antenna Data'!C603,IF(Home!$K$10=2,'Antenna Data'!D603,IF(Home!$K$10=3,'Antenna Data'!E603,IF(Home!$K$10=4,'Antenna Data'!F603,IF(Home!$K$10=5,'Antenna Data'!G603,IF(Home!$K$10=6,'Antenna Data'!H603,'Import Other Antenna'!G602))))))","v":-19.53},-14.780000000000001,-19.3,-22.64,-19.53,-22.97,0]
[60.099999999999994,{"$f":"IF(Home!$K$10=1,'Antenna Data'!C604,IF(Home!$K$10=2,'Antenna Data'!D604,IF(Home!$K$10=3,'Antenna Data'!E604,IF(Home!$K$10=4,'Antenna Data'!F604,IF(Home!$K$10=5,'Antenna Data'!G604,IF(Home!$K$10=6,'Antenna Data'!H604,'Import Other Antenna'!G603))))))","v":-19.670000000000002},-14.88,-19.510000000000002,-22.45,-19.670000000000002,-23.07,0]
[60.199999999999989,{"$f":"IF(Home!$K$10=1,'Antenna Data'!C605,IF(Home!$K$10=2,'Antenna Data'!D605,IF(Home!$K$10=3,'Antenna Data'!E605,IF(Home!$K$10=4,'Antenna Data'!F605,IF(Home!$K$10=5,'Antenna Data'!G605,IF(Home!$K$10=6,'Antenna Data'!H605,'Import Other Antenna'!G604))))))","v":-19.810000000000002},-14.97,-19.73,-22.27,-19.810000000000002,-23.18,0]
[60.300000000000011,{"$f":"IF(Home!$K$10=1,'Antenna Data'!C606,IF(Home!$K$10=2,'Antenna Data'!D606,IF(Home!$K$10=3,'Antenna Data'!E606,IF(Home!$K$10=4,'Antenna Data'!F606,IF(Home!$K$10=5,'Antenna Data'!G606,IF(Home!$K$10=6,'Antenna Data'!H606,'Import Other Antenna'!G605))))))","v":-19.96},-15.07,-19.96,-22.08,-19.96,-23.29,0]
[60.400000000000006,{"$f":"IF(Home!$K$10=1,'Antenna Data'!C607,IF(Home!$K$10=2,'Antenna Data'!D607,IF(Home!$K$10=3,'Antenna Data'!E607,IF(Home!$K$10=4,'Antenna Data'!F607,IF(Home!$K$10=5,'Antenna Data'!G607,IF(Home!$K$10=6,'Antenna Data'!H607,'Import Other Antenna'!G606))))))","v":-20.11},-15.170000000000002,-20.200000000000003,-21.91,-20.11,-23.409999999999997,0]
[60.5,{"$f":"IF(Home!$K$10=1,'Antenna Data'!C608,IF(Home!$K$10=2,'Antenna Data'!D608,IF(Home!$K$10=3,'Antenna Data'!E608,IF(Home!$K$10=4,'Antenna Data'!F608,IF(Home!$K$10=5,'Antenna Data'!G608,IF(Home!$K$10=6,'Antenna Data'!H608,'Import Other Antenna'!G607))))))","v":-20.27},-15.27,-20.440000000000001,-21.73,-20.27,-23.54,0]
[60.599999999999994,{"$f":"IF(Home!$K$10=1,'Antenna Data'!C609,IF(Home!$K$10=2,'Antenna Data'!D609,IF(Home!$K$10=3,'Antenna Data'!E609,IF(Home!$K$10=4,'Antenna Data'!F609,IF(Home!$K$10=5,'Antenna Data'!G609,IF(Home!$K$10=6,'Antenna Data'!H609,'Import Other Antenna'!G608))))))","v":-20.43},-15.370000000000001,-20.69,-21.56,-20.43,-23.68,0]
[60.699999999999989,{"$f":"IF(Home!$K$10=1,'Antenna Data'!C610,IF(Home!$K$10=2,'Antenna Data'!D610,IF(Home!$K$10=3,'Antenna Data'!E610,IF(Home!$K$10=4,'Antenna Data'!F610,IF(Home!$K$10=5,'Antenna Data'!G610,IF(Home!$K$10=6,'Antenna Data'!H610,'Import Other Antenna'!G609))))))","v":-20.6},-15.47,-20.950000000000003,-21.39,-20.6,-23.82,0]
[60.800000000000011,{"$f":"IF(Home!$K$10=1,'Antenna Data'!C611,IF(Home!$K$10=2,'Antenna Data'!D611,IF(Home!$K$10=3,'Antenna Data'!E611,IF(Home!$K$10=4,'Antenna Data'!F611,IF(Home!$K$10=5,'Antenna Data'!G611,IF(Home!$K$10=6,'Antenna Data'!H611,'Import Other Antenna'!G610))))))","v":-20.78},-15.57,-21.21,-21.23,-20.78,-23.97,0]
[60.900000000000006,{"$f":"IF(Home!$K$10=1,'Antenna Data'!C612,IF(Home!$K$10=2,'Antenna Data'!D612,IF(Home!$K$10=3,'Antenna Data'!E612,IF(Home!$K$10=4,'Antenna Data'!F612,IF(Home!$K$10=5,'Antenna Data'!G612,IF(Home!$K$10=6,'Antenna Data'!H612,'Import Other Antenna'!G611))))))","v":-20.950000000000003},-15.670000000000002,-21.490000000000002,-21.07,-20.950000000000003,-24.13,0]
[61,{"$f":"IF(Home!$K$10=1,'Antenna Data'!C613,IF(Home!$K$10=2,'Antenna Data'!D613,IF(Home!$K$10=3,'Antenna Data'!E613,IF(Home!$K$10=4,'Antenna Data'!F613,IF(Home!$K$10=5,'Antenna Data'!G613,IF(Home!$K$10=6,'Antenna Data'!H613,'Import Other Antenna'!G612))))))","v":-21.14},-15.77,-21.77,-20.91,-21.14,-24.29,0]
[61.099999999999994,{"$f":"IF(Home!$K$10=1,'Antenna Data'!C614,IF(Home!$K$10=2,'Antenna Data'!D614,IF(Home!$K$10=3,'Antenna Data'!E614,IF(Home!$K$10=4,'Antenna Data'!F614,IF(Home!$K$10=5,'Antenna Data'!G614,IF(Home!$K$10=6,'Antenna Data'!H614,'Import Other Antenna'!G613))))))","v":-21.330000000000002},-15.88,-22.07,-20.759999999999998,-21.330000000000002,-24.47,0]
[61.199999999999989,{"$f":"IF(Home!$K$10=1,'Antenna Data'!C615,IF(Home!$K$10=2,'Antenna Data'!D615,IF(Home!$K$10=3,'Antenna Data'!E615,IF(Home!$K$10=4,'Antenna Data'!F615,IF(Home!$K$10=5,'Antenna Data'!G615,IF(Home!$K$10=6,'Antenna Data'!H615,'Import Other Antenna'!G614))))))","v":-21.520000000000003},-15.98,-22.37,-20.61,-21.520000000000003,-24.65,0]
[61.300000000000011,{"$f":"IF(Home!$K$10=1,'Antenna Data'!C616,IF(Home!$K$10=2,'Antenna Data'!D616,IF(Home!$K$10=3,'Antenna Data'!E616,IF(Home!$K$10=4,'Antenna Data'!F616,IF(Home!$K$10=5,'Antenna Data'!G616,IF(Home!$K$10=6,'Antenna Data'!H616,'Import Other Antenna'!G615))))))","v":-21.72},-16.09,-22.69,-20.47,-21.72,-24.839999999999996,0]
[61.400000000000006,{"$f":"IF(Home!$K$10=1,'Antenna Data'!C617,IF(Home!$K$10=2,'Antenna Data'!D617,IF(Home!$K$10=3,'Antenna Data'!E617,IF(Home!$K$10=4,'Antenna Data'!F617,IF(Home!$K$10=5,'Antenna Data'!G617,IF(Home!$K$10=6,'Antenna Data'!H617,'Import Other Antenna'!G616))))))","v":-21.93},-16.2,-23.020000000000003,-20.32,-21.93,-25.04,0]
[61.5,{"$f":"IF(Home!$K$10=1,'Antenna Data'!C618,IF(Home!$K$10=2,'Antenna Data'!D618,IF(Home!$K$10=3,'Antenna Data'!E618,IF(Home!$K$10=4,'Antenna Data'!F618,IF(Home!$K$10=5,'Antenna Data'!G618,IF(Home!$K$10=6,'Antenna Data'!H618,'Import Other Antenna'!G617))))))","v":-22.14},-16.310000000000002,-23.36,-20.190000000000001,-22.14,-25.259999999999998,0]
[61.599999999999994,{"$f":"IF(Home!$K$10=1,'Antenna Data'!C619,IF(Home!$K$10=2,'Antenna Data'!D619,IF(Home!$K$10=3,'Antenna Data'!E619,IF(Home!$K$10=4,'Antenna Data'!F619,IF(Home!$K$10=5,'Antenna Data'!G619,IF(Home!$K$10=6,'Antenna Data'!H619,'Import Other Antenna'!G618))))))","v":-22.36},-16.420000000000002,-23.72,-20.05,-22.36,-25.479999999999997,0]
[61.699999999999989,{"$f":"IF(Home!$K$10=1,'Antenna Data'!C620,IF(Home!$K$10=2,'Antenna Data'!D620,IF(Home!$K$10=3,'Antenna Data'!E620,IF(Home!$K$10=4,'Antenna Data'!F620,IF(Home!$K$10=5,'Antenna Data'!G620,IF(Home!$K$10=6,'Antenna Data'!H620,'Import Other Antenna'!G619))))))","v":-22.580000000000002},-16.53,-24.09,-19.920000000000002,-22.580000000000002,-25.709999999999997,0]
[61.800000000000011,{"$f":"IF(Home!$K$10=1,'Antenna Data'!C621,IF(Home!$K$10=2,'Antenna Data'!D621,IF(Home!$K$10=3,'Antenna Data'!E621,IF(Home!$K$10=4,'Antenna Data'!F621,IF(Home!$K$10=5,'Antenna Data'!G621,IF(Home!$K$10=6,'Antenna Data'!H621,'Import Other Antenna'!G620))))))","v":-22.810000000000002},-16.649999999999999,-24.48,-19.8,-22.810000000000002,-25.95,0]
[61.900000000000006,{"$f":"IF(Home!$K$10=1,'Antenna Data'!C622,IF(Home!$K$10=2,'Antenna Data'!D622,IF(Home!$K$10=3,'Antenna Data'!E622,IF(Home!$K$10=4,'Antenna Data'!F622,IF(Home!$K$10=5,'Antenna Data'!G622,IF(Home!$K$10=6,'Antenna Data'!H622,'Import Other Antenna'!G621))))))","v":-23.05},-16.760000000000002,-24.880000000000003,-19.670000000000002,-23.05,-26.209999999999997,0]
[62,{"$f":"IF(Home!$K$10=1,'Antenna Data'!C623,IF(Home!$K$10=2,'Antenna Data'!D623,IF(Home!$K$10=3,'Antenna Data'!E623,IF(Home!$K$10=4,'Antenna Data'!F623,IF(Home!$K$10=5,'Antenna Data'!G623,IF(Home!$K$10=6,'Antenna Data'!H623,'Import Other Antenna'!G622))))))","v":-23.29},-16.880000000000003,-25.310000000000002,-19.55,-23.29,-26.479999999999997,0]
[62.099999999999994,{"$f":"IF(Home!$K$10=1,'Antenna Data'!C624,IF(Home!$K$10=2,'Antenna Data'!D624,IF(Home!$K$10=3,'Antenna Data'!E624,IF(Home!$K$10=4,'Antenna Data'!F624,IF(Home!$K$10=5,'Antenna Data'!G624,IF(Home!$K$10=6,'Antenna Data'!H624,'Import Other Antenna'!G623))))))","v":-23.53},-16.990000000000002,-25.75,-19.440000000000001,-23.53,-26.759999999999998,0]
[62.199999999999989,{"$f":"IF(Home!$K$10=1,'Antenna Data'!C625,IF(Home!$K$10=2,'Antenna Data'!D625,IF(Home!$K$10=3,'Antenna Data'!E625,IF(Home!$K$10=4,'Antenna Data'!F625,IF(Home!$K$10=5,'Antenna Data'!G625,IF(Home!$K$10=6,'Antenna Data'!H625,'Import Other Antenna'!G624))))))","v":-23.78},-17.11,-26.22,-19.32,-23.78,-27.049999999999997,0]
[62.300000000000011,{"$f":"IF(Home!$K$10=1,'Antenna Data'!C626,IF(Home!$K$10=2,'Antenna Data'!D626,IF(Home!$K$10=3,'Antenna Data'!E626,IF(Home!$K$10=4,'Antenna Data'!F626,IF(Home!$K$10=5,'Antenna Data'!G626,IF(Home!$K$10=6,'Antenna Data'!H626,'Import Other Antenna'!G625))))))","v":-24.04},-17.23,-26.71,-19.21,-24.04,-27.369999999999997,0]
[62.400000000000006,{"$f":"IF(Home!$K$10=1,'Antenna Data'!C627,IF(Home!$K$10=2,'Antenna Data'!D627,IF(Home!$K$10=3,'Antenna Data'!E627,IF(Home!$K$10=4,'Antenna Data'!F627,IF(Home!$K$10=5,'Antenna Data'!G627,IF(Home!$K$10=6,'Antenna Data'!H627,'Import Other Antenna'!G626))))))","v":-24.3},-17.350000000000001,-27.240000000000002,-19.100000000000001,-24.3,-27.689999999999998,0]
[62.5,{"$f":"IF(Home!$K$10=1,'Antenna Data'!C628,IF(Home!$K$10=2,'Antenna Data'!D628,IF(Home!$K$10=3,'Antenna Data'!E628,IF(Home!$K$10=4,'Antenna Data'!F628,IF(Home!$K$10=5,'Antenna Data'!G628,IF(Home!$K$10=6,'Antenna Data'!H628,'Import Other Antenna'!G627))))))","v":-24.57},-17.48,-27.79,-19,-24.57,-28.029999999999998,0]
[62.599999999999994,{"$f":"IF(Home!$K$10=1,'Antenna Data'!C629,IF(Home!$K$10=2,'Antenna Data'!D629,IF(Home!$K$10=3,'Antenna Data'!E629,IF(Home!$K$10=4,'Antenna Data'!F629,IF(Home!$K$10=5,'Antenna Data'!G629,IF(Home!$K$10=6,'Antenna Data'!H629,'Import Other Antenna'!G628))))))","v":-24.840000000000003},-17.600000000000001,-28.37,-18.899999999999999,-24.840000000000003,-28.39,0]
[62.699999999999989,{"$f":"IF(Home!$K$10=1,'Antenna Data'!C630,IF(Home!$K$10=2,'Antenna Data'!D630,IF(Home!$K$10=3,'Antenna Data'!E630,IF(Home!$K$10=4,'Antenna Data'!F630,IF(Home!$K$10=5,'Antenna Data'!G630,IF(Home!$K$10=6,'Antenna Data'!H630,'Import Other Antenna'!G629))))))","v":-25.11},-17.73,-28.990000000000002,-18.8,-25.11,-28.769999999999996,0]
[62.800000000000011,{"$f":"IF(Home!$K$10=1,'Antenna Data'!C631,IF(Home!$K$10=2,'Antenna Data'!D631,IF(Home!$K$10=3,'Antenna Data'!E631,IF(Home!$K$10=4,'Antenna Data'!F631,IF(Home!$K$10=5,'Antenna Data'!G631,IF(Home!$K$10=6,'Antenna Data'!H631,'Import Other Antenna'!G630))))))","v":-25.380000000000003},-17.850000000000001,-29.66,-18.71,-25.380000000000003,-29.169999999999998,0]
[62.900000000000006,{"$f":"IF(Home!$K$10=1,'Antenna Data'!C632,IF(Home!$K$10=2,'Antenna Data'!D632,IF(Home!$K$10=3,'Antenna Data'!E632,IF(Home!$K$10=4,'Antenna Data'!F632,IF(Home!$K$10=5,'Antenna Data'!G632,IF(Home!$K$10=6,'Antenna Data'!H632,'Import Other Antenna'!G631))))))","v":-25.66},-17.98,-30.369999999999997,-18.61,-25.66,-29.589999999999996,0]
[63,{"$f":"IF(Home!$K$10=1,'Antenna Data'!C633,IF(Home!$K$10=2,'Antenna Data'!D633,IF(Home!$K$10=3,'Antenna Data'!E633,IF(Home!$K$10=4,'Antenna Data'!F633,IF(Home!$K$10=5,'Antenna Data'!G633,IF(Home!$K$10=6,'Antenna Data'!H633,'Import Other Antenna'!G632))))))","v":-25.93},-18.11,-31.130000000000003,-18.52,-25.93,-30.029999999999998,0]
[63.099999999999994,{"$f":"IF(Home!$K$10=1,'Antenna Data'!C634,IF(Home!$K$10=2,'Antenna Data'!D634,IF(Home!$K$10=3,'Antenna Data'!E634,IF(Home!$K$10=4,'Antenna Data'!F634,IF(Home!$K$10=5,'Antenna Data'!G634,IF(Home!$K$10=6,'Antenna Data'!H634,'Import Other Antenna'!G633))))))","v":-26.21},-18.25,-31.939999999999998,-18.440000000000001,-26.21,-30.49,0]
[63.199999999999989,{"$f":"IF(Home!$K$10=1,'Antenna Data'!C635,IF(Home!$K$10=2,'Antenna Data'!D635,IF(Home!$K$10=3,'Antenna Data'!E635,IF(Home!$K$10=4,'Antenna Data'!F635,IF(Home!$K$10=5,'Antenna Data'!G635,IF(Home!$K$10=6,'Antenna Data'!H635,'Import Other Antenna'!G634))))))","v":-26.47},-18.380000000000003,-32.81,-18.350000000000001,-26.47,-30.979999999999997,0]
[63.300000000000011,{"$f":"IF(Home!$K$10=1,'Antenna Data'!C636,IF(Home!$K$10=2,'Antenna Data'!D636,IF(Home!$K$10=3,'Antenna Data'!E636,IF(Home!$K$10=4,'Antenna Data'!F636,IF(Home!$K$10=5,'Antenna Data'!G636,IF(Home!$K$10=6,'Antenna Data'!H636,'Import Other Antenna'!G635))))))","v":-26.740000000000002},-18.52,-33.74,-18.27,-26.740000000000002,-31.49,0]
[63.400000000000006,{"$f":"IF(Home!$K$10=1,'Antenna Data'!C637,IF(Home!$K$10=2,'Antenna Data'!D637,IF(Home!$K$10=3,'Antenna Data'!E637,IF(Home!$K$10=4,'Antenna Data'!F637,IF(Home!$K$10=5,'Antenna Data'!G637,IF(Home!$K$10=6,'Antenna Data'!H637,'Import Other Antenna'!G636))))))","v":-26.990000000000002},-18.649999999999999,-34.71,-18.190000000000001,-26.990000000000002,-32.019999999999996,0]
[63.5,{"$f":"IF(Home!$K$10=1,'Antenna Data'!C638,IF(Home!$K$10=2,'Antenna Data'!D638,IF(Home!$K$10=3,'Antenna Data'!E638,IF(Home!$K$10=4,'Antenna Data'!F638,IF(Home!$K$10=5,'Antenna Data'!G638,IF(Home!$K$10=6,'Antenna Data'!H638,'Import Other Antenna'!G637))))))","v":-27.23},-18.79,-35.72,-18.12,-27.23,-32.58,0]
[63.599999999999994,{"$f":"IF(Home!$K$10=1,'Antenna Data'!C639,IF(Home!$K$10=2,'Antenna Data'!D639,IF(Home!$K$10=3,'Antenna Data'!E639,IF(Home!$K$10=4,'Antenna Data'!F639,IF(Home!$K$10=5,'Antenna Data'!G639,IF(Home!$K$10=6,'Antenna Data'!H639,'Import Other Antenna'!G638))))))","v":-27.46},-18.940000000000001,-36.71,-18.04,-27.46,-33.15,0]
[63.699999999999989,{"$f":"IF(Home!$K$10=1,'Antenna Data'!C640,IF(Home!$K$10=2,'Antenna Data'!D640,IF(Home!$K$10=3,'Antenna Data'!E640,IF(Home!$K$10=4,'Antenna Data'!F640,IF(Home!$K$10=5,'Antenna Data'!G640,IF(Home!$K$10=6,'Antenna Data'!H640,'Import Other Antenna'!G639))))))","v":-27.67},-19.079999999999998,-37.590000000000003,-17.97,-27.67,-33.739999999999995,0]
[63.800000000000011,{"$f":"IF(Home!$K$10=1,'Antenna Data'!C641,IF(Home!$K$10=2,'Antenna Data'!D641,IF(Home!$K$10=3,'Antenna Data'!E641,IF(Home!$K$10=4,'Antenna Data'!F641,IF(Home!$K$10=5,'Antenna Data'!G641,IF(Home!$K$10=6,'Antenna Data'!H641,'Import Other Antenna'!G640))))))","v":-27.86},-19.23,-38.230000000000004,-17.899999999999999,-27.86,-34.33,0]
[63.900000000000006,{"$f":"IF(Home!$K$10=1,'Antenna Data'!C642,IF(Home!$K$10=2,'Antenna Data'!D642,IF(Home!$K$10=3,'Antenna Data'!E642,IF(Home!$K$10=4,'Antenna Data'!F642,IF(Home!$K$10=5,'Antenna Data'!G642,IF(Home!$K$10=6,'Antenna Data'!H642,'Import Other Antenna'!G641))))))","v":-28.03},-19.380000000000003,-38.49,-17.84,-28.03,-34.92,0]
[64,{"$f":"IF(Home!$K$10=1,'Antenna Data'!C643,IF(Home!$K$10=2,'Antenna Data'!D643,IF(Home!$K$10=3,'Antenna Data'!E643,IF(Home!$K$10=4,'Antenna Data'!F643,IF(Home!$K$10=5,'Antenna Data'!G643,IF(Home!$K$10=6,'Antenna Data'!H643,'Import Other Antenna'!G642))))))","v":-28.17},-19.53,-38.31,-17.77,-28.17,-35.47,0]
[64.099999999999994,{"$f":"IF(Home!$K$10=1,'Antenna Data'!C644,IF(Home!$K$10=2,'Antenna Data'!D644,IF(Home!$K$10=3,'Antenna Data'!E644,IF(Home!$K$10=4,'Antenna Data'!F644,IF(Home!$K$10=5,'Antenna Data'!G644,IF(Home!$K$10=6,'Antenna Data'!H644,'Import Other Antenna'!G643))))))","v":-28.270000000000003},-19.68,-37.730000000000004,-17.71,-28.270000000000003,-35.959999999999994,0]
[64.199999999999989,{"$f":"IF(Home!$K$10=1,'Antenna Data'!C645,IF(Home!$K$10=2,'Antenna Data'!D645,IF(Home!$K$10=3,'Antenna Data'!E645,IF(Home!$K$10=4,'Antenna Data'!F645,IF(Home!$K$10=5,'Antenna Data'!G645,IF(Home!$K$10=6,'Antenna Data'!H645,'Import Other Antenna'!G644))))))","v":-28.35},-19.829999999999998,-36.9,-17.649999999999999,-28.35,-36.36,0]
[64.300000000000011,{"$f":"IF(Home!$K$10=1,'Antenna Data'!C646,IF(Home!$K$10=2,'Antenna Data'!D646,IF(Home!$K$10=3,'Antenna Data'!E646,IF(Home!$K$10=4,'Antenna Data'!F646,IF(Home!$K$10=5,'Antenna Data'!G646,IF(Home!$K$10=6,'Antenna Data'!H646,'Import Other Antenna'!G645))))))","v":-28.39},-19.990000000000002,-35.94,-17.600000000000001,-28.39,-36.64,0]
[64.400000000000006,{"$f":"IF(Home!$K$10=1,'Antenna Data'!C647,IF(Home!$K$10=2,'Antenna Data'!D647,IF(Home!$K$10=3,'Antenna Data'!E647,IF(Home!$K$10=4,'Antenna Data'!F647,IF(Home!$K$10=5,'Antenna Data'!G647,IF(Home!$K$10=6,'Antenna Data'!H647,'Import Other Antenna'!G646))))))","v":-28.39},-20.149999999999999,-34.96,-17.54,-28.39,-36.75,0]
[64.5,{"$f":"IF(Home!$K$10=1,'Antenna Data'!C648,IF(Home!$K$10=2,'Antenna Data'!D648,IF(Home!$K$10=3,'Antenna Data'!E648,IF(Home!$K$10=4,'Antenna Data'!F648,IF(Home!$K$10=5,'Antenna Data'!G648,IF(Home!$K$10=6,'Antenna Data'!H648,'Import Other Antenna'!G647))))))","v":-28.36},-20.32,-34,-17.490000000000002,-28.36,-36.69,0]
[64.599999999999994,{"$f":"IF(Home!$K$10=1,'Antenna Data'!C649,IF(Home!$K$10=2,'Antenna Data'!D649,IF(Home!$K$10=3,'Antenna Data'!E649,IF(Home!$K$10=4,'Antenna Data'!F649,IF(Home!$K$10=5,'Antenna Data'!G649,IF(Home!$K$10=6,'Antenna Data'!H649,'Import Other Antenna'!G648))))))","v":-28.3},-20.48,-33.08,-17.440000000000001,-28.3,-36.47,0]
[64.699999999999989,{"$f":"IF(Home!$K$10=1,'Antenna Data'!C650,IF(Home!$K$10=2,'Antenna Data'!D650,IF(Home!$K$10=3,'Antenna Data'!E650,IF(Home!$K$10=4,'Antenna Data'!F650,IF(Home!$K$10=5,'Antenna Data'!G650,IF(Home!$K$10=6,'Antenna Data'!H650,'Import Other Antenna'!G649))))))","v":-28.200000000000003},-20.65,-32.230000000000004,-17.39,-28.200000000000003,-36.090000000000003,0]
[64.800000000000011,{"$f":"IF(Home!$K$10=1,'Antenna Data'!C651,IF(Home!$K$10=2,'Antenna Data'!D651,IF(Home!$K$10=3,'Antenna Data'!E651,IF(Home!$K$10=4,'Antenna Data'!F651,IF(Home!$K$10=5,'Antenna Data'!G651,IF(Home!$K$10=6,'Antenna Data'!H651,'Import Other Antenna'!G650))))))","v":-28.080000000000002},-20.82,-31.43,-17.350000000000001,-28.080000000000002,-35.61,0]
[64.900000000000006,{"$f":"IF(Home!$K$10=1,'Antenna Data'!C652,IF(Home!$K$10=2,'Antenna Data'!D652,IF(Home!$K$10=3,'Antenna Data'!E652,IF(Home!$K$10=4,'Antenna Data'!F652,IF(Home!$K$10=5,'Antenna Data'!G652,IF(Home!$K$10=6,'Antenna Data'!H652,'Import Other Antenna'!G651))))))","v":-27.92},-21,-30.68,-17.309999999999999,-27.92,-35.049999999999997,0]
[65,{"$f":"IF(Home!$K$10=1,'Antenna Data'!C653,IF(Home!$K$10=2,'Antenna Data'!D653,IF(Home!$K$10=3,'Antenna Data'!E653,IF(Home!$K$10=4,'Antenna Data'!F653,IF(Home!$K$10=5,'Antenna Data'!G653,IF(Home!$K$10=6,'Antenna Data'!H653,'Import Other Antenna'!G652))))))","v":-27.75},-21.17,-29.990000000000002,-17.27,-27.75,-34.449999999999996,0]
[65.099999999999994,{"$f":"IF(Home!$K$10=1,'Antenna Data'!C654,IF(Home!$K$10=2,'Antenna Data'!D654,IF(Home!$K$10=3,'Antenna Data'!E654,IF(Home!$K$10=4,'Antenna Data'!F654,IF(Home!$K$10=5,'Antenna Data'!G654,IF(Home!$K$10=6,'Antenna Data'!H654,'Import Other Antenna'!G653))))))","v":-27.560000000000002},-21.36,-29.34,-17.23,-27.560000000000002,-33.83,0]
[65.199999999999989,{"$f":"IF(Home!$K$10=1,'Antenna Data'!C655,IF(Home!$K$10=2,'Antenna Data'!D655,IF(Home!$K$10=3,'Antenna Data'!E655,IF(Home!$K$10=4,'Antenna Data'!F655,IF(Home!$K$10=5,'Antenna Data'!G655,IF(Home!$K$10=6,'Antenna Data'!H655,'Import Other Antenna'!G654))))))","v":-27.340000000000003},-21.54,-28.73,-17.190000000000001,-27.340000000000003,-33.199999999999996,0]
[65.300000000000011,{"$f":"IF(Home!$K$10=1,'Antenna Data'!C656,IF(Home!$K$10=2,'Antenna Data'!D656,IF(Home!$K$10=3,'Antenna Data'!E656,IF(Home!$K$10=4,'Antenna Data'!F656,IF(Home!$K$10=5,'Antenna Data'!G656,IF(Home!$K$10=6,'Antenna Data'!H656,'Import Other Antenna'!G655))))))","v":-27.12},-21.73,-28.17,-17.16,-27.12,-32.589999999999996,0]
[65.400000000000006,{"$f":"IF(Home!$K$10=1,'Antenna Data'!C657,IF(Home!$K$10=2,'Antenna Data'!D657,IF(Home!$K$10=3,'Antenna Data'!E657,IF(Home!$K$10=4,'Antenna Data'!F657,IF(Home!$K$10=5,'Antenna Data'!G657,IF(Home!$K$10=6,'Antenna Data'!H657,'Import Other Antenna'!G656))))))","v":-26.89},-21.92,-27.630000000000003,-17.12,-26.89,-31.99,0]
[65.5,{"$f":"IF(Home!$K$10=1,'Antenna Data'!C658,IF(Home!$K$10=2,'Antenna Data'!D658,IF(Home!$K$10=3,'Antenna Data'!E658,IF(Home!$K$10=4,'Antenna Data'!F658,IF(Home!$K$10=5,'Antenna Data'!G658,IF(Home!$K$10=6,'Antenna Data'!H658,'Import Other Antenna'!G657))))))","v":-26.64},-22.11,-27.130000000000003,-17.09,-26.64,-31.409999999999997,0]
[65.599999999999994,{"$f":"IF(Home!$K$10=1,'Antenna Data'!C659,IF(Home!$K$10=2,'Antenna Data'!D659,IF(Home!$K$10=3,'Antenna Data'!E659,IF(Home!$K$10=4,'Antenna Data'!F659,IF(Home!$K$10=5,'Antenna Data'!G659,IF(Home!$K$10=6,'Antenna Data'!H659,'Import Other Antenna'!G658))))))","v":-26.4},-22.310000000000002,-26.65,-17.059999999999999,-26.4,-30.849999999999998,0]
[65.699999999999989,{"$f":"IF(Home!$K$10=1,'Antenna Data'!C660,IF(Home!$K$10=2,'Antenna Data'!D660,IF(Home!$K$10=3,'Antenna Data'!E660,IF(Home!$K$10=4,'Antenna Data'!F660,IF(Home!$K$10=5,'Antenna Data'!G660,IF(Home!$K$10=6,'Antenna Data'!H660,'Import Other Antenna'!G659))))))","v":-26.15},-22.52,-26.200000000000003,-17.04,-26.15,-30.32,0]
[65.800000000000011,{"$f":"IF(Home!$K$10=1,'Antenna Data'!C661,IF(Home!$K$10=2,'Antenna Data'!D661,IF(Home!$K$10=3,'Antenna Data'!E661,IF(Home!$K$10=4,'Antenna Data'!F661,IF(Home!$K$10=5,'Antenna Data'!G661,IF(Home!$K$10=6,'Antenna Data'!H661,'Import Other Antenna'!G660))))))","v":-25.9},-22.73,-25.770000000000003,-17.010000000000002,-25.9,-29.81,0]
[65.900000000000006,{"$f":"IF(Home!$K$10=1,'Antenna Data'!C662,IF(Home!$K$10=2,'Antenna Data'!D662,IF(Home!$K$10=3,'Antenna Data'!E662,IF(Home!$K$10=4,'Antenna Data'!F662,IF(Home!$K$10=5,'Antenna Data'!G662,IF(Home!$K$10=6,'Antenna Data'!H662,'Import Other Antenna'!G661))))))","v":-25.65},-22.94,-25.37,-16.989999999999998,-25.65,-29.33,0]
[66,{"$f":"IF(Home!$K$10=1,'Antenna Data'!C663,IF(Home!$K$10=2,'Antenna Data'!D663,IF(Home!$K$10=3,'Antenna Data'!E663,IF(Home!$K$10=4,'Antenna Data'!F663,IF(Home!$K$10=5,'Antenna Data'!G663,IF(Home!$K$10=6,'Antenna Data'!H663,'Import Other Antenna'!G662))))))","v":-25.4},-23.16,-24.98,-16.97,-25.4,-28.86,0]
[66.099999999999994,{"$f":"IF(Home!$K$10=1,'Antenna Data'!C664,IF(Home!$K$10=2,'Antenna Data'!D664,IF(Home!$K$10=3,'Antenna Data'!E664,IF(Home!$K$10=4,'Antenna Data'!F664,IF(Home!$K$10=5,'Antenna Data'!G664,IF(Home!$K$10=6,'Antenna Data'!H664,'Import Other Antenna'!G663))))))","v":-25.15},-23.380000000000003,-24.61,-16.95,-25.15,-28.419999999999998,0]
[66.199999999999989,{"$f":"IF(Home!$K$10=1,'Antenna Data'!C665,IF(Home!$K$10=2,'Antenna Data'!D665,IF(Home!$K$10=3,'Antenna Data'!E665,IF(Home!$K$10=4,'Antenna Data'!F665,IF(Home!$K$10=5,'Antenna Data'!G665,IF(Home!$K$10=6,'Antenna Data'!H665,'Import Other Antenna'!G664))))))","v":-24.91},-23.6,-24.259999999999998,-16.940000000000001,-24.91,-28,0]
[66.300000000000011,{"$f":"IF(Home!$K$10=1,'Antenna Data'!C666,IF(Home!$K$10=2,'Antenna Data'!D666,IF(Home!$K$10=3,'Antenna Data'!E666,IF(Home!$K$10=4,'Antenna Data'!F666,IF(Home!$K$10=5,'Antenna Data'!G666,IF(Home!$K$10=6,'Antenna Data'!H666,'Import Other Antenna'!G665))))))","v":-24.67},-23.84,-23.93,-16.920000000000002,-24.67,-27.589999999999996,0]
[66.400000000000006,{"$f":"IF(Home!$K$10=1,'Antenna Data'!C667,IF(Home!$K$10=2,'Antenna Data'!D667,IF(Home!$K$10=3,'Antenna Data'!E667,IF(Home!$K$10=4,'Antenna Data'!F667,IF(Home!$K$10=5,'Antenna Data'!G667,IF(Home!$K$10=6,'Antenna Data'!H667,'Import Other Antenna'!G666))))))","v":-24.43},-24.08,-23.6,-16.91,-24.43,-27.209999999999997,0]
[66.5,{"$f":"IF(Home!$K$10=1,'Antenna Data'!C668,IF(Home!$K$10=2,'Antenna Data'!D668,IF(Home!$K$10=3,'Antenna Data'!E668,IF(Home!$K$10=4,'Antenna Data'!F668,IF(Home!$K$10=5,'Antenna Data'!G668,IF(Home!$K$10=6,'Antenna Data'!H668,'Import Other Antenna'!G667))))))","v":-24.200000000000003},-24.32,-23.29,-16.899999999999999,-24.200000000000003,-26.839999999999996,0]
[66.599999999999994,{"$f":"IF(Home!$K$10=1,'Antenna Data'!C669,IF(Home!$K$10=2,'Antenna Data'!D669,IF(Home!$K$10=3,'Antenna Data'!E669,IF(Home!$K$10=4,'Antenna Data'!F669,IF(Home!$K$10=5,'Antenna Data'!G669,IF(Home!$K$10=6,'Antenna Data'!H669,'Import Other Antenna'!G668))))))","v":-23.98},-24.57,-23,-16.89,-23.98,-26.49,0]
[66.699999999999989,{"$f":"IF(Home!$K$10=1,'Antenna Data'!C670,IF(Home!$K$10=2,'Antenna Data'!D670,IF(Home!$K$10=3,'Antenna Data'!E670,IF(Home!$K$10=4,'Antenna Data'!F670,IF(Home!$K$10=5,'Antenna Data'!G670,IF(Home!$K$10=6,'Antenna Data'!H670,'Import Other Antenna'!G669))))))","v":-23.76},-24.83,-22.71,-16.88,-23.76,-26.15,0]
[66.800000000000011,{"$f":"IF(Home!$K$10=1,'Antenna Data'!C671,IF(Home!$K$10=2,'Antenna Data'!D671,IF(Home!$K$10=3,'Antenna Data'!E671,IF(Home!$K$10=4,'Antenna Data'!F671,IF(Home!$K$10=5,'Antenna Data'!G671,IF(Home!$K$10=6,'Antenna Data'!H671,'Import Other Antenna'!G670))))))","v":-23.55},-25.09,-22.44,-16.88,-23.55,-25.82,0]
[66.900000000000006,{"$f":"IF(Home!$K$10=1,'Antenna Data'!C672,IF(Home!$K$10=2,'Antenna Data'!D672,IF(Home!$K$10=3,'Antenna Data'!E672,IF(Home!$K$10=4,'Antenna Data'!F672,IF(Home!$K$10=5,'Antenna Data'!G672,IF(Home!$K$10=6,'Antenna Data'!H672,'Import Other Antenna'!G671))))))","v":-23.34},-25.37,-22.18,-16.88,-23.34,-25.509999999999998,0]
[67,{"$f":"IF(Home!$K$10=1,'Antenna Data'!C673,IF(Home!$K$10=2,'Antenna Data'!D673,IF(Home!$K$10=3,'Antenna Data'!E673,IF(Home!$K$10=4,'Antenna Data'!F673,IF(Home!$K$10=5,'Antenna Data'!G673,IF(Home!$K$10=6,'Antenna Data'!H673,'Import Other Antenna'!G672))))))","v":-23.14},-25.65,-21.92,-16.88,-23.14,-25.22,0]
[67.099999999999994,{"$f":"IF(Home!$K$10=1,'Antenna Data'!C674,IF(Home!$K$10=2,'Antenna Data'!D674,IF(Home!$K$10=3,'Antenna Data'!E674,IF(Home!$K$10=4,'Antenna Data'!F674,IF(Home!$K$10=5,'Antenna Data'!G674,IF(Home!$K$10=6,'Antenna Data'!H674,'Import Other Antenna'!G673))))))","v":-22.94},-25.94,-21.68,-16.88,-22.94,-24.93,0]
[67.199999999999989,{"$f":"IF(Home!$K$10=1,'Antenna Data'!C675,IF(Home!$K$10=2,'Antenna Data'!D675,IF(Home!$K$10=3,'Antenna Data'!E675,IF(Home!$K$10=4,'Antenna Data'!F675,IF(Home!$K$10=5,'Antenna Data'!G675,IF(Home!$K$10=6,'Antenna Data'!H675,'Import Other Antenna'!G674))))))","v":-22.75},-26.23,-21.44,-16.88,-22.75,-24.659999999999997,0]
[67.300000000000011,{"$f":"IF(Home!$K$10=1,'Antenna Data'!C676,IF(Home!$K$10=2,'Antenna Data'!D676,IF(Home!$K$10=3,'Antenna Data'!E676,IF(Home!$K$10=4,'Antenna Data'!F676,IF(Home!$K$10=5,'Antenna Data'!G676,IF(Home!$K$10=6,'Antenna Data'!H676,'Import Other Antenna'!G675))))))","v":-22.57},-26.54,-21.21,-16.88,-22.57,-24.389999999999997,0]
[67.400000000000006,{"$f":"IF(Home!$K$10=1,'Antenna Data'!C677,IF(Home!$K$10=2,'Antenna Data'!D677,IF(Home!$K$10=3,'Antenna Data'!E677,IF(Home!$K$10=4,'Antenna Data'!F677,IF(Home!$K$10=5,'Antenna Data'!G677,IF(Home!$K$10=6,'Antenna Data'!H677,'Import Other Antenna'!G676))))))","v":-22.39},-26.86,-20.990000000000002,-16.89,-22.39,-24.139999999999997,0]
[67.5,{"$f":"IF(Home!$K$10=1,'Antenna Data'!C678,IF(Home!$K$10=2,'Antenna Data'!D678,IF(Home!$K$10=3,'Antenna Data'!E678,IF(Home!$K$10=4,'Antenna Data'!F678,IF(Home!$K$10=5,'Antenna Data'!G678,IF(Home!$K$10=6,'Antenna Data'!H678,'Import Other Antenna'!G677))))))","v":-22.22},-27.19,-20.78,-16.899999999999999,-22.22,-23.9,0]
[67.599999999999994,{"$f":"IF(Home!$K$10=1,'Antenna Data'!C679,IF(Home!$K$10=2,'Antenna Data'!D679,IF(Home!$K$10=3,'Antenna Data'!E679,IF(Home!$K$10=4,'Antenna Data'!F679,IF(Home!$K$10=5,'Antenna Data'!G679,IF(Home!$K$10=6,'Antenna Data'!H679,'Import Other Antenna'!G678))))))","v":-22.05},-27.53,-20.57,-16.91,-22.05,-23.669999999999998,0]
[67.699999999999989,{"$f":"IF(Home!$K$10=1,'Antenna Data'!C680,IF(Home!$K$10=2,'Antenna Data'!D680,IF(Home!$K$10=3,'Antenna Data'!E680,IF(Home!$K$10=4,'Antenna Data'!F680,IF(Home!$K$10=5,'Antenna Data'!G680,IF(Home!$K$10=6,'Antenna Data'!H680,'Import Other Antenna'!G679))))))","v":-21.89},-27.88,-20.37,-16.920000000000002,-21.89,-23.439999999999998,0]
[67.800000000000011,{"$f":"IF(Home!$K$10=1,'Antenna Data'!C681,IF(Home!$K$10=2,'Antenna Data'!D681,IF(Home!$K$10=3,'Antenna Data'!E681,IF(Home!$K$10=4,'Antenna Data'!F681,IF(Home!$K$10=5,'Antenna Data'!G681,IF(Home!$K$10=6,'Antenna Data'!H681,'Import Other Antenna'!G680))))))","v":-21.740000000000002},-28.25,-20.18,-16.93,-21.740000000000002,-23.229999999999997,0]
[67.900000000000006,{"$f":"IF(Home!$K$10=1,'Antenna Data'!C682,IF(Home!$K$10=2,'Antenna Data'!D682,IF(Home!$K$10=3,'Antenna Data'!E682,IF(Home!$K$10=4,'Antenna Data'!F682,IF(Home!$K$10=5,'Antenna Data'!G682,IF(Home!$K$10=6,'Antenna Data'!H682,'Import Other Antenna'!G681))))))","v":-21.59},-28.63,-19.990000000000002,-16.95,-21.59,-23.02,0]
[68,{"$f":"IF(Home!$K$10=1,'Antenna Data'!C683,IF(Home!$K$10=2,'Antenna Data'!D683,IF(Home!$K$10=3,'Antenna Data'!E683,IF(Home!$K$10=4,'Antenna Data'!F683,IF(Home!$K$10=5,'Antenna Data'!G683,IF(Home!$K$10=6,'Antenna Data'!H683,'Import Other Antenna'!G682))))))","v":-21.44},-29.03,-19.810000000000002,-16.97,-21.44,-22.82,0]
[68.099999999999994,{"$f":"IF(Home!$K$10=1,'Antenna Data'!C684,IF(Home!$K$10=2,'Antenna Data'!D684,IF(Home!$K$10=3,'Antenna Data'!E684,IF(Home!$K$10=4,'Antenna Data'!F684,IF(Home!$K$10=5,'Antenna Data'!G684,IF(Home!$K$10=6,'Antenna Data'!H684,'Import Other Antenna'!G683))))))","v":-21.3},-29.44,-19.630000000000003,-16.989999999999998,-21.3,-22.63,0]
[68.199999999999989,{"$f":"IF(Home!$K$10=1,'Antenna Data'!C685,IF(Home!$K$10=2,'Antenna Data'!D685,IF(Home!$K$10=3,'Antenna Data'!E685,IF(Home!$K$10=4,'Antenna Data'!F685,IF(Home!$K$10=5,'Antenna Data'!G685,IF(Home!$K$10=6,'Antenna Data'!H685,'Import Other Antenna'!G684))))))","v":-21.17},-29.88,-19.46,-17.010000000000002,-21.17,-22.45,0]
[68.300000000000011,{"$f":"IF(Home!$K$10=1,'Antenna Data'!C686,IF(Home!$K$10=2,'Antenna Data'!D686,IF(Home!$K$10=3,'Antenna Data'!E686,IF(Home!$K$10=4,'Antenna Data'!F686,IF(Home!$K$10=5,'Antenna Data'!G686,IF(Home!$K$10=6,'Antenna Data'!H686,'Import Other Antenna'!G685))))))","v":-21.04},-30.330000000000002,-19.29,-17.03,-21.04,-22.27,0]
[68.400000000000006,{"$f":"IF(Home!$K$10=1,'Antenna Data'!C687,IF(Home!$K$10=2,'Antenna Data'!D687,IF(Home!$K$10=3,'Antenna Data'!E687,IF(Home!$K$10=4,'Antenna Data'!F687,IF(Home!$K$10=5,'Antenna Data'!G687,IF(Home!$K$10=6,'Antenna Data'!H687,'Import Other Antenna'!G686))))))","v":-20.91},-30.81,-19.130000000000003,-17.059999999999999,-20.91,-22.099999999999998,0]
[68.5,{"$f":"IF(Home!$K$10=1,'Antenna Data'!C688,IF(Home!$K$10=2,'Antenna Data'!D688,IF(Home!$K$10=3,'Antenna Data'!E688,IF(Home!$K$10=4,'Antenna Data'!F688,IF(Home!$K$10=5,'Antenna Data'!G688,IF(Home!$K$10=6,'Antenna Data'!H688,'Import Other Antenna'!G687))))))","v":-20.79},-31.32,-18.98,-17.079999999999998,-20.79,-21.93,0]
[68.599999999999994,{"$f":"IF(Home!$K$10=1,'Antenna Data'!C689,IF(Home!$K$10=2,'Antenna Data'!D689,IF(Home!$K$10=3,'Antenna Data'!E689,IF(Home!$K$10=4,'Antenna Data'!F689,IF(Home!$K$10=5,'Antenna Data'!G689,IF(Home!$K$10=6,'Antenna Data'!H689,'Import Other Antenna'!G688))))))","v":-20.68},-31.85,-18.82,-17.11,-20.68,-21.779999999999998,0]
[68.699999999999989,{"$f":"IF(Home!$K$10=1,'Antenna Data'!C690,IF(Home!$K$10=2,'Antenna Data'!D690,IF(Home!$K$10=3,'Antenna Data'!E690,IF(Home!$K$10=4,'Antenna Data'!F690,IF(Home!$K$10=5,'Antenna Data'!G690,IF(Home!$K$10=6,'Antenna Data'!H690,'Import Other Antenna'!G689))))))","v":-20.57},-32.42,-18.68,-17.14,-20.57,-21.63,0]
[68.800000000000011,{"$f":"IF(Home!$K$10=1,'Antenna Data'!C691,IF(Home!$K$10=2,'Antenna Data'!D691,IF(Home!$K$10=3,'Antenna Data'!E691,IF(Home!$K$10=4,'Antenna Data'!F691,IF(Home!$K$10=5,'Antenna Data'!G691,IF(Home!$K$10=6,'Antenna Data'!H691,'Import Other Antenna'!G690))))))","v":-20.46},-33.019999999999996,-18.53,-17.18,-20.46,-21.479999999999997,0]
[68.900000000000006,{"$f":"IF(Home!$K$10=1,'Antenna Data'!C692,IF(Home!$K$10=2,'Antenna Data'!D692,IF(Home!$K$10=3,'Antenna Data'!E692,IF(Home!$K$10=4,'Antenna Data'!F692,IF(Home!$K$10=5,'Antenna Data'!G692,IF(Home!$K$10=6,'Antenna Data'!H692,'Import Other Antenna'!G691))))))","v":-20.36},-33.659999999999997,-18.39,-17.21,-20.36,-21.339999999999996,0]
[69,{"$f":"IF(Home!$K$10=1,'Antenna Data'!C693,IF(Home!$K$10=2,'Antenna Data'!D693,IF(Home!$K$10=3,'Antenna Data'!E693,IF(Home!$K$10=4,'Antenna Data'!F693,IF(Home!$K$10=5,'Antenna Data'!G693,IF(Home!$K$10=6,'Antenna Data'!H693,'Import Other Antenna'!G692))))))","v":-20.27},-34.36,-18.260000000000002,-17.25,-20.27,-21.209999999999997,0]
[69.099999999999994,{"$f":"IF(Home!$K$10=1,'Antenna Data'!C694,IF(Home!$K$10=2,'Antenna Data'!D694,IF(Home!$K$10=3,'Antenna Data'!E694,IF(Home!$K$10=4,'Antenna Data'!F694,IF(Home!$K$10=5,'Antenna Data'!G694,IF(Home!$K$10=6,'Antenna Data'!H694,'Import Other Antenna'!G693))))))","v":-20.18},-35.1,-18.130000000000003,-17.29,-20.18,-21.08,0]
[69.199999999999989,{"$f":"IF(Home!$K$10=1,'Antenna Data'!C695,IF(Home!$K$10=2,'Antenna Data'!D695,IF(Home!$K$10=3,'Antenna Data'!E695,IF(Home!$K$10=4,'Antenna Data'!F695,IF(Home!$K$10=5,'Antenna Data'!G695,IF(Home!$K$10=6,'Antenna Data'!H695,'Import Other Antenna'!G694))))))","v":-20.09},-35.909999999999997,-18,-17.329999999999998,-20.09,-20.959999999999997,0]
[69.300000000000011,{"$f":"IF(Home!$K$10=1,'Antenna Data'!C696,IF(Home!$K$10=2,'Antenna Data'!D696,IF(Home!$K$10=3,'Antenna Data'!E696,IF(Home!$K$10=4,'Antenna Data'!F696,IF(Home!$K$10=5,'Antenna Data'!G696,IF(Home!$K$10=6,'Antenna Data'!H696,'Import Other Antenna'!G695))))))","v":-20},-36.799999999999997,-17.880000000000003,-17.37,-20,-20.84,0]
[69.400000000000006,{"$f":"IF(Home!$K$10=1,'Antenna Data'!C697,IF(Home!$K$10=2,'Antenna Data'!D697,IF(Home!$K$10=3,'Antenna Data'!E697,IF(Home!$K$10=4,'Antenna Data'!F697,IF(Home!$K$10=5,'Antenna Data'!G697,IF(Home!$K$10=6,'Antenna Data'!H697,'Import Other Antenna'!G696))))))","v":-19.93},-37.769999999999996,-17.760000000000002,-17.41,-19.93,-20.729999999999997,0]
[69.5,{"$f":"IF(Home!$K$10=1,'Antenna Data'!C698,IF(Home!$K$10=2,'Antenna Data'!D698,IF(Home!$K$10=3,'Antenna Data'!E698,IF(Home!$K$10=4,'Antenna Data'!F698,IF(Home!$K$10=5,'Antenna Data'!G698,IF(Home!$K$10=6,'Antenna Data'!H698,'Import Other Antenna'!G697))))))","v":-19.850000000000001},-38.86,-17.64,-17.46,-19.850000000000001,-20.619999999999997,0]
[69.599999999999994,{"$f":"IF(Home!$K$10=1,'Antenna Data'!C699,IF(Home!$K$10=2,'Antenna Data'!D699,IF(Home!$K$10=3,'Antenna Data'!E699,IF(Home!$K$10=4,'Antenna Data'!F699,IF(Home!$K$10=5,'Antenna Data'!G699,IF(Home!$K$10=6,'Antenna Data'!H699,'Import Other Antenna'!G698))))))","v":-19.78},-40.07,-17.52,-17.5,-19.78,-20.52,0]
[69.699999999999989,{"$f":"IF(Home!$K$10=1,'Antenna Data'!C700,IF(Home!$K$10=2,'Antenna Data'!D700,IF(Home!$K$10=3,'Antenna Data'!E700,IF(Home!$K$10=4,'Antenna Data'!F700,IF(Home!$K$10=5,'Antenna Data'!G700,IF(Home!$K$10=6,'Antenna Data'!H700,'Import Other Antenna'!G699))))))","v":-19.71},-41.44,-17.41,-17.55,-19.71,-20.43,0]
[69.800000000000011,{"$f":"IF(Home!$K$10=1,'Antenna Data'!C701,IF(Home!$K$10=2,'Antenna Data'!D701,IF(Home!$K$10=3,'Antenna Data'!E701,IF(Home!$K$10=4,'Antenna Data'!F701,IF(Home!$K$10=5,'Antenna Data'!G701,IF(Home!$K$10=6,'Antenna Data'!H701,'Import Other Antenna'!G700))))))","v":-19.650000000000002},-42.989999999999995,-17.310000000000002,-17.61,-19.650000000000002,-20.329999999999998,0]
[69.900000000000006,{"$f":"IF(Home!$K$10=1,'Antenna Data'!C702,IF(Home!$K$10=2,'Antenna Data'!D702,IF(Home!$K$10=3,'Antenna Data'!E702,IF(Home!$K$10=4,'Antenna Data'!F702,IF(Home!$K$10=5,'Antenna Data'!G702,IF(Home!$K$10=6,'Antenna Data'!H702,'Import Other Antenna'!G701))))))","v":-19.59},-44.730000000000004,-17.2,-17.66,-19.59,-20.25,0]
[70,{"$f":"IF(Home!$K$10=1,'Antenna Data'!C703,IF(Home!$K$10=2,'Antenna Data'!D703,IF(Home!$K$10=3,'Antenna Data'!E703,IF(Home!$K$10=4,'Antenna Data'!F703,IF(Home!$K$10=5,'Antenna Data'!G703,IF(Home!$K$10=6,'Antenna Data'!H703,'Import Other Antenna'!G702))))))","v":-19.54},-46.58,-17.100000000000001,-17.72,-19.54,-20.159999999999997,0]
[70.099999999999994,{"$f":"IF(Home!$K$10=1,'Antenna Data'!C704,IF(Home!$K$10=2,'Antenna Data'!D704,IF(Home!$K$10=3,'Antenna Data'!E704,IF(Home!$K$10=4,'Antenna Data'!F704,IF(Home!$K$10=5,'Antenna Data'!G704,IF(Home!$K$10=6,'Antenna Data'!H704,'Import Other Antenna'!G703))))))","v":-19.48},-48.19,-17,-17.77,-19.48,-20.079999999999998,0]
[70.199999999999989,{"$f":"IF(Home!$K$10=1,'Antenna Data'!C705,IF(Home!$K$10=2,'Antenna Data'!D705,IF(Home!$K$10=3,'Antenna Data'!E705,IF(Home!$K$10=4,'Antenna Data'!F705,IF(Home!$K$10=5,'Antenna Data'!G705,IF(Home!$K$10=6,'Antenna Data'!H705,'Import Other Antenna'!G704))))))","v":-19.440000000000001},-48.78,-16.91,-17.829999999999998,-19.440000000000001,-20.009999999999998,0]
[70.300000000000011,{"$f":"IF(Home!$K$10=1,'Antenna Data'!C706,IF(Home!$K$10=2,'Antenna Data'!D706,IF(Home!$K$10=3,'Antenna Data'!E706,IF(Home!$K$10=4,'Antenna Data'!F706,IF(Home!$K$10=5,'Antenna Data'!G706,IF(Home!$K$10=6,'Antenna Data'!H706,'Import Other Antenna'!G705))))))","v":-19.39},-47.94,-16.810000000000002,-17.89,-19.39,-19.939999999999998,0]
[70.400000000000006,{"$f":"IF(Home!$K$10=1,'Antenna Data'!C707,IF(Home!$K$10=2,'Antenna Data'!D707,IF(Home!$K$10=3,'Antenna Data'!E707,IF(Home!$K$10=4,'Antenna Data'!F707,IF(Home!$K$10=5,'Antenna Data'!G707,IF(Home!$K$10=6,'Antenna Data'!H707,'Import Other Antenna'!G706))))))","v":-19.350000000000001},-46.269999999999996,-16.72,-17.96,-19.350000000000001,-19.869999999999997,0]
[70.5,{"$f":"IF(Home!$K$10=1,'Antenna Data'!C708,IF(Home!$K$10=2,'Antenna Data'!D708,IF(Home!$K$10=3,'Antenna Data'!E708,IF(Home!$K$10=4,'Antenna Data'!F708,IF(Home!$K$10=5,'Antenna Data'!G708,IF(Home!$K$10=6,'Antenna Data'!H708,'Import Other Antenna'!G707))))))","v":-19.32},-44.459999999999994,-16.630000000000003,-18.02,-19.32,-19.809999999999999,0]
[70.599999999999994,{"$f":"IF(Home!$K$10=1,'Antenna Data'!C709,IF(Home!$K$10=2,'Antenna Data'!D709,IF(Home!$K$10=3,'Antenna Data'!E709,IF(Home!$K$10=4,'Antenna Data'!F709,IF(Home!$K$10=5,'Antenna Data'!G709,IF(Home!$K$10=6,'Antenna Data'!H709,'Import Other Antenna'!G708))))))","v":-19.29},-42.78,-16.55,-18.09,-19.29,-19.759999999999998,0]
[70.699999999999989,{"$f":"IF(Home!$K$10=1,'Antenna Data'!C710,IF(Home!$K$10=2,'Antenna Data'!D710,IF(Home!$K$10=3,'Antenna Data'!E710,IF(Home!$K$10=4,'Antenna Data'!F710,IF(Home!$K$10=5,'Antenna Data'!G710,IF(Home!$K$10=6,'Antenna Data'!H710,'Import Other Antenna'!G709))))))","v":-19.260000000000002},-41.3,-16.47,-18.16,-19.260000000000002,-19.7,0]
[70.800000000000011,{"$f":"IF(Home!$K$10=1,'Antenna Data'!C711,IF(Home!$K$10=2,'Antenna Data'!D711,IF(Home!$K$10=3,'Antenna Data'!E711,IF(Home!$K$10=4,'Antenna Data'!F711,IF(Home!$K$10=5,'Antenna Data'!G711,IF(Home!$K$10=6,'Antenna Data'!H711,'Import Other Antenna'!G710))))))","v":-19.23},-40,-16.39,-18.23,-19.23,-19.649999999999999,0]
[70.900000000000006,{"$f":"IF(Home!$K$10=1,'Antenna Data'!C712,IF(Home!$K$10=2,'Antenna Data'!D712,IF(Home!$K$10=3,'Antenna Data'!E712,IF(Home!$K$10=4,'Antenna Data'!F712,IF(Home!$K$10=5,'Antenna Data'!G712,IF(Home!$K$10=6,'Antenna Data'!H712,'Import Other Antenna'!G711))))))","v":-19.21},-38.85,-16.310000000000002,-18.309999999999999,-19.21,-19.61,0]
[71,{"$f":"IF(Home!$K$10=1,'Antenna Data'!C713,IF(Home!$K$10=2,'Antenna Data'!D713,IF(Home!$K$10=3,'Antenna Data'!E713,IF(Home!$K$10=4,'Antenna Data'!F713,IF(Home!$K$10=5,'Antenna Data'!G713,IF(Home!$K$10=6,'Antenna Data'!H713,'Import Other Antenna'!G712))))))","v":-19.190000000000001},-37.82,-16.23,-18.38,-19.190000000000001,-19.569999999999997,0]
[71.099999999999994,{"$f":"IF(Home!$K$10=1,'Antenna Data'!C714,IF(Home!$K$10=2,'Antenna Data'!D714,IF(Home!$K$10=3,'Antenna Data'!E714,IF(Home!$K$10=4,'Antenna Data'!F714,IF(Home!$K$10=5,'Antenna Data'!G714,IF(Home!$K$10=6,'Antenna Data'!H714,'Import Other Antenna'!G713))))))","v":-19.18},-36.89,-16.16,-18.46,-19.18,-19.529999999999998,0]
[71.199999999999989,{"$f":"IF(Home!$K$10=1,'Antenna Data'!C715,IF(Home!$K$10=2,'Antenna Data'!D715,IF(Home!$K$10=3,'Antenna Data'!E715,IF(Home!$K$10=4,'Antenna Data'!F715,IF(Home!$K$10=5,'Antenna Data'!G715,IF(Home!$K$10=6,'Antenna Data'!H715,'Import Other Antenna'!G714))))))","v":-19.170000000000002},-36.06,-16.09,-18.54,-19.170000000000002,-19.5,0]
[71.300000000000011,{"$f":"IF(Home!$K$10=1,'Antenna Data'!C716,IF(Home!$K$10=2,'Antenna Data'!D716,IF(Home!$K$10=3,'Antenna Data'!E716,IF(Home!$K$10=4,'Antenna Data'!F716,IF(Home!$K$10=5,'Antenna Data'!G716,IF(Home!$K$10=6,'Antenna Data'!H716,'Import Other Antenna'!G715))))))","v":-19.16},-35.29,-16.02,-18.63,-19.16,-19.47,0]
[71.400000000000006,{"$f":"IF(Home!$K$10=1,'Antenna Data'!C717,IF(Home!$K$10=2,'Antenna Data'!D717,IF(Home!$K$10=3,'Antenna Data'!E717,IF(Home!$K$10=4,'Antenna Data'!F717,IF(Home!$K$10=5,'Antenna Data'!G717,IF(Home!$K$10=6,'Antenna Data'!H717,'Import Other Antenna'!G716))))))","v":-19.16},-34.590000000000003,-15.950000000000001,-18.71,-19.16,-19.439999999999998,0]
[71.5,{"$f":"IF(Home!$K$10=1,'Antenna Data'!C718,IF(Home!$K$10=2,'Antenna Data'!D718,IF(Home!$K$10=3,'Antenna Data'!E718,IF(Home!$K$10=4,'Antenna Data'!F718,IF(Home!$K$10=5,'Antenna Data'!G718,IF(Home!$K$10=6,'Antenna Data'!H718,'Import Other Antenna'!G717))))))","v":-19.16},-33.94,-15.89,-18.8,-19.16,-19.419999999999998,0]
[71.599999999999994,{"$f":"IF(Home!$K$10=1,'Antenna Data'!C719,IF(Home!$K$10=2,'Antenna Data'!D719,IF(Home!$K$10=3,'Antenna Data'!E719,IF(Home!$K$10=4,'Antenna Data'!F719,IF(Home!$K$10=5,'Antenna Data'!G719,IF(Home!$K$10=6,'Antenna Data'!H719,'Import Other Antenna'!G718))))))","v":-19.16},-33.340000000000003,-15.83,-18.89,-19.16,-19.399999999999999,0]
[71.699999999999989,{"$f":"IF(Home!$K$10=1,'Antenna Data'!C720,IF(Home!$K$10=2,'Antenna Data'!D720,IF(Home!$K$10=3,'Antenna Data'!E720,IF(Home!$K$10=4,'Antenna Data'!F720,IF(Home!$K$10=5,'Antenna Data'!G720,IF(Home!$K$10=6,'Antenna Data'!H720,'Import Other Antenna'!G719))))))","v":-19.170000000000002},-32.769999999999996,-15.770000000000001,-18.98,-19.170000000000002,-19.389999999999997,0]
[71.800000000000011,{"$f":"IF(Home!$K$10=1,'Antenna Data'!C721,IF(Home!$K$10=2,'Antenna Data'!D721,IF(Home!$K$10=3,'Antenna Data'!E721,IF(Home!$K$10=4,'Antenna Data'!F721,IF(Home!$K$10=5,'Antenna Data'!G721,IF(Home!$K$10=6,'Antenna Data'!H721,'Import Other Antenna'!G720))))))","v":-19.18},-32.24,-15.71,-19.07,-19.18,-19.38,0]
[71.900000000000006,{"$f":"IF(Home!$K$10=1,'Antenna Data'!C722,IF(Home!$K$10=2,'Antenna Data'!D722,IF(Home!$K$10=3,'Antenna Data'!E722,IF(Home!$K$10=4,'Antenna Data'!F722,IF(Home!$K$10=5,'Antenna Data'!G722,IF(Home!$K$10=6,'Antenna Data'!H722,'Import Other Antenna'!G721))))))","v":-19.200000000000003},-31.75,-15.65,-19.170000000000002,-19.200000000000003,-19.369999999999997,0]
[72,{"$f":"IF(Home!$K$10=1,'Antenna Data'!C723,IF(Home!$K$10=2,'Antenna Data'!D723,IF(Home!$K$10=3,'Antenna Data'!E723,IF(Home!$K$10=4,'Antenna Data'!F723,IF(Home!$K$10=5,'Antenna Data'!G723,IF(Home!$K$10=6,'Antenna Data'!H723,'Import Other Antenna'!G722))))))","v":-19.21},-31.28,-15.600000000000001,-19.27,-19.21,-19.369999999999997,0]
[72.099999999999994,{"$f":"IF(Home!$K$10=1,'Antenna Data'!C724,IF(Home!$K$10=2,'Antenna Data'!D724,IF(Home!$K$10=3,'Antenna Data'!E724,IF(Home!$K$10=4,'Antenna Data'!F724,IF(Home!$K$10=5,'Antenna Data'!G724,IF(Home!$K$10=6,'Antenna Data'!H724,'Import Other Antenna'!G723))))))","v":-19.23},-30.84,-15.540000000000001,-19.37,-19.23,-19.369999999999997,0]
[72.199999999999989,{"$f":"IF(Home!$K$10=1,'Antenna Data'!C725,IF(Home!$K$10=2,'Antenna Data'!D725,IF(Home!$K$10=3,'Antenna Data'!E725,IF(Home!$K$10=4,'Antenna Data'!F725,IF(Home!$K$10=5,'Antenna Data'!G725,IF(Home!$K$10=6,'Antenna Data'!H725,'Import Other Antenna'!G724))))))","v":-19.260000000000002},-30.42,-15.49,-19.47,-19.260000000000002,-19.369999999999997,0]
[72.300000000000011,{"$f":"IF(Home!$K$10=1,'Antenna Data'!C726,IF(Home!$K$10=2,'Antenna Data'!D726,IF(Home!$K$10=3,'Antenna Data'!E726,IF(Home!$K$10=4,'Antenna Data'!F726,IF(Home!$K$10=5,'Antenna Data'!G726,IF(Home!$K$10=6,'Antenna Data'!H726,'Import Other Antenna'!G725))))))","v":-19.29},-30.02,-15.450000000000001,-19.579999999999998,-19.29,-19.38,0]
[72.400000000000006,{"$f":"IF(Home!$K$10=1,'Antenna Data'!C727,IF(Home!$K$10=2,'Antenna Data'!D727,IF(Home!$K$10=3,'Antenna Data'!E727,IF(Home!$K$10=4,'Antenna Data'!F727,IF(Home!$K$10=5,'Antenna Data'!G727,IF(Home!$K$10=6,'Antenna Data'!H727,'Import Other Antenna'!G726))))))","v":-19.32},-29.64,-15.4,-19.690000000000001,-19.32,-19.389999999999997,0]
[72.5,{"$f":"IF(Home!$K$10=1,'Antenna Data'!C728,IF(Home!$K$10=2,'Antenna Data'!D728,IF(Home!$K$10=3,'Antenna Data'!E728,IF(Home!$K$10=4,'Antenna Data'!F728,IF(Home!$K$10=5,'Antenna Data'!G728,IF(Home!$K$10=6,'Antenna Data'!H728,'Import Other Antenna'!G727))))))","v":-19.36},-29.28,-15.350000000000001,-19.8,-19.36,-19.409999999999997,0]
[72.599999999999994,{"$f":"IF(Home!$K$10=1,'Antenna Data'!C729,IF(Home!$K$10=2,'Antenna Data'!D729,IF(Home!$K$10=3,'Antenna Data'!E729,IF(Home!$K$10=4,'Antenna Data'!F729,IF(Home!$K$10=5,'Antenna Data'!G729,IF(Home!$K$10=6,'Antenna Data'!H729,'Import Other Antenna'!G728))))))","v":-19.400000000000002},-28.93,-15.31,-19.91,-19.400000000000002,-19.43,0]
[72.699999999999989,{"$f":"IF(Home!$K$10=1,'Antenna Data'!C730,IF(Home!$K$10=2,'Antenna Data'!D730,IF(Home!$K$10=3,'Antenna Data'!E730,IF(Home!$K$10=4,'Antenna Data'!F730,IF(Home!$K$10=5,'Antenna Data'!G730,IF(Home!$K$10=6,'Antenna Data'!H730,'Import Other Antenna'!G729))))))","v":-19.440000000000001},-28.6,-15.270000000000001,-20.03,-19.440000000000001,-19.45,0]
[72.800000000000011,{"$f":"IF(Home!$K$10=1,'Antenna Data'!C731,IF(Home!$K$10=2,'Antenna Data'!D731,IF(Home!$K$10=3,'Antenna Data'!E731,IF(Home!$K$10=4,'Antenna Data'!F731,IF(Home!$K$10=5,'Antenna Data'!G731,IF(Home!$K$10=6,'Antenna Data'!H731,'Import Other Antenna'!G730))))))","v":-19.490000000000002},-28.28,-15.23,-20.149999999999999,-19.490000000000002,-19.479999999999997,0]
[72.900000000000006,{"$f":"IF(Home!$K$10=1,'Antenna Data'!C732,IF(Home!$K$10=2,'Antenna Data'!D732,IF(Home!$K$10=3,'Antenna Data'!E732,IF(Home!$K$10=4,'Antenna Data'!F732,IF(Home!$K$10=5,'Antenna Data'!G732,IF(Home!$K$10=6,'Antenna Data'!H732,'Import Other Antenna'!G731))))))","v":-19.54},-27.97,-15.190000000000001,-20.27,-19.54,-19.509999999999998,0]
[73,{"$f":"IF(Home!$K$10=1,'Antenna Data'!C733,IF(Home!$K$10=2,'Antenna Data'!D733,IF(Home!$K$10=3,'Antenna Data'!E733,IF(Home!$K$10=4,'Antenna Data'!F733,IF(Home!$K$10=5,'Antenna Data'!G733,IF(Home!$K$10=6,'Antenna Data'!H733,'Import Other Antenna'!G732))))))","v":-19.59},-27.68,-15.16,-20.39,-19.59,-19.54,0]
[73.099999999999994,{"$f":"IF(Home!$K$10=1,'Antenna Data'!C734,IF(Home!$K$10=2,'Antenna Data'!D734,IF(Home!$K$10=3,'Antenna Data'!E734,IF(Home!$K$10=4,'Antenna Data'!F734,IF(Home!$K$10=5,'Antenna Data'!G734,IF(Home!$K$10=6,'Antenna Data'!H734,'Import Other Antenna'!G733))))))","v":-19.650000000000002},-27.39,-15.120000000000001,-20.52,-19.650000000000002,-19.579999999999998,0]
[73.199999999999989,{"$f":"IF(Home!$K$10=1,'Antenna Data'!C735,IF(Home!$K$10=2,'Antenna Data'!D735,IF(Home!$K$10=3,'Antenna Data'!E735,IF(Home!$K$10=4,'Antenna Data'!F735,IF(Home!$K$10=5,'Antenna Data'!G735,IF(Home!$K$10=6,'Antenna Data'!H735,'Import Other Antenna'!G734))))))","v":-19.71},-27.12,-15.09,-20.65,-19.71,-19.619999999999997,0]
[73.300000000000011,{"$f":"IF(Home!$K$10=1,'Antenna Data'!C736,IF(Home!$K$10=2,'Antenna Data'!D736,IF(Home!$K$10=3,'Antenna Data'!E736,IF(Home!$K$10=4,'Antenna Data'!F736,IF(Home!$K$10=5,'Antenna Data'!G736,IF(Home!$K$10=6,'Antenna Data'!H736,'Import Other Antenna'!G735))))))","v":-19.78},-26.85,-15.06,-20.78,-19.78,-19.669999999999998,0]
[73.400000000000006,{"$f":"IF(Home!$K$10=1,'Antenna Data'!C737,IF(Home!$K$10=2,'Antenna Data'!D737,IF(Home!$K$10=3,'Antenna Data'!E737,IF(Home!$K$10=4,'Antenna Data'!F737,IF(Home!$K$10=5,'Antenna Data'!G737,IF(Home!$K$10=6,'Antenna Data'!H737,'Import Other Antenna'!G736))))))","v":-19.850000000000001},-26.6,-15.030000000000001,-20.91,-19.850000000000001,-19.72,0]
[73.5,{"$f":"IF(Home!$K$10=1,'Antenna Data'!C738,IF(Home!$K$10=2,'Antenna Data'!D738,IF(Home!$K$10=3,'Antenna Data'!E738,IF(Home!$K$10=4,'Antenna Data'!F738,IF(Home!$K$10=5,'Antenna Data'!G738,IF(Home!$K$10=6,'Antenna Data'!H738,'Import Other Antenna'!G737))))))","v":-19.920000000000002},-26.35,-15,-21.05,-19.920000000000002,-19.77,0]
[73.599999999999994,{"$f":"IF(Home!$K$10=1,'Antenna Data'!C739,IF(Home!$K$10=2,'Antenna Data'!D739,IF(Home!$K$10=3,'Antenna Data'!E739,IF(Home!$K$10=4,'Antenna Data'!F739,IF(Home!$K$10=5,'Antenna Data'!G739,IF(Home!$K$10=6,'Antenna Data'!H739,'Import Other Antenna'!G738))))))","v":-20},-26.11,-14.98,-21.19,-20,-19.829999999999998,0]
[73.699999999999989,{"$f":"IF(Home!$K$10=1,'Antenna Data'!C740,IF(Home!$K$10=2,'Antenna Data'!D740,IF(Home!$K$10=3,'Antenna Data'!E740,IF(Home!$K$10=4,'Antenna Data'!F740,IF(Home!$K$10=5,'Antenna Data'!G740,IF(Home!$K$10=6,'Antenna Data'!H740,'Import Other Antenna'!G739))))))","v":-20.080000000000002},-25.880000000000003,-14.950000000000001,-21.33,-20.080000000000002,-19.889999999999997,0]
[73.800000000000011,{"$f":"IF(Home!$K$10=1,'Antenna Data'!C741,IF(Home!$K$10=2,'Antenna Data'!D741,IF(Home!$K$10=3,'Antenna Data'!E741,IF(Home!$K$10=4,'Antenna Data'!F741,IF(Home!$K$10=5,'Antenna Data'!G741,IF(Home!$K$10=6,'Antenna Data'!H741,'Import Other Antenna'!G740))))))","v":-20.170000000000002},-25.66,-14.93,-21.48,-20.170000000000002,-19.959999999999997,0]
[73.900000000000006,{"$f":"IF(Home!$K$10=1,'Antenna Data'!C742,IF(Home!$K$10=2,'Antenna Data'!D742,IF(Home!$K$10=3,'Antenna Data'!E742,IF(Home!$K$10=4,'Antenna Data'!F742,IF(Home!$K$10=5,'Antenna Data'!G742,IF(Home!$K$10=6,'Antenna Data'!H742,'Import Other Antenna'!G741))))))","v":-20.260000000000002},-25.44,-14.91,-21.63,-20.260000000000002,-20.029999999999998,0]
[74,{"$f":"IF(Home!$K$10=1,'Antenna Data'!C743,IF(Home!$K$10=2,'Antenna Data'!D743,IF(Home!$K$10=3,'Antenna Data'!E743,IF(Home!$K$10=4,'Antenna Data'!F743,IF(Home!$K$10=5,'Antenna Data'!G743,IF(Home!$K$10=6,'Antenna Data'!H743,'Import Other Antenna'!G742))))))","v":-20.350000000000001},-25.23,-14.89,-21.78,-20.350000000000001,-20.099999999999998,0]
[74.099999999999994,{"$f":"IF(Home!$K$10=1,'Antenna Data'!C744,IF(Home!$K$10=2,'Antenna Data'!D744,IF(Home!$K$10=3,'Antenna Data'!E744,IF(Home!$K$10=4,'Antenna Data'!F744,IF(Home!$K$10=5,'Antenna Data'!G744,IF(Home!$K$10=6,'Antenna Data'!H744,'Import Other Antenna'!G743))))))","v":-20.450000000000003},-25.02,-14.870000000000001,-21.93,-20.450000000000003,-20.18,0]
[74.199999999999989,{"$f":"IF(Home!$K$10=1,'Antenna Data'!C745,IF(Home!$K$10=2,'Antenna Data'!D745,IF(Home!$K$10=3,'Antenna Data'!E745,IF(Home!$K$10=4,'Antenna Data'!F745,IF(Home!$K$10=5,'Antenna Data'!G745,IF(Home!$K$10=6,'Antenna Data'!H745,'Import Other Antenna'!G744))))))","v":-20.55},-24.82,-14.860000000000001,-22.09,-20.55,-20.259999999999998,0]
[74.300000000000011,{"$f":"IF(Home!$K$10=1,'Antenna Data'!C746,IF(Home!$K$10=2,'Antenna Data'!D746,IF(Home!$K$10=3,'Antenna Data'!E746,IF(Home!$K$10=4,'Antenna Data'!F746,IF(Home!$K$10=5,'Antenna Data'!G746,IF(Home!$K$10=6,'Antenna Data'!H746,'Import Other Antenna'!G745))))))","v":-20.66},-24.62,-14.84,-22.25,-20.66,-20.349999999999998,0]
[74.400000000000006,{"$f":"IF(Home!$K$10=1,'Antenna Data'!C747,IF(Home!$K$10=2,'Antenna Data'!D747,IF(Home!$K$10=3,'Antenna Data'!E747,IF(Home!$K$10=4,'Antenna Data'!F747,IF(Home!$K$10=5,'Antenna Data'!G747,IF(Home!$K$10=6,'Antenna Data'!H747,'Import Other Antenna'!G746))))))","v":-20.770000000000003},-24.44,-14.83,-22.41,-20.770000000000003,-20.439999999999998,0]
[74.5,{"$f":"IF(Home!$K$10=1,'Antenna Data'!C748,IF(Home!$K$10=2,'Antenna Data'!D748,IF(Home!$K$10=3,'Antenna Data'!E748,IF(Home!$K$10=4,'Antenna Data'!F748,IF(Home!$K$10=5,'Antenna Data'!G748,IF(Home!$K$10=6,'Antenna Data'!H748,'Import Other Antenna'!G747))))))","v":-20.89},-24.25,-14.82,-22.58,-20.89,-20.529999999999998,0]
[74.599999999999994,{"$f":"IF(Home!$K$10=1,'Antenna Data'!C749,IF(Home!$K$10=2,'Antenna Data'!D749,IF(Home!$K$10=3,'Antenna Data'!E749,IF(Home!$K$10=4,'Antenna Data'!F749,IF(Home!$K$10=5,'Antenna Data'!G749,IF(Home!$K$10=6,'Antenna Data'!H749,'Import Other Antenna'!G748))))))","v":-21.01},-24.07,-14.81,-22.75,-21.01,-20.63,0]
[74.699999999999989,{"$f":"IF(Home!$K$10=1,'Antenna Data'!C750,IF(Home!$K$10=2,'Antenna Data'!D750,IF(Home!$K$10=3,'Antenna Data'!E750,IF(Home!$K$10=4,'Antenna Data'!F750,IF(Home!$K$10=5,'Antenna Data'!G750,IF(Home!$K$10=6,'Antenna Data'!H750,'Import Other Antenna'!G749))))))","v":-21.130000000000003},-23.9,-14.8,-22.92,-21.130000000000003,-20.74,0]
[74.800000000000011,{"$f":"IF(Home!$K$10=1,'Antenna Data'!C751,IF(Home!$K$10=2,'Antenna Data'!D751,IF(Home!$K$10=3,'Antenna Data'!E751,IF(Home!$K$10=4,'Antenna Data'!F751,IF(Home!$K$10=5,'Antenna Data'!G751,IF(Home!$K$10=6,'Antenna Data'!H751,'Import Other Antenna'!G750))))))","v":-21.270000000000003},-23.72,-14.790000000000001,-23.09,-21.270000000000003,-20.849999999999998,0]
[74.900000000000006,{"$f":"IF(Home!$K$10=1,'Antenna Data'!C752,IF(Home!$K$10=2,'Antenna Data'!D752,IF(Home!$K$10=3,'Antenna Data'!E752,IF(Home!$K$10=4,'Antenna Data'!F752,IF(Home!$K$10=5,'Antenna Data'!G752,IF(Home!$K$10=6,'Antenna Data'!H752,'Import Other Antenna'!G751))))))","v":-21.400000000000002},-23.560000000000002,-14.790000000000001,-23.27,-21.400000000000002,-20.959999999999997,0]
[75,{"$f":"IF(Home!$K$10=1,'Antenna Data'!C753,IF(Home!$K$10=2,'Antenna Data'!D753,IF(Home!$K$10=3,'Antenna Data'!E753,IF(Home!$K$10=4,'Antenna Data'!F753,IF(Home!$K$10=5,'Antenna Data'!G753,IF(Home!$K$10=6,'Antenna Data'!H753,'Import Other Antenna'!G752))))))","v":-21.54},-23.39,-14.780000000000001,-23.45,-21.54,-21.08,0]
[75.099999999999994,{"$f":"IF(Home!$K$10=1,'Antenna Data'!C754,IF(Home!$K$10=2,'Antenna Data'!D754,IF(Home!$K$10=3,'Antenna Data'!E754,IF(Home!$K$10=4,'Antenna Data'!F754,IF(Home!$K$10=5,'Antenna Data'!G754,IF(Home!$K$10=6,'Antenna Data'!H754,'Import Other Antenna'!G753))))))","v":-21.69},-23.23,-14.780000000000001,-23.630000000000003,-21.69,-21.2,0]
[75.199999999999989,{"$f":"IF(Home!$K$10=1,'Antenna Data'!C755,IF(Home!$K$10=2,'Antenna Data'!D755,IF(Home!$K$10=3,'Antenna Data'!E755,IF(Home!$K$10=4,'Antenna Data'!F755,IF(Home!$K$10=5,'Antenna Data'!G755,IF(Home!$K$10=6,'Antenna Data'!H755,'Import Other Antenna'!G754))))))","v":-21.84},-23.08,-14.780000000000001,-23.810000000000002,-21.84,-21.33,0]
[75.300000000000011,{"$f":"IF(Home!$K$10=1,'Antenna Data'!C756,IF(Home!$K$10=2,'Antenna Data'!D756,IF(Home!$K$10=3,'Antenna Data'!E756,IF(Home!$K$10=4,'Antenna Data'!F756,IF(Home!$K$10=5,'Antenna Data'!G756,IF(Home!$K$10=6,'Antenna Data'!H756,'Import Other Antenna'!G755))))))","v":-22},-22.93,-14.780000000000001,-24,-22,-21.47,0]
[75.400000000000006,{"$f":"IF(Home!$K$10=1,'Antenna Data'!C757,IF(Home!$K$10=2,'Antenna Data'!D757,IF(Home!$K$10=3,'Antenna Data'!E757,IF(Home!$K$10=4,'Antenna Data'!F757,IF(Home!$K$10=5,'Antenna Data'!G757,IF(Home!$K$10=6,'Antenna Data'!H757,'Import Other Antenna'!G756))))))","v":-22.16},-22.78,-14.790000000000001,-24.189999999999998,-22.16,-21.61,0]
[75.5,{"$f":"IF(Home!$K$10=1,'Antenna Data'!C758,IF(Home!$K$10=2,'Antenna Data'!D758,IF(Home!$K$10=3,'Antenna Data'!E758,IF(Home!$K$10=4,'Antenna Data'!F758,IF(Home!$K$10=5,'Antenna Data'!G758,IF(Home!$K$10=6,'Antenna Data'!H758,'Import Other Antenna'!G757))))))","v":-22.330000000000002},-22.630000000000003,-14.790000000000001,-24.380000000000003,-22.330000000000002,-21.75,0]
[75.599999999999994,{"$f":"IF(Home!$K$10=1,'Antenna Data'!C759,IF(Home!$K$10=2,'Antenna Data'!D759,IF(Home!$K$10=3,'Antenna Data'!E759,IF(Home!$K$10=4,'Antenna Data'!F759,IF(Home!$K$10=5,'Antenna Data'!G759,IF(Home!$K$10=6,'Antenna Data'!H759,'Import Other Antenna'!G758))))))","v":-22.51},-22.490000000000002,-14.790000000000001,-24.57,-22.51,-21.9,0]
[75.699999999999989,{"$f":"IF(Home!$K$10=1,'Antenna Data'!C760,IF(Home!$K$10=2,'Antenna Data'!D760,IF(Home!$K$10=3,'Antenna Data'!E760,IF(Home!$K$10=4,'Antenna Data'!F760,IF(Home!$K$10=5,'Antenna Data'!G760,IF(Home!$K$10=6,'Antenna Data'!H760,'Import Other Antenna'!G759))))))","v":-22.69},-22.35,-14.8,-24.759999999999998,-22.69,-22.06,0]
[75.800000000000011,{"$f":"IF(Home!$K$10=1,'Antenna Data'!C761,IF(Home!$K$10=2,'Antenna Data'!D761,IF(Home!$K$10=3,'Antenna Data'!E761,IF(Home!$K$10=4,'Antenna Data'!F761,IF(Home!$K$10=5,'Antenna Data'!G761,IF(Home!$K$10=6,'Antenna Data'!H761,'Import Other Antenna'!G760))))))","v":-22.880000000000003},-22.21,-14.81,-24.95,-22.880000000000003,-22.22,0]
[75.900000000000006,{"$f":"IF(Home!$K$10=1,'Antenna Data'!C762,IF(Home!$K$10=2,'Antenna Data'!D762,IF(Home!$K$10=3,'Antenna Data'!E762,IF(Home!$K$10=4,'Antenna Data'!F762,IF(Home!$K$10=5,'Antenna Data'!G762,IF(Home!$K$10=6,'Antenna Data'!H762,'Import Other Antenna'!G761))))))","v":-23.07},-22.08,-14.82,-25.15,-23.07,-22.389999999999997,0]
[76,{"$f":"IF(Home!$K$10=1,'Antenna Data'!C763,IF(Home!$K$10=2,'Antenna Data'!D763,IF(Home!$K$10=3,'Antenna Data'!E763,IF(Home!$K$10=4,'Antenna Data'!F763,IF(Home!$K$10=5,'Antenna Data'!G763,IF(Home!$K$10=6,'Antenna Data'!H763,'Import Other Antenna'!G762))))))","v":-23.270000000000003},-21.950000000000003,-14.83,-25.34,-23.270000000000003,-22.57,0]
[76.099999999999994,{"$f":"IF(Home!$K$10=1,'Antenna Data'!C764,IF(Home!$K$10=2,'Antenna Data'!D764,IF(Home!$K$10=3,'Antenna Data'!E764,IF(Home!$K$10=4,'Antenna Data'!F764,IF(Home!$K$10=5,'Antenna Data'!G764,IF(Home!$K$10=6,'Antenna Data'!H764,'Import Other Antenna'!G763))))))","v":-23.48},-21.82,-14.84,-25.54,-23.48,-22.75,0]
[76.199999999999989,{"$f":"IF(Home!$K$10=1,'Antenna Data'!C765,IF(Home!$K$10=2,'Antenna Data'!D765,IF(Home!$K$10=3,'Antenna Data'!E765,IF(Home!$K$10=4,'Antenna Data'!F765,IF(Home!$K$10=5,'Antenna Data'!G765,IF(Home!$K$10=6,'Antenna Data'!H765,'Import Other Antenna'!G764))))))","v":-23.700000000000003},-21.700000000000003,-14.860000000000001,-25.73,-23.700000000000003,-22.939999999999998,0]
[76.300000000000011,{"$f":"IF(Home!$K$10=1,'Antenna Data'!C766,IF(Home!$K$10=2,'Antenna Data'!D766,IF(Home!$K$10=3,'Antenna Data'!E766,IF(Home!$K$10=4,'Antenna Data'!F766,IF(Home!$K$10=5,'Antenna Data'!G766,IF(Home!$K$10=6,'Antenna Data'!H766,'Import Other Antenna'!G765))))))","v":-23.92},-21.57,-14.870000000000001,-25.92,-23.92,-23.13,0]
[76.400000000000006,{"$f":"IF(Home!$K$10=1,'Antenna Data'!C767,IF(Home!$K$10=2,'Antenna Data'!D767,IF(Home!$K$10=3,'Antenna Data'!E767,IF(Home!$K$10=4,'Antenna Data'!F767,IF(Home!$K$10=5,'Antenna Data'!G767,IF(Home!$K$10=6,'Antenna Data'!H767,'Import Other Antenna'!G766))))))","v":-24.150000000000002},-21.450000000000003,-14.89,-26.11,-24.150000000000002,-23.33,0]
[76.5,{"$f":"IF(Home!$K$10=1,'Antenna Data'!C768,IF(Home!$K$10=2,'Antenna Data'!D768,IF(Home!$K$10=3,'Antenna Data'!E768,IF(Home!$K$10=4,'Antenna Data'!F768,IF(Home!$K$10=5,'Antenna Data'!G768,IF(Home!$K$10=6,'Antenna Data'!H768,'Import Other Antenna'!G767))))))","v":-24.39},-21.33,-14.91,-26.3,-24.39,-23.54,0]
[76.599999999999994,{"$f":"IF(Home!$K$10=1,'Antenna Data'!C769,IF(Home!$K$10=2,'Antenna Data'!D769,IF(Home!$K$10=3,'Antenna Data'!E769,IF(Home!$K$10=4,'Antenna Data'!F769,IF(Home!$K$10=5,'Antenna Data'!G769,IF(Home!$K$10=6,'Antenna Data'!H769,'Import Other Antenna'!G768))))))","v":-24.64},-21.22,-14.93,-26.490000000000002,-24.64,-23.759999999999998,0]
[76.699999999999989,{"$f":"IF(Home!$K$10=1,'Antenna Data'!C770,IF(Home!$K$10=2,'Antenna Data'!D770,IF(Home!$K$10=3,'Antenna Data'!E770,IF(Home!$K$10=4,'Antenna Data'!F770,IF(Home!$K$10=5,'Antenna Data'!G770,IF(Home!$K$10=6,'Antenna Data'!H770,'Import Other Antenna'!G769))))))","v":-24.89},-21.1,-14.950000000000001,-26.67,-24.89,-23.99,0]
[76.800000000000011,{"$f":"IF(Home!$K$10=1,'Antenna Data'!C771,IF(Home!$K$10=2,'Antenna Data'!D771,IF(Home!$K$10=3,'Antenna Data'!E771,IF(Home!$K$10=4,'Antenna Data'!F771,IF(Home!$K$10=5,'Antenna Data'!G771,IF(Home!$K$10=6,'Antenna Data'!H771,'Import Other Antenna'!G770))))))","v":-25.16},-20.990000000000002,-14.97,-26.84,-25.16,-24.22,0]
[76.900000000000006,{"$f":"IF(Home!$K$10=1,'Antenna Data'!C772,IF(Home!$K$10=2,'Antenna Data'!D772,IF(Home!$K$10=3,'Antenna Data'!E772,IF(Home!$K$10=4,'Antenna Data'!F772,IF(Home!$K$10=5,'Antenna Data'!G772,IF(Home!$K$10=6,'Antenna Data'!H772,'Import Other Antenna'!G771))))))","v":-25.43},-20.880000000000003,-15,-27.009999999999998,-25.43,-24.459999999999997,0]
[77,{"$f":"IF(Home!$K$10=1,'Antenna Data'!C773,IF(Home!$K$10=2,'Antenna Data'!D773,IF(Home!$K$10=3,'Antenna Data'!E773,IF(Home!$K$10=4,'Antenna Data'!F773,IF(Home!$K$10=5,'Antenna Data'!G773,IF(Home!$K$10=6,'Antenna Data'!H773,'Import Other Antenna'!G772))))))","v":-25.71},-20.77,-15.030000000000001,-27.17,-25.71,-24.72,0]
[77.099999999999994,{"$f":"IF(Home!$K$10=1,'Antenna Data'!C774,IF(Home!$K$10=2,'Antenna Data'!D774,IF(Home!$K$10=3,'Antenna Data'!E774,IF(Home!$K$10=4,'Antenna Data'!F774,IF(Home!$K$10=5,'Antenna Data'!G774,IF(Home!$K$10=6,'Antenna Data'!H774,'Import Other Antenna'!G773))))))","v":-26},-20.67,-15.05,-27.33,-26,-24.979999999999997,0]
[77.199999999999989,{"$f":"IF(Home!$K$10=1,'Antenna Data'!C775,IF(Home!$K$10=2,'Antenna Data'!D775,IF(Home!$K$10=3,'Antenna Data'!E775,IF(Home!$K$10=4,'Antenna Data'!F775,IF(Home!$K$10=5,'Antenna Data'!G775,IF(Home!$K$10=6,'Antenna Data'!H775,'Import Other Antenna'!G774))))))","v":-26.3},-20.560000000000002,-15.08,-27.47,-26.3,-25.25,0]
[77.300000000000011,{"$f":"IF(Home!$K$10=1,'Antenna Data'!C776,IF(Home!$K$10=2,'Antenna Data'!D776,IF(Home!$K$10=3,'Antenna Data'!E776,IF(Home!$K$10=4,'Antenna Data'!F776,IF(Home!$K$10=5,'Antenna Data'!G776,IF(Home!$K$10=6,'Antenna Data'!H776,'Import Other Antenna'!G775))))))","v":-26.62},-20.46,-15.110000000000001,-27.61,-26.62,-25.529999999999998,0]
[77.400000000000006,{"$f":"IF(Home!$K$10=1,'Antenna Data'!C777,IF(Home!$K$10=2,'Antenna Data'!D777,IF(Home!$K$10=3,'Antenna Data'!E777,IF(Home!$K$10=4,'Antenna Data'!F777,IF(Home!$K$10=5,'Antenna Data'!G777,IF(Home!$K$10=6,'Antenna Data'!H777,'Import Other Antenna'!G776))))))","v":-26.94},-20.36,-15.15,-27.73,-26.94,-25.83,0]
[77.5,{"$f":"IF(Home!$K$10=1,'Antenna Data'!C778,IF(Home!$K$10=2,'Antenna Data'!D778,IF(Home!$K$10=3,'Antenna Data'!E778,IF(Home!$K$10=4,'Antenna Data'!F778,IF(Home!$K$10=5,'Antenna Data'!G778,IF(Home!$K$10=6,'Antenna Data'!H778,'Import Other Antenna'!G777))))))","v":-27.270000000000003},-20.259999999999998,-15.18,-27.84,-27.270000000000003,-26.13,0]
[77.599999999999994,{"$f":"IF(Home!$K$10=1,'Antenna Data'!C779,IF(Home!$K$10=2,'Antenna Data'!D779,IF(Home!$K$10=3,'Antenna Data'!E779,IF(Home!$K$10=4,'Antenna Data'!F779,IF(Home!$K$10=5,'Antenna Data'!G779,IF(Home!$K$10=6,'Antenna Data'!H779,'Import Other Antenna'!G778))))))","v":-27.61},-20.170000000000002,-15.22,-27.939999999999998,-27.61,-26.45,0]
[77.699999999999989,{"$f":"IF(Home!$K$10=1,'Antenna Data'!C780,IF(Home!$K$10=2,'Antenna Data'!D780,IF(Home!$K$10=3,'Antenna Data'!E780,IF(Home!$K$10=4,'Antenna Data'!F780,IF(Home!$K$10=5,'Antenna Data'!G780,IF(Home!$K$10=6,'Antenna Data'!H780,'Import Other Antenna'!G779))))))","v":-27.96},-20.07,-15.25,-28.02,-27.96,-26.77,0]
[77.800000000000011,{"$f":"IF(Home!$K$10=1,'Antenna Data'!C781,IF(Home!$K$10=2,'Antenna Data'!D781,IF(Home!$K$10=3,'Antenna Data'!E781,IF(Home!$K$10=4,'Antenna Data'!F781,IF(Home!$K$10=5,'Antenna Data'!G781,IF(Home!$K$10=6,'Antenna Data'!H781,'Import Other Antenna'!G780))))))","v":-28.32},-19.98,-15.290000000000001,-28.09,-28.32,-27.119999999999997,0]
[77.900000000000006,{"$f":"IF(Home!$K$10=1,'Antenna Data'!C782,IF(Home!$K$10=2,'Antenna Data'!D782,IF(Home!$K$10=3,'Antenna Data'!E782,IF(Home!$K$10=4,'Antenna Data'!F782,IF(Home!$K$10=5,'Antenna Data'!G782,IF(Home!$K$10=6,'Antenna Data'!H782,'Import Other Antenna'!G781))))))","v":-28.69},-19.880000000000003,-15.33,-28.14,-28.69,-27.47,0]
[78,{"$f":"IF(Home!$K$10=1,'Antenna Data'!C783,IF(Home!$K$10=2,'Antenna Data'!D783,IF(Home!$K$10=3,'Antenna Data'!E783,IF(Home!$K$10=4,'Antenna Data'!F783,IF(Home!$K$10=5,'Antenna Data'!G783,IF(Home!$K$10=6,'Antenna Data'!H783,'Import Other Antenna'!G782))))))","v":-29.060000000000002},-19.79,-15.370000000000001,-28.18,-29.060000000000002,-27.839999999999996,0]
[78.099999999999994,{"$f":"IF(Home!$K$10=1,'Antenna Data'!C784,IF(Home!$K$10=2,'Antenna Data'!D784,IF(Home!$K$10=3,'Antenna Data'!E784,IF(Home!$K$10=4,'Antenna Data'!F784,IF(Home!$K$10=5,'Antenna Data'!G784,IF(Home!$K$10=6,'Antenna Data'!H784,'Import Other Antenna'!G783))))))","v":-29.450000000000003},-19.700000000000003,-15.42,-28.2,-29.450000000000003,-28.22,0]
[78.199999999999989,{"$f":"IF(Home!$K$10=1,'Antenna Data'!C785,IF(Home!$K$10=2,'Antenna Data'!D785,IF(Home!$K$10=3,'Antenna Data'!E785,IF(Home!$K$10=4,'Antenna Data'!F785,IF(Home!$K$10=5,'Antenna Data'!G785,IF(Home!$K$10=6,'Antenna Data'!H785,'Import Other Antenna'!G784))))))","v":-29.830000000000002},-19.62,-15.46,-28.21,-29.830000000000002,-28.619999999999997,0]
[78.300000000000011,{"$f":"IF(Home!$K$10=1,'Antenna Data'!C786,IF(Home!$K$10=2,'Antenna Data'!D786,IF(Home!$K$10=3,'Antenna Data'!E786,IF(Home!$K$10=4,'Antenna Data'!F786,IF(Home!$K$10=5,'Antenna Data'!G786,IF(Home!$K$10=6,'Antenna Data'!H786,'Import Other Antenna'!G785))))))","v":-30.22},-19.53,-15.510000000000002,-28.189999999999998,-30.22,-29.04,0]
[78.400000000000006,{"$f":"IF(Home!$K$10=1,'Antenna Data'!C787,IF(Home!$K$10=2,'Antenna Data'!D787,IF(Home!$K$10=3,'Antenna Data'!E787,IF(Home!$K$10=4,'Antenna Data'!F787,IF(Home!$K$10=5,'Antenna Data'!G787,IF(Home!$K$10=6,'Antenna Data'!H787,'Import Other Antenna'!G786))))))","v":-30.61},-19.450000000000003,-15.56,-28.17,-30.61,-29.47,0]
[78.5,{"$f":"IF(Home!$K$10=1,'Antenna Data'!C788,IF(Home!$K$10=2,'Antenna Data'!D788,IF(Home!$K$10=3,'Antenna Data'!E788,IF(Home!$K$10=4,'Antenna Data'!F788,IF(Home!$K$10=5,'Antenna Data'!G788,IF(Home!$K$10=6,'Antenna Data'!H788,'Import Other Antenna'!G787))))))","v":-30.990000000000002},-19.36,-15.610000000000001,-28.130000000000003,-30.990000000000002,-29.909999999999997,0]
[78.599999999999994,{"$f":"IF(Home!$K$10=1,'Antenna Data'!C789,IF(Home!$K$10=2,'Antenna Data'!D789,IF(Home!$K$10=3,'Antenna Data'!E789,IF(Home!$K$10=4,'Antenna Data'!F789,IF(Home!$K$10=5,'Antenna Data'!G789,IF(Home!$K$10=6,'Antenna Data'!H789,'Import Other Antenna'!G788))))))","v":-31.36},-19.28,-15.66,-28.07,-31.36,-30.369999999999997,0]
[78.699999999999989,{"$f":"IF(Home!$K$10=1,'Antenna Data'!C790,IF(Home!$K$10=2,'Antenna Data'!D790,IF(Home!$K$10=3,'Antenna Data'!E790,IF(Home!$K$10=4,'Antenna Data'!F790,IF(Home!$K$10=5,'Antenna Data'!G790,IF(Home!$K$10=6,'Antenna Data'!H790,'Import Other Antenna'!G789))))))","v":-31.71},-19.200000000000003,-15.71,-28,-31.71,-30.849999999999998,0]
[78.800000000000011,{"$f":"IF(Home!$K$10=1,'Antenna Data'!C791,IF(Home!$K$10=2,'Antenna Data'!D791,IF(Home!$K$10=3,'Antenna Data'!E791,IF(Home!$K$10=4,'Antenna Data'!F791,IF(Home!$K$10=5,'Antenna Data'!G791,IF(Home!$K$10=6,'Antenna Data'!H791,'Import Other Antenna'!G790))))))","v":-32.03},-19.12,-15.770000000000001,-27.92,-32.03,-31.339999999999996,0]
[78.900000000000006,{"$f":"IF(Home!$K$10=1,'Antenna Data'!C792,IF(Home!$K$10=2,'Antenna Data'!D792,IF(Home!$K$10=3,'Antenna Data'!E792,IF(Home!$K$10=4,'Antenna Data'!F792,IF(Home!$K$10=5,'Antenna Data'!G792,IF(Home!$K$10=6,'Antenna Data'!H792,'Import Other Antenna'!G791))))))","v":-32.32},-19.04,-15.82,-27.83,-32.32,-31.83,0]
[79,{"$f":"IF(Home!$K$10=1,'Antenna Data'!C793,IF(Home!$K$10=2,'Antenna Data'!D793,IF(Home!$K$10=3,'Antenna Data'!E793,IF(Home!$K$10=4,'Antenna Data'!F793,IF(Home!$K$10=5,'Antenna Data'!G793,IF(Home!$K$10=6,'Antenna Data'!H793,'Import Other Antenna'!G792))))))","v":-32.57},-18.96,-15.88,-27.72,-32.57,-32.339999999999996,0]
[79.099999999999994,{"$f":"IF(Home!$K$10=1,'Antenna Data'!C794,IF(Home!$K$10=2,'Antenna Data'!D794,IF(Home!$K$10=3,'Antenna Data'!E794,IF(Home!$K$10=4,'Antenna Data'!F794,IF(Home!$K$10=5,'Antenna Data'!G794,IF(Home!$K$10=6,'Antenna Data'!H794,'Import Other Antenna'!G793))))))","v":-32.769999999999996},-18.89,-15.940000000000001,-27.61,-32.769999999999996,-32.839999999999996,0]
[79.199999999999989,{"$f":"IF(Home!$K$10=1,'Antenna Data'!C795,IF(Home!$K$10=2,'Antenna Data'!D795,IF(Home!$K$10=3,'Antenna Data'!E795,IF(Home!$K$10=4,'Antenna Data'!F795,IF(Home!$K$10=5,'Antenna Data'!G795,IF(Home!$K$10=6,'Antenna Data'!H795,'Import Other Antenna'!G794))))))","v":-32.909999999999997},-18.810000000000002,-16,-27.490000000000002,-32.909999999999997,-33.339999999999996,0]
[79.300000000000011,{"$f":"IF(Home!$K$10=1,'Antenna Data'!C796,IF(Home!$K$10=2,'Antenna Data'!D796,IF(Home!$K$10=3,'Antenna Data'!E796,IF(Home!$K$10=4,'Antenna Data'!F796,IF(Home!$K$10=5,'Antenna Data'!G796,IF(Home!$K$10=6,'Antenna Data'!H796,'Import Other Antenna'!G795))))))","v":-32.980000000000004},-18.740000000000002,-16.07,-27.36,-32.980000000000004,-33.82,0]
[79.400000000000006,{"$f":"IF(Home!$K$10=1,'Antenna Data'!C797,IF(Home!$K$10=2,'Antenna Data'!D797,IF(Home!$K$10=3,'Antenna Data'!E797,IF(Home!$K$10=4,'Antenna Data'!F797,IF(Home!$K$10=5,'Antenna Data'!G797,IF(Home!$K$10=6,'Antenna Data'!H797,'Import Other Antenna'!G796))))))","v":-32.99},-18.670000000000002,-16.13,-27.22,-32.99,-34.26,0]
[79.5,{"$f":"IF(Home!$K$10=1,'Antenna Data'!C798,IF(Home!$K$10=2,'Antenna Data'!D798,IF(Home!$K$10=3,'Antenna Data'!E798,IF(Home!$K$10=4,'Antenna Data'!F798,IF(Home!$K$10=5,'Antenna Data'!G798,IF(Home!$K$10=6,'Antenna Data'!H798,'Import Other Antenna'!G797))))))","v":-32.93},-18.59,-16.2,-27.08,-32.93,-34.659999999999997,0]
[79.599999999999994,{"$f":"IF(Home!$K$10=1,'Antenna Data'!C799,IF(Home!$K$10=2,'Antenna Data'!D799,IF(Home!$K$10=3,'Antenna Data'!E799,IF(Home!$K$10=4,'Antenna Data'!F799,IF(Home!$K$10=5,'Antenna Data'!G799,IF(Home!$K$10=6,'Antenna Data'!H799,'Import Other Antenna'!G798))))))","v":-32.799999999999997},-18.52,-16.27,-26.939999999999998,-32.799999999999997,-34.989999999999995,0]
[79.699999999999989,{"$f":"IF(Home!$K$10=1,'Antenna Data'!C800,IF(Home!$K$10=2,'Antenna Data'!D800,IF(Home!$K$10=3,'Antenna Data'!E800,IF(Home!$K$10=4,'Antenna Data'!F800,IF(Home!$K$10=5,'Antenna Data'!G800,IF(Home!$K$10=6,'Antenna Data'!H800,'Import Other Antenna'!G799))))))","v":-32.620000000000005},-18.45,-16.34,-26.79,-32.620000000000005,-35.229999999999997,0]
[79.800000000000011,{"$f":"IF(Home!$K$10=1,'Antenna Data'!C801,IF(Home!$K$10=2,'Antenna Data'!D801,IF(Home!$K$10=3,'Antenna Data'!E801,IF(Home!$K$10=4,'Antenna Data'!F801,IF(Home!$K$10=5,'Antenna Data'!G801,IF(Home!$K$10=6,'Antenna Data'!H801,'Import Other Antenna'!G800))))))","v":-32.39},-18.39,-16.41,-26.630000000000003,-32.39,-35.369999999999997,0]
[79.900000000000006,{"$f":"IF(Home!$K$10=1,'Antenna Data'!C802,IF(Home!$K$10=2,'Antenna Data'!D802,IF(Home!$K$10=3,'Antenna Data'!E802,IF(Home!$K$10=4,'Antenna Data'!F802,IF(Home!$K$10=5,'Antenna Data'!G802,IF(Home!$K$10=6,'Antenna Data'!H802,'Import Other Antenna'!G801))))))","v":-32.120000000000005},-18.32,-16.490000000000002,-26.48,-32.120000000000005,-35.4,0]
[80,{"$f":"IF(Home!$K$10=1,'Antenna Data'!C803,IF(Home!$K$10=2,'Antenna Data'!D803,IF(Home!$K$10=3,'Antenna Data'!E803,IF(Home!$K$10=4,'Antenna Data'!F803,IF(Home!$K$10=5,'Antenna Data'!G803,IF(Home!$K$10=6,'Antenna Data'!H803,'Import Other Antenna'!G802))))))","v":-31.82},-18.25,-16.560000000000002,-26.32,-31.82,-35.31,0]
[80.099999999999994,{"$f":"IF(Home!$K$10=1,'Antenna Data'!C804,IF(Home!$K$10=2,'Antenna Data'!D804,IF(Home!$K$10=3,'Antenna Data'!E804,IF(Home!$K$10=4,'Antenna Data'!F804,IF(Home!$K$10=5,'Antenna Data'!G804,IF(Home!$K$10=6,'Antenna Data'!H804,'Import Other Antenna'!G803))))))","v":-31.5},-18.190000000000001,-16.64,-26.17,-31.5,-35.129999999999995,0]
[80.199999999999989,{"$f":"IF(Home!$K$10=1,'Antenna Data'!C805,IF(Home!$K$10=2,'Antenna Data'!D805,IF(Home!$K$10=3,'Antenna Data'!E805,IF(Home!$K$10=4,'Antenna Data'!F805,IF(Home!$K$10=5,'Antenna Data'!G805,IF(Home!$K$10=6,'Antenna Data'!H805,'Import Other Antenna'!G804))))))","v":-31.16},-18.12,-16.72,-26.009999999999998,-31.16,-34.849999999999994,0]
[80.300000000000011,{"$f":"IF(Home!$K$10=1,'Antenna Data'!C806,IF(Home!$K$10=2,'Antenna Data'!D806,IF(Home!$K$10=3,'Antenna Data'!E806,IF(Home!$K$10=4,'Antenna Data'!F806,IF(Home!$K$10=5,'Antenna Data'!G806,IF(Home!$K$10=6,'Antenna Data'!H806,'Import Other Antenna'!G805))))))","v":-30.810000000000002},-18.060000000000002,-16.810000000000002,-25.86,-30.810000000000002,-34.5,0]
[80.400000000000006,{"$f":"IF(Home!$K$10=1,'Antenna Data'!C807,IF(Home!$K$10=2,'Antenna Data'!D807,IF(Home!$K$10=3,'Antenna Data'!E807,IF(Home!$K$10=4,'Antenna Data'!F807,IF(Home!$K$10=5,'Antenna Data'!G807,IF(Home!$K$10=6,'Antenna Data'!H807,'Import Other Antenna'!G806))))))","v":-30.450000000000003},-18,-16.89,-25.7,-30.450000000000003,-34.099999999999994,0]
[80.5,{"$f":"IF(Home!$K$10=1,'Antenna Data'!C808,IF(Home!$K$10=2,'Antenna Data'!D808,IF(Home!$K$10=3,'Antenna Data'!E808,IF(Home!$K$10=4,'Antenna Data'!F808,IF(Home!$K$10=5,'Antenna Data'!G808,IF(Home!$K$10=6,'Antenna Data'!H808,'Import Other Antenna'!G807))))))","v":-30.090000000000003},-17.93,-16.98,-25.54,-30.090000000000003,-33.659999999999997,0]
[80.599999999999994,{"$f":"IF(Home!$K$10=1,'Antenna Data'!C809,IF(Home!$K$10=2,'Antenna Data'!D809,IF(Home!$K$10=3,'Antenna Data'!E809,IF(Home!$K$10=4,'Antenna Data'!F809,IF(Home!$K$10=5,'Antenna Data'!G809,IF(Home!$K$10=6,'Antenna Data'!H809,'Import Other Antenna'!G808))))))","v":-29.740000000000002},-17.87,-17.07,-25.39,-29.740000000000002,-33.21,0]
[80.699999999999989,{"$f":"IF(Home!$K$10=1,'Antenna Data'!C810,IF(Home!$K$10=2,'Antenna Data'!D810,IF(Home!$K$10=3,'Antenna Data'!E810,IF(Home!$K$10=4,'Antenna Data'!F810,IF(Home!$K$10=5,'Antenna Data'!G810,IF(Home!$K$10=6,'Antenna Data'!H810,'Import Other Antenna'!G809))))))","v":-29.39},-17.810000000000002,-17.16,-25.240000000000002,-29.39,-32.739999999999995,0]
[80.800000000000011,{"$f":"IF(Home!$K$10=1,'Antenna Data'!C811,IF(Home!$K$10=2,'Antenna Data'!D811,IF(Home!$K$10=3,'Antenna Data'!E811,IF(Home!$K$10=4,'Antenna Data'!F811,IF(Home!$K$10=5,'Antenna Data'!G811,IF(Home!$K$10=6,'Antenna Data'!H811,'Import Other Antenna'!G810))))))","v":-29.05},-17.760000000000002,-17.25,-25.09,-29.05,-32.269999999999996,0]
[80.900000000000006,{"$f":"IF(Home!$K$10=1,'Antenna Data'!C812,IF(Home!$K$10=2,'Antenna Data'!D812,IF(Home!$K$10=3,'Antenna Data'!E812,IF(Home!$K$10=4,'Antenna Data'!F812,IF(Home!$K$10=5,'Antenna Data'!G812,IF(Home!$K$10=6,'Antenna Data'!H812,'Import Other Antenna'!G811))))))","v":-28.72},-17.7,-17.350000000000001,-24.939999999999998,-28.72,-31.81,0]
[81,{"$f":"IF(Home!$K$10=1,'Antenna Data'!C813,IF(Home!$K$10=2,'Antenna Data'!D813,IF(Home!$K$10=3,'Antenna Data'!E813,IF(Home!$K$10=4,'Antenna Data'!F813,IF(Home!$K$10=5,'Antenna Data'!G813,IF(Home!$K$10=6,'Antenna Data'!H813,'Import Other Antenna'!G812))))))","v":-28.39},-17.64,-17.440000000000001,-24.79,-28.39,-31.349999999999998,0]
[81.099999999999994,{"$f":"IF(Home!$K$10=1,'Antenna Data'!C814,IF(Home!$K$10=2,'Antenna Data'!D814,IF(Home!$K$10=3,'Antenna Data'!E814,IF(Home!$K$10=4,'Antenna Data'!F814,IF(Home!$K$10=5,'Antenna Data'!G814,IF(Home!$K$10=6,'Antenna Data'!H814,'Import Other Antenna'!G813))))))","v":-28.080000000000002},-17.579999999999998,-17.55,-24.65,-28.080000000000002,-30.909999999999997,0]
[81.199999999999989,{"$f":"IF(Home!$K$10=1,'Antenna Data'!C815,IF(Home!$K$10=2,'Antenna Data'!D815,IF(Home!$K$10=3,'Antenna Data'!E815,IF(Home!$K$10=4,'Antenna Data'!F815,IF(Home!$K$10=5,'Antenna Data'!G815,IF(Home!$K$10=6,'Antenna Data'!H815,'Import Other Antenna'!G814))))))","v":-27.770000000000003},-17.53,-17.650000000000002,-24.509999999999998,-27.770000000000003,-30.49,0]
[81.300000000000011,{"$f":"IF(Home!$K$10=1,'Antenna Data'!C816,IF(Home!$K$10=2,'Antenna Data'!D816,IF(Home!$K$10=3,'Antenna Data'!E816,IF(Home!$K$10=4,'Antenna Data'!F816,IF(Home!$K$10=5,'Antenna Data'!G816,IF(Home!$K$10=6,'Antenna Data'!H816,'Import Other Antenna'!G815))))))","v":-27.47},-17.47,-17.75,-24.369999999999997,-27.47,-30.07,0]
[81.400000000000006,{"$f":"IF(Home!$K$10=1,'Antenna Data'!C817,IF(Home!$K$10=2,'Antenna Data'!D817,IF(Home!$K$10=3,'Antenna Data'!E817,IF(Home!$K$10=4,'Antenna Data'!F817,IF(Home!$K$10=5,'Antenna Data'!G817,IF(Home!$K$10=6,'Antenna Data'!H817,'Import Other Antenna'!G816))))))","v":-27.19},-17.420000000000002,-17.86,-24.23,-27.19,-29.68,0]
[81.5,{"$f":"IF(Home!$K$10=1,'Antenna Data'!C818,IF(Home!$K$10=2,'Antenna Data'!D818,IF(Home!$K$10=3,'Antenna Data'!E818,IF(Home!$K$10=4,'Antenna Data'!F818,IF(Home!$K$10=5,'Antenna Data'!G818,IF(Home!$K$10=6,'Antenna Data'!H818,'Import Other Antenna'!G817))))))","v":-26.91},-17.36,-17.97,-24.09,-26.91,-29.299999999999997,0]
[81.599999999999994,{"$f":"IF(Home!$K$10=1,'Antenna Data'!C819,IF(Home!$K$10=2,'Antenna Data'!D819,IF(Home!$K$10=3,'Antenna Data'!E819,IF(Home!$K$10=4,'Antenna Data'!F819,IF(Home!$K$10=5,'Antenna Data'!G819,IF(Home!$K$10=6,'Antenna Data'!H819,'Import Other Antenna'!G818))))))","v":-26.65},-17.310000000000002,-18.080000000000002,-23.96,-26.65,-28.93,0]
[81.699999999999989,{"$f":"IF(Home!$K$10=1,'Antenna Data'!C820,IF(Home!$K$10=2,'Antenna Data'!D820,IF(Home!$K$10=3,'Antenna Data'!E820,IF(Home!$K$10=4,'Antenna Data'!F820,IF(Home!$K$10=5,'Antenna Data'!G820,IF(Home!$K$10=6,'Antenna Data'!H820,'Import Other Antenna'!G819))))))","v":-26.39},-17.260000000000002,-18.2,-23.83,-26.39,-28.58,0]
[81.800000000000011,{"$f":"IF(Home!$K$10=1,'Antenna Data'!C821,IF(Home!$K$10=2,'Antenna Data'!D821,IF(Home!$K$10=3,'Antenna Data'!E821,IF(Home!$K$10=4,'Antenna Data'!F821,IF(Home!$K$10=5,'Antenna Data'!G821,IF(Home!$K$10=6,'Antenna Data'!H821,'Import Other Antenna'!G820))))))","v":-26.14},-17.21,-18.32,-23.71,-26.14,-28.25,0]
[81.900000000000006,{"$f":"IF(Home!$K$10=1,'Antenna Data'!C822,IF(Home!$K$10=2,'Antenna Data'!D822,IF(Home!$K$10=3,'Antenna Data'!E822,IF(Home!$K$10=4,'Antenna Data'!F822,IF(Home!$K$10=5,'Antenna Data'!G822,IF(Home!$K$10=6,'Antenna Data'!H822,'Import Other Antenna'!G821))))))","v":-25.9},-17.16,-18.440000000000001,-23.58,-25.9,-27.93,0]
[82,{"$f":"IF(Home!$K$10=1,'Antenna Data'!C823,IF(Home!$K$10=2,'Antenna Data'!D823,IF(Home!$K$10=3,'Antenna Data'!E823,IF(Home!$K$10=4,'Antenna Data'!F823,IF(Home!$K$10=5,'Antenna Data'!G823,IF(Home!$K$10=6,'Antenna Data'!H823,'Import Other Antenna'!G822))))))","v":-25.67},-17.11,-18.560000000000002,-23.46,-25.67,-27.619999999999997,0]
[82.1,{"$f":"IF(Home!$K$10=1,'Antenna Data'!C824,IF(Home!$K$10=2,'Antenna Data'!D824,IF(Home!$K$10=3,'Antenna Data'!E824,IF(Home!$K$10=4,'Antenna Data'!F824,IF(Home!$K$10=5,'Antenna Data'!G824,IF(Home!$K$10=6,'Antenna Data'!H824,'Import Other Antenna'!G823))))))","v":-25.450000000000003},-17.060000000000002,-18.690000000000001,-23.35,-25.450000000000003,-27.33,0]
[82.199999999999989,{"$f":"IF(Home!$K$10=1,'Antenna Data'!C825,IF(Home!$K$10=2,'Antenna Data'!D825,IF(Home!$K$10=3,'Antenna Data'!E825,IF(Home!$K$10=4,'Antenna Data'!F825,IF(Home!$K$10=5,'Antenna Data'!G825,IF(Home!$K$10=6,'Antenna Data'!H825,'Import Other Antenna'!G824))))))","v":-25.240000000000002},-17.010000000000002,-18.82,-23.23,-25.240000000000002,-27.04,0]
[82.300000000000011,{"$f":"IF(Home!$K$10=1,'Antenna Data'!C826,IF(Home!$K$10=2,'Antenna Data'!D826,IF(Home!$K$10=3,'Antenna Data'!E826,IF(Home!$K$10=4,'Antenna Data'!F826,IF(Home!$K$10=5,'Antenna Data'!G826,IF(Home!$K$10=6,'Antenna Data'!H826,'Import Other Antenna'!G825))))))","v":-25.04},-16.96,-18.950000000000003,-23.12,-25.04,-26.77,0]
[82.4,{"$f":"IF(Home!$K$10=1,'Antenna Data'!C827,IF(Home!$K$10=2,'Antenna Data'!D827,IF(Home!$K$10=3,'Antenna Data'!E827,IF(Home!$K$10=4,'Antenna Data'!F827,IF(Home!$K$10=5,'Antenna Data'!G827,IF(Home!$K$10=6,'Antenna Data'!H827,'Import Other Antenna'!G826))))))","v":-24.840000000000003},-16.920000000000002,-19.09,-23.009999999999998,-24.840000000000003,-26.52,0]
[82.5,{"$f":"IF(Home!$K$10=1,'Antenna Data'!C828,IF(Home!$K$10=2,'Antenna Data'!D828,IF(Home!$K$10=3,'Antenna Data'!E828,IF(Home!$K$10=4,'Antenna Data'!F828,IF(Home!$K$10=5,'Antenna Data'!G828,IF(Home!$K$10=6,'Antenna Data'!H828,'Import Other Antenna'!G827))))))","v":-24.65},-16.87,-19.22,-22.9,-24.65,-26.27,0]
[82.6,{"$f":"IF(Home!$K$10=1,'Antenna Data'!C829,IF(Home!$K$10=2,'Antenna Data'!D829,IF(Home!$K$10=3,'Antenna Data'!E829,IF(Home!$K$10=4,'Antenna Data'!F829,IF(Home!$K$10=5,'Antenna Data'!G829,IF(Home!$K$10=6,'Antenna Data'!H829,'Import Other Antenna'!G828))))))","v":-24.47},-16.82,-19.37,-22.8,-24.47,-26.029999999999998,0]
[82.699999999999989,{"$f":"IF(Home!$K$10=1,'Antenna Data'!C830,IF(Home!$K$10=2,'Antenna Data'!D830,IF(Home!$K$10=3,'Antenna Data'!E830,IF(Home!$K$10=4,'Antenna Data'!F830,IF(Home!$K$10=5,'Antenna Data'!G830,IF(Home!$K$10=6,'Antenna Data'!H830,'Import Other Antenna'!G829))))))","v":-24.3},-16.78,-19.510000000000002,-22.7,-24.3,-25.799999999999997,0]
[82.800000000000011,{"$f":"IF(Home!$K$10=1,'Antenna Data'!C831,IF(Home!$K$10=2,'Antenna Data'!D831,IF(Home!$K$10=3,'Antenna Data'!E831,IF(Home!$K$10=4,'Antenna Data'!F831,IF(Home!$K$10=5,'Antenna Data'!G831,IF(Home!$K$10=6,'Antenna Data'!H831,'Import Other Antenna'!G830))))))","v":-24.130000000000003},-16.73,-19.66,-22.6,-24.130000000000003,-25.589999999999996,0]
[82.9,{"$f":"IF(Home!$K$10=1,'Antenna Data'!C832,IF(Home!$K$10=2,'Antenna Data'!D832,IF(Home!$K$10=3,'Antenna Data'!E832,IF(Home!$K$10=4,'Antenna Data'!F832,IF(Home!$K$10=5,'Antenna Data'!G832,IF(Home!$K$10=6,'Antenna Data'!H832,'Import Other Antenna'!G831))))))","v":-23.97},-16.690000000000001,-19.810000000000002,-22.5,-23.97,-25.38,0]
[83,{"$f":"IF(Home!$K$10=1,'Antenna Data'!C833,IF(Home!$K$10=2,'Antenna Data'!D833,IF(Home!$K$10=3,'Antenna Data'!E833,IF(Home!$K$10=4,'Antenna Data'!F833,IF(Home!$K$10=5,'Antenna Data'!G833,IF(Home!$K$10=6,'Antenna Data'!H833,'Import Other Antenna'!G832))))))","v":-23.82},-16.649999999999999,-19.97,-22.41,-23.82,-25.18,0]
[83.1,{"$f":"IF(Home!$K$10=1,'Antenna Data'!C834,IF(Home!$K$10=2,'Antenna Data'!D834,IF(Home!$K$10=3,'Antenna Data'!E834,IF(Home!$K$10=4,'Antenna Data'!F834,IF(Home!$K$10=5,'Antenna Data'!G834,IF(Home!$K$10=6,'Antenna Data'!H834,'Import Other Antenna'!G833))))))","v":-23.67},-16.600000000000001,-20.130000000000003,-22.32,-23.67,-24.99,0]
[83.199999999999989,{"$f":"IF(Home!$K$10=1,'Antenna Data'!C835,IF(Home!$K$10=2,'Antenna Data'!D835,IF(Home!$K$10=3,'Antenna Data'!E835,IF(Home!$K$10=4,'Antenna Data'!F835,IF(Home!$K$10=5,'Antenna Data'!G835,IF(Home!$K$10=6,'Antenna Data'!H835,'Import Other Antenna'!G834))))))","v":-23.53},-16.560000000000002,-20.3,-22.23,-23.53,-24.799999999999997,0]
[83.300000000000011,{"$f":"IF(Home!$K$10=1,'Antenna Data'!C836,IF(Home!$K$10=2,'Antenna Data'!D836,IF(Home!$K$10=3,'Antenna Data'!E836,IF(Home!$K$10=4,'Antenna Data'!F836,IF(Home!$K$10=5,'Antenna Data'!G836,IF(Home!$K$10=6,'Antenna Data'!H836,'Import Other Antenna'!G835))))))","v":-23.39},-16.52,-20.46,-22.14,-23.39,-24.63,0]
[83.4,{"$f":"IF(Home!$K$10=1,'Antenna Data'!C837,IF(Home!$K$10=2,'Antenna Data'!D837,IF(Home!$K$10=3,'Antenna Data'!E837,IF(Home!$K$10=4,'Antenna Data'!F837,IF(Home!$K$10=5,'Antenna Data'!G837,IF(Home!$K$10=6,'Antenna Data'!H837,'Import Other Antenna'!G836))))))","v":-23.270000000000003},-16.48,-20.64,-22.06,-23.270000000000003,-24.459999999999997,0]
[83.5,{"$f":"IF(Home!$K$10=1,'Antenna Data'!C838,IF(Home!$K$10=2,'Antenna Data'!D838,IF(Home!$K$10=3,'Antenna Data'!E838,IF(Home!$K$10=4,'Antenna Data'!F838,IF(Home!$K$10=5,'Antenna Data'!G838,IF(Home!$K$10=6,'Antenna Data'!H838,'Import Other Antenna'!G837))))))","v":-23.14},-16.440000000000001,-20.810000000000002,-21.98,-23.14,-24.299999999999997,0]
[83.6,{"$f":"IF(Home!$K$10=1,'Antenna Data'!C839,IF(Home!$K$10=2,'Antenna Data'!D839,IF(Home!$K$10=3,'Antenna Data'!E839,IF(Home!$K$10=4,'Antenna Data'!F839,IF(Home!$K$10=5,'Antenna Data'!G839,IF(Home!$K$10=6,'Antenna Data'!H839,'Import Other Antenna'!G838))))))","v":-23.020000000000003},-16.399999999999999,-21,-21.9,-23.020000000000003,-24.15,0]
[83.699999999999989,{"$f":"IF(Home!$K$10=1,'Antenna Data'!C840,IF(Home!$K$10=2,'Antenna Data'!D840,IF(Home!$K$10=3,'Antenna Data'!E840,IF(Home!$K$10=4,'Antenna Data'!F840,IF(Home!$K$10=5,'Antenna Data'!G840,IF(Home!$K$10=6,'Antenna Data'!H840,'Import Other Antenna'!G839))))))","v":-22.91},-16.36,-21.18,-21.83,-22.91,-24,0]
[83.800000000000011,{"$f":"IF(Home!$K$10=1,'Antenna Data'!C841,IF(Home!$K$10=2,'Antenna Data'!D841,IF(Home!$K$10=3,'Antenna Data'!E841,IF(Home!$K$10=4,'Antenna Data'!F841,IF(Home!$K$10=5,'Antenna Data'!G841,IF(Home!$K$10=6,'Antenna Data'!H841,'Import Other Antenna'!G840))))))","v":-22.810000000000002},-16.32,-21.37,-21.75,-22.810000000000002,-23.86,0]
[83.9,{"$f":"IF(Home!$K$10=1,'Antenna Data'!C842,IF(Home!$K$10=2,'Antenna Data'!D842,IF(Home!$K$10=3,'Antenna Data'!E842,IF(Home!$K$10=4,'Antenna Data'!F842,IF(Home!$K$10=5,'Antenna Data'!G842,IF(Home!$K$10=6,'Antenna Data'!H842,'Import Other Antenna'!G841))))))","v":-22.700000000000003},-16.28,-21.57,-21.68,-22.700000000000003,-23.729999999999997,0]
[84,{"$f":"IF(Home!$K$10=1,'Antenna Data'!C843,IF(Home!$K$10=2,'Antenna Data'!D843,IF(Home!$K$10=3,'Antenna Data'!E843,IF(Home!$K$10=4,'Antenna Data'!F843,IF(Home!$K$10=5,'Antenna Data'!G843,IF(Home!$K$10=6,'Antenna Data'!H843,'Import Other Antenna'!G842))))))","v":-22.61},-16.25,-21.77,-21.61,-22.61,-23.599999999999998,0]
[84.1,{"$f":"IF(Home!$K$10=1,'Antenna Data'!C844,IF(Home!$K$10=2,'Antenna Data'!D844,IF(Home!$K$10=3,'Antenna Data'!E844,IF(Home!$K$10=4,'Antenna Data'!F844,IF(Home!$K$10=5,'Antenna Data'!G844,IF(Home!$K$10=6,'Antenna Data'!H844,'Import Other Antenna'!G843))))))","v":-22.51},-16.21,-21.98,-21.55,-22.51,-23.479999999999997,0]
[84.199999999999989,{"$f":"IF(Home!$K$10=1,'Antenna Data'!C845,IF(Home!$K$10=2,'Antenna Data'!D845,IF(Home!$K$10=3,'Antenna Data'!E845,IF(Home!$K$10=4,'Antenna Data'!F845,IF(Home!$K$10=5,'Antenna Data'!G845,IF(Home!$K$10=6,'Antenna Data'!H845,'Import Other Antenna'!G844))))))","v":-22.43},-16.170000000000002,-22.19,-21.48,-22.43,-23.36,0]
[84.300000000000011,{"$f":"IF(Home!$K$10=1,'Antenna Data'!C846,IF(Home!$K$10=2,'Antenna Data'!D846,IF(Home!$K$10=3,'Antenna Data'!E846,IF(Home!$K$10=4,'Antenna Data'!F846,IF(Home!$K$10=5,'Antenna Data'!G846,IF(Home!$K$10=6,'Antenna Data'!H846,'Import Other Antenna'!G845))))))","v":-22.35},-16.14,-22.41,-21.42,-22.35,-23.25,0]
[84.4,{"$f":"IF(Home!$K$10=1,'Antenna Data'!C847,IF(Home!$K$10=2,'Antenna Data'!D847,IF(Home!$K$10=3,'Antenna Data'!E847,IF(Home!$K$10=4,'Antenna Data'!F847,IF(Home!$K$10=5,'Antenna Data'!G847,IF(Home!$K$10=6,'Antenna Data'!H847,'Import Other Antenna'!G846))))))","v":-22.270000000000003},-16.100000000000001,-22.64,-21.36,-22.270000000000003,-23.139999999999997,0]
[84.5,{"$f":"IF(Home!$K$10=1,'Antenna Data'!C848,IF(Home!$K$10=2,'Antenna Data'!D848,IF(Home!$K$10=3,'Antenna Data'!E848,IF(Home!$K$10=4,'Antenna Data'!F848,IF(Home!$K$10=5,'Antenna Data'!G848,IF(Home!$K$10=6,'Antenna Data'!H848,'Import Other Antenna'!G847))))))","v":-22.19},-16.07,-22.87,-21.31,-22.19,-23.049999999999997,0]
[84.6,{"$f":"IF(Home!$K$10=1,'Antenna Data'!C849,IF(Home!$K$10=2,'Antenna Data'!D849,IF(Home!$K$10=3,'Antenna Data'!E849,IF(Home!$K$10=4,'Antenna Data'!F849,IF(Home!$K$10=5,'Antenna Data'!G849,IF(Home!$K$10=6,'Antenna Data'!H849,'Import Other Antenna'!G848))))))","v":-22.130000000000003},-16.03,-23.11,-21.25,-22.130000000000003,-22.95,0]
[84.699999999999989,{"$f":"IF(Home!$K$10=1,'Antenna Data'!C850,IF(Home!$K$10=2,'Antenna Data'!D850,IF(Home!$K$10=3,'Antenna Data'!E850,IF(Home!$K$10=4,'Antenna Data'!F850,IF(Home!$K$10=5,'Antenna Data'!G850,IF(Home!$K$10=6,'Antenna Data'!H850,'Import Other Antenna'!G849))))))","v":-22.060000000000002},-16,-23.36,-21.2,-22.060000000000002,-22.86,0]
[84.800000000000011,{"$f":"IF(Home!$K$10=1,'Antenna Data'!C851,IF(Home!$K$10=2,'Antenna Data'!D851,IF(Home!$K$10=3,'Antenna Data'!E851,IF(Home!$K$10=4,'Antenna Data'!F851,IF(Home!$K$10=5,'Antenna Data'!G851,IF(Home!$K$10=6,'Antenna Data'!H851,'Import Other Antenna'!G850))))))","v":-22},-15.96,-23.62,-21.15,-22,-22.779999999999998,0]
[84.9,{"$f":"IF(Home!$K$10=1,'Antenna Data'!C852,IF(Home!$K$10=2,'Antenna Data'!D852,IF(Home!$K$10=3,'Antenna Data'!E852,IF(Home!$K$10=4,'Antenna Data'!F852,IF(Home!$K$10=5,'Antenna Data'!G852,IF(Home!$K$10=6,'Antenna Data'!H852,'Import Other Antenna'!G851))))))","v":-21.950000000000003},-15.93,-23.880000000000003,-21.1,-21.950000000000003,-22.7,0]
[85,{"$f":"IF(Home!$K$10=1,'Antenna Data'!C853,IF(Home!$K$10=2,'Antenna Data'!D853,IF(Home!$K$10=3,'Antenna Data'!E853,IF(Home!$K$10=4,'Antenna Data'!F853,IF(Home!$K$10=5,'Antenna Data'!G853,IF(Home!$K$10=6,'Antenna Data'!H853,'Import Other Antenna'!G852))))))","v":-21.900000000000002},-15.9,-24.15,-21.05,-21.900000000000002,-22.619999999999997,0]
[85.1,{"$f":"IF(Home!$K$10=1,'Antenna Data'!C854,IF(Home!$K$10=2,'Antenna Data'!D854,IF(Home!$K$10=3,'Antenna Data'!E854,IF(Home!$K$10=4,'Antenna Data'!F854,IF(Home!$K$10=5,'Antenna Data'!G854,IF(Home!$K$10=6,'Antenna Data'!H854,'Import Other Antenna'!G853))))))","v":-21.85},-15.870000000000001,-24.43,-21.009999999999998,-21.85,-22.549999999999997,0]
[85.199999999999989,{"$f":"IF(Home!$K$10=1,'Antenna Data'!C855,IF(Home!$K$10=2,'Antenna Data'!D855,IF(Home!$K$10=3,'Antenna Data'!E855,IF(Home!$K$10=4,'Antenna Data'!F855,IF(Home!$K$10=5,'Antenna Data'!G855,IF(Home!$K$10=6,'Antenna Data'!H855,'Import Other Antenna'!G854))))))","v":-21.810000000000002},-15.83,-24.73,-20.96,-21.810000000000002,-22.49,0]
[85.300000000000011,{"$f":"IF(Home!$K$10=1,'Antenna Data'!C856,IF(Home!$K$10=2,'Antenna Data'!D856,IF(Home!$K$10=3,'Antenna Data'!E856,IF(Home!$K$10=4,'Antenna Data'!F856,IF(Home!$K$10=5,'Antenna Data'!G856,IF(Home!$K$10=6,'Antenna Data'!H856,'Import Other Antenna'!G855))))))","v":-21.770000000000003},-15.8,-25.03,-20.92,-21.770000000000003,-22.43,0]
[85.4,{"$f":"IF(Home!$K$10=1,'Antenna Data'!C857,IF(Home!$K$10=2,'Antenna Data'!D857,IF(Home!$K$10=3,'Antenna Data'!E857,IF(Home!$K$10=4,'Antenna Data'!F857,IF(Home!$K$10=5,'Antenna Data'!G857,IF(Home!$K$10=6,'Antenna Data'!H857,'Import Other Antenna'!G856))))))","v":-21.73},-15.77,-25.34,-20.88,-21.73,-22.369999999999997,0]
[85.5,{"$f":"IF(Home!$K$10=1,'Antenna Data'!C858,IF(Home!$K$10=2,'Antenna Data'!D858,IF(Home!$K$10=3,'Antenna Data'!E858,IF(Home!$K$10=4,'Antenna Data'!F858,IF(Home!$K$10=5,'Antenna Data'!G858,IF(Home!$K$10=6,'Antenna Data'!H858,'Import Other Antenna'!G857))))))","v":-21.700000000000003},-15.74,-25.67,-20.85,-21.700000000000003,-22.32,0]
[85.6,{"$f":"IF(Home!$K$10=1,'Antenna Data'!C859,IF(Home!$K$10=2,'Antenna Data'!D859,IF(Home!$K$10=3,'Antenna Data'!E859,IF(Home!$K$10=4,'Antenna Data'!F859,IF(Home!$K$10=5,'Antenna Data'!G859,IF(Home!$K$10=6,'Antenna Data'!H859,'Import Other Antenna'!G858))))))","v":-21.67},-15.71,-26,-20.81,-21.67,-22.27,0]
[85.699999999999989,{"$f":"IF(Home!$K$10=1,'Antenna Data'!C860,IF(Home!$K$10=2,'Antenna Data'!D860,IF(Home!$K$10=3,'Antenna Data'!E860,IF(Home!$K$10=4,'Antenna Data'!F860,IF(Home!$K$10=5,'Antenna Data'!G860,IF(Home!$K$10=6,'Antenna Data'!H860,'Import Other Antenna'!G859))))))","v":-21.650000000000002},-15.68,-26.35,-20.78,-21.650000000000002,-22.22,0]
[85.800000000000011,{"$f":"IF(Home!$K$10=1,'Antenna Data'!C861,IF(Home!$K$10=2,'Antenna Data'!D861,IF(Home!$K$10=3,'Antenna Data'!E861,IF(Home!$K$10=4,'Antenna Data'!F861,IF(Home!$K$10=5,'Antenna Data'!G861,IF(Home!$K$10=6,'Antenna Data'!H861,'Import Other Antenna'!G860))))))","v":-21.630000000000003},-15.65,-26.72,-20.75,-21.630000000000003,-22.18,0]
[85.9,{"$f":"IF(Home!$K$10=1,'Antenna Data'!C862,IF(Home!$K$10=2,'Antenna Data'!D862,IF(Home!$K$10=3,'Antenna Data'!E862,IF(Home!$K$10=4,'Antenna Data'!F862,IF(Home!$K$10=5,'Antenna Data'!G862,IF(Home!$K$10=6,'Antenna Data'!H862,'Import Other Antenna'!G861))))))","v":-21.61},-15.63,-27.1,-20.72,-21.61,-22.15,0]
[86,{"$f":"IF(Home!$K$10=1,'Antenna Data'!C863,IF(Home!$K$10=2,'Antenna Data'!D863,IF(Home!$K$10=3,'Antenna Data'!E863,IF(Home!$K$10=4,'Antenna Data'!F863,IF(Home!$K$10=5,'Antenna Data'!G863,IF(Home!$K$10=6,'Antenna Data'!H863,'Import Other Antenna'!G862))))))","v":-21.6},-15.600000000000001,-27.5,-20.69,-21.6,-22.119999999999997,0]
[86.1,{"$f":"IF(Home!$K$10=1,'Antenna Data'!C864,IF(Home!$K$10=2,'Antenna Data'!D864,IF(Home!$K$10=3,'Antenna Data'!E864,IF(Home!$K$10=4,'Antenna Data'!F864,IF(Home!$K$10=5,'Antenna Data'!G864,IF(Home!$K$10=6,'Antenna Data'!H864,'Import Other Antenna'!G863))))))","v":-21.59},-15.57,-27.92,-20.66,-21.59,-22.089999999999996,0]
[86.199999999999989,{"$f":"IF(Home!$K$10=1,'Antenna Data'!C865,IF(Home!$K$10=2,'Antenna Data'!D865,IF(Home!$K$10=3,'Antenna Data'!E865,IF(Home!$K$10=4,'Antenna Data'!F865,IF(Home!$K$10=5,'Antenna Data'!G865,IF(Home!$K$10=6,'Antenna Data'!H865,'Import Other Antenna'!G864))))))","v":-21.59},-15.54,-28.36,-20.64,-21.59,-22.06,0]
[86.300000000000011,{"$f":"IF(Home!$K$10=1,'Antenna Data'!C866,IF(Home!$K$10=2,'Antenna Data'!D866,IF(Home!$K$10=3,'Antenna Data'!E866,IF(Home!$K$10=4,'Antenna Data'!F866,IF(Home!$K$10=5,'Antenna Data'!G866,IF(Home!$K$10=6,'Antenna Data'!H866,'Import Other Antenna'!G865))))))","v":-21.59},-15.52,-28.82,-20.62,-21.59,-22.04,0]
[86.4,{"$f":"IF(Home!$K$10=1,'Antenna Data'!C867,IF(Home!$K$10=2,'Antenna Data'!D867,IF(Home!$K$10=3,'Antenna Data'!E867,IF(Home!$K$10=4,'Antenna Data'!F867,IF(Home!$K$10=5,'Antenna Data'!G867,IF(Home!$K$10=6,'Antenna Data'!H867,'Import Other Antenna'!G866))))))","v":-21.59},-15.49,-29.3,-20.6,-21.59,-22.029999999999998,0]
[86.5,{"$f":"IF(Home!$K$10=1,'Antenna Data'!C868,IF(Home!$K$10=2,'Antenna Data'!D868,IF(Home!$K$10=3,'Antenna Data'!E868,IF(Home!$K$10=4,'Antenna Data'!F868,IF(Home!$K$10=5,'Antenna Data'!G868,IF(Home!$K$10=6,'Antenna Data'!H868,'Import Other Antenna'!G867))))))","v":-21.6},-15.46,-29.810000000000002,-20.58,-21.6,-22.009999999999998,0]
[86.6,{"$f":"IF(Home!$K$10=1,'Antenna Data'!C869,IF(Home!$K$10=2,'Antenna Data'!D869,IF(Home!$K$10=3,'Antenna Data'!E869,IF(Home!$K$10=4,'Antenna Data'!F869,IF(Home!$K$10=5,'Antenna Data'!G869,IF(Home!$K$10=6,'Antenna Data'!H869,'Import Other Antenna'!G868))))))","v":-21.61},-15.440000000000001,-30.36,-20.56,-21.61,-22,0]
[86.699999999999989,{"$f":"IF(Home!$K$10=1,'Antenna Data'!C870,IF(Home!$K$10=2,'Antenna Data'!D870,IF(Home!$K$10=3,'Antenna Data'!E870,IF(Home!$K$10=4,'Antenna Data'!F870,IF(Home!$K$10=5,'Antenna Data'!G870,IF(Home!$K$10=6,'Antenna Data'!H870,'Import Other Antenna'!G869))))))","v":-21.62},-15.41,-30.93,-20.55,-21.62,-22,0]
[86.800000000000011,{"$f":"IF(Home!$K$10=1,'Antenna Data'!C871,IF(Home!$K$10=2,'Antenna Data'!D871,IF(Home!$K$10=3,'Antenna Data'!E871,IF(Home!$K$10=4,'Antenna Data'!F871,IF(Home!$K$10=5,'Antenna Data'!G871,IF(Home!$K$10=6,'Antenna Data'!H871,'Import Other Antenna'!G870))))))","v":-21.64},-15.39,-31.54,-20.53,-21.64,-22,0]
[86.9,{"$f":"IF(Home!$K$10=1,'Antenna Data'!C872,IF(Home!$K$10=2,'Antenna Data'!D872,IF(Home!$K$10=3,'Antenna Data'!E872,IF(Home!$K$10=4,'Antenna Data'!F872,IF(Home!$K$10=5,'Antenna Data'!G872,IF(Home!$K$10=6,'Antenna Data'!H872,'Import Other Antenna'!G871))))))","v":-21.66},-15.36,-32.200000000000003,-20.52,-21.66,-22,0]
[87,{"$f":"IF(Home!$K$10=1,'Antenna Data'!C873,IF(Home!$K$10=2,'Antenna Data'!D873,IF(Home!$K$10=3,'Antenna Data'!E873,IF(Home!$K$10=4,'Antenna Data'!F873,IF(Home!$K$10=5,'Antenna Data'!G873,IF(Home!$K$10=6,'Antenna Data'!H873,'Import Other Antenna'!G872))))))","v":-21.69},-15.34,-32.9,-20.509999999999998,-21.69,-22.009999999999998,0]
[87.1,{"$f":"IF(Home!$K$10=1,'Antenna Data'!C874,IF(Home!$K$10=2,'Antenna Data'!D874,IF(Home!$K$10=3,'Antenna Data'!E874,IF(Home!$K$10=4,'Antenna Data'!F874,IF(Home!$K$10=5,'Antenna Data'!G874,IF(Home!$K$10=6,'Antenna Data'!H874,'Import Other Antenna'!G873))))))","v":-21.71},-15.31,-33.65,-20.5,-21.71,-22.02,0]
[87.199999999999989,{"$f":"IF(Home!$K$10=1,'Antenna Data'!C875,IF(Home!$K$10=2,'Antenna Data'!D875,IF(Home!$K$10=3,'Antenna Data'!E875,IF(Home!$K$10=4,'Antenna Data'!F875,IF(Home!$K$10=5,'Antenna Data'!G875,IF(Home!$K$10=6,'Antenna Data'!H875,'Import Other Antenna'!G874))))))","v":-21.75},-15.29,-34.47,-20.5,-21.75,-22.029999999999998,0]
[87.300000000000011,{"$f":"IF(Home!$K$10=1,'Antenna Data'!C876,IF(Home!$K$10=2,'Antenna Data'!D876,IF(Home!$K$10=3,'Antenna Data'!E876,IF(Home!$K$10=4,'Antenna Data'!F876,IF(Home!$K$10=5,'Antenna Data'!G876,IF(Home!$K$10=6,'Antenna Data'!H876,'Import Other Antenna'!G875))))))","v":-21.78},-15.27,-35.35,-20.490000000000002,-21.78,-22.049999999999997,0]
[87.4,{"$f":"IF(Home!$K$10=1,'Antenna Data'!C877,IF(Home!$K$10=2,'Antenna Data'!D877,IF(Home!$K$10=3,'Antenna Data'!E877,IF(Home!$K$10=4,'Antenna Data'!F877,IF(Home!$K$10=5,'Antenna Data'!G877,IF(Home!$K$10=6,'Antenna Data'!H877,'Import Other Antenna'!G876))))))","v":-21.82},-15.25,-36.31,-20.490000000000002,-21.82,-22.07,0]
[87.5,{"$f":"IF(Home!$K$10=1,'Antenna Data'!C878,IF(Home!$K$10=2,'Antenna Data'!D878,IF(Home!$K$10=3,'Antenna Data'!E878,IF(Home!$K$10=4,'Antenna Data'!F878,IF(Home!$K$10=5,'Antenna Data'!G878,IF(Home!$K$10=6,'Antenna Data'!H878,'Import Other Antenna'!G877))))))","v":-21.86},-15.22,-37.36,-20.490000000000002,-21.86,-22.089999999999996,0]
[87.6,{"$f":"IF(Home!$K$10=1,'Antenna Data'!C879,IF(Home!$K$10=2,'Antenna Data'!D879,IF(Home!$K$10=3,'Antenna Data'!E879,IF(Home!$K$10=4,'Antenna Data'!F879,IF(Home!$K$10=5,'Antenna Data'!G879,IF(Home!$K$10=6,'Antenna Data'!H879,'Import Other Antenna'!G878))))))","v":-21.91},-15.2,-38.480000000000004,-20.490000000000002,-21.91,-22.119999999999997,0]
[87.699999999999989,{"$f":"IF(Home!$K$10=1,'Antenna Data'!C880,IF(Home!$K$10=2,'Antenna Data'!D880,IF(Home!$K$10=3,'Antenna Data'!E880,IF(Home!$K$10=4,'Antenna Data'!F880,IF(Home!$K$10=5,'Antenna Data'!G880,IF(Home!$K$10=6,'Antenna Data'!H880,'Import Other Antenna'!G879))))))","v":-21.96},-15.18,-39.68,-20.490000000000002,-21.96,-22.15,0]
[87.800000000000011,{"$f":"IF(Home!$K$10=1,'Antenna Data'!C881,IF(Home!$K$10=2,'Antenna Data'!D881,IF(Home!$K$10=3,'Antenna Data'!E881,IF(Home!$K$10=4,'Antenna Data'!F881,IF(Home!$K$10=5,'Antenna Data'!G881,IF(Home!$K$10=6,'Antenna Data'!H881,'Import Other Antenna'!G880))))))","v":-22.020000000000003},-15.16,-40.9,-20.490000000000002,-22.020000000000003,-22.18,0]
[87.9,{"$f":"IF(Home!$K$10=1,'Antenna Data'!C882,IF(Home!$K$10=2,'Antenna Data'!D882,IF(Home!$K$10=3,'Antenna Data'!E882,IF(Home!$K$10=4,'Antenna Data'!F882,IF(Home!$K$10=5,'Antenna Data'!G882,IF(Home!$K$10=6,'Antenna Data'!H882,'Import Other Antenna'!G881))))))","v":-22.07},-15.14,-42.03,-20.5,-22.07,-22.22,0]
[88,{"$f":"IF(Home!$K$10=1,'Antenna Data'!C883,IF(Home!$K$10=2,'Antenna Data'!D883,IF(Home!$K$10=3,'Antenna Data'!E883,IF(Home!$K$10=4,'Antenna Data'!F883,IF(Home!$K$10=5,'Antenna Data'!G883,IF(Home!$K$10=6,'Antenna Data'!H883,'Import Other Antenna'!G882))))))","v":-22.130000000000003},-15.120000000000001,-42.87,-20.5,-22.130000000000003,-22.259999999999998,0]
[88.1,{"$f":"IF(Home!$K$10=1,'Antenna Data'!C884,IF(Home!$K$10=2,'Antenna Data'!D884,IF(Home!$K$10=3,'Antenna Data'!E884,IF(Home!$K$10=4,'Antenna Data'!F884,IF(Home!$K$10=5,'Antenna Data'!G884,IF(Home!$K$10=6,'Antenna Data'!H884,'Import Other Antenna'!G883))))))","v":-22.200000000000003},-15.100000000000001,-43.18,-20.509999999999998,-22.200000000000003,-22.31,0]
[88.199999999999989,{"$f":"IF(Home!$K$10=1,'Antenna Data'!C885,IF(Home!$K$10=2,'Antenna Data'!D885,IF(Home!$K$10=3,'Antenna Data'!E885,IF(Home!$K$10=4,'Antenna Data'!F885,IF(Home!$K$10=5,'Antenna Data'!G885,IF(Home!$K$10=6,'Antenna Data'!H885,'Import Other Antenna'!G884))))))","v":-22.270000000000003},-15.08,-42.83,-20.52,-22.270000000000003,-22.36,0]
[88.300000000000011,{"$f":"IF(Home!$K$10=1,'Antenna Data'!C886,IF(Home!$K$10=2,'Antenna Data'!D886,IF(Home!$K$10=3,'Antenna Data'!E886,IF(Home!$K$10=4,'Antenna Data'!F886,IF(Home!$K$10=5,'Antenna Data'!G886,IF(Home!$K$10=6,'Antenna Data'!H886,'Import Other Antenna'!G885))))))","v":-22.34},-15.06,-41.97,-20.53,-22.34,-22.409999999999997,0]
[88.4,{"$f":"IF(Home!$K$10=1,'Antenna Data'!C887,IF(Home!$K$10=2,'Antenna Data'!D887,IF(Home!$K$10=3,'Antenna Data'!E887,IF(Home!$K$10=4,'Antenna Data'!F887,IF(Home!$K$10=5,'Antenna Data'!G887,IF(Home!$K$10=6,'Antenna Data'!H887,'Import Other Antenna'!G886))))))","v":-22.42},-15.04,-40.85,-20.54,-22.42,-22.47,0]
[88.5,{"$f":"IF(Home!$K$10=1,'Antenna Data'!C888,IF(Home!$K$10=2,'Antenna Data'!D888,IF(Home!$K$10=3,'Antenna Data'!E888,IF(Home!$K$10=4,'Antenna Data'!F888,IF(Home!$K$10=5,'Antenna Data'!G888,IF(Home!$K$10=6,'Antenna Data'!H888,'Import Other Antenna'!G887))))))","v":-22.5},-15.02,-39.660000000000004,-20.55,-22.5,-22.529999999999998,0]
[88.6,{"$f":"IF(Home!$K$10=1,'Antenna Data'!C889,IF(Home!$K$10=2,'Antenna Data'!D889,IF(Home!$K$10=3,'Antenna Data'!E889,IF(Home!$K$10=4,'Antenna Data'!F889,IF(Home!$K$10=5,'Antenna Data'!G889,IF(Home!$K$10=6,'Antenna Data'!H889,'Import Other Antenna'!G888))))))","v":-22.580000000000002},-15,-38.51,-20.57,-22.580000000000002,-22.589999999999996,0]
[88.699999999999989,{"$f":"IF(Home!$K$10=1,'Antenna Data'!C890,IF(Home!$K$10=2,'Antenna Data'!D890,IF(Home!$K$10=3,'Antenna Data'!E890,IF(Home!$K$10=4,'Antenna Data'!F890,IF(Home!$K$10=5,'Antenna Data'!G890,IF(Home!$K$10=6,'Antenna Data'!H890,'Import Other Antenna'!G889))))))","v":-22.67},-14.98,-37.42,-20.59,-22.67,-22.659999999999997,0]
[88.800000000000011,{"$f":"IF(Home!$K$10=1,'Antenna Data'!C891,IF(Home!$K$10=2,'Antenna Data'!D891,IF(Home!$K$10=3,'Antenna Data'!E891,IF(Home!$K$10=4,'Antenna Data'!F891,IF(Home!$K$10=5,'Antenna Data'!G891,IF(Home!$K$10=6,'Antenna Data'!H891,'Import Other Antenna'!G890))))))","v":-22.76},-14.97,-36.42,-20.6,-22.76,-22.729999999999997,0]
[88.9,{"$f":"IF(Home!$K$10=1,'Antenna Data'!C892,IF(Home!$K$10=2,'Antenna Data'!D892,IF(Home!$K$10=3,'Antenna Data'!E892,IF(Home!$K$10=4,'Antenna Data'!F892,IF(Home!$K$10=5,'Antenna Data'!G892,IF(Home!$K$10=6,'Antenna Data'!H892,'Import Other Antenna'!G891))))))","v":-22.86},-14.95,-35.5,-20.62,-22.86,-22.799999999999997,0]
[89,{"$f":"IF(Home!$K$10=1,'Antenna Data'!C893,IF(Home!$K$10=2,'Antenna Data'!D893,IF(Home!$K$10=3,'Antenna Data'!E893,IF(Home!$K$10=4,'Antenna Data'!F893,IF(Home!$K$10=5,'Antenna Data'!G893,IF(Home!$K$10=6,'Antenna Data'!H893,'Import Other Antenna'!G892))))))","v":-22.96},-14.93,-34.660000000000004,-20.64,-22.96,-22.88,0]
[89.1,{"$f":"IF(Home!$K$10=1,'Antenna Data'!C894,IF(Home!$K$10=2,'Antenna Data'!D894,IF(Home!$K$10=3,'Antenna Data'!E894,IF(Home!$K$10=4,'Antenna Data'!F894,IF(Home!$K$10=5,'Antenna Data'!G894,IF(Home!$K$10=6,'Antenna Data'!H894,'Import Other Antenna'!G893))))))","v":-23.07},-14.91,-33.880000000000003,-20.67,-23.07,-22.959999999999997,0]
[89.199999999999989,{"$f":"IF(Home!$K$10=1,'Antenna Data'!C895,IF(Home!$K$10=2,'Antenna Data'!D895,IF(Home!$K$10=3,'Antenna Data'!E895,IF(Home!$K$10=4,'Antenna Data'!F895,IF(Home!$K$10=5,'Antenna Data'!G895,IF(Home!$K$10=6,'Antenna Data'!H895,'Import Other Antenna'!G894))))))","v":-23.17},-14.9,-33.17,-20.69,-23.17,-23.049999999999997,0]
[89.300000000000011,{"$f":"IF(Home!$K$10=1,'Antenna Data'!C896,IF(Home!$K$10=2,'Antenna Data'!D896,IF(Home!$K$10=3,'Antenna Data'!E896,IF(Home!$K$10=4,'Antenna Data'!F896,IF(Home!$K$10=5,'Antenna Data'!G896,IF(Home!$K$10=6,'Antenna Data'!H896,'Import Other Antenna'!G895))))))","v":-23.29},-14.88,-32.5,-20.72,-23.29,-23.139999999999997,0]
[89.4,{"$f":"IF(Home!$K$10=1,'Antenna Data'!C897,IF(Home!$K$10=2,'Antenna Data'!D897,IF(Home!$K$10=3,'Antenna Data'!E897,IF(Home!$K$10=4,'Antenna Data'!F897,IF(Home!$K$10=5,'Antenna Data'!G897,IF(Home!$K$10=6,'Antenna Data'!H897,'Import Other Antenna'!G896))))))","v":-23.400000000000002},-14.870000000000001,-31.89,-20.740000000000002,-23.400000000000002,-23.229999999999997,0]
[89.5,{"$f":"IF(Home!$K$10=1,'Antenna Data'!C898,IF(Home!$K$10=2,'Antenna Data'!D898,IF(Home!$K$10=3,'Antenna Data'!E898,IF(Home!$K$10=4,'Antenna Data'!F898,IF(Home!$K$10=5,'Antenna Data'!G898,IF(Home!$K$10=6,'Antenna Data'!H898,'Import Other Antenna'!G897))))))","v":-23.53},-14.850000000000001,-31.310000000000002,-20.77,-23.53,-23.33,0]
[89.6,{"$f":"IF(Home!$K$10=1,'Antenna Data'!C899,IF(Home!$K$10=2,'Antenna Data'!D899,IF(Home!$K$10=3,'Antenna Data'!E899,IF(Home!$K$10=4,'Antenna Data'!F899,IF(Home!$K$10=5,'Antenna Data'!G899,IF(Home!$K$10=6,'Antenna Data'!H899,'Import Other Antenna'!G898))))))","v":-23.650000000000002},-14.83,-30.770000000000003,-20.8,-23.650000000000002,-23.43,0]
[89.699999999999989,{"$f":"IF(Home!$K$10=1,'Antenna Data'!C900,IF(Home!$K$10=2,'Antenna Data'!D900,IF(Home!$K$10=3,'Antenna Data'!E900,IF(Home!$K$10=4,'Antenna Data'!F900,IF(Home!$K$10=5,'Antenna Data'!G900,IF(Home!$K$10=6,'Antenna Data'!H900,'Import Other Antenna'!G899))))))","v":-23.78},-14.82,-30.259999999999998,-20.83,-23.78,-23.529999999999998,0]
[89.800000000000011,{"$f":"IF(Home!$K$10=1,'Antenna Data'!C901,IF(Home!$K$10=2,'Antenna Data'!D901,IF(Home!$K$10=3,'Antenna Data'!E901,IF(Home!$K$10=4,'Antenna Data'!F901,IF(Home!$K$10=5,'Antenna Data'!G901,IF(Home!$K$10=6,'Antenna Data'!H901,'Import Other Antenna'!G900))))))","v":-23.92},-14.8,-29.79,-20.86,-23.92,-23.639999999999997,0]
[89.9,{"$f":"IF(Home!$K$10=1,'Antenna Data'!C902,IF(Home!$K$10=2,'Antenna Data'!D902,IF(Home!$K$10=3,'Antenna Data'!E902,IF(Home!$K$10=4,'Antenna Data'!F902,IF(Home!$K$10=5,'Antenna Data'!G902,IF(Home!$K$10=6,'Antenna Data'!H902,'Import Other Antenna'!G901))))))","v":-24.060000000000002},-14.79,-29.34,-20.9,-24.060000000000002,-23.75,0]
[90,{"$f":"IF(Home!$K$10=1,'Antenna Data'!C903,IF(Home!$K$10=2,'Antenna Data'!D903,IF(Home!$K$10=3,'Antenna Data'!E903,IF(Home!$K$10=4,'Antenna Data'!F903,IF(Home!$K$10=5,'Antenna Data'!G903,IF(Home!$K$10=6,'Antenna Data'!H903,'Import Other Antenna'!G902))))))","v":-24.060000000000002},-14.780000000000001,-28.91,-20.93,-24.060000000000002,-23.869999999999997,0]

{"sheet":"Main Calculation Sheet","index":4,"n_rows":905,"n_cols":33,"rows_kept":905,"cut":false,"hidden":false,"merged":[]}
["Height [m] :",{"$f":"Home!D7","v":17.3},null,null,"Freq [MHz] :",{"$f":"Home!D6","v":144},null,null,null,null,{"$f":"F1","v":144},null,null,null,{"$f":"300/K1","v":2.0833333333333335}]
["Ground slope [°] :",{"$f":"Home!D8","v":0},{"$f":"B2*(PI()/180)","v":0},null,null,null,null,null,null,null,null,null,null,null,null,null,{"$f":"ATAN(7/300)","v":2.3329100148186562E-2},null,null,null,null,null,null,null,null,null,null,null,null,{"$f":"Home!D11","v":16.37}]
[]
["Elevation Angle α [°]","α [rad]","δ [m]","δ [°]","θ Horizontal [°]","θ Vertical [°]","ρ Horizontal","ρ Vertical","Δ Hor. [°] = δ+θ (reflection)","Δ Vert. [°] = δ+θ (reflection)","A","B","C","D","E","F","G","Distance to Reflection Point for Lobe Maximum Building [m]","Antenna Pattern [dB vs Max Gain]","E Horizontal [V/m]","Ground Gain for Isotropic/Dipole Antenna for Horizontal Polarization [dB] ","Maxima Horizontal","E Vertical [V/m] ","Ground Gain for Isotropic/Dipole Antenna for Vertical Polarization [dB] ","Maxima Vertical","Ground Gain for Selected Antenna for Horizontal Polarization [dB] ","Maxima Ground Gain Horizontal [dB] taking into account actual antenna","Ground Gain for Selected Antenna for Vertical Polarization [dB] ","Maxima Ground Gain Vertical [dB] taking into account actual antenna","Total Gain for Isotropic/Dipole Antenna for Horizontal Polarization [dBi]","Total Gain for Isotropic/Dipole Antenna for Vertical Polarization [dBi]","Total Gain for Selected Antenna for Horizontal Polarization [dBi]","Total Gain for Selected Antenna for Vertical Polarization [dBi]"]
[0,{"$f":"A5*(PI()/180)","v":0},{"$f":"(2*$B$1*SIN(B5-$C$2)*COS($C$2))","v":0},{"$f":"(C5/$O$1)*360","v":0},{"$f":"VLOOKUP(A5-$B$2,'Ref. Coeff. Horiz.'!A:X,24)","v":180},{"$f":"VLOOKUP(A5-$B$2,'Ref. Coeff. Vertical'!A:X,24)","v":180},{"$f":"VLOOKUP(A5-$B$2,'Ref. Coeff. Horiz.'!A:X,23)","v":1},{"$f":"VLOOKUP(A5-$B$2,'Ref. Coeff. Vertical'!A:X,23)","v":1},{"$f":"D5+E5","v":180},{"$f":"D5+F5","v":180},null,null,null,null,null,null,{"$f":"(((COS($C$2))/(TAN(B5-$C$2)))-(SIN($C$2)))*$B$1","v":{"$error":"#DIV/0!"}},{"$f":"ROUND(Q5,1)","v":{"$error":"#DIV/0!"}},{"$f":"'Antenna Data'!B3","v":0},{"$f":"SQRT((1+(2*G5*COS(I5*PI()/180)))+(G5^2))","v":0},{"$f":"IF(T5=0,-99,10*LOG(T5^2))","v":-99},{"$f":"IF(AND((U6<U5),(U5>U4)),\"Max\",\"\")","v":""},{"$f":"SQRT((1+(2*H5*COS(J5*PI()/180)))+(H5^2))","v":0},{"$f":"IF(W5=0,-99,10*LOG(W5^2))","v":-99},{"$f":"IF(AND((X6<X5),(X5>X4)),\"Max\",\"\")","v":""},{"$f":"U5+S5","v":-99},{"$f":"IF(AND((Z6<Z5),(Z5>Z4)),\"Max\",\"\")","v":""},{"$f":"X5+S5","v":-99},{"$f":"IF(AND((AB6<AB5),(AB5>AB4)),\"Max\",\"\")","v":""},{"$f":"U5+$AD$2","v":-82.63},{"$f":"X5+$AD$2","v":-82.63},{"$f":"Z5+$AD$2","v":-82.63},{"$f":"AB5+$AD$2","v":-82.63}]
[{"$f":"A5+0.1","v":0.1},{"$f":"A6*(PI()/180)","v":1.7453292519943296E-3},{"$f":"(2*$B$1*SIN(B6-$C$2)*COS($C$2))","v":6.0388361460081488E-2},{"$f":"(C6/$O$1)*360","v":10.43510886030208},{"$f":"VLOOKUP(A6-$B$2,'Ref. Coeff. Horiz.'!A:X,24)","v":180},{"$f":"VLOOKUP(A6-$B$2,'Ref. Coeff. Vertical'!A:X,24)","v":0},{"$f":"VLOOKUP(A6-$B$2,'Ref. Coeff. Horiz.'!A:X,23)","v":1},{"$f":"VLOOKUP(A6-$B$2,'Ref. Coeff. Vertical'!A:X,23)","v":1},{"$f":"D6+E6","v":190.43510886030208},{"$f":"D6+F6","v":10.43510886030208},null,null,null,null,null,null,{"$f":"(((COS($C$2))/(TAN(B6-$C$2)))-(SIN($C$2)))*$B$1","v":9912.1597910291766},{"$f":"ROUND(Q6,1)","v":9912.2000000000007},{"$f":"'Antenna Data'!B4","v":0},{"$f":"SQRT((1+(2*G6*COS(I6*PI()/180)))+(G6^2))","v":0.18187539518985749},{"$f":"IF(T6=0,-99,10*LOG(T6^2))","v":-14.804521000153565},{"$f":"IF(AND((U7<U6),(U6>U5)),\"Max\",\"\")","v":""},{"$f":"SQRT((1+(2*H6*COS(J6*PI()/180)))+(H6^2))","v":1.9917131672569053},{"$f":"IF(W6=0,-99,10*LOG(W6^2))","v":5.9845358901173498},{"$f":"IF(AND((X7<X6),(X6>X5)),\"Max\",\"\")","v":"Max"},{"$f":"U6+S6","v":-14.804521000153565},{"$f":"IF(AND((Z7<Z6),(Z6>Z5)),\"Max\",\"\")","v":""},{"$f":"X6+S6","v":5.9845358901173498},{"$f":"IF(AND((AB7<AB6),(AB6>AB5)),\"Max\",\"\")","v":"Max"},{"$f":"U6+$AD$2","v":1.5654789998464356},{"$f":"X6+$AD$2","v":22.354535890117351},{"$f":"Z6+$AD$2","v":1.5654789998464356},{"$f":"AB6+$AD$2","v":22.354535890117351}]
[0.2,3.4906585039886592E-3,0.12077653896674113,20.870185933452866,{"$f":"VLOOKUP(A7-$B$2,'Ref. Coeff. Horiz.'!A:X,24)","v":180},{"$f":"VLOOKUP(A7-$B$2,'Ref. Coeff. Vertical'!A:X,24)","v":0},{"$f":"VLOOKUP(A7-$B$2,'Ref. Coeff. Horiz.'!A:X,23)","v":1},{"$f":"VLOOKUP(A7-$B$2,'Ref. Coeff. Vertical'!A:X,23)","v":1},200.87018593345286,20.870185933452866,null,null,null,null,null,null,4956.0647984012303,4956.1000000000004,{"$f":"'Antenna Data'!B5","v":0},0.36224307378509074,-8.8199981928112585,"",1.9669214411091076,5.8757402906679683,"",-8.8199981928112585,"",5.8757402906679683,"",7.5500018071887425,22.245740290667968,7.5500018071887425,22.245740290667968]
[0.30000000000000004,5.235987755982989E-3,0.18116434856711749,31.305199432397899,{"$f":"VLOOKUP(A8-$B$2,'Ref. Coeff. Horiz.'!A:X,24)","v":180},{"$f":"VLOOKUP(A8-$B$2,'Ref. Coeff. Vertical'!A:X,24)","v":0},{"$f":"VLOOKUP(A8-$B$2,'Ref. Coeff. Horiz.'!A:X,23)","v":1},{"$f":"VLOOKUP(A8-$B$2,'Ref. Coeff. Vertical'!A:X,23)","v":1},211.3051994323979,31.305199432397899,null,null,null,null,null,null,3304.0264243365013,3304,{"$f":"'Antenna Data'!B6","v":0},0.53960785446045867,-5.3584347484233756,"",1.9258305645628799,5.6923615009177659,"",-5.3584347484233756,"",5.6923615009177659,"",11.011565251576625,22.062361500917767,11.011565251576625,22.062361500917767]
[0.4,6.9813170079773184E-3,0.24155160630946973,41.740117570276368,{"$f":"VLOOKUP(A9-$B$2,'Ref. Coeff. Horiz.'!A:X,24)","v":180},{"$f":"VLOOKUP(A9-$B$2,'Ref. Coeff. Vertical'!A:X,24)","v":0},{"$f":"VLOOKUP(A9-$B$2,'Ref. Coeff. Horiz.'!A:X,23)","v":1},{"$f":"VLOOKUP(A9-$B$2,'Ref. Coeff. Vertical'!A:X,23)","v":1},221.74011757027637,41.740117570276368,null,null,null,null,null,null,2478.0022048819187,2478,{"$f":"'Antenna Data'!B7","v":0},0.71249952160379548,-2.94430845838628,"",1.8687815366474387,5.4311706934519126,"",-2.94430845838628,"",5.4311706934519126,"",13.425691541613721,21.801170693451915,13.425691541613721,21.801170693451915]
[0.5,8.7266462599716477E-3,0.30193812824373817,52.174908560517956,{"$f":"VLOOKUP(A10-$B$2,'Ref. Coeff. Horiz.'!A:X,24)","v":180},{"$f":"VLOOKUP(A10-$B$2,'Ref. Coeff. Vertical'!A:X,24)","v":0},{"$f":"VLOOKUP(A10-$B$2,'Ref. Coeff. Horiz.'!A:X,23)","v":1},{"$f":"VLOOKUP(A10-$B$2,'Ref. Coeff. Vertical'!A:X,23)","v":1},232.17490856051796,52.174908560517956,null,null,null,null,null,null,1982.3836472370565,1982.4,{"$f":"'Antenna Data'!B8","v":0},0.87948504699250263,-1.1154308003975786,"",1.7962477702467987,5.0873248407149543,"",-1.1154308003975786,"",5.0873248407149543,"",15.254569199602422,21.457324840714953,15.254569199602422,21.457324840714953]
[0.6,1.0471975511965976E-2,0.36232373042210442,62.60954061693964,{"$f":"VLOOKUP(A11-$B$2,'Ref. Coeff. Horiz.'!A:X,24)","v":180},{"$f":"VLOOKUP(A11-$B$2,'Ref. Coeff. Vertical'!A:X,24)","v":0},{"$f":"VLOOKUP(A11-$B$2,'Ref. Coeff. Horiz.'!A:X,23)","v":1},{"$f":"VLOOKUP(A11-$B$2,'Ref. Coeff. Vertical'!A:X,23)","v":1},242.60954061693963,62.60954061693964,null,null,null,null,null,null,1651.9679204602617,1652,{"$f":"'Antenna Data'!B9","v":0},1.03918050052206,0.33381977832942028,"",1.7088311465252264,4.6539830243938809,"",0.33381977832942028,"",4.6539830243938809,"",16.703819778329422,21.023983024393882,16.703819778329422,21.023983024393882]
[0.7,1.2217304763960306E-2,0.42270822889955206,73.043981953842589,{"$f":"VLOOKUP(A12-$B$2,'Ref. Coeff. Horiz.'!A:X,24)","v":180},{"$f":"VLOOKUP(A12-$B$2,'Ref. Coeff. Vertical'!A:X,24)","v":0},{"$f":"VLOOKUP(A12-$B$2,'Ref. Coeff. Horiz.'!A:X,23)","v":1},{"$f":"VLOOKUP(A12-$B$2,'Ref. Coeff. Vertical'!A:X,23)","v":1},253.0439819538426,73.043981953842589,null,null,null,null,null,null,1415.9538112838184,1416,{"$f":"'Antenna Data'!B10","v":0},1.1902625504282214,1.5128553896225982,"",1.6072569990664545,4.1217065128960693,"",1.5128553896225982,"",4.1217065128960693,"",17.882855389622598,20.491706512896069,17.882855389622598,20.491706512896069]
[0.79999999999999993,1.3962634015954635E-2,0.48309143973442636,83.478200786108872,{"$f":"VLOOKUP(A13-$B$2,'Ref. Coeff. Horiz.'!A:X,24)","v":180},{"$f":"VLOOKUP(A13-$B$2,'Ref. Coeff. Vertical'!A:X,24)","v":0},{"$f":"VLOOKUP(A13-$B$2,'Ref. Coeff. Horiz.'!A:X,23)","v":1},{"$f":"VLOOKUP(A13-$B$2,'Ref. Coeff. Vertical'!A:X,23)","v":1},263.47820078610886,83.478200786108872,null,null,null,null,null,null,1238.9407130677359,1238.9000000000001,{"$f":"'Antenna Data'!B11","v":-1.0000000000001563E-2},1.331479456906087,2.4866894039159773,"",1.492368069826298,3.4775189691743869,"",2.4766894039159757,"",3.4675189691743853,"",18.856689403915979,19.847518969174388,18.846689403915978,19.837518969174386]
[0.89999999999999991,1.5707963267948963E-2,0.54347317898899528,93.912165329298375,{"$f":"VLOOKUP(A14-$B$2,'Ref. Coeff. Horiz.'!A:X,24)","v":180},{"$f":"VLOOKUP(A14-$B$2,'Ref. Coeff. Vertical'!A:X,24)","v":0},{"$f":"VLOOKUP(A14-$B$2,'Ref. Coeff. Horiz.'!A:X,23)","v":1},{"$f":"VLOOKUP(A14-$B$2,'Ref. Coeff. Vertical'!A:X,23)","v":1},273.91216532929838,93.912165329298375,null,null,null,null,null,null,1101.2616221176786,1101.3,{"$f":"'Antenna Data'!B12","v":-1.0000000000001563E-2},1.4616614673006596,3.2969359625900263,"",1.3651174876209313,2.703400603062561,"",3.2869359625900247,"",2.6934006030625595,"",19.666935962590028,19.073400603062563,19.656935962590026,19.063400603062561]
[0.99999999999999989,1.7453292519943292E-2,0.60385326273000939,104.34584379974561,{"$f":"VLOOKUP(A15-$B$2,'Ref. Coeff. Horiz.'!A:X,24)","v":180},{"$f":"VLOOKUP(A15-$B$2,'Ref. Coeff. Vertical'!A:X,24)","v":0},{"$f":"VLOOKUP(A15-$B$2,'Ref. Coeff. Horiz.'!A:X,23)","v":1},{"$f":"VLOOKUP(A15-$B$2,'Ref. Coeff. Vertical'!A:X,23)","v":1},284.34584379974558,104.34584379974561,null,null,null,null,null,null,991.11633621213832,991.1,{"$f":"'Antenna Data'!B13","v":-1.0000000000001563E-2},1.579730526088043,3.9716602072641742,"",1.2265608280658542,1.7737818154349039,"",3.9616602072641727,"",1.7637818154349023,"",20.341660207264177,18.143781815434906,20.331660207264175,18.133781815434904]
[1.0999999999999999,1.9198621771937624E-2,0.66423150702926248,114.77920441465655,{"$f":"VLOOKUP(A16-$B$2,'Ref. Coeff. Horiz.'!A:X,24)","v":180},{"$f":"VLOOKUP(A16-$B$2,'Ref. Coeff. Vertical'!A:X,24)","v":0},{"$f":"VLOOKUP(A16-$B$2,'Ref. Coeff. Horiz.'!A:X,23)","v":1},{"$f":"VLOOKUP(A16-$B$2,'Ref. Coeff. Vertical'!A:X,23)","v":1},294.77920441465653,114.77920441465655,null,null,null,null,null,null,900.99563575114871,901,{"$f":"'Antenna Data'!B14","v":-1.0000000000001563E-2},1.6847092186414345,4.5304990461384618,"",1.0778473215741486,0.6511449369792538,"",4.5204990461384602,"",0.64114493697925223,"",20.900499046138464,17.021144936979255,20.890499046138462,17.011144936979253]
[1.2,2.0943951023931952E-2,0.72460772796415074,125.21221539220524,{"$f":"VLOOKUP(A17-$B$2,'Ref. Coeff. Horiz.'!A:X,24)","v":180},{"$f":"VLOOKUP(A17-$B$2,'Ref. Coeff. Vertical'!A:X,24)","v":0},{"$f":"VLOOKUP(A17-$B$2,'Ref. Coeff. Horiz.'!A:X,23)","v":1},{"$f":"VLOOKUP(A17-$B$2,'Ref. Coeff. Vertical'!A:X,23)","v":1},305.21221539220522,125.21221539220524,null,null,null,null,null,null,825.89337433064304,825.9,{"$f":"'Antenna Data'!B15","v":-1.9999999999999574E-2},1.7757288742320301,4.987533131851233,"",0.92021028315197928,-0.72225835793372761,"",4.9675331318512335,"",-0.74225835793372719,"",21.357533131851234,15.647741642066274,21.337533131851234,15.627741642066274]
[1.3,2.2689280275926284E-2,0.78498174161823497,135.64484495163097,{"$f":"VLOOKUP(A18-$B$2,'Ref. Coeff. Horiz.'!A:X,24)","v":180},{"$f":"VLOOKUP(A18-$B$2,'Ref. Coeff. Vertical'!A:X,24)","v":0},{"$f":"VLOOKUP(A18-$B$2,'Ref. Coeff. Horiz.'!A:X,23)","v":1},{"$f":"VLOOKUP(A18-$B$2,'Ref. Coeff. Vertical'!A:X,23)","v":1},315.64484495163094,135.64484495163097,null,null,null,null,null,null,762.34375828249131,762.3,{"$f":"'Antenna Data'!B16","v":-1.9999999999999574E-2},1.8520367607971302,5.3529920535370943,"",0.75495684423420706,-2.4415574666644848,"",5.3329920535370947,"",-2.4615574666644844,"",21.722992053537094,13.928442533335517,21.702992053537095,13.908442533335517]
[1.4000000000000001,2.4434609527920616E-2,0.84535336408179929,146.07706131333492,{"$f":"VLOOKUP(A19-$B$2,'Ref. Coeff. Horiz.'!A:X,24)","v":180},{"$f":"VLOOKUP(A19-$B$2,'Ref. Coeff. Vertical'!A:X,24)","v":0},{"$f":"VLOOKUP(A19-$B$2,'Ref. Coeff. Horiz.'!A:X,23)","v":1},{"$f":"VLOOKUP(A19-$B$2,'Ref. Coeff. Vertical'!A:X,23)","v":1},326.07706131333492,146.07706131333492,null,null,null,null,null,null,707.87122069738086,707.9,{"$f":"'Antenna Data'!B17","v":-1.9999999999999574E-2},1.9130023116555834,5.6343098965067888,"",0.58345707262865032,-4.6798218260074922,"",5.6143098965067892,"",-4.6998218260074918,"",22.00430989650679,11.690178173992509,21.98430989650679,11.670178173992509]
[1.5000000000000002,2.6179938779914948E-2,0.90572241145241128,156.50883269897668,{"$f":"VLOOKUP(A20-$B$2,'Ref. Coeff. Horiz.'!A:X,24)","v":180},{"$f":"VLOOKUP(A20-$B$2,'Ref. Coeff. Vertical'!A:X,24)","v":0},{"$f":"VLOOKUP(A20-$B$2,'Ref. Coeff. Horiz.'!A:X,23)","v":1},{"$f":"VLOOKUP(A20-$B$2,'Ref. Coeff. Vertical'!A:X,23)","v":1},336.50883269897668,156.50883269897668,null,null,null,null,null,null,660.66034583854298,660.7,{"$f":"'Antenna Data'!B18","v":-3.0000000000001137E-2},1.9581223324993151,5.8367964119552038,"",0.40713257173486217,-7.8052830293536477,"",5.8067964119552027,"",-7.8352830293536488,"",22.206796411955203,8.5647169706463533,22.176796411955202,8.5347169706463522]
[1.6000000000000003,2.7925268031909277E-2,0.9660886998354834,166.94012733157152,{"$f":"VLOOKUP(A21-$B$2,'Ref. Coeff. Horiz.'!A:X,24)","v":180},{"$f":"VLOOKUP(A21-$B$2,'Ref. Coeff. Vertical'!A:X,24)","v":0},{"$f":"VLOOKUP(A21-$B$2,'Ref. Coeff. Horiz.'!A:X,23)","v":1},{"$f":"VLOOKUP(A21-$B$2,'Ref. Coeff. Vertical'!A:X,23)","v":1},346.94012733157149,166.94012733157152,null,null,null,null,null,null,619.34957190033231,619.29999999999995,{"$f":"'Antenna Data'!B19","v":-3.0000000000001137E-2},1.9870251455696151,5.964067261804038,"",0.2274446545295144,-12.862485312588653,"",5.9340672618040369,"",-12.892485312588654,"",22.334067261804037,3.5075146874113479,22.304067261804036,3.4775146874113467]
[1.7000000000000004,2.9670597283903609E-2,1.0264520453448325,177.37091343558706,{"$f":"VLOOKUP(A22-$B$2,'Ref. Coeff. Horiz.'!A:X,24)","v":180},{"$f":"VLOOKUP(A22-$B$2,'Ref. Coeff. Vertical'!A:X,24)","v":0},{"$f":"VLOOKUP(A22-$B$2,'Ref. Coeff. Horiz.'!A:X,23)","v":1},{"$f":"VLOOKUP(A22-$B$2,'Ref. Coeff. Vertical'!A:X,23)","v":1},357.37091343558706,177.37091343558706,null,null,null,null,null,null,582.89770455789676,582.9,{"$f":"'Antenna Data'!B20","v":-3.0000000000001137E-2},1.9994736368651636,6.018313646365403,"Max",4.5882191329493671E-2,-26.767116968170136,"",5.9883136463654019,"Max",-26.797116968170137,"",22.388313646365404,-10.397116968170135,22.358313646365403,-10.427116968170136]
[1.8000000000000005,3.1415926535897941E-2,1.0868122641032392,187.80115923703971,{"$f":"VLOOKUP(A23-$B$2,'Ref. Coeff. Horiz.'!A:X,24)","v":180},{"$f":"VLOOKUP(A23-$B$2,'Ref. Coeff. Vertical'!A:X,24)","v":0},{"$f":"VLOOKUP(A23-$B$2,'Ref. Coeff. Horiz.'!A:X,23)","v":1},{"$f":"VLOOKUP(A23-$B$2,'Ref. Coeff. Vertical'!A:X,23)","v":1},367.80115923703971,187.80115923703971,null,null,null,null,null,null,550.4949260002893,550.5,{"$f":"'Antenna Data'!B21","v":-4.00000000000027E-2},1.9953671814495262,6.0004564987446996,"",0.13605076697385407,-17.32598011163174,"",5.9604564987446969,"",-17.365980111631742,"",22.370456498744701,-0.95598011163173879,22.330456498744699,-0.99598011163174149]
[1.9000000000000006,3.3161255787892273E-2,1.1471691722430095,198.23083296359204,{"$f":"VLOOKUP(A24-$B$2,'Ref. Coeff. Horiz.'!A:X,24)","v":180},{"$f":"VLOOKUP(A24-$B$2,'Ref. Coeff. Vertical'!A:X,24)","v":0},{"$f":"VLOOKUP(A24-$B$2,'Ref. Coeff. Horiz.'!A:X,23)","v":1},{"$f":"VLOOKUP(A24-$B$2,'Ref. Coeff. Vertical'!A:X,23)","v":1},378.23083296359204,198.23083296359204,null,null,null,null,null,null,521.50190637417768,521.5,{"$f":"'Antenna Data'!B22","v":-4.00000000000027E-2},1.9747424313506943,5.9102091593724744,"",0.31684748669217666,-9.9829946689946887,"",5.8702091593724717,"",-10.022994668994691,"",22.280209159372475,6.3870053310053123,22.240209159372473,6.3470053310053096]
[2.0000000000000004,3.4906585039886598E-2,1.2075225859065337,208.65990284464903,{"$f":"VLOOKUP(A25-$B$2,'Ref. Coeff. Horiz.'!A:X,24)","v":180},{"$f":"VLOOKUP(A25-$B$2,'Ref. Coeff. Vertical'!A:X,24)","v":0},{"$f":"VLOOKUP(A25-$B$2,'Ref. Coeff. Horiz.'!A:X,23)","v":1},{"$f":"VLOOKUP(A25-$B$2,'Ref. Coeff. Vertical'!A:X,23)","v":1},388.65990284464903,208.65990284464903,null,null,null,null,null,null,495.40718179443985,495.4,{"$f":"'Antenna Data'!B23","v":-5.0000000000000711E-2},1.9377729600941944,5.7460578283463395,"",0.49501106566195385,-6.1077018515423651,"",5.6960578283463388,"",-6.1577018515423658,"",22.116057828346342,10.262298148457635,22.066057828346338,10.212298148457634]
[2.1000000000000005,3.665191429188093E-2,1.2678723212468475,219.08833711145522,{"$f":"VLOOKUP(A26-$B$2,'Ref. Coeff. Horiz.'!A:X,24)","v":180},{"$f":"VLOOKUP(A26-$B$2,'Ref. Coeff. Vertical'!A:X,24)","v":0},{"$f":"VLOOKUP(A26-$B$2,'Ref. Coeff. Horiz.'!A:X,23)","v":1},{"$f":"VLOOKUP(A26-$B$2,'Ref. Coeff. Vertical'!A:X,23)","v":1},399.08833711145519,219.08833711145522,null,null,null,null,null,null,471.79671006601797,471.8,{"$f":"'Antenna Data'!B24","v":-5.0000000000000711E-2},1.8847677675033918,5.5051569210205482,"",0.66906685957405065,-3.4906096239197897,"",5.4551569210205475,"",-3.5406096239197904,"",21.875156921020547,12.879390376080211,21.82515692102055,12.829390376080211]
[2.2000000000000006,3.8397243543875262E-2,1.3282181944281903,229.51610399719127,{"$f":"VLOOKUP(A27-$B$2,'Ref. Coeff. Horiz.'!A:X,24)","v":180},{"$f":"VLOOKUP(A27-$B$2,'Ref. Coeff. Vertical'!A:X,24)","v":0},{"$f":"VLOOKUP(A27-$B$2,'Ref. Coeff. Horiz.'!A:X,23)","v":1},{"$f":"VLOOKUP(A27-$B$2,'Ref. Coeff. Vertical'!A:X,23)","v":1},409.51610399719129,229.51610399719127,null,null,null,null,null,null,450.33172939072239,450.3,{"$f":"'Antenna Data'!B25","v":-6.0000000000002274E-2},1.8161686579545522,5.1831235336775974,"",0.83757471658566673,-1.5395288188731389,"",5.1231235336775951,"",-1.5995288188731411,"",21.553123533677599,14.830471181126862,21.493123533677597,14.77047118112686]
[2.3000000000000007,4.0142572795869594E-2,1.3885600216265672,239.94317173707083,{"$f":"VLOOKUP(A28-$B$2,'Ref. Coeff. Horiz.'!A:X,24)","v":180},{"$f":"VLOOKUP(A28-$B$2,'Ref. Coeff. Vertical'!A:X,24)","v":0},{"$f":"VLOOKUP(A28-$B$2,'Ref. Coeff. Horiz.'!A:X,23)","v":1},{"$f":"VLOOKUP(A28-$B$2,'Ref. Coeff. Vertical'!A:X,23)","v":1},419.94317173707083,239.94317173707083,null,null,null,null,null,null,430.73239306356373,430.7,{"$f":"'Antenna Data'!B26","v":-6.0000000000002274E-2},1.732546514709195,4.773698064064801,"",0.99914091817371842,-7.4650969570268129E-3,"",4.7136980640647987,"",-6.7465096957029083E-2,"",21.1436980640648,16.362534903042974,21.083698064064798,16.302534903042972]
[2.4000000000000008,4.1887902047863926E-2,1.4488976190303078,250.36950856843717,{"$f":"VLOOKUP(A29-$B$2,'Ref. Coeff. Horiz.'!A:X,24)","v":180},{"$f":"VLOOKUP(A29-$B$2,'Ref. Coeff. Vertical'!A:X,24)","v":0},{"$f":"VLOOKUP(A29-$B$2,'Ref. Coeff. Horiz.'!A:X,23)","v":1},{"$f":"VLOOKUP(A29-$B$2,'Ref. Coeff. Vertical'!A:X,23)","v":1},430.36950856843714,250.36950856843717,null,null,null,null,null,null,412.76549549500265,412.8,{"$f":"'Antenna Data'!B27","v":-7.0000000000000284E-2},1.6345965021823996,4.2682113050349546,"",1.152429726730904,1.2322890461190443,"",4.1982113050349543,"",1.162289046119044,"",20.638211305034957,17.602289046119047,20.568211305034957,17.532289046119047]
[2.5000000000000009,4.3633231299858251E-2,1.5092308028406261,260.79508273086014,{"$f":"VLOOKUP(A30-$B$2,'Ref. Coeff. Horiz.'!A:X,24)","v":180},{"$f":"VLOOKUP(A30-$B$2,'Ref. Coeff. Vertical'!A:X,24)","v":0},{"$f":"VLOOKUP(A30-$B$2,'Ref. Coeff. Horiz.'!A:X,23)","v":1},{"$f":"VLOOKUP(A30-$B$2,'Ref. Coeff. Vertical'!A:X,23)","v":1},440.79508273086014,260.79508273086014,null,null,null,null,null,null,396.23514398785966,396.2,{"$f":"'Antenna Data'!B28","v":-7.0000000000000284E-2},1.523132236965171,3.6547522005515045,"",1.2961744437835034,2.2532690873940426,"",3.5847522005515042,"",2.1832690873940424,"",20.024752200551504,18.623269087394043,19.954752200551503,18.553269087394042]
[2.600000000000001,4.5378560551852583E-2,1.5695593892721813,271.21986246623288,{"$f":"VLOOKUP(A31-$B$2,'Ref. Coeff. Horiz.'!A:X,24)","v":180},{"$f":"VLOOKUP(A31-$B$2,'Ref. Coeff. Vertical'!A:X,24)","v":0},{"$f":"VLOOKUP(A31-$B$2,'Ref. Coeff. Horiz.'!A:X,23)","v":1},{"$f":"VLOOKUP(A31-$B$2,'Ref. Coeff. Vertical'!A:X,23)","v":1},451.21986246623288,271.21986246623288,null,null,null,null,null,null,380.97558318109088,381,{"$f":"'Antenna Data'!B29","v":-8.0000000000001847E-2},1.3990789770260368,2.9168446160481514,"",1.429187886893734,3.1017865335145212,"",2.8368446160481495,"",3.0217865335145193,"",19.286844616048153,19.471786533514521,19.206844616048151,19.391786533514519]
[2.7000000000000011,4.7123889803846915E-2,1.6298831945536367,281.64381601886839,{"$f":"VLOOKUP(A32-$B$2,'Ref. Coeff. Horiz.'!A:X,24)","v":180},{"$f":"VLOOKUP(A32-$B$2,'Ref. Coeff. Vertical'!A:X,24)","v":0},{"$f":"VLOOKUP(A32-$B$2,'Ref. Coeff. Horiz.'!A:X,23)","v":1},{"$f":"VLOOKUP(A32-$B$2,'Ref. Coeff. Vertical'!A:X,23)","v":1},461.64381601886839,281.64381601886839,null,null,null,null,null,null,366.84561406161527,366.8,{"$f":"'Antenna Data'!B30","v":-8.9999999999999858E-2},1.2634658866993786,2.0312704111776916,"",1.5503721982630341,3.8087194375650517,"",1.9412704111776917,"",3.7187194375650519,"",18.401270411177691,20.178719437565054,18.311270411177691,20.088719437565054]
[2.8000000000000012,4.8869219055841247E-2,1.6902020349282194,292.06691163559628,{"$f":"VLOOKUP(A33-$B$2,'Ref. Coeff. Horiz.'!A:X,24)","v":180},{"$f":"VLOOKUP(A33-$B$2,'Ref. Coeff. Vertical'!A:X,24)","v":0},{"$f":"VLOOKUP(A33-$B$2,'Ref. Coeff. Horiz.'!A:X,23)","v":1},{"$f":"VLOOKUP(A33-$B$2,'Ref. Coeff. Vertical'!A:X,23)","v":1},472.06691163559628,292.06691163559628,null,null,null,null,null,null,353.72420890217785,353.7,{"$f":"'Antenna Data'!B31","v":-8.9999999999999858E-2},1.1174174427568164,0.96430892727205775,"",1.6587279037331037,4.3955030116388301,"",0.87430892727205789,"",4.3055030116388302,"",17.334308927272058,20.765503011638831,17.244308927272058,20.675503011638831]
[2.9000000000000012,5.0614548307835579E-2,1.7505157266542815,302.48911756585983,{"$f":"VLOOKUP(A34-$B$2,'Ref. Coeff. Horiz.'!A:X,24)","v":180},{"$f":"VLOOKUP(A34-$B$2,'Ref. Coeff. Vertical'!A:X,24)","v":0},{"$f":"VLOOKUP(A34-$B$2,'Ref. Coeff. Horiz.'!A:X,23)","v":1},{"$f":"VLOOKUP(A34-$B$2,'Ref. Coeff. Vertical'!A:X,23)","v":1},482.48911756585983,302.48911756585983,null,null,null,null,null,null,341.50703345344778,341.5,{"$f":"'Antenna Data'!B32","v":-0.10000000000000142},0.96214405398883174,-0.33519799440436754,"",1.7533621472399643,4.8774325295693171,"",-0.43519799440436896,"",4.7774325295693156,"",16.034802005595633,21.247432529569316,15.934802005595632,21.147432529569315]
[3.0000000000000013,5.2359877559829911E-2,1.8108240860058575,312.91040206181214,{"$f":"VLOOKUP(A35-$B$2,'Ref. Coeff. Horiz.'!A:X,24)","v":180},{"$f":"VLOOKUP(A35-$B$2,'Ref. Coeff. Vertical'!A:X,24)","v":0},{"$f":"VLOOKUP(A35-$B$2,'Ref. Coeff. Horiz.'!A:X,23)","v":1},{"$f":"VLOOKUP(A35-$B$2,'Ref. Coeff. Vertical'!A:X,23)","v":1},492.91040206181214,312.91040206181214,null,null,null,null,null,null,330.10366469769787,330.1,{"$f":"'Antenna Data'!B33","v":-0.10999999999999943},0.79893197323707577,-1.9498039607915716,"",1.8334960327580512,5.2655994917884357,"",-2.0598039607915712,"",5.1555994917884362,"",14.420196039208429,21.635599491788437,14.31019603920843,21.525599491788437]
[3.1000000000000014,5.4105206811824243E-2,1.8711269292732262,323.33073337841347,{"$f":"VLOOKUP(A36-$B$2,'Ref. Coeff. Horiz.'!A:X,24)","v":180},{"$f":"VLOOKUP(A36-$B$2,'Ref. Coeff. Vertical'!A:X,24)","v":0},{"$f":"VLOOKUP(A36-$B$2,'Ref. Coeff. Horiz.'!A:X,23)","v":1},{"$f":"VLOOKUP(A36-$B$2,'Ref. Coeff. Vertical'!A:X,23)","v":1},503.33073337841347,323.33073337841347,null,null,null,null,null,null,319.43534710177101,319.39999999999998,{"$f":"'Antenna Data'!B34","v":-0.10999999999999943},0.62913258665921978,-4.025156388820573,"",1.898471013316632,5.5680794105777878,"",-4.1351563888205725,"",5.4580794105777883,"",12.344843611179428,21.938079410577789,12.234843611179429,21.828079410577789]
[3.2000000000000015,5.5850536063818575E-2,1.9314240727634686,333.75007977352737,{"$f":"VLOOKUP(A37-$B$2,'Ref. Coeff. Horiz.'!A:X,24)","v":180},{"$f":"VLOOKUP(A37-$B$2,'Ref. Coeff. Vertical'!A:X,24)","v":0},{"$f":"VLOOKUP(A37-$B$2,'Ref. Coeff. Horiz.'!A:X,23)","v":1},{"$f":"VLOOKUP(A37-$B$2,'Ref. Coeff. Vertical'!A:X,23)","v":1},513.75007977352743,333.75007977352737,null,null,null,null,null,null,309.43316957261561,309.39999999999998,{"$f":"'Antenna Data'!B35","v":-0.12000000000000099},0.45415117012928785,-6.8559912501202316,"",1.9477542747149079,5.7906833232675359,"",-6.9759912501202326,"",5.6706833232675349,"",9.5140087498797694,22.160683323267538,9.3940087498797684,22.040683323267537]
[3.3000000000000016,5.75958653158129E-2,1.9917153328010289,344.16840950801776,{"$f":"VLOOKUP(A38-$B$2,'Ref. Coeff. Horiz.'!A:X,24)","v":180},{"$f":"VLOOKUP(A38-$B$2,'Ref. Coeff. Vertical'!A:X,24)","v":0},{"$f":"VLOOKUP(A38-$B$2,'Ref. Coeff. Horiz.'!A:X,23)","v":1},{"$f":"VLOOKUP(A38-$B$2,'Ref. Coeff. Vertical'!A:X,23)","v":1},524.1684095080177,344.16840950801776,null,null,null,null,null,null,300.03657387545138,300,{"$f":"'Antenna Data'!B36","v":-0.13000000000000256},0.27543520703485935,-11.19961095161104,"",1.9809430700365076,5.937439892151346,"",-11.329610951611043,"",5.8074398921513435,"",5.1703890483889605,22.307439892151347,5.040389048388958,22.177439892151344]
[3.4000000000000017,5.9341194567807232E-2,2.052000525728273,354.58569084584553,{"$f":"VLOOKUP(A39-$B$2,'Ref. Coeff. Horiz.'!A:X,24)","v":180},{"$f":"VLOOKUP(A39-$B$2,'Ref. Coeff. Vertical'!A:X,24)","v":0},{"$f":"VLOOKUP(A39-$B$2,'Ref. Coeff. Horiz.'!A:X,23)","v":1},{"$f":"VLOOKUP(A39-$B$2,'Ref. Coeff. Vertical'!A:X,23)","v":1},534.58569084584553,354.58569084584553,null,null,null,null,null,null,291.19212627225812,291.2,{"$f":"'Antenna Data'!B37","v":-0.14000000000000057},9.4462365292604614E-2,-20.494823681926704,"",1.9977679698962354,6.0109009165841751,"",-20.634823681926704,"",5.8709009165841746,"Max",-4.1248236819267028,22.380900916584174,-4.2648236819267034,22.240900916584174]
[3.5000000000000018,6.1086523819801564E-2,2.112279467906049,365.00189205416524,{"$f":"VLOOKUP(A40-$B$2,'Ref. Coeff. Horiz.'!A:X,24)","v":180},{"$f":"VLOOKUP(A40-$B$2,'Ref. Coeff. Vertical'!A:X,24)","v":0},{"$f":"VLOOKUP(A40-$B$2,'Ref. Coeff. Horiz.'!A:X,23)","v":1},{"$f":"VLOOKUP(A40-$B$2,'Ref. Coeff. Vertical'!A:X,23)","v":1},545.00189205416518,365.00189205416524,null,null,null,null,null,null,282.85249973652424,282.89999999999998,{"$f":"'Antenna Data'!B38","v":-0.15000000000000213},8.7271765863412051E-2,-21.182524727949446,"",1.99809500246687,6.012322671455439,"Max",-21.332524727949448,"",5.8623226714554368,"",-4.8125247279494445,22.382322671455441,-4.9625247279494467,22.232322671455439]
[3.6000000000000019,6.2831853071795896E-2,2.172551975714244,375.41698140342135,{"$f":"VLOOKUP(A41-$B$2,'Ref. Coeff. Horiz.'!A:X,24)","v":180},{"$f":"VLOOKUP(A41-$B$2,'Ref. Coeff. Vertical'!A:X,24)","v":0},{"$f":"VLOOKUP(A41-$B$2,'Ref. Coeff. Horiz.'!A:X,23)","v":1},{"$f":"VLOOKUP(A41-$B$2,'Ref. Coeff. Vertical'!A:X,23)","v":1},555.41698140342135,375.41698140342135,null,null,null,null,null,null,274.9756257988696,275,{"$f":"'Antenna Data'!B39","v":-0.16000000000000014},0.26826607688251558,-11.428684836101823,"",1.9819266666539568,5.9417516219888808,"",-11.588684836101823,"",5.7817516219888807,"",4.941315163898178,22.311751621988883,4.7813151638981779,22.151751621988883]
[3.700000000000002,6.4577182323790228E-2,2.2328178655523474,385.83092716744562,{"$f":"VLOOKUP(A42-$B$2,'Ref. Coeff. Horiz.'!A:X,24)","v":180},{"$f":"VLOOKUP(A42-$B$2,'Ref. Coeff. Vertical'!A:X,24)","v":0},{"$f":"VLOOKUP(A42-$B$2,'Ref. Coeff. Horiz.'!A:X,23)","v":1},{"$f":"VLOOKUP(A42-$B$2,'Ref. Coeff. Vertical'!A:X,23)","v":1},565.83092716744568,385.83092716744562,null,null,null,null,null,null,267.52398393121729,267.5,{"$f":"'Antenna Data'!B40","v":-0.16000000000000014},0.44702637322870742,-6.9933370805459507,"",1.9494018112328686,5.7980273048308115,"",-7.1533370805459509,"",5.6380273048308114,"",9.3766629194540503,22.168027304830812,9.2166629194540501,22.008027304830811]
[3.800000000000002,6.632251157578456E-2,2.2930769538400062,396.24369762355303,{"$f":"VLOOKUP(A43-$B$2,'Ref. Coeff. Horiz.'!A:X,24)","v":180},{"$f":"VLOOKUP(A43-$B$2,'Ref. Coeff. Vertical'!A:X,24)","v":0},{"$f":"VLOOKUP(A43-$B$2,'Ref. Coeff. Horiz.'!A:X,23)","v":1},{"$f":"VLOOKUP(A43-$B$2,'Ref. Coeff. Vertical'!A:X,23)","v":1},576.24369762355309,396.24369762355303,null,null,null,null,null,null,260.46400313346305,260.5,{"$f":"'Antenna Data'!B41","v":-0.17000000000000171},0.62207774143444605,-4.1231067574300511,"",1.9007943822549085,5.5787027951539425,"",-4.2931067574300528,"",5.4087027951539408,"",12.24689324256995,21.948702795153942,12.076893242569948,21.77870279515394]
[3.9000000000000021,6.8067840827778892E-2,2.353329057017588,406.65526105263916,{"$f":"VLOOKUP(A44-$B$2,'Ref. Coeff. Horiz.'!A:X,24)","v":180},{"$f":"VLOOKUP(A44-$B$2,'Ref. Coeff. Vertical'!A:X,24)","v":0},{"$f":"VLOOKUP(A44-$B$2,'Ref. Coeff. Horiz.'!A:X,23)","v":1},{"$f":"VLOOKUP(A44-$B$2,'Ref. Coeff. Vertical'!A:X,23)","v":1},586.65526105263916,406.65526105263916,null,null,null,null,null,null,253.76555558373553,253.8,{"$f":"'Antenna Data'!B42","v":-0.17999999999999972},0.79197674298979948,-2.0257514323388452,"",1.8365110504876543,5.2798709177304932,"",-2.205751432338845,"",5.0998709177304935,"",14.344248567661156,21.649870917730496,14.164248567661156,21.469870917730496]
[4.0000000000000018,6.981317007977321E-2,2.4135739915467367,417.06558573927612,{"$f":"VLOOKUP(A45-$B$2,'Ref. Coeff. Horiz.'!A:X,24)","v":180},{"$f":"VLOOKUP(A45-$B$2,'Ref. Coeff. Vertical'!A:X,24)","v":0},{"$f":"VLOOKUP(A45-$B$2,'Ref. Coeff. Horiz.'!A:X,23)","v":1},{"$f":"VLOOKUP(A45-$B$2,'Ref. Coeff. Vertical'!A:X,23)","v":1},597.06558573927612,417.06558573927612,null,null,null,null,null,null,247.40152624111627,247.4,{"$f":"'Antenna Data'!B43","v":-0.19000000000000128},0.95532333476372677,-0.39699228062655462,"",1.7570877399993183,4.8958689697595776,"",-0.58699228062655595,"",4.7058689697595764,"",15.973007719373447,21.26586896975958,15.783007719373446,21.075868969759576]
[4.1000000000000014,7.1558499331767542E-2,2.4738115739109343,427.47463997180944,{"$f":"VLOOKUP(A46-$B$2,'Ref. Coeff. Horiz.'!A:X,24)","v":180},{"$f":"VLOOKUP(A46-$B$2,'Ref. Coeff. Vertical'!A:X,24)","v":0},{"$f":"VLOOKUP(A46-$B$2,'Ref. Coeff. Horiz.'!A:X,23)","v":1},{"$f":"VLOOKUP(A46-$B$2,'Ref. Coeff. Vertical'!A:X,23)","v":1},607.47463997180944,427.47463997180944,null,null,null,null,null,null,241.34744543332803,241.3,{"$f":"'Antenna Data'!B44","v":-0.19999999999999929},1.1107724170860447,0.91250173456299266,"",1.663185088148889,4.4188116505220751,"",0.71250173456299337,"",4.2188116505220759,"",17.282501734562995,20.788811650522078,17.082501734562996,20.588811650522075]
[4.2000000000000011,7.330382858376186E-2,2.534041620616057,437.88239204245463,{"$f":"VLOOKUP(A47-$B$2,'Ref. Coeff. Horiz.'!A:X,24)","v":180},{"$f":"VLOOKUP(A47-$B$2,'Ref. Coeff. Vertical'!A:X,24)","v":0},{"$f":"VLOOKUP(A47-$B$2,'Ref. Coeff. Horiz.'!A:X,23)","v":1},{"$f":"VLOOKUP(A47-$B$2,'Ref. Coeff. Vertical'!A:X,23)","v":1},617.88239204245463,437.88239204245463,null,null,null,null,null,null,235.58117393189647,235.6,{"$f":"'Antenna Data'!B45","v":-0.21000000000000085},1.2570449138762649,1.9870159037613069,"",1.5555828761264414,3.8378630756652008,"",1.777015903761306,"",3.6278630756651999,"",18.357015903761308,20.207863075665202,18.147015903761307,19.997863075665201]
[4.3000000000000007,7.5049157835756178E-2,2.5942639481909389,448.28881024739417,{"$f":"VLOOKUP(A48-$B$2,'Ref. Coeff. Horiz.'!A:X,24)","v":180},{"$f":"VLOOKUP(A48-$B$2,'Ref. Coeff. Vertical'!A:X,24)","v":0},{"$f":"VLOOKUP(A48-$B$2,'Ref. Coeff. Horiz.'!A:X,23)","v":1},{"$f":"VLOOKUP(A48-$B$2,'Ref. Coeff. Vertical'!A:X,23)","v":1},628.28881024739417,448.28881024739417,null,null,null,null,null,null,230.08263197031184,230.1,{"$f":"'Antenna Data'!B46","v":-0.22000000000000242},1.3929382932598828,2.8786375547490213,"",1.435173477726732,3.138087998624655,"",2.6586375547490189,"",2.9180879986246526,"",19.248637554749024,19.508087998624656,19.028637554749018,19.288087998624654]
[4.4000000000000004,7.679448708775051E-2,2.6544783731879251,458.69386288687343,{"$f":"VLOOKUP(A49-$B$2,'Ref. Coeff. Horiz.'!A:X,24)","v":180},{"$f":"VLOOKUP(A49-$B$2,'Ref. Coeff. Vertical'!A:X,24)","v":0},{"$f":"VLOOKUP(A49-$B$2,'Ref. Coeff. Horiz.'!A:X,23)","v":1},{"$f":"VLOOKUP(A49-$B$2,'Ref. Coeff. Vertical'!A:X,23)","v":1},638.69386288687338,458.69386288687343,null,null,null,null,null,null,224.83356521425992,224.8,{"$f":"'Antenna Data'!B47","v":-0.23000000000000043},1.5173364419280437,3.6216377683050371,"",1.3029543821627603,2.2985842172171913,"",3.3916377683050367,"",2.0685842172171909,"",19.99163776830504,18.668584217217191,19.761637768305036,18.438584217217191]
[4.5,7.8539816339744828E-2,2.714684712183435,469.09751826529759,{"$f":"VLOOKUP(A50-$B$2,'Ref. Coeff. Horiz.'!A:X,24)","v":180},{"$f":"VLOOKUP(A50-$B$2,'Ref. Coeff. Vertical'!A:X,24)","v":0},{"$f":"VLOOKUP(A50-$B$2,'Ref. Coeff. Horiz.'!A:X,23)","v":1},{"$f":"VLOOKUP(A50-$B$2,'Ref. Coeff. Vertical'!A:X,23)","v":1},649.09751826529759,469.09751826529759,null,null,null,null,null,null,219.81734193582244,219.8,{"$f":"'Antenna Data'!B48","v":-0.24000000000000199},1.6292188120308337,4.2395883218467985,"",1.1600198543666562,1.2893084495054294,"",3.9995883218467965,"",1.0493084495054275,"",20.6095883218468,17.659308449505431,20.369588321846798,17.419308449505429]
[4.5999999999999996,8.028514559173916E-2,2.7748827817785187,479.49974469132803,{"$f":"VLOOKUP(A51-$B$2,'Ref. Coeff. Horiz.'!A:X,24)","v":180},{"$f":"VLOOKUP(A51-$B$2,'Ref. Coeff. Vertical'!A:X,24)","v":0},{"$f":"VLOOKUP(A51-$B$2,'Ref. Coeff. Horiz.'!A:X,23)","v":1},{"$f":"VLOOKUP(A51-$B$2,'Ref. Coeff. Vertical'!A:X,23)","v":1},659.49974469132803,479.49974469132803,null,null,null,null,null,null,215.01877664321572,215,{"$f":"'Antenna Data'!B49","v":-0.26000000000000156},1.7276687655992811,4.7492096348299269,"",1.0075518033196391,6.5347693136162094E-2,"",4.4892096348299253,"",-0.19465230686383947,"",21.119209634829929,16.435347693136162,20.859209634829927,16.17534769313616]
[4.6999999999999993,8.2030474843733478E-2,2.835072398599416,489.90051047797903,{"$f":"VLOOKUP(A52-$B$2,'Ref. Coeff. Horiz.'!A:X,24)","v":180},{"$f":"VLOOKUP(A52-$B$2,'Ref. Coeff. Vertical'!A:X,24)","v":0},{"$f":"VLOOKUP(A52-$B$2,'Ref. Coeff. Horiz.'!A:X,23)","v":1},{"$f":"VLOOKUP(A52-$B$2,'Ref. Coeff. Vertical'!A:X,23)","v":1},669.90051047797897,489.90051047797903,null,null,null,null,null,null,210.42397622588297,210.4,{"$f":"'Antenna Data'!B50","v":-0.26999999999999957},1.8118810483131094,5.1625936487479143,"",0.84680993544229566,-1.4442811027442644,"",4.8925936487479147,"",-1.7142811027442639,"",21.532593648747916,14.925718897255736,21.262593648747917,14.655718897255737]
[4.7999999999999989,8.3775804095727796E-2,2.8952533792981154,500.29978394271427,{"$f":"VLOOKUP(A53-$B$2,'Ref. Coeff. Horiz.'!A:X,24)","v":180},{"$f":"VLOOKUP(A53-$B$2,'Ref. Coeff. Vertical'!A:X,24)","v":0},{"$f":"VLOOKUP(A53-$B$2,'Ref. Coeff. Horiz.'!A:X,23)","v":1},{"$f":"VLOOKUP(A53-$B$2,'Ref. Coeff. Vertical'!A:X,23)","v":1},680.29978394271427,500.29978394271427,null,null,null,null,null,null,206.02020533144866,206,{"$f":"'Antenna Data'!B51","v":-0.28000000000000114},1.8811683318112864,5.4885531816703619,"",0.67912127590758142,-3.3610532697839139,"",5.2085531816703607,"",-3.6410532697839151,"",21.858553181670363,13.008946730216087,21.578553181670362,12.728946730216085]
[4.8999999999999986,8.5521133347722128E-2,2.9554255405529135,510.69753340754346,{"$f":"VLOOKUP(A54-$B$2,'Ref. Coeff. Horiz.'!A:X,24)","v":180},{"$f":"VLOOKUP(A54-$B$2,'Ref. Coeff. Vertical'!A:X,24)","v":0},{"$f":"VLOOKUP(A54-$B$2,'Ref. Coeff. Horiz.'!A:X,23)","v":1},{"$f":"VLOOKUP(A54-$B$2,'Ref. Coeff. Vertical'!A:X,23)","v":1},690.69753340754346,510.69753340754346,null,null,null,null,null,null,201.79576822712886,201.8,{"$f":"'Antenna Data'!B52","v":-0.2900000000000027},1.9349667716171917,5.7334702291946922,"",0.50586914586416831,-5.9192361682852326,"",5.4434702291946895,"",-6.2092361682852353,"",22.103470229194691,10.450763831714768,21.813470229194692,10.160763831714766]
[4.9999999999999982,8.7266462599716446E-2,3.0155886990689718,521.09372719911835,{"$f":"VLOOKUP(A55-$B$2,'Ref. Coeff. Horiz.'!A:X,24)","v":180},{"$f":"VLOOKUP(A55-$B$2,'Ref. Coeff. Vertical'!A:X,24)","v":0},{"$f":"VLOOKUP(A55-$B$2,'Ref. Coeff. Horiz.'!A:X,23)","v":1},{"$f":"VLOOKUP(A55-$B$2,'Ref. Coeff. Vertical'!A:X,23)","v":1},701.09372719911835,521.09372719911835,null,null,null,null,null,null,197.73990483777132,197.7,{"$f":"'Antenna Data'!B53","v":-0.30000000000000071},1.9728405360522785,5.9018396562715747,"",0.32848168793550558,-9.6697767260556127,"",5.601839656271574,"",-9.9697767260556134,"",22.271839656271574,6.7002232739443883,21.971839656271577,6.4002232739443876]
[5.0999999999999979,8.9011791851710764E-2,3.0757426715788752,531.48833364882955,{"$f":"VLOOKUP(A56-$B$2,'Ref. Coeff. Horiz.'!A:X,24)","v":180},{"$f":"VLOOKUP(A56-$B$2,'Ref. Coeff. Vertical'!A:X,24)","v":0},{"$f":"VLOOKUP(A56-$B$2,'Ref. Coeff. Horiz.'!A:X,23)","v":1},{"$f":"VLOOKUP(A56-$B$2,'Ref. Coeff. Vertical'!A:X,23)","v":1},711.48833364882955,531.48833364882955,null,null,null,null,null,null,193.84269901471473,193.8,{"$f":"'Antenna Data'!B54","v":-0.32000000000000028},1.9944852701705083,5.9966166654387045,"",0.14842003595496975,-16.570149350772315,"",5.6766166654387042,"",-16.890149350772315,"",22.366616665438706,-0.20014935077231399,22.046616665438705,-0.52014935077231428]
[5.1999999999999975,9.0757121103705096E-2,3.1358872748431921,541.88132109290359,{"$f":"VLOOKUP(A57-$B$2,'Ref. Coeff. Horiz.'!A:X,24)","v":180},{"$f":"VLOOKUP(A57-$B$2,'Ref. Coeff. Vertical'!A:X,24)","v":0},{"$f":"VLOOKUP(A57-$B$2,'Ref. Coeff. Horiz.'!A:X,23)","v":1},{"$f":"VLOOKUP(A57-$B$2,'Ref. Coeff. Vertical'!A:X,23)","v":1},721.88132109290359,541.88132109290359,null,null,null,null,null,null,190.09499738901042,190.1,{"$f":"'Antenna Data'!B55","v":-0.33000000000000185},1.9997304676869183,6.0194292704336743,"Max",3.283377231843905E-2,-29.673584353963104,"",5.6894292704336724,"Max",-30.003584353963106,"",22.389429270433673,-13.303584353963103,22.059429270433675,-13.633584353963105]
[5.2999999999999972,9.2502450355699414E-2,3.196022325651029,552.27265787249769,{"$f":"VLOOKUP(A58-$B$2,'Ref. Coeff. Horiz.'!A:X,24)","v":180},{"$f":"VLOOKUP(A58-$B$2,'Ref. Coeff. Vertical'!A:X,24)","v":0},{"$f":"VLOOKUP(A58-$B$2,'Ref. Coeff. Horiz.'!A:X,23)","v":1},{"$f":"VLOOKUP(A58-$B$2,'Ref. Coeff. Vertical'!A:X,23)","v":1},732.27265787249769,552.27265787249769,null,null,null,null,null,null,186.48833741107171,186.5,{"$f":"'Antenna Data'!B56","v":-0.33999999999999986},1.988540733021483,5.9706898289471884,"",0.21378903880784667,-13.400291305959239,"",5.6306898289471885,"",-13.740291305959239,"",22.340689828947191,2.9697086940407615,22.000689828947188,2.6297086940407617]
[5.3999999999999968,9.4247779607693746E-2,3.2561476408205938,562.66231233379858,{"$f":"VLOOKUP(A59-$B$2,'Ref. Coeff. Horiz.'!A:X,24)","v":180},{"$f":"VLOOKUP(A59-$B$2,'Ref. Coeff. Vertical'!A:X,24)","v":0},{"$f":"VLOOKUP(A59-$B$2,'Ref. Coeff. Horiz.'!A:X,23)","v":1},{"$f":"VLOOKUP(A59-$B$2,'Ref. Coeff. Vertical'!A:X,23)","v":1},742.66231233379858,562.66231233379858,null,null,null,null,null,null,183.01488338591759,183,{"$f":"'Antenna Data'!B57","v":-0.35000000000000142},1.9610159248564865,5.8496224092987239,"",0.39295870324915716,-8.1130617606027648,"",5.4996224092987225,"",-8.4630617606027663,"",22.219622409298726,8.2569382393972361,21.869622409298724,7.9069382393972347]
[5.4999999999999964,9.5993108859688064E-2,3.3162630371997479,573.05025282811641,{"$f":"VLOOKUP(A60-$B$2,'Ref. Coeff. Horiz.'!A:X,24)","v":180},{"$f":"VLOOKUP(A60-$B$2,'Ref. Coeff. Vertical'!A:X,24)","v":0},{"$f":"VLOOKUP(A60-$B$2,'Ref. Coeff. Horiz.'!A:X,23)","v":1},{"$f":"VLOOKUP(A60-$B$2,'Ref. Coeff. Vertical'!A:X,23)","v":1},753.05025282811641,573.05025282811641,null,null,null,null,null,null,179.66736948639027,179.7,{"$f":"'Antenna Data'!B58","v":-0.37000000000000099},1.9173901819335848,5.6542099844042584,"",0.56887159379309393,-4.8997150376667955,"",5.2842099844042574,"",-5.2697150376667965,"",22.024209984404258,11.470284962333206,21.654209984404257,11.100284962333205]
[5.5999999999999961,9.7738438111682382E-2,3.3763683316665691,583.43644771198308,{"$f":"VLOOKUP(A61-$B$2,'Ref. Coeff. Horiz.'!A:X,24)","v":180},{"$f":"VLOOKUP(A61-$B$2,'Ref. Coeff. Vertical'!A:X,24)","v":0},{"$f":"VLOOKUP(A61-$B$2,'Ref. Coeff. Horiz.'!A:X,23)","v":1},{"$f":"VLOOKUP(A61-$B$2,'Ref. Coeff. Vertical'!A:X,23)","v":1},763.43644771198308,583.43644771198308,null,null,null,null,null,null,176.43904887209882,176.4,{"$f":"'Antenna Data'!B59","v":-0.38000000000000078},1.8580298411170468,5.3810536950727528,"",0.74008452863072294,-2.6143734912892711,"",5.001053695072752,"",-2.9943734912892719,"",21.751053695072756,13.75562650871073,21.371053695072753,13.375626508710729]
[5.6999999999999957,9.9483767363676714E-2,3.4364633411299077,593.82086534724806,{"$f":"VLOOKUP(A62-$B$2,'Ref. Coeff. Horiz.'!A:X,24)","v":180},{"$f":"VLOOKUP(A62-$B$2,'Ref. Coeff. Vertical'!A:X,24)","v":0},{"$f":"VLOOKUP(A62-$B$2,'Ref. Coeff. Horiz.'!A:X,23)","v":1},{"$f":"VLOOKUP(A62-$B$2,'Ref. Coeff. Vertical'!A:X,23)","v":1},773.82086534724806,593.82086534724806,null,null,null,null,null,null,173.32364816426391,173.3,{"$f":"'Antenna Data'!B60","v":-0.40000000000000036},1.7834302669442499,5.0251226573014831,"",0.90519416864403268,-0.86516504957985263,"",4.6251226573014828,"",-1.265165049579853,"",21.395122657301485,15.504834950420149,20.995122657301483,15.104834950420148]
[5.7999999999999954,0.10122909661567103,3.4965478825299408,604.2034741011737,{"$f":"VLOOKUP(A63-$B$2,'Ref. Coeff. Horiz.'!A:X,24)","v":180},{"$f":"VLOOKUP(A63-$B$2,'Ref. Coeff. Vertical'!A:X,24)","v":0},{"$f":"VLOOKUP(A63-$B$2,'Ref. Coeff. Horiz.'!A:X,23)","v":1},{"$f":"VLOOKUP(A63-$B$2,'Ref. Coeff. Vertical'!A:X,23)","v":1},784.2034741011737,604.2034741011737,null,null,null,null,null,null,170.31532663006129,170.3,{"$f":"'Antenna Data'!B61","v":-0.41000000000000014},1.6942116208963487,4.5793531263566685,"",1.0628485233652836,0.52942747006654367,"",4.1693531263566683,"",0.11942747006654353,"",20.949353126356669,16.899427470066545,20.539353126356669,16.489427470066545]
[5.899999999999995,0.10297442586766535,3.5566217728387364,614.58424234653364,{"$f":"VLOOKUP(A64-$B$2,'Ref. Coeff. Horiz.'!A:X,24)","v":180},{"$f":"VLOOKUP(A64-$B$2,'Ref. Coeff. Vertical'!A:X,24)","v":0},{"$f":"VLOOKUP(A64-$B$2,'Ref. Coeff. Horiz.'!A:X,23)","v":1},{"$f":"VLOOKUP(A64-$B$2,'Ref. Coeff. Vertical'!A:X,23)","v":1},794.58424234653364,614.58424234653364,null,null,null,null,null,null,167.40863951770987,167.4,{"$f":"'Antenna Data'!B62","v":-0.43000000000000149},1.5911136073759824,4.0340237977715745,"",1.2117580156215135,1.6683180241151028,"",3.604023797771573,"",1.2383180241151013,"",20.404023797771575,18.038318024115103,19.974023797771572,17.608318024115103]
[5.9999999999999947,0.10471975511965968,3.6166848290608069,624.96313846170744,{"$f":"VLOOKUP(A65-$B$2,'Ref. Coeff. Horiz.'!A:X,24)","v":180},{"$f":"VLOOKUP(A65-$B$2,'Ref. Coeff. Vertical'!A:X,24)","v":0},{"$f":"VLOOKUP(A65-$B$2,'Ref. Coeff. Horiz.'!A:X,23)","v":1},{"$f":"VLOOKUP(A65-$B$2,'Ref. Coeff. Vertical'!A:X,23)","v":1},804.96313846170744,624.96313846170744,null,null,null,null,null,null,164.59850505805085,164.6,{"$f":"'Antenna Data'!B63","v":-0.44000000000000128},1.4749892418021573,3.3757770538362153,"",1.3507060141155429,2.6112166719138665,"",2.935777053836214,"",2.1712166719138652,"",19.745777053836218,18.981216671913867,19.305777053836216,18.541216671913865]
[6.0999999999999943,0.106465084371654,3.6767368682336659,635.34013083077741,{"$f":"VLOOKUP(A66-$B$2,'Ref. Coeff. Horiz.'!A:X,24)","v":180},{"$f":"VLOOKUP(A66-$B$2,'Ref. Coeff. Vertical'!A:X,24)","v":0},{"$f":"VLOOKUP(A66-$B$2,'Ref. Coeff. Horiz.'!A:X,23)","v":1},{"$f":"VLOOKUP(A66-$B$2,'Ref. Coeff. Vertical'!A:X,23)","v":1},815.34013083077741,635.34013083077741,null,null,null,null,null,null,161.88017471187385,161.9,{"$f":"'Antenna Data'!B64","v":-0.46000000000000085},1.3467976942551902,2.5860472839155433,"",1.4785587478179216,3.3967717019808754,"",2.1260472839155424,"",2.9367717019808746,"",18.956047283915545,19.766771701980876,18.496047283915544,19.306771701980875]
[6.199999999999994,0.10821041362364833,3.736777707428387,645.71518784362524,{"$f":"VLOOKUP(A67-$B$2,'Ref. Coeff. Horiz.'!A:X,24)","v":180},{"$f":"VLOOKUP(A67-$B$2,'Ref. Coeff. Vertical'!A:X,24)","v":0},{"$f":"VLOOKUP(A67-$B$2,'Ref. Coeff. Horiz.'!A:X,23)","v":1},{"$f":"VLOOKUP(A67-$B$2,'Ref. Coeff. Vertical'!A:X,23)","v":1},825.71518784362524,645.71518784362524,null,null,null,null,null,null,159.24920629653292,159.19999999999999,{"$f":"'Antenna Data'!B65","v":-0.47000000000000064},1.2075962696607703,1.6384352558147541,"",1.5942745213737175,4.0512621109954114,"",1.1684352558147535,"",3.5812621109954108,"",18.008435255814756,20.421262110995414,17.538435255814754,19.951262110995412]
[6.2999999999999936,0.10995574287564265,3.7968071637501626,656.08827789602799,{"$f":"VLOOKUP(A68-$B$2,'Ref. Coeff. Horiz.'!A:X,24)","v":180},{"$f":"VLOOKUP(A68-$B$2,'Ref. Coeff. Vertical'!A:X,24)","v":0},{"$f":"VLOOKUP(A68-$B$2,'Ref. Coeff. Horiz.'!A:X,23)","v":1},{"$f":"VLOOKUP(A68-$B$2,'Ref. Coeff. Vertical'!A:X,23)","v":1},836.08827789602799,656.08827789602799,null,null,null,null,null,null,156.70143967193363,156.69999999999999,{"$f":"'Antenna Data'!B66","v":-0.49000000000000021},1.0585315925296952,0.49407648672252497,"",1.6969121567177683,4.5931872194805461,"",4.0764867225247525E-3,"",4.1031872194805459,"",16.864076486722524,20.963187219480545,16.374076486722526,20.473187219480547]
[6.3999999999999932,0.11170107212763697,3.8568250543388571,666.45936938975444,{"$f":"VLOOKUP(A69-$B$2,'Ref. Coeff. Horiz.'!A:X,24)","v":180},{"$f":"VLOOKUP(A69-$B$2,'Ref. Coeff. Vertical'!A:X,24)","v":0},{"$f":"VLOOKUP(A69-$B$2,'Ref. Coeff. Horiz.'!A:X,23)","v":1},{"$f":"VLOOKUP(A69-$B$2,'Ref. Coeff. Vertical'!A:X,23)","v":1},846.45936938975444,666.45936938975444,null,null,null,null,null,null,154.23297470595796,154.19999999999999,{"$f":"'Antenna Data'!B67","v":-0.50000000000000178},0.90083007071139432,-0.90714250034188082,"",1.7856385926894907,5.0358712737671274,"",-1.4071425003418825,"",4.5358712737671256,"",15.462857499658121,21.405871273767129,14.962857499658119,20.905871273767126]
[{"$f":"A69+0.1","v":6.4999999999999929},{"$f":"A70*(PI()/180)","v":0.1134464013796313},{"$f":"(2*$B$1*SIN(B70-$C$2)*COS($C$2))","v":3.9168311963695683},{"$f":"(C70/$O$1)*360","v":676.82843073266133},{"$f":"VLOOKUP(A70-$B$2,'Ref. Coeff. Horiz.'!A:X,24)","v":180},{"$f":"VLOOKUP(A70-$B$2,'Ref. Coeff. Vertical'!A:X,24)","v":0},{"$f":"VLOOKUP(A70-$B$2,'Ref. Coeff. Horiz.'!A:X,23)","v":1},{"$f":"VLOOKUP(A70-$B$2,'Ref. Coeff. Vertical'!A:X,23)","v":1},{"$f":"D70+E70","v":856.82843073266133},{"$f":"D70+F70","v":676.82843073266133},null,null,null,null,null,null,{"$f":"(((COS($C$2))/(TAN(B70-$C$2)))-(SIN($C$2)))*$B$1","v":151.84015127385044},{"$f":"ROUND(Q70,1)","v":151.80000000000001},{"$f":"'Antenna Data'!B68","v":-0.52000000000000135},{"$f":"SQRT((1+(2*G70*COS(I70*PI()/180)))+(G70^2))","v":0.73578771842256896},{"$f":"IF(T70=0,-99,10*LOG(T70^2))","v":-2.6649493115010019},{"$f":"IF(AND((U71<U70),(U70>U69)),\"Max\",\"\")","v":""},{"$f":"SQRT((1+(2*H70*COS(J70*PI()/180)))+(H70^2))","v":1.8597355815864021},{"$f":"IF(W70=0,-99,10*LOG(W70^2))","v":5.3890240067105584},{"$f":"IF(AND((X71<X70),(X70>X69)),\"Max\",\"\")","v":""},{"$f":"U70+S70","v":-3.1849493115010032},{"$f":"IF(AND((Z71<Z70),(Z70>Z69)),\"Max\",\"\")","v":""},{"$f":"X70+S70","v":4.869024006710557},{"$f":"IF(AND((AB71<AB70),(AB70>AB69)),\"Max\",\"\")","v":""},{"$f":"U70+$AD$2","v":13.705050688499},{"$f":"X70+$AD$2","v":21.759024006710561},{"$f":"Z70+$AD$2","v":13.185050688498997},{"$f":"AB70+$AD$2","v":21.239024006710558}]
[6.5999999999999925,0.11519173063162562,3.9768254070531799,687.19543033878949,{"$f":"VLOOKUP(A71-$B$2,'Ref. Coeff. Horiz.'!A:X,24)","v":180},{"$f":"VLOOKUP(A71-$B$2,'Ref. Coeff. Vertical'!A:X,24)","v":0},{"$f":"VLOOKUP(A71-$B$2,'Ref. Coeff. Horiz.'!A:X,23)","v":1},{"$f":"VLOOKUP(A71-$B$2,'Ref. Coeff. Vertical'!A:X,23)","v":1},867.19543033878949,687.19543033878949,null,null,null,null,null,null,149.51953107584183,149.5,{"$f":"'Antenna Data'!B69","v":-0.54000000000000092},0.56475942393081757,-4.9627302687273032,"",1.9186054292327361,5.6597133818772827,"",-5.5027302687273041,"",5.1197133818772818,"",11.407269731272699,22.029713381877283,10.867269731272696,21.489713381877284]
[6.6999999999999922,0.11693705988361994,4.0368075036369229,697.56033662846016,{"$f":"VLOOKUP(A72-$B$2,'Ref. Coeff. Horiz.'!A:X,24)","v":180},{"$f":"VLOOKUP(A72-$B$2,'Ref. Coeff. Vertical'!A:X,24)","v":0},{"$f":"VLOOKUP(A72-$B$2,'Ref. Coeff. Horiz.'!A:X,23)","v":1},{"$f":"VLOOKUP(A72-$B$2,'Ref. Coeff. Vertical'!A:X,23)","v":1},877.56033662846016,697.56033662846016,null,null,null,null,null,null,147.26788108304524,147.30000000000001,{"$f":"'Antenna Data'!B70","v":-0.55000000000000071},0.38914775166591314,-8.1977094876221059,"",1.9617757332002466,5.8529871617902085,"",-8.7477094876221066,"",5.3029871617902078,"",8.1722905123778951,22.222987161790208,7.6222905123778943,21.672987161790211]
[6.7999999999999918,0.11868238913561427,4.0967773034049282,707.92311802837162,{"$f":"VLOOKUP(A73-$B$2,'Ref. Coeff. Horiz.'!A:X,24)","v":180},{"$f":"VLOOKUP(A73-$B$2,'Ref. Coeff. Vertical'!A:X,24)","v":0},{"$f":"VLOOKUP(A73-$B$2,'Ref. Coeff. Horiz.'!A:X,23)","v":1},{"$f":"VLOOKUP(A73-$B$2,'Ref. Coeff. Vertical'!A:X,23)","v":1},887.92311802837162,707.92311802837162,null,null,null,null,null,null,145.08215844400834,145.1,{"$f":"'Antenna Data'!B71","v":-0.57000000000000028},0.21039137216419287,-13.539441478418313,"",1.9889030822337395,5.9722724158663221,"",-14.109441478418313,"",5.4022724158663218,"",2.830558521581688,22.342272415866322,2.2605585215816877,21.772272415866322]
[6.8999999999999915,0.12042771838760859,4.1567346236787843,718.28374297169387,{"$f":"VLOOKUP(A74-$B$2,'Ref. Coeff. Horiz.'!A:X,24)","v":180},{"$f":"VLOOKUP(A74-$B$2,'Ref. Coeff. Vertical'!A:X,24)","v":0},{"$f":"VLOOKUP(A74-$B$2,'Ref. Coeff. Horiz.'!A:X,23)","v":1},{"$f":"VLOOKUP(A74-$B$2,'Ref. Coeff. Vertical'!A:X,23)","v":1},898.28374297169387,718.28374297169387,null,null,null,null,null,null,142.95949670373963,143,{"$f":"'Antenna Data'!B72","v":-0.59000000000000163},2.9953216096387989E-2,-30.471130805775317,"",1.9997756886324733,6.0196256867546314,"Max",-31.061130805775321,"",5.4296256867546298,"Max",-14.101130805775316,22.389625686754634,-14.69113080577532,21.799625686754631]
[6.9999999999999911,0.12217304763960292,4.2166792818180978,728.64217989816723,{"$f":"VLOOKUP(A75-$B$2,'Ref. Coeff. Horiz.'!A:X,24)","v":180},{"$f":"VLOOKUP(A75-$B$2,'Ref. Coeff. Vertical'!A:X,24)","v":0},{"$f":"VLOOKUP(A75-$B$2,'Ref. Coeff. Horiz.'!A:X,23)","v":1},{"$f":"VLOOKUP(A75-$B$2,'Ref. Coeff. Vertical'!A:X,23)","v":1},908.64217989816723,728.64217989816723,null,null,null,null,null,null,140.89719320396065,140.9,{"$f":"'Antenna Data'!B73","v":-0.61000000000000121},0.15069154933536152,-16.438222037971002,"",1.9943149342465718,5.995874828815265,"",-17.048222037971001,"",5.3858748288152638,"",-6.8222037971001015E-2,22.365874828815265,-0.67822203797100045,21.755874828815266]
[7.0999999999999908,0.12391837689159724,4.2766110952210425,738.99839725419622,{"$f":"VLOOKUP(A76-$B$2,'Ref. Coeff. Horiz.'!A:X,24)","v":180},{"$f":"VLOOKUP(A76-$B$2,'Ref. Coeff. Vertical'!A:X,24)","v":0},{"$f":"VLOOKUP(A76-$B$2,'Ref. Coeff. Horiz.'!A:X,23)","v":1},{"$f":"VLOOKUP(A76-$B$2,'Ref. Coeff. Vertical'!A:X,23)","v":1},918.99839725419622,738.99839725419622,null,null,null,null,null,null,138.89269754812594,138.9,{"$f":"'Antenna Data'!B74","v":-0.62000000000000099},0.33006762213321039,-9.6279415108818238,"",1.9725758197897811,5.9006741031144285,"",-10.247941510881825,"",5.2806741031144275,"",6.7420584891181772,22.27067410311443,6.1220584891181762,21.650674103114429]
[7.1999999999999904,0.12566370614359157,4.336529881324922,749.35236349294644,{"$f":"VLOOKUP(A77-$B$2,'Ref. Coeff. Horiz.'!A:X,24)","v":180},{"$f":"VLOOKUP(A77-$B$2,'Ref. Coeff. Vertical'!A:X,24)","v":0},{"$f":"VLOOKUP(A77-$B$2,'Ref. Coeff. Horiz.'!A:X,23)","v":1},{"$f":"VLOOKUP(A77-$B$2,'Ref. Coeff. Vertical'!A:X,23)","v":1},929.35236349294644,749.35236349294644,null,null,null,null,null,null,136.94360102769099,136.9,{"$f":"'Antenna Data'!B75","v":-0.64000000000000057},0.50671164549311909,-5.9047822885586942,"",1.9347463162703409,5.7324805688392866,"",-6.5447822885586948,"",5.092480568839286,"",10.465217711441307,22.102480568839287,9.8252177114413062,21.462480568839286]
[7.2999999999999901,0.12740903539558587,4.3964354576067208,759.70404707444129,{"$f":"VLOOKUP(A78-$B$2,'Ref. Coeff. Horiz.'!A:X,24)","v":180},{"$f":"VLOOKUP(A78-$B$2,'Ref. Coeff. Vertical'!A:X,24)","v":0},{"$f":"VLOOKUP(A78-$B$2,'Ref. Coeff. Horiz.'!A:X,23)","v":1},{"$f":"VLOOKUP(A78-$B$2,'Ref. Coeff. Vertical'!A:X,23)","v":1},939.70404707444129,759.70404707444129,null,null,null,null,null,null,135.04762691745432,135,{"$f":"'Antenna Data'!B76","v":-0.66000000000000014},0.67918416661891412,-3.3602489414477636,"",1.8811456264240074,5.4884483438018119,"",-4.0202489414477638,"",4.8284483438018118,"",13.009751058552236,21.858448343801811,12.349751058552236,21.198448343801815]
[7.3999999999999897,0.12915436464758021,4.4563276415836661,770.05341646565739,{"$f":"VLOOKUP(A79-$B$2,'Ref. Coeff. Horiz.'!A:X,24)","v":180},{"$f":"VLOOKUP(A79-$B$2,'Ref. Coeff. Vertical'!A:X,24)","v":0},{"$f":"VLOOKUP(A79-$B$2,'Ref. Coeff. Horiz.'!A:X,23)","v":1},{"$f":"VLOOKUP(A79-$B$2,'Ref. Coeff. Vertical'!A:X,23)","v":1},950.05341646565739,770.05341646565739,null,null,null,null,null,null,133.20262155776362,133.19999999999999,{"$f":"'Antenna Data'!B77","v":-0.68000000000000149},0.84608137620636947,-1.4517572891540964,"",1.8122213730217214,5.1642249618429279,"",-2.1317572891540979,"",4.4842249618429264,"",14.918242710845904,21.534224961842931,14.238242710845903,20.854224961842927]
[7.4999999999999893,0.13089969389957454,4.516206250813779,780.40044014062096,{"$f":"VLOOKUP(A80-$B$2,'Ref. Coeff. Horiz.'!A:X,24)","v":180},{"$f":"VLOOKUP(A80-$B$2,'Ref. Coeff. Vertical'!A:X,24)","v":0},{"$f":"VLOOKUP(A80-$B$2,'Ref. Coeff. Horiz.'!A:X,23)","v":1},{"$f":"VLOOKUP(A80-$B$2,'Ref. Coeff. Vertical'!A:X,23)","v":1},960.40044014062096,780.40044014062096,null,null,null,null,null,null,131.40654615014529,131.4,{"$f":"'Antenna Data'!B78","v":-0.70000000000000107},1.0060465325282473,5.2361370916695571E-2,"",1.7285457397442185,4.7536175214295939,"",-0.64763862908330549,"",4.0536175214295929,"",16.422361370916697,21.123617521429594,15.722361370916696,20.423617521429595]
[7.599999999999989,0.13264502315156884,4.5760711028964298,790.74508658050297,{"$f":"VLOOKUP(A81-$B$2,'Ref. Coeff. Horiz.'!A:X,24)","v":180},{"$f":"VLOOKUP(A81-$B$2,'Ref. Coeff. Vertical'!A:X,24)","v":0},{"$f":"VLOOKUP(A81-$B$2,'Ref. Coeff. Horiz.'!A:X,23)","v":1},{"$f":"VLOOKUP(A81-$B$2,'Ref. Coeff. Vertical'!A:X,23)","v":1},970.74508658050297,790.74508658050297,null,null,null,null,null,null,129.65746920064771,129.69999999999999,{"$f":"'Antenna Data'!B79","v":-0.72000000000000064},1.1577809769272649,1.2725281911351425,"",1.6308105988941055,4.2480705067461937,"",0.55252819113514184,"",3.528070506746193,"",17.642528191135142,20.618070506746193,16.922528191135143,19.898070506746194]
[7.6999999999999886,0.13439035240356317,4.6359220154728984,801.08732427371672,{"$f":"VLOOKUP(A82-$B$2,'Ref. Coeff. Horiz.'!A:X,24)","v":180},{"$f":"VLOOKUP(A82-$B$2,'Ref. Coeff. Vertical'!A:X,24)","v":0},{"$f":"VLOOKUP(A82-$B$2,'Ref. Coeff. Horiz.'!A:X,23)","v":1},{"$f":"VLOOKUP(A82-$B$2,'Ref. Coeff. Vertical'!A:X,23)","v":1},981.08732427371672,801.08732427371672,null,null,null,null,null,null,127.95355955201455,128,{"$f":"'Antenna Data'!B80","v":-0.74000000000000021},1.3000546511640161,2.2792321876764281,"",1.5198216684818007,3.6358526412913461,"",1.5392321876764279,"",2.8958526412913459,"",18.649232187676429,20.005852641291348,17.90923218767643,19.265852641291346]
[7.7999999999999883,0.13613568165555751,4.6957588062269249,811.42712171601261,{"$f":"VLOOKUP(A83-$B$2,'Ref. Coeff. Horiz.'!A:X,24)","v":180},{"$f":"VLOOKUP(A83-$B$2,'Ref. Coeff. Vertical'!A:X,24)","v":0},{"$f":"VLOOKUP(A83-$B$2,'Ref. Coeff. Horiz.'!A:X,23)","v":1},{"$f":"VLOOKUP(A83-$B$2,'Ref. Coeff. Vertical'!A:X,23)","v":1},991.42712171601261,811.42712171601261,null,null,null,null,null,null,126.29307995184489,126.3,{"$f":"'Antenna Data'!B81","v":-0.76000000000000156},1.4317160314371919,3.117137758747115,"",1.3964917491076465,2.9007674820493849,"",2.3571377587471134,"",2.1407674820493834,"",19.487137758747117,19.270767482049386,18.727137758747116,18.510767482049385]
[7.8999999999999879,0.13788101090755181,4.7555812928852665,821.76444741057401,{"$f":"VLOOKUP(A84-$B$2,'Ref. Coeff. Horiz.'!A:X,24)","v":180},{"$f":"VLOOKUP(A84-$B$2,'Ref. Coeff. Vertical'!A:X,24)","v":0},{"$f":"VLOOKUP(A84-$B$2,'Ref. Coeff. Horiz.'!A:X,23)","v":1},{"$f":"VLOOKUP(A84-$B$2,'Ref. Coeff. Vertical'!A:X,23)","v":1},1001.764447410574,821.76444741057401,null,null,null,null,null,null,124.67438110924776,124.7,{"$f":"'Antenna Data'!B82","v":-0.78000000000000114},1.5517013989553843,3.8161630335116632,"",1.2618330985038801,2.0200382995522137,"",3.0361630335116621,"",1.2400382995522126,"",20.186163033511665,18.390038299552216,19.406163033511664,17.610038299552215]
[7.9999999999999876,0.13962634015954614,4.8153892932182565,832.09926986811456,{"$f":"VLOOKUP(A85-$B$2,'Ref. Coeff. Horiz.'!A:X,24)","v":180},{"$f":"VLOOKUP(A85-$B$2,'Ref. Coeff. Vertical'!A:X,24)","v":0},{"$f":"VLOOKUP(A85-$B$2,'Ref. Coeff. Horiz.'!A:X,23)","v":1},{"$f":"VLOOKUP(A85-$B$2,'Ref. Coeff. Vertical'!A:X,23)","v":1},1012.0992698681146,832.09926986811456,null,null,null,null,null,null,123.09589619724703,123.1,{"$f":"'Antenna Data'!B83","v":-0.80000000000000071},1.6590433726483405,4.397154800120906,"",1.1169490085369249,0.96066693918731327,"",3.5971548001209053,"",0.16066693918731256,"",20.767154800120906,17.330666939187314,19.967154800120905,16.530666939187313]
[8.0999999999999872,0.14137166941154047,4.8751826250403525,842.43155760697277,{"$f":"VLOOKUP(A86-$B$2,'Ref. Coeff. Horiz.'!A:X,24)","v":180},{"$f":"VLOOKUP(A86-$B$2,'Ref. Coeff. Vertical'!A:X,24)","v":0},{"$f":"VLOOKUP(A86-$B$2,'Ref. Coeff. Horiz.'!A:X,23)","v":1},{"$f":"VLOOKUP(A86-$B$2,'Ref. Coeff. Vertical'!A:X,23)","v":1},1022.4315576069728,842.43155760697277,null,null,null,null,null,null,121.55613576241606,121.6,{"$f":"'Antenna Data'!B84","v":-0.82000000000000028},1.7528786359104191,4.8750369575972003,"",0.96302465584679131,-0.32725187410053641,"",4.0550369575972001,"",-1.1472518741005366,"",21.2450369575972,16.042748125899465,20.4250369575972,15.222748125899464]
[8.1999999999999869,0.14311699866353481,4.9349611062106957,852.76127915320819,{"$f":"VLOOKUP(A87-$B$2,'Ref. Coeff. Horiz.'!A:X,24)","v":180},{"$f":"VLOOKUP(A87-$B$2,'Ref. Coeff. Vertical'!A:X,24)","v":0},{"$f":"VLOOKUP(A87-$B$2,'Ref. Coeff. Horiz.'!A:X,23)","v":1},{"$f":"VLOOKUP(A87-$B$2,'Ref. Coeff. Vertical'!A:X,23)","v":1},1032.7612791532083,852.76127915320819,null,null,null,null,null,null,120.05368300697799,120.1,{"$f":"'Antenna Data'!B85","v":-0.84000000000000163},1.8324547961160231,5.2606654011663059,"",0.80131730306501503,-1.9239095863493239,"",4.4206654011663042,"",-2.7639095863493255,"",21.630665401166308,14.446090413650676,20.790665401166304,13.606090413650676]
[8.2999999999999865,0.14486232791552911,4.9947245546336658,863.08840304069736,{"$f":"VLOOKUP(A88-$B$2,'Ref. Coeff. Horiz.'!A:X,24)","v":180},{"$f":"VLOOKUP(A88-$B$2,'Ref. Coeff. Vertical'!A:X,24)","v":0},{"$f":"VLOOKUP(A88-$B$2,'Ref. Coeff. Horiz.'!A:X,23)","v":1},{"$f":"VLOOKUP(A88-$B$2,'Ref. Coeff. Vertical'!A:X,23)","v":1},1043.0884030406974,863.08840304069736,null,null,null,null,null,null,118.58718941195875,118.6,{"$f":"'Antenna Data'!B86","v":-0.87000000000000099},1.8971363229761091,5.5619707842371477,"",0.63314593266061991,-3.9699235739099565,"",4.6919707842371468,"",-4.8399235739099575,"",21.931970784237148,12.400076426090045,21.061970784237147,11.530076426090044]
[8.3999999999999861,0.14660765716752344,5.0544727882594334,873.4128978112301,{"$f":"VLOOKUP(A89-$B$2,'Ref. Coeff. Horiz.'!A:X,24)","v":180},{"$f":"VLOOKUP(A89-$B$2,'Ref. Coeff. Vertical'!A:X,24)","v":0},{"$f":"VLOOKUP(A89-$B$2,'Ref. Coeff. Horiz.'!A:X,23)","v":1},{"$f":"VLOOKUP(A89-$B$2,'Ref. Coeff. Vertical'!A:X,23)","v":1},1053.4128978112301,873.4128978112301,null,null,null,null,null,null,117.15537067297227,117.2,{"$f":"'Antenna Data'!B87","v":-0.89000000000000057},1.9464095195542295,5.7846843997516029,"",0.45988039987444174,-6.7471019936798369,"",4.8946843997516023,"",-7.6371019936798374,"",22.154684399751602,9.6228980063201632,21.264684399751602,8.7328980063201627]
[8.4999999999999858,0.14835298641951777,5.1142056250845194,883.73473201460479,{"$f":"VLOOKUP(A90-$B$2,'Ref. Coeff. Horiz.'!A:X,24)","v":180},{"$f":"VLOOKUP(A90-$B$2,'Ref. Coeff. Vertical'!A:X,24)","v":0},{"$f":"VLOOKUP(A90-$B$2,'Ref. Coeff. Horiz.'!A:X,23)","v":1},{"$f":"VLOOKUP(A90-$B$2,'Ref. Coeff. Vertical'!A:X,23)","v":1},1063.7347320146048,883.73473201460479,null,null,null,null,null,null,115.75700292289139,115.8,{"$f":"'Antenna Data'!B88","v":-0.91000000000000014},1.9798864878632938,5.9328058344451948,"",0.28293019488268079,-10.966414025681178,"",5.0228058344451947,"",-11.876414025681179,"",22.302805834445195,5.4035859743188226,21.392805834445195,4.4935859743188225]
[8.5999999999999854,0.15009831567151208,5.1739228831523416,894.05387420872455,{"$f":"VLOOKUP(A91-$B$2,'Ref. Coeff. Horiz.'!A:X,24)","v":180},{"$f":"VLOOKUP(A91-$B$2,'Ref. Coeff. Vertical'!A:X,24)","v":0},{"$f":"VLOOKUP(A91-$B$2,'Ref. Coeff. Horiz.'!A:X,23)","v":1},{"$f":"VLOOKUP(A91-$B$2,'Ref. Coeff. Vertical'!A:X,23)","v":1},1074.0538742087247,894.05387420872455,null,null,null,null,null,null,114.3909192180533,114.4,{"$f":"'Antenna Data'!B89","v":-0.93000000000000149},1.9973080593521171,6.0089010886870362,"",0.10373290725261709,-19.681669005074401,"",5.0789010886870347,"Max",-20.611669005074404,"",22.378901088687037,-3.3116690050743998,21.448901088687037,-4.241669005074403]
[8.6999999999999851,0.15184364492350641,5.2336243805537759,904.37029295969239,{"$f":"VLOOKUP(A92-$B$2,'Ref. Coeff. Horiz.'!A:X,24)","v":180},{"$f":"VLOOKUP(A92-$B$2,'Ref. Coeff. Vertical'!A:X,24)","v":0},{"$f":"VLOOKUP(A92-$B$2,'Ref. Coeff. Horiz.'!A:X,23)","v":1},{"$f":"VLOOKUP(A92-$B$2,'Ref. Coeff. Vertical'!A:X,23)","v":1},1084.3702929596925,904.37029295969239,null,null,null,null,null,null,113.05600626679559,113.1,{"$f":"'Antenna Data'!B90","v":-0.96000000000000085},1.9985456691924102,6.0142815373029181,"Max",7.6257512103803743E-2,-22.354347353188921,"",5.0542815373029173,"",-23.314347353188921,"",22.384281537302918,-5.9843473531889195,21.424281537302917,-6.9443473531889204]
[8.7999999999999847,0.15358897417550074,5.2933099354277084,914.68395684190796,{"$f":"VLOOKUP(A93-$B$2,'Ref. Coeff. Horiz.'!A:X,24)","v":180},{"$f":"VLOOKUP(A93-$B$2,'Ref. Coeff. Vertical'!A:X,24)","v":0},{"$f":"VLOOKUP(A93-$B$2,'Ref. Coeff. Horiz.'!A:X,23)","v":1},{"$f":"VLOOKUP(A93-$B$2,'Ref. Coeff. Vertical'!A:X,23)","v":1},1094.683956841908,914.68395684190796,null,null,null,null,null,null,111.7512013810468,111.8,{"$f":"'Antenna Data'!B91","v":-0.98000000000000043},1.9836021620203987,5.9490914595423385,"",0.25558259492383067,-11.849374495868341,"",4.9690914595423381,"",-12.829374495868342,"",22.319091459542339,4.5206255041316599,21.339091459542338,3.5406255041316594]
[8.8999999999999844,0.15533430342749505,5.3529793659615867,924.99483443816212,{"$f":"VLOOKUP(A94-$B$2,'Ref. Coeff. Horiz.'!A:X,24)","v":180},{"$f":"VLOOKUP(A94-$B$2,'Ref. Coeff. Vertical'!A:X,24)","v":0},{"$f":"VLOOKUP(A94-$B$2,'Ref. Coeff. Horiz.'!A:X,23)","v":1},{"$f":"VLOOKUP(A94-$B$2,'Ref. Coeff. Vertical'!A:X,23)","v":1},1104.9948344381621,924.99483443816212,null,null,null,null,null,null,110.4754896334276,110.5,{"$f":"'Antenna Data'!B92","v":-1.0000000000000018},1.9526115255992058,5.8123169694921764,"",0.43279120843328373,-7.2744313983112532,"",4.8123169694921746,"",-8.2744313983112541,"",22.182316969492177,9.0955686016887469,21.182316969492177,8.0955686016887469]
[8.999999999999984,0.15707963267948938,5.4126324903919789,935.30289433973394,{"$f":"VLOOKUP(A95-$B$2,'Ref. Coeff. Horiz.'!A:X,24)","v":180},{"$f":"VLOOKUP(A95-$B$2,'Ref. Coeff. Vertical'!A:X,24)","v":0},{"$f":"VLOOKUP(A95-$B$2,'Ref. Coeff. Horiz.'!A:X,23)","v":1},{"$f":"VLOOKUP(A95-$B$2,'Ref. Coeff. Vertical'!A:X,23)","v":1},1115.3028943397339,935.30289433973394,null,null,null,null,null,null,109.22790120387846,109.2,{"$f":"'Antenna Data'!B93","v":-1.0300000000000011},1.9058375576753217,5.6017176237199315,"",0.60645132018502945,-4.3440810838626769,"",4.5717176237199304,"",-5.374081083862678,"",21.971717623719933,12.025918916137325,20.941717623719931,10.995918916137324]
[9.0999999999999837,0.15882496193148371,5.4722691270051209,945.60810514648483,{"$f":"VLOOKUP(A96-$B$2,'Ref. Coeff. Horiz.'!A:X,24)","v":180},{"$f":"VLOOKUP(A96-$B$2,'Ref. Coeff. Vertical'!A:X,24)","v":0},{"$f":"VLOOKUP(A96-$B$2,'Ref. Coeff. Horiz.'!A:X,23)","v":1},{"$f":"VLOOKUP(A96-$B$2,'Ref. Coeff. Vertical'!A:X,23)","v":1},1125.6081051464848,945.60810514648483,null,null,null,null,null,null,108.00750890123528,108,{"$f":"'Antenna Data'!B94","v":-1.0500000000000007},1.8436714800318823,5.3136707517055619,"",0.77516157910273686,-2.2121552247491456,"",4.2636707517055612,"",-3.2621552247491463,"",21.683670751705563,14.157844775250854,20.633670751705562,13.107844775250854]
[9.1999999999999833,0.16057029118347801,5.5318890941374761,955.91043546695573,{"$f":"VLOOKUP(A97-$B$2,'Ref. Coeff. Horiz.'!A:X,24)","v":180},{"$f":"VLOOKUP(A97-$B$2,'Ref. Coeff. Vertical'!A:X,24)","v":0},{"$f":"VLOOKUP(A97-$B$2,'Ref. Coeff. Horiz.'!A:X,23)","v":1},{"$f":"VLOOKUP(A97-$B$2,'Ref. Coeff. Vertical'!A:X,23)","v":1},1135.9104354669557,955.91043546695573,null,null,null,null,null,null,106.81342584644105,106.8,{"$f":"'Antenna Data'!B95","v":-1.0800000000000018},1.7666285223210545,4.9429047573471827,"",0.9375626187736622,-0.55999433163829571,"",3.8629047573471809,"",-1.6399943316382974,"",21.312904757347184,15.810005668361706,20.232904757347182,14.730005668361704]
[9.2999999999999829,0.16231562043547235,5.5914922101762849,966.20985391846193,{"$f":"VLOOKUP(A98-$B$2,'Ref. Coeff. Horiz.'!A:X,24)","v":180},{"$f":"VLOOKUP(A98-$B$2,'Ref. Coeff. Vertical'!A:X,24)","v":0},{"$f":"VLOOKUP(A98-$B$2,'Ref. Coeff. Horiz.'!A:X,23)","v":1},{"$f":"VLOOKUP(A98-$B$2,'Ref. Coeff. Vertical'!A:X,23)","v":1},1146.2098539184619,966.20985391846193,null,null,null,null,null,null,105.64480330522774,105.6,{"$f":"'Antenna Data'!B96","v":-1.1000000000000014},1.675343506617357,4.4820773347215779,"",1.0923479916377619,0.76722029067899933,"",3.3820773347215765,"",-0.33277970932100209,"",20.852077334721578,17.137220290679,19.752077334721577,16.037220290678999]
[9.3999999999999826,0.16406094968746668,5.6510782935601203,976.50632912718868,{"$f":"VLOOKUP(A99-$B$2,'Ref. Coeff. Horiz.'!A:X,24)","v":180},{"$f":"VLOOKUP(A99-$B$2,'Ref. Coeff. Vertical'!A:X,24)","v":0},{"$f":"VLOOKUP(A99-$B$2,'Ref. Coeff. Horiz.'!A:X,23)","v":1},{"$f":"VLOOKUP(A99-$B$2,'Ref. Coeff. Vertical'!A:X,23)","v":1},1156.5063291271886,976.50632912718868,null,null,null,null,null,null,104.50082865913795,104.5,{"$f":"'Antenna Data'!B97","v":-1.1300000000000008},1.5705654717048394,3.9211209083862926,"",1.2382746460654692,1.8563396148780886,"",2.7911209083862918,"",0.72633961487808785,"",20.291120908386294,18.226339614878089,19.161120908386295,17.09633961487809]
[9.4999999999999822,0.16580627893946101,5.7106471627794368,986.79982972828657,{"$f":"VLOOKUP(A100-$B$2,'Ref. Coeff. Horiz.'!A:X,24)","v":180},{"$f":"VLOOKUP(A100-$B$2,'Ref. Coeff. Vertical'!A:X,24)","v":0},{"$f":"VLOOKUP(A100-$B$2,'Ref. Coeff. Horiz.'!A:X,23)","v":1},{"$f":"VLOOKUP(A100-$B$2,'Ref. Coeff. Vertical'!A:X,23)","v":1},1166.7998297282866,986.79982972828657,null,null,null,null,null,null,103.38072350469223,103.4,{"$f":"'Antenna Data'!B98","v":-1.1500000000000004},1.4531513838284011,3.2462171963067994,"",1.3741728623712506,2.7608273539159951,"",2.096217196306799,"",1.6108273539159947,"",19.616217196306799,19.130827353915997,18.4662171963068,17.980827353915995]
[9.5999999999999819,0.16755160819145531,5.7701986363771276,997.0903243659676,{"$f":"VLOOKUP(A101-$B$2,'Ref. Coeff. Horiz.'!A:X,24)","v":180},{"$f":"VLOOKUP(A101-$B$2,'Ref. Coeff. Vertical'!A:X,24)","v":0},{"$f":"VLOOKUP(A101-$B$2,'Ref. Coeff. Horiz.'!A:X,23)","v":1},{"$f":"VLOOKUP(A101-$B$2,'Ref. Coeff. Vertical'!A:X,23)","v":1},1177.0903243659677,997.0903243659676,null,null,null,null,null,null,102.28374187135849,102.3,{"$f":"'Antenna Data'!B99","v":-1.1800000000000015},1.3240589879410529,2.438146674379285,"",1.498955568538479,3.515775196998332,"",1.2581466743792835,"",2.3357751969983305,"",18.808146674379287,19.885775196998331,17.628146674379284,18.705775196998331]
[9.6999999999999815,0.16929693744344965,5.8297325329490794,1007.3777816936008,{"$f":"VLOOKUP(A102-$B$2,'Ref. Coeff. Horiz.'!A:X,24)","v":180},{"$f":"VLOOKUP(A102-$B$2,'Ref. Coeff. Vertical'!A:X,24)","v":0},{"$f":"VLOOKUP(A102-$B$2,'Ref. Coeff. Horiz.'!A:X,23)","v":1},{"$f":"VLOOKUP(A102-$B$2,'Ref. Coeff. Vertical'!A:X,23)","v":1},1187.3777816936008,1007.3777816936008,null,null,null,null,null,null,101.20916854975029,101.2,{"$f":"'Antenna Data'!B100","v":-1.2100000000000009},1.1843388603058491,1.4695195900636908,"",1.611626961790301,4.1452904865482392,"",0.25951959006368996,"",2.9352904865482383,"",17.839519590063691,20.515290486548238,16.629519590063691,19.305290486548238]
[9.7999999999999812,0.17104226669544398,5.8892486711447152,1017.6621703738067,{"$f":"VLOOKUP(A103-$B$2,'Ref. Coeff. Horiz.'!A:X,24)","v":180},{"$f":"VLOOKUP(A103-$B$2,'Ref. Coeff. Vertical'!A:X,24)","v":0},{"$f":"VLOOKUP(A103-$B$2,'Ref. Coeff. Horiz.'!A:X,23)","v":1},{"$f":"VLOOKUP(A103-$B$2,'Ref. Coeff. Vertical'!A:X,23)","v":1},1197.6621703738067,1017.6621703738067,null,null,null,null,null,null,100.15631752218013,100.2,{"$f":"'Antenna Data'!B101","v":-1.2300000000000004},1.0351257296100782,0.2998620752706706,"",1.7112903680846228,4.6664741190234356,"",-0.93013792472932977,"",3.4364741190234351,"",16.669862075270672,21.036474119023438,15.439862075270671,19.806474119023434]
[9.8999999999999808,0.17278759594743828,5.9487468696675592,1027.943459078554,{"$f":"VLOOKUP(A104-$B$2,'Ref. Coeff. Horiz.'!A:X,24)","v":180},{"$f":"VLOOKUP(A104-$B$2,'Ref. Coeff. Vertical'!A:X,24)","v":0},{"$f":"VLOOKUP(A104-$B$2,'Ref. Coeff. Horiz.'!A:X,23)","v":1},{"$f":"VLOOKUP(A104-$B$2,'Ref. Coeff. Vertical'!A:X,23)","v":1},1207.943459078554,1027.943459078554,null,null,null,null,null,null,99.124530488330848,99.1,{"$f":"'Antenna Data'!B102","v":-1.2600000000000016},0.8776291394697322,-1.1337793107449052,"",1.7971552780863476,5.0917120541733718,"",-2.3937793107449066,"",3.8317120541733702,"",15.236220689255095,21.461712054173372,13.976220689255094,20.20171205417337]
[9.9999999999999805,0.17453292519943261,6.0082269472757783,1038.2216164892545,{"$f":"VLOOKUP(A105-$B$2,'Ref. Coeff. Horiz.'!A:X,24)","v":180},{"$f":"VLOOKUP(A105-$B$2,'Ref. Coeff. Vertical'!A:X,24)","v":0},{"$f":"VLOOKUP(A105-$B$2,'Ref. Coeff. Horiz.'!A:X,23)","v":1},{"$f":"VLOOKUP(A105-$B$2,'Ref. Coeff. Vertical'!A:X,23)","v":1},1218.2216164892545,1038.2216164892545,null,null,null,null,null,null,98.11317547938657,98.1,{"$f":"'Antenna Data'!B103","v":-1.2900000000000009},0.71312353030088704,-2.9367046657637745,"",1.8685435051213553,5.4300642788127629,"",-4.2267046657637755,"",4.140064278812762,"",13.433295334236227,21.800064278812762,12.143295334236225,20.510064278812763]
[10.09999999999998,0.17627825445142695,6.0676887227827425,1048.4966112968577,{"$f":"VLOOKUP(A106-$B$2,'Ref. Coeff. Horiz.'!A:X,24)","v":180},{"$f":"VLOOKUP(A106-$B$2,'Ref. Coeff. Vertical'!A:X,24)","v":0},{"$f":"VLOOKUP(A106-$B$2,'Ref. Coeff. Horiz.'!A:X,23)","v":1},{"$f":"VLOOKUP(A106-$B$2,'Ref. Coeff. Vertical'!A:X,23)","v":1},1228.4966112968577,1048.4966112968577,null,null,null,null,null,null,97.121645554492744,97.1,{"$f":"'Antenna Data'!B104","v":-1.3100000000000005},0.54293782297145277,-5.3049980559775642,"",1.9248944179842746,5.6881382618841494,"",-6.6149980559775647,"",4.3781382618841489,"",11.065001944022438,22.05813826188415,9.7550019440224354,20.748138261884151]
[10.19999999999998,0.17802358370342125,6.1271320150575699,1058.768412201948,{"$f":"VLOOKUP(A107-$B$2,'Ref. Coeff. Horiz.'!A:X,24)","v":180},{"$f":"VLOOKUP(A107-$B$2,'Ref. Coeff. Vertical'!A:X,24)","v":0},{"$f":"VLOOKUP(A107-$B$2,'Ref. Coeff. Horiz.'!A:X,23)","v":1},{"$f":"VLOOKUP(A107-$B$2,'Ref. Coeff. Vertical'!A:X,23)","v":1},1238.768412201948,1058.768412201948,null,null,null,null,null,null,96.149357573894818,96.1,{"$f":"'Antenna Data'!B105","v":-1.3400000000000016},0.36844459038923866,-8.67255631064846,"",1.9657692091934162,5.8706505643541256,"",-10.012556310648462,"",4.5306505643541239,"",7.697443689351541,22.240650564354127,6.3574436893515394,20.900650564354123]
[10.299999999999979,0.17976891295541558,6.1865566430256846,1069.0369879148382,{"$f":"VLOOKUP(A108-$B$2,'Ref. Coeff. Horiz.'!A:X,24)","v":180},{"$f":"VLOOKUP(A108-$B$2,'Ref. Coeff. Vertical'!A:X,24)","v":0},{"$f":"VLOOKUP(A108-$B$2,'Ref. Coeff. Horiz.'!A:X,23)","v":1},{"$f":"VLOOKUP(A108-$B$2,'Ref. Coeff. Vertical'!A:X,23)","v":1},1249.0369879148382,1069.0369879148382,null,null,null,null,null,null,95.19575104354449,95.2,{"$f":"'Antenna Data'!B106","v":-1.370000000000001},0.19104890620264514,-14.377108888013447,"",1.9908541672957296,5.9807889709314042,"",-15.747108888013448,"",4.6107889709314032,"",1.9928911119865536,22.350788970931404,0.62289111198655256,20.980788970931403]
[10.399999999999979,0.18151424220740991,6.2459624256693633,1079.3023071556659,{"$f":"VLOOKUP(A109-$B$2,'Ref. Coeff. Horiz.'!A:X,24)","v":180},{"$f":"VLOOKUP(A109-$B$2,'Ref. Coeff. Vertical'!A:X,24)","v":0},{"$f":"VLOOKUP(A109-$B$2,'Ref. Coeff. Horiz.'!A:X,23)","v":1},{"$f":"VLOOKUP(A109-$B$2,'Ref. Coeff. Vertical'!A:X,23)","v":1},1259.3023071556659,1079.3023071556659,null,null,null,null,null,null,94.260287026363642,94.3,{"$f":"'Antenna Data'!B107","v":-1.4000000000000004},1.2176962067456328E-2,-38.289220936697291,"",1.9999629300551567,6.0204389190627081,"Max",-39.689220936697289,"",4.6204389190627078,"Max",-21.91922093669729,22.39043891906271,-23.319220936697288,20.990438919062708]
[10.499999999999979,0.18325957145940422,6.305349182028289,1089.5643386544882,{"$f":"VLOOKUP(A110-$B$2,'Ref. Coeff. Horiz.'!A:X,24)","v":180},{"$f":"VLOOKUP(A110-$B$2,'Ref. Coeff. Vertical'!A:X,24)","v":0},{"$f":"VLOOKUP(A110-$B$2,'Ref. Coeff. Horiz.'!A:X,23)","v":1},{"$f":"VLOOKUP(A110-$B$2,'Ref. Coeff. Vertical'!A:X,23)","v":1},1269.5643386544882,1089.5643386544882,null,null,null,null,null,null,93.342447115721285,93.3,{"$f":"'Antenna Data'!B108","v":-1.4300000000000015},0.16673545354783695,-15.559440895691312,"",1.9930377037402469,5.990310292840169,"",-16.989440895691313,"",4.5603102928401675,"",0.81055910430868927,22.360310292840168,-0.61944089569131222,20.930310292840169]
[10.599999999999978,0.18500490071139855,6.3647167312001045,1099.823051151378,{"$f":"VLOOKUP(A111-$B$2,'Ref. Coeff. Horiz.'!A:X,24)","v":180},{"$f":"VLOOKUP(A111-$B$2,'Ref. Coeff. Vertical'!A:X,24)","v":0},{"$f":"VLOOKUP(A111-$B$2,'Ref. Coeff. Horiz.'!A:X,23)","v":1},{"$f":"VLOOKUP(A111-$B$2,'Ref. Coeff. Vertical'!A:X,23)","v":1},1279.823051151378,1099.823051151378,null,null,null,null,null,null,92.441732467015939,92.4,{"$f":"'Antenna Data'!B109","v":-1.4600000000000009},0.34425452129356321,-9.2624069438637004,"",1.9701494421918708,5.8899834009752174,"",-10.722406943863701,"",4.4299834009752166,"",7.1075930561363005,22.259983400975219,5.6475930561362997,20.799983400975218]
[10.699999999999978,0.18675022996339288,6.4240648923409589,1110.0784133965176,{"$f":"VLOOKUP(A112-$B$2,'Ref. Coeff. Horiz.'!A:X,24)","v":180},{"$f":"VLOOKUP(A112-$B$2,'Ref. Coeff. Vertical'!A:X,24)","v":0},{"$f":"VLOOKUP(A112-$B$2,'Ref. Coeff. Horiz.'!A:X,23)","v":1},{"$f":"VLOOKUP(A112-$B$2,'Ref. Coeff. Vertical'!A:X,23)","v":1},1290.0784133965176,1110.0784133965176,null,null,null,null,null,null,91.557662883561648,91.6,{"$f":"'Antenna Data'!B110","v":-1.4900000000000002},0.51895990789920887,-5.6973238430576316,"",1.9314969878291919,5.7178807039768085,"",-7.1873238430576318,"",4.2278807039768083,"",10.672676156942369,22.087880703976808,9.1826761569423692,20.597880703976809]
[10.799999999999978,0.18849555921538719,6.4833934846660588,1120.330394150295,{"$f":"VLOOKUP(A113-$B$2,'Ref. Coeff. Horiz.'!A:X,24)","v":180},{"$f":"VLOOKUP(A113-$B$2,'Ref. Coeff. Vertical'!A:X,24)","v":0},{"$f":"VLOOKUP(A113-$B$2,'Ref. Coeff. Horiz.'!A:X,23)","v":1},{"$f":"VLOOKUP(A113-$B$2,'Ref. Coeff. Vertical'!A:X,23)","v":1},1300.330394150295,1120.330394150295,null,null,null,null,null,null,90.689775953258163,90.7,{"$f":"'Antenna Data'!B111","v":-1.5200000000000014},0.68945614123647925,-3.2298671125997802,"",1.8774051851721589,5.4711602600347558,"",-4.749867112599782,"",3.9511602600347544,"",13.14013288740022,21.841160260034755,11.620132887400219,20.321160260034755]
[10.899999999999977,0.19024088846738152,6.5427023274502254,1130.5789621833987,{"$f":"VLOOKUP(A114-$B$2,'Ref. Coeff. Horiz.'!A:X,24)","v":180},{"$f":"VLOOKUP(A114-$B$2,'Ref. Coeff. Vertical'!A:X,24)","v":0},{"$f":"VLOOKUP(A114-$B$2,'Ref. Coeff. Horiz.'!A:X,23)","v":1},{"$f":"VLOOKUP(A114-$B$2,'Ref. Coeff. Vertical'!A:X,23)","v":1},1310.5789621833987,1130.5789621833987,null,null,null,null,null,null,89.837626232783705,89.8,{"$f":"'Antenna Data'!B112","v":-1.5500000000000007},0.8543837520945029,-1.3669403852147619,"",1.8083219857527928,5.145515250502064,"",-2.9169403852147626,"",3.5955152505020633,"",15.00305961478524,21.515515250502066,13.453059614785239,19.965515250502065]
[10.999999999999977,0.19198621771937585,6.6019912400284371,1140.8240862769139,{"$f":"VLOOKUP(A115-$B$2,'Ref. Coeff. Horiz.'!A:X,24)","v":180},{"$f":"VLOOKUP(A115-$B$2,'Ref. Coeff. Vertical'!A:X,24)","v":0},{"$f":"VLOOKUP(A115-$B$2,'Ref. Coeff. Horiz.'!A:X,23)","v":1},{"$f":"VLOOKUP(A115-$B$2,'Ref. Coeff. Vertical'!A:X,23)","v":1},1320.8240862769139,1140.8240862769139,null,null,null,null,null,null,89.000784476286569,89,{"$f":"'Antenna Data'!B113","v":-1.5800000000000018},1.0124300935506314,0.10730091361882689,"",1.7248145713881999,4.7348482496175635,"",-1.4726990863811749,"",3.1548482496175616,"",16.477300913618826,21.104848249617564,14.897300913618826,19.524848249617563]
[11.099999999999977,0.19373154697137018,6.6612600417963845,1151.0657352224152,{"$f":"VLOOKUP(A116-$B$2,'Ref. Coeff. Horiz.'!A:X,24)","v":180},{"$f":"VLOOKUP(A116-$B$2,'Ref. Coeff. Vertical'!A:X,24)","v":0},{"$f":"VLOOKUP(A116-$B$2,'Ref. Coeff. Horiz.'!A:X,23)","v":1},{"$f":"VLOOKUP(A116-$B$2,'Ref. Coeff. Vertical'!A:X,23)","v":1},1331.0657352224152,1151.0657352224152,null,null,null,null,null,null,88.178836905768833,88.2,{"$f":"'Antenna Data'!B114","v":-1.6100000000000012},1.1623397518087513,1.3066618170051441,"",1.6275645306300977,4.2307643348626698,"",-0.30333818299485715,"",2.6207643348626686,"",17.676661817005144,20.600764334862671,16.066661817005144,18.990764334862668]
[11.199999999999976,0.19547687622336449,6.7205085522110162,1161.3038778220634,{"$f":"VLOOKUP(A117-$B$2,'Ref. Coeff. Horiz.'!A:X,24)","v":180},{"$f":"VLOOKUP(A117-$B$2,'Ref. Coeff. Vertical'!A:X,24)","v":0},{"$f":"VLOOKUP(A117-$B$2,'Ref. Coeff. Horiz.'!A:X,23)","v":1},{"$f":"VLOOKUP(A117-$B$2,'Ref. Coeff. Vertical'!A:X,23)","v":1},1341.3038778220634,1161.3038778220634,null,null,null,null,null,null,87.371384520556802,87.4,{"$f":"'Antenna Data'!B115","v":-1.6500000000000004},1.3029244660527819,2.298384785052598,"",1.5173621307259098,3.6217848208427847,"",0.64838478505259767,"",1.9717848208427844,"",18.668384785052599,19.991784820842785,17.0183847850526,18.341784820842786]
[11.299999999999976,0.19722220547535882,6.7797365907910976,1171.5384828887015,{"$f":"VLOOKUP(A118-$B$2,'Ref. Coeff. Horiz.'!A:X,24)","v":180},{"$f":"VLOOKUP(A118-$B$2,'Ref. Coeff. Vertical'!A:X,24)","v":0},{"$f":"VLOOKUP(A118-$B$2,'Ref. Coeff. Horiz.'!A:X,23)","v":1},{"$f":"VLOOKUP(A118-$B$2,'Ref. Coeff. Vertical'!A:X,23)","v":1},1351.5384828887015,1171.5384828887015,null,null,null,null,null,null,86.578042443436587,86.6,{"$f":"'Antenna Data'!B116","v":-1.6800000000000015},1.4330724791912806,3.1253631173232046,"",1.395099734565441,2.8921051216997307,"",1.4453631173232031,"",1.2121051216997292,"",19.495363117323205,19.262105121699733,17.815363117323205,17.58210512169973]
[11.399999999999975,0.19896753472735315,6.8389439771177507,1181.7695192459471,{"$f":"VLOOKUP(A119-$B$2,'Ref. Coeff. Horiz.'!A:X,24)","v":180},{"$f":"VLOOKUP(A119-$B$2,'Ref. Coeff. Vertical'!A:X,24)","v":0},{"$f":"VLOOKUP(A119-$B$2,'Ref. Coeff. Horiz.'!A:X,23)","v":1},{"$f":"VLOOKUP(A119-$B$2,'Ref. Coeff. Vertical'!A:X,23)","v":1},1361.7695192459471,1181.7695192459471,null,null,null,null,null,null,85.798439301203757,85.8,{"$f":"'Antenna Data'!B117","v":-1.7100000000000009},1.5517572463112745,3.8164756421366453,"",1.2617644187884083,2.0195655265168764,"",2.1064756421366444,"",0.30956552651687552,"",20.186475642136646,18.389565526516876,18.476475642136645,16.679565526516875]
[11.499999999999975,0.20071286397934746,6.898130530835008,1191.9969557282893,{"$f":"VLOOKUP(A120-$B$2,'Ref. Coeff. Horiz.'!A:X,24)","v":180},{"$f":"VLOOKUP(A120-$B$2,'Ref. Coeff. Vertical'!A:X,24)","v":0},{"$f":"VLOOKUP(A120-$B$2,'Ref. Coeff. Horiz.'!A:X,23)","v":1},{"$f":"VLOOKUP(A120-$B$2,'Ref. Coeff. Vertical'!A:X,23)","v":1},1371.9969557282893,1191.9969557282893,null,null,null,null,null,null,85.032216637532031,85,{"$f":"'Antenna Data'!B118","v":-1.7400000000000002},1.6580454331718677,4.3919285352078807,"",1.1184298554392731,0.9721750328295351,"",2.6519285352078805,"",-0.76782496717046511,"",20.761928535207883,17.342175032829537,19.021928535207881,15.602175032829535]
[11.599999999999975,0.20245819323134179,6.9572960716503625,1202.2207611811825,{"$f":"VLOOKUP(A121-$B$2,'Ref. Coeff. Horiz.'!A:X,24)","v":180},{"$f":"VLOOKUP(A121-$B$2,'Ref. Coeff. Vertical'!A:X,24)","v":0},{"$f":"VLOOKUP(A121-$B$2,'Ref. Coeff. Horiz.'!A:X,23)","v":1},{"$f":"VLOOKUP(A121-$B$2,'Ref. Coeff. Vertical'!A:X,23)","v":1},1382.2207611811825,1202.2207611811825,null,null,null,null,null,null,84.279028356210873,84.3,{"$f":"'Antenna Data'!B119","v":-1.7800000000000011},1.7511041431018473,4.8662395113832861,"",0.96624752522919544,-0.29823210790302324,"",3.086239511383285,"",-2.0782321079030242,"",21.236239511383289,16.071767892096979,19.456239511383288,14.291767892096978]
[11.699999999999974,0.20420352248333612,7.0164404193353169,1212.4409044611427,{"$f":"VLOOKUP(A122-$B$2,'Ref. Coeff. Horiz.'!A:X,24)","v":180},{"$f":"VLOOKUP(A122-$B$2,'Ref. Coeff. Vertical'!A:X,24)","v":0},{"$f":"VLOOKUP(A122-$B$2,'Ref. Coeff. Horiz.'!A:X,23)","v":1},{"$f":"VLOOKUP(A122-$B$2,'Ref. Coeff. Vertical'!A:X,23)","v":1},1392.4409044611427,1212.4409044611427,null,null,null,null,null,null,83.538540192934946,83.5,{"$f":"'Antenna Data'!B120","v":-1.8100000000000005},1.8302073171692534,5.2500057465534367,"",0.80643733555691033,-1.8685874788094015,"",3.4400057465534362,"",-3.6785874788094022,"",21.620005746553439,14.5014125211906,19.810005746553436,12.6914125211906]
[11.799999999999974,0.20594885173533042,7.0755633937259299,1222.6573544358405,{"$f":"VLOOKUP(A123-$B$2,'Ref. Coeff. Horiz.'!A:X,24)","v":180},{"$f":"VLOOKUP(A123-$B$2,'Ref. Coeff. Vertical'!A:X,24)","v":0},{"$f":"VLOOKUP(A123-$B$2,'Ref. Coeff. Horiz.'!A:X,23)","v":1},{"$f":"VLOOKUP(A123-$B$2,'Ref. Coeff. Vertical'!A:X,23)","v":1},1402.6573544358405,1222.6573544358405,null,null,null,null,null,null,82.810429213951778,82.8,{"$f":"'Antenna Data'!B121","v":-1.8500000000000014},1.8947412594078574,5.5509982461503888,"",0.64027772091298174,-3.8726321922497222,"",3.7009982461503874,"",-5.7226321922497236,"",21.92099824615039,12.49736780775028,20.070998246150388,10.647367807750278]
[11.899999999999974,0.20769418098732476,7.1346648147233704,1232.8700799841984,{"$f":"VLOOKUP(A124-$B$2,'Ref. Coeff. Horiz.'!A:X,24)","v":180},{"$f":"VLOOKUP(A124-$B$2,'Ref. Coeff. Vertical'!A:X,24)","v":0},{"$f":"VLOOKUP(A124-$B$2,'Ref. Coeff. Horiz.'!A:X,23)","v":1},{"$f":"VLOOKUP(A124-$B$2,'Ref. Coeff. Vertical'!A:X,23)","v":1},1412.8700799841984,1232.8700799841984,null,null,null,null,null,null,82.094383339987701,82.1,{"$f":"'Antenna Data'!B122","v":-1.8800000000000008},1.9442092461577816,5.7748600838350761,"",0.46909530711209529,-6.5747782353444411,"",3.8948600838350753,"",-8.4547782353444418,"",22.144860083835077,9.7952217646555599,20.264860083835075,7.9152217646555592]
[11.999999999999973,0.20943951023931909,7.1937445022944582,1243.0790499964824,{"$f":"VLOOKUP(A125-$B$2,'Ref. Coeff. Horiz.'!A:X,24)","v":180},{"$f":"VLOOKUP(A125-$B$2,'Ref. Coeff. Vertical'!A:X,24)","v":0},{"$f":"VLOOKUP(A125-$B$2,'Ref. Coeff. Horiz.'!A:X,23)","v":1},{"$f":"VLOOKUP(A125-$B$2,'Ref. Coeff. Vertical'!A:X,23)","v":1},1423.0790499964824,1243.0790499964824,null,null,null,null,null,null,81.390100893977433,81.400000000000006,{"$f":"'Antenna Data'!B123","v":-1.9200000000000017},1.9782351861429757,5.9255584446399956,"",0.29425422393886957,-10.625545885226561,"",4.0055584446399939,"",-12.545545885226563,"",22.295558444639997,5.7444541147734398,20.375558444639996,3.8244541147734381]
[12.099999999999973,0.21118483949131339,7.2528022764722184,1253.2842333743993,{"$f":"VLOOKUP(A126-$B$2,'Ref. Coeff. Horiz.'!A:X,24)","v":180},{"$f":"VLOOKUP(A126-$B$2,'Ref. Coeff. Vertical'!A:X,24)","v":0},{"$f":"VLOOKUP(A126-$B$2,'Ref. Coeff. Horiz.'!A:X,23)","v":1},{"$f":"VLOOKUP(A126-$B$2,'Ref. Coeff. Vertical'!A:X,23)","v":1},1433.2842333743993,1253.2842333743993,null,null,null,null,null,null,80.697290171220416,80.7,{"$f":"'Antenna Data'!B124","v":-1.9500000000000011},1.996566305704438,6.0056747526496199,"",0.11714515323193432,-18.62551350423751,"",4.0556747526496189,"Max",-20.575513504237513,"",22.375674752649623,-2.2555135042375092,20.42567475264962,-4.205513504237512]
[12.199999999999973,0.21293016874330772,7.3118379573564312,1263.4855990311912,{"$f":"VLOOKUP(A127-$B$2,'Ref. Coeff. Horiz.'!A:X,24)","v":180},{"$f":"VLOOKUP(A127-$B$2,'Ref. Coeff. Vertical'!A:X,24)","v":0},{"$f":"VLOOKUP(A127-$B$2,'Ref. Coeff. Horiz.'!A:X,23)","v":1},{"$f":"VLOOKUP(A127-$B$2,'Ref. Coeff. Vertical'!A:X,23)","v":1},1443.4855990311912,1263.4855990311912,null,null,null,null,null,null,80.01566903067669,80,{"$f":"'Antenna Data'!B125","v":-1.9900000000000002},1.9990748415691528,6.0165810716776154,"Max",6.0825798846098941E-2,-24.318243572423128,"",4.0265810716776151,"",-26.30824357242313,"",22.386581071677618,-7.9482435724231273,20.396581071677616,-9.9382435724231293]
[12.299999999999972,0.21467549799530206,7.3708513651141736,1273.6831158917291,{"$f":"VLOOKUP(A128-$B$2,'Ref. Coeff. Horiz.'!A:X,24)","v":180},{"$f":"VLOOKUP(A128-$B$2,'Ref. Coeff. Vertical'!A:X,24)","v":0},{"$f":"VLOOKUP(A128-$B$2,'Ref. Coeff. Horiz.'!A:X,23)","v":1},{"$f":"VLOOKUP(A128-$B$2,'Ref. Coeff. Vertical'!A:X,23)","v":1},1453.6831158917291,1273.6831158917291,null,null,null,null,null,null,79.344964506200029,79.3,{"$f":"'Antenna Data'!B126","v":-2.0200000000000014},1.9857587315959015,5.9585296173086544,"",0.23824831560923221,-12.459403221910385,"",3.938529617308653,"",-14.479403221910387,"",22.328529617308654,3.9105967780896158,20.308529617308654,1.8905967780896145]
[12.399999999999972,0.21642082724729639,7.4298423199803709,1283.876752892608,{"$f":"VLOOKUP(A129-$B$2,'Ref. Coeff. Horiz.'!A:X,24)","v":180},{"$f":"VLOOKUP(A129-$B$2,'Ref. Coeff. Vertical'!A:X,24)","v":0},{"$f":"VLOOKUP(A129-$B$2,'Ref. Coeff. Horiz.'!A:X,23)","v":1},{"$f":"VLOOKUP(A129-$B$2,'Ref. Coeff. Vertical'!A:X,23)","v":1},1463.876752892608,1283.876752892608,null,null,null,null,null,null,78.684912436581953,78.7,{"$f":"'Antenna Data'!B127","v":-2.0600000000000005},1.9567413020335869,5.8306682400291638,"",0.41371907970977151,-7.6658890009151248,"",3.7706682400291633,"",-9.7258890009151244,"",22.200668240029167,8.7041109990848753,20.140668240029164,6.6441109990848766]
[12.499999999999972,0.21816615649929069,7.4888106422583425,1294.0664789822415,{"$f":"VLOOKUP(A130-$B$2,'Ref. Coeff. Horiz.'!A:X,24)","v":180},{"$f":"VLOOKUP(A130-$B$2,'Ref. Coeff. Vertical'!A:X,24)","v":0},{"$f":"VLOOKUP(A130-$B$2,'Ref. Coeff. Horiz.'!A:X,23)","v":1},{"$f":"VLOOKUP(A130-$B$2,'Ref. Coeff. Vertical'!A:X,23)","v":1},1474.0664789822415,1294.0664789822415,null,null,null,null,null,null,78.035257113353779,78,{"$f":"'Antenna Data'!B128","v":-2.1000000000000014},1.9122699578899163,5.6309840448475645,"",0.58585288951382453,-4.6442284746264804,"",3.5309840448475631,"",-6.7442284746264818,"",22.000984044847566,11.725771525373521,19.900984044847565,9.6257715253735192]
[12.599999999999971,0.21991148575128502,7.547756152320356,1304.2522631209574,{"$f":"VLOOKUP(A131-$B$2,'Ref. Coeff. Horiz.'!A:X,24)","v":180},{"$f":"VLOOKUP(A131-$B$2,'Ref. Coeff. Vertical'!A:X,24)","v":0},{"$f":"VLOOKUP(A131-$B$2,'Ref. Coeff. Horiz.'!A:X,23)","v":1},{"$f":"VLOOKUP(A131-$B$2,'Ref. Coeff. Vertical'!A:X,23)","v":1},1484.2522631209574,1304.2522631209574,null,null,null,null,null,null,77.395750945360078,77.400000000000006,{"$f":"'Antenna Data'!B129","v":-2.1400000000000006},1.8527138909728424,5.3561671541552824,"",0.75329359362486692,-2.4607145200646192,"",3.2161671541552819,"",-4.6007145200646198,"",21.726167154155284,13.909285479935381,19.586167154155284,11.76928547993538]
[12.699999999999971,0.22165681500327936,7.6066786706081615,1314.4340742810903,{"$f":"VLOOKUP(A132-$B$2,'Ref. Coeff. Horiz.'!A:X,24)","v":180},{"$f":"VLOOKUP(A132-$B$2,'Ref. Coeff. Vertical'!A:X,24)","v":0},{"$f":"VLOOKUP(A132-$B$2,'Ref. Coeff. Horiz.'!A:X,23)","v":1},{"$f":"VLOOKUP(A132-$B$2,'Ref. Coeff. Vertical'!A:X,23)","v":1},1494.4340742810903,1314.4340742810903,null,null,null,null,null,null,76.766154139178951,76.8,{"$f":"'Antenna Data'!B130","v":-2.1700000000000017},1.7785608279701486,5.0013744587523377,"",0.91472475707730472,-0.77419133102330262,"",2.831374458752336,"",-2.9441913310233043,"",21.371374458752339,15.595808668976698,19.201374458752337,13.425808668976696]
[12.799999999999971,0.22340214425527366,7.6655780176335515,1324.6118814470776,{"$f":"VLOOKUP(A133-$B$2,'Ref. Coeff. Horiz.'!A:X,24)","v":180},{"$f":"VLOOKUP(A133-$B$2,'Ref. Coeff. Vertical'!A:X,24)","v":0},{"$f":"VLOOKUP(A133-$B$2,'Ref. Coeff. Horiz.'!A:X,23)","v":1},{"$f":"VLOOKUP(A133-$B$2,'Ref. Coeff. Vertical'!A:X,23)","v":1},1504.6118814470776,1324.6118814470776,null,null,null,null,null,null,76.146234394522594,76.099999999999994,{"$f":"'Antenna Data'!B131","v":-2.2100000000000009},1.6904128485116714,4.5598557009574661,"",1.0688799752950113,0.57857881898227059,"",2.3498557009574652,"",-1.6314211810177301,"",20.929855700957468,16.94857881898227,18.719855700957467,14.738578818982271]
[{"$f":"A133+0.1","v":12.89999999999997},{"$f":"A134*(PI()/180)","v":0.22514747350726799},{"$f":"(2*$B$1*SIN(B134-$C$2)*COS($C$2))","v":7.7244540139788995},{"$f":"(C134/$O$1)*360","v":1334.7856536155537},{"$f":"VLOOKUP(A134-$B$2,'Ref. Coeff. Horiz.'!A:X,24)","v":180},{"$f":"VLOOKUP(A134-$B$2,'Ref. Coeff. Vertical'!A:X,24)","v":0},{"$f":"VLOOKUP(A134-$B$2,'Ref. Coeff. Horiz.'!A:X,23)","v":1},{"$f":"VLOOKUP(A134-$B$2,'Ref. Coeff. Vertical'!A:X,23)","v":1},{"$f":"D134+E134","v":1514.7856536155537},{"$f":"D134+F134","v":1334.7856536155537},null,null,null,null,null,null,{"$f":"(((COS($C$2))/(TAN(B134-$C$2)))-(SIN($C$2)))*$B$1","v":75.535766613805279},{"$f":"ROUND(Q134,1)","v":75.5},{"$f":"'Antenna Data'!B132","v":-2.2500000000000018},{"$f":"SQRT((1+(2*G134*COS(I134*PI()/180)))+(G134^2))","v":1.588981310454034},{"$f":"IF(T134=0,-99,10*LOG(T134^2))","v":4.022375781599866},{"$f":"IF(AND((U135<U134),(U134>U133)),\"Max\",\"\")","v":""},{"$f":"SQRT((1+(2*H134*COS(J134*PI()/180)))+(H134^2))","v":1.2145527551439586},{"$f":"IF(W134=0,-99,10*LOG(W134^2))","v":1.6883276701069836},{"$f":"IF(AND((X135<X134),(X134>X133)),\"Max\",\"\")","v":""},{"$f":"U134+S134","v":1.7723757815998642},{"$f":"IF(AND((Z135<Z134),(Z134>Z133)),\"Max\",\"\")","v":""},{"$f":"X134+S134","v":-0.56167232989301819},{"$f":"IF(AND((AB135<AB134),(AB134>AB133)),\"Max\",\"\")","v":""},{"$f":"U134+$AD$2","v":20.392375781599867},{"$f":"X134+$AD$2","v":18.058327670106983},{"$f":"Z134+$AD$2","v":18.142375781599867},{"$f":"AB134+$AD$2","v":15.808327670106983}]
[12.99999999999997,0.22689280275926232,7.7833064802977123,1344.9553597954446,{"$f":"VLOOKUP(A135-$B$2,'Ref. Coeff. Horiz.'!A:X,24)","v":180},{"$f":"VLOOKUP(A135-$B$2,'Ref. Coeff. Vertical'!A:X,24)","v":0},{"$f":"VLOOKUP(A135-$B$2,'Ref. Coeff. Horiz.'!A:X,23)","v":1},{"$f":"VLOOKUP(A135-$B$2,'Ref. Coeff. Vertical'!A:X,23)","v":1},1524.9553597954446,1344.9553597954446,null,null,null,null,null,null,74.934532625116077,74.900000000000006,{"$f":"'Antenna Data'!B133","v":-2.2900000000000009},1.475080926582135,3.3763169487100169,"",1.3506058862723762,2.6105727630074438,"",1.0863169487100159,"",0.32057276300744286,"",19.746316948710017,18.980572763007444,17.456316948710018,16.690572763007445]
[13.099999999999969,0.22863813201125663,7.8421352373151665,1355.1209690080607,{"$f":"VLOOKUP(A136-$B$2,'Ref. Coeff. Horiz.'!A:X,24)","v":180},{"$f":"VLOOKUP(A136-$B$2,'Ref. Coeff. Vertical'!A:X,24)","v":0},{"$f":"VLOOKUP(A136-$B$2,'Ref. Coeff. Horiz.'!A:X,23)","v":1},{"$f":"VLOOKUP(A136-$B$2,'Ref. Coeff. Vertical'!A:X,23)","v":1},1535.1209690080607,1355.1209690080607,null,null,null,null,null,null,74.342320917879448,74.3,{"$f":"'Antenna Data'!B134","v":-2.3300000000000018},1.349623043480878,2.6042496958767591,"",1.4759802303911163,3.3816108097736852,"",0.27424969587675729,"",1.0516108097736834,"",18.974249695876761,19.751610809773688,16.644249695876759,17.421610809773686]
[13.199999999999969,0.23038346126325096,7.9009401058286706,1365.282450287194,{"$f":"VLOOKUP(A137-$B$2,'Ref. Coeff. Horiz.'!A:X,24)","v":180},{"$f":"VLOOKUP(A137-$B$2,'Ref. Coeff. Vertical'!A:X,24)","v":0},{"$f":"VLOOKUP(A137-$B$2,'Ref. Coeff. Horiz.'!A:X,23)","v":1},{"$f":"VLOOKUP(A137-$B$2,'Ref. Coeff. Vertical'!A:X,23)","v":1},1545.282450287194,1365.282450287194,null,null,null,null,null,null,73.75892639053167,73.8,{"$f":"'Antenna Data'!B135","v":-2.370000000000001},1.2136081794444016,1.68156989670067,"",1.5897028611616844,4.0263191176371675,"",-0.68843010329933096,"",1.6563191176371665,"",18.05156989670067,20.396319117637169,15.681569896700671,18.026319117637168]
[13.299999999999969,0.23212879051524529,7.9597209067083954,1375.4397726792106,{"$f":"VLOOKUP(A138-$B$2,'Ref. Coeff. Horiz.'!A:X,24)","v":180},{"$f":"VLOOKUP(A138-$B$2,'Ref. Coeff. Vertical'!A:X,24)","v":0},{"$f":"VLOOKUP(A138-$B$2,'Ref. Coeff. Horiz.'!A:X,23)","v":1},{"$f":"VLOOKUP(A138-$B$2,'Ref. Coeff. Vertical'!A:X,23)","v":1},1555.4397726792106,1375.4397726792106,null,null,null,null,null,null,73.184150109580017,73.2,{"$f":"'Antenna Data'!B136","v":-2.41},1.0681178839120464,0.57238373376152873,"",1.690894492884536,4.5623301934974227,"",-1.8376162662384714,"",2.1523301934974226,"",16.942383733761531,20.932330193497425,14.532383733761529,18.522330193497424]
[13.399999999999968,0.2338741197672396,8.0184774608978255,1385.5929052431443,{"$f":"VLOOKUP(A139-$B$2,'Ref. Coeff. Horiz.'!A:X,24)","v":180},{"$f":"VLOOKUP(A139-$B$2,'Ref. Coeff. Vertical'!A:X,24)","v":0},{"$f":"VLOOKUP(A139-$B$2,'Ref. Coeff. Horiz.'!A:X,23)","v":1},{"$f":"VLOOKUP(A139-$B$2,'Ref. Coeff. Vertical'!A:X,23)","v":1},1565.5929052431443,1385.5929052431443,null,null,null,null,null,null,72.617799079450506,72.599999999999994,{"$f":"'Antenna Data'!B137","v":-2.4600000000000009},0.91430598600788726,-0.77816873749379079,"",1.778776142169143,5.0024259168447021,"",-3.2381687374937917,"",2.5424259168447012,"",15.59183126250621,21.372425916844705,13.131831262506209,18.912425916844704]
[13.499999999999968,0.23561944901923393,8.0772095894143092,1395.7418170507926,{"$f":"VLOOKUP(A140-$B$2,'Ref. Coeff. Horiz.'!A:X,24)","v":180},{"$f":"VLOOKUP(A140-$B$2,'Ref. Coeff. Vertical'!A:X,24)","v":0},{"$f":"VLOOKUP(A140-$B$2,'Ref. Coeff. Horiz.'!A:X,23)","v":1},{"$f":"VLOOKUP(A140-$B$2,'Ref. Coeff. Vertical'!A:X,23)","v":1},1575.7418170507926,1395.7418170507926,null,null,null,null,null,null,72.059686022564406,72.099999999999994,{"$f":"'Antenna Data'!B138","v":-2.5000000000000018},0.75338930427697037,-2.4596109936840738,"",1.8526749731674625,5.3559846978599293,"",-4.9596109936840751,"",2.8559846978599275,"",13.910389006315928,21.725984697859928,11.410389006315926,19.225984697859928]
[13.599999999999968,0.23736477827122826,8.1359171133495956,1405.88647718681,{"$f":"VLOOKUP(A141-$B$2,'Ref. Coeff. Horiz.'!A:X,24)","v":180},{"$f":"VLOOKUP(A141-$B$2,'Ref. Coeff. Vertical'!A:X,24)","v":0},{"$f":"VLOOKUP(A141-$B$2,'Ref. Coeff. Horiz.'!A:X,23)","v":1},{"$f":"VLOOKUP(A141-$B$2,'Ref. Coeff. Vertical'!A:X,23)","v":1},1585.88647718681,1405.88647718681,null,null,null,null,null,null,71.509629169117474,71.5,{"$f":"'Antenna Data'!B139","v":-2.5400000000000009},0.58663789362352303,-4.6325977476661775,"",1.9120292837100985,5.6298907886794023,"",-7.1725977476661784,"",3.0898907886794014,"",11.737402252333823,21.999890788679402,9.1974022523338235,19.459890788679402]
[13.699999999999967,0.23911010752322256,8.1945998538703879,1416.0268547488029,{"$f":"VLOOKUP(A142-$B$2,'Ref. Coeff. Horiz.'!A:X,24)","v":180},{"$f":"VLOOKUP(A142-$B$2,'Ref. Coeff. Vertical'!A:X,24)","v":0},{"$f":"VLOOKUP(A142-$B$2,'Ref. Coeff. Horiz.'!A:X,23)","v":1},{"$f":"VLOOKUP(A142-$B$2,'Ref. Coeff. Vertical'!A:X,23)","v":1},1596.0268547488029,1416.0268547488029,null,null,null,null,null,null,70.967452056065881,71,{"$f":"'Antenna Data'!B140","v":-2.5800000000000018},0.41536490873690829,-7.6314039348177882,"",1.9563925967427851,5.8291202144524892,"",-10.21140393481779,"",3.2491202144524873,"",8.7385960651822128,22.199120214452492,6.1585960651822109,19.619120214452487]
[13.799999999999967,0.2408554367752169,8.2532576322188795,1426.1629188474224,{"$f":"VLOOKUP(A143-$B$2,'Ref. Coeff. Horiz.'!A:X,24)","v":180},{"$f":"VLOOKUP(A143-$B$2,'Ref. Coeff. Vertical'!A:X,24)","v":0},{"$f":"VLOOKUP(A143-$B$2,'Ref. Coeff. Horiz.'!A:X,23)","v":1},{"$f":"VLOOKUP(A143-$B$2,'Ref. Coeff. Vertical'!A:X,23)","v":1},1606.1629188474224,1426.1629188474224,null,null,null,null,null,null,70.432983334851713,70.400000000000006,{"$f":"'Antenna Data'!B141","v":-2.6300000000000008},0.24091616591822648,-12.36268114129323,"",1.9854368287606785,5.9571214708376194,"",-14.992681141293231,"",3.3271214708376187,"",4.0073188587067712,22.327121470837621,1.3773188587067704,19.697121470837619]
[13.899999999999967,0.24260076602721123,8.3118902697133059,1436.2946386064591,{"$f":"VLOOKUP(A144-$B$2,'Ref. Coeff. Horiz.'!A:X,24)","v":180},{"$f":"VLOOKUP(A144-$B$2,'Ref. Coeff. Vertical'!A:X,24)","v":0},{"$f":"VLOOKUP(A144-$B$2,'Ref. Coeff. Horiz.'!A:X,23)","v":1},{"$f":"VLOOKUP(A144-$B$2,'Ref. Coeff. Vertical'!A:X,23)","v":1},1616.2946386064591,1436.2946386064591,null,null,null,null,null,null,69.906056587428367,69.900000000000006,{"$f":"'Antenna Data'!B142","v":-2.6700000000000017},6.465948717695158E-2,-23.787354883169524,"",1.9989545144194785,6.016058239927375,"Max",-26.457354883169526,"",3.3460582399273733,"Max",-7.4173548831695229,22.386058239927376,-10.087354883169525,19.716058239927374]
[13.999999999999966,0.24434609527920556,8.3704975877484831,1446.4219831629377,{"$f":"VLOOKUP(A145-$B$2,'Ref. Coeff. Horiz.'!A:X,24)","v":180},{"$f":"VLOOKUP(A145-$B$2,'Ref. Coeff. Vertical'!A:X,24)","v":0},{"$f":"VLOOKUP(A145-$B$2,'Ref. Coeff. Horiz.'!A:X,23)","v":1},{"$f":"VLOOKUP(A145-$B$2,'Ref. Coeff. Vertical'!A:X,23)","v":1},1626.4219831629377,1446.4219831629377,null,null,null,null,null,null,69.386510150170281,69.400000000000006,{"$f":"'Antenna Data'!B143","v":-2.7200000000000006},0.11202608825751091,-19.013616570358415,"",1.9968600741037719,6.0069526727401312,"",-21.733616570358414,"",3.2869526727401306,"",-2.6436165703584145,22.376952672740131,-5.3636165703584133,19.656952672740132]
[14.099999999999966,0.24609142453119986,8.42907940779636,1456.5449216672109,{"$f":"VLOOKUP(A146-$B$2,'Ref. Coeff. Horiz.'!A:X,24)","v":180},{"$f":"VLOOKUP(A146-$B$2,'Ref. Coeff. Vertical'!A:X,24)","v":0},{"$f":"VLOOKUP(A146-$B$2,'Ref. Coeff. Horiz.'!A:X,23)","v":1},{"$f":"VLOOKUP(A146-$B$2,'Ref. Coeff. Vertical'!A:X,23)","v":1},1636.5449216672109,1456.5449216672109,null,null,null,null,null,null,68.874186945276136,68.900000000000006,{"$f":"'Antenna Data'!B144","v":-2.7600000000000016},0.28776113927588376,-10.819357115394308,"",1.9791901188927368,5.9297502815025291,"",-13.579357115394309,"",3.1697502815025276,"",5.5506428846056934,22.299750281502529,2.7906428846056919,19.539750281502528]
[14.199999999999966,0.2478367537831942,8.4876355514065498,1466.6634232830518,{"$f":"VLOOKUP(A147-$B$2,'Ref. Coeff. Horiz.'!A:X,24)","v":180},{"$f":"VLOOKUP(A147-$B$2,'Ref. Coeff. Vertical'!A:X,24)","v":0},{"$f":"VLOOKUP(A147-$B$2,'Ref. Coeff. Horiz.'!A:X,23)","v":1},{"$f":"VLOOKUP(A147-$B$2,'Ref. Coeff. Vertical'!A:X,23)","v":1},1646.6634232830518,1466.6634232830518,null,null,null,null,null,null,68.368934319295562,68.400000000000006,{"$f":"'Antenna Data'!B145","v":-2.8100000000000005},0.46117665944565384,-6.7226536168991462,"",1.9461027950194583,5.7833155278002675,"",-9.5326536168991467,"",2.973315527800267,"",9.6473463831008548,22.153315527800267,6.8373463831008543,19.343315527800268]
[14.299999999999965,0.24958208303518853,8.5461658402068856,1476.7774571877499,{"$f":"VLOOKUP(A148-$B$2,'Ref. Coeff. Horiz.'!A:X,24)","v":180},{"$f":"VLOOKUP(A148-$B$2,'Ref. Coeff. Vertical'!A:X,24)","v":0},{"$f":"VLOOKUP(A148-$B$2,'Ref. Coeff. Horiz.'!A:X,23)","v":1},{"$f":"VLOOKUP(A148-$B$2,'Ref. Coeff. Vertical'!A:X,23)","v":1},1656.7774571877499,1476.7774571877499,null,null,null,null,null,null,67.87060388843129,67.900000000000006,{"$f":"'Antenna Data'!B146","v":-2.8500000000000014},0.63092472992844661,-4.0004489902866114,"",1.8978761775112496,5.5653574897729214,"",-6.8504489902866128,"",2.71535748977292,"",12.36955100971339,21.935357489772922,9.5195510097133891,19.085357489772921]
[14.399999999999965,0.25132741228718286,8.6046700959039555,1486.8869925722033,{"$f":"VLOOKUP(A149-$B$2,'Ref. Coeff. Horiz.'!A:X,24)","v":180},{"$f":"VLOOKUP(A149-$B$2,'Ref. Coeff. Vertical'!A:X,24)","v":0},{"$f":"VLOOKUP(A149-$B$2,'Ref. Coeff. Horiz.'!A:X,23)","v":1},{"$f":"VLOOKUP(A149-$B$2,'Ref. Coeff. Vertical'!A:X,23)","v":1},1666.8869925722033,1486.8869925722033,null,null,null,null,null,null,67.379051390286733,67.400000000000006,{"$f":"'Antenna Data'!B147","v":-2.9000000000000004},0.79568898535171706,-1.9851330759049319,"",1.8349057301643468,5.2722751382896611,"",-4.8851330759049318,"",2.3722751382896607,"",14.38486692409507,21.642275138289662,11.484866924095069,18.742275138289664]
[14.499999999999964,0.25307274153917714,8.663148140283651,1496.9919986410146,{"$f":"VLOOKUP(A150-$B$2,'Ref. Coeff. Horiz.'!A:X,24)","v":180},{"$f":"VLOOKUP(A150-$B$2,'Ref. Coeff. Vertical'!A:X,24)","v":0},{"$f":"VLOOKUP(A150-$B$2,'Ref. Coeff. Horiz.'!A:X,23)","v":1},{"$f":"VLOOKUP(A150-$B$2,'Ref. Coeff. Vertical'!A:X,23)","v":1},1676.9919986410146,1496.9919986410146,null,null,null,null,null,null,66.894136541748352,66.900000000000006,{"$f":"'Antenna Data'!B148","v":-2.9500000000000011},0.95419479133133811,-0.40725916912877413,"",1.757700856288162,4.8988992859952898,"",-3.357259169128775,"",1.9488992859952887,"",15.962740830871226,21.268899285995289,13.012740830871227,18.31889928599529]
[14.599999999999964,0.25481807079117147,8.7215997952117092,1507.0924446125832,{"$f":"VLOOKUP(A151-$B$2,'Ref. Coeff. Horiz.'!A:X,24)","v":180},{"$f":"VLOOKUP(A151-$B$2,'Ref. Coeff. Vertical'!A:X,24)","v":0},{"$f":"VLOOKUP(A151-$B$2,'Ref. Coeff. Horiz.'!A:X,23)","v":1},{"$f":"VLOOKUP(A151-$B$2,'Ref. Coeff. Vertical'!A:X,23)","v":1},1687.0924446125832,1507.0924446125832,null,null,null,null,null,null,66.41572290270831,66.400000000000006,{"$f":"'Antenna Data'!B149","v":-2.99},1.1052190550768035,0.86896727956498232,"",1.6668805716952642,4.4380896940794194,"",-2.1210327204350179,"",1.4480896940794192,"",17.238967279564982,20.80808969407942,14.248967279564983,17.818089694079418]
[14.699999999999964,0.2565634000431658,8.7800248826342528,1517.1882997191988,{"$f":"VLOOKUP(A152-$B$2,'Ref. Coeff. Horiz.'!A:X,24)","v":180},{"$f":"VLOOKUP(A152-$B$2,'Ref. Coeff. Vertical'!A:X,24)","v":0},{"$f":"VLOOKUP(A152-$B$2,'Ref. Coeff. Horiz.'!A:X,23)","v":1},{"$f":"VLOOKUP(A152-$B$2,'Ref. Coeff. Vertical'!A:X,23)","v":1},1697.1882997191988,1517.1882997191988,null,null,null,null,null,null,65.943677745349646,65.900000000000006,{"$f":"'Antenna Data'!B150","v":-3.0400000000000009},1.2475995938514164,1.9215044940631778,"",1.5631683381586836,3.8801149973221567,"",-1.1184955059368231,"",0.84011499732215578,"",18.291504494063179,20.250114997322157,15.251504494063179,17.210114997322158]
[14.799999999999963,0.25830872929516013,8.8384232245783316,1527.2795332071355,{"$f":"VLOOKUP(A153-$B$2,'Ref. Coeff. Horiz.'!A:X,24)","v":180},{"$f":"VLOOKUP(A153-$B$2,'Ref. Coeff. Vertical'!A:X,24)","v":0},{"$f":"VLOOKUP(A153-$B$2,'Ref. Coeff. Horiz.'!A:X,23)","v":1},{"$f":"VLOOKUP(A153-$B$2,'Ref. Coeff. Vertical'!A:X,23)","v":1},1707.2795332071355,1527.2795332071355,null,null,null,null,null,null,65.477871928730522,65.5,{"$f":"'Antenna Data'!B151","v":-3.0900000000000016},1.380243989975366,2.7991172951789673,"",1.4473861019565148,3.2116879628357453,"",-0.29088270482103429,"",0.12168796283574368,"",19.169117295178967,19.581687962835748,16.079117295178968,16.491687962835744]
[14.899999999999963,0.26005405854715447,8.8967946431524663,1537.366114336746,{"$f":"VLOOKUP(A154-$B$2,'Ref. Coeff. Horiz.'!A:X,24)","v":180},{"$f":"VLOOKUP(A154-$B$2,'Ref. Coeff. Vertical'!A:X,24)","v":0},{"$f":"VLOOKUP(A154-$B$2,'Ref. Coeff. Horiz.'!A:X,23)","v":1},{"$f":"VLOOKUP(A154-$B$2,'Ref. Coeff. Vertical'!A:X,23)","v":1},1717.366114336746,1537.366114336746,null,null,null,null,null,null,65.018179778418911,65,{"$f":"'Antenna Data'!B152","v":-3.1400000000000006},1.5021378655138262,3.5341958768543478,"",1.3204475881266797,2.4144233529776398,"",0.3941958768543472,"",-0.7255766470223608,"",19.904195876854349,18.78442335297764,16.764195876854348,15.64442335297764]
[14.999999999999963,0.2617993877991488,8.9551389605471972,1547.4480123825556,{"$f":"VLOOKUP(A155-$B$2,'Ref. Coeff. Horiz.'!A:X,24)","v":180},{"$f":"VLOOKUP(A155-$B$2,'Ref. Coeff. Vertical'!A:X,24)","v":0},{"$f":"VLOOKUP(A155-$B$2,'Ref. Coeff. Horiz.'!A:X,23)","v":1},{"$f":"VLOOKUP(A155-$B$2,'Ref. Coeff. Vertical'!A:X,23)","v":1},1727.4480123825556,1547.4480123825556,null,null,null,null,null,null,64.564478970941735,64.599999999999994,{"$f":"'Antenna Data'!B153","v":-3.1900000000000013},1.6123525147462969,4.1491999860066642,"",1.1833509066170069,1.4622709569642769,"",0.9591999860066629,"",-1.7277290430357244,"",20.519199986006665,17.83227095696428,17.329199986006664,14.642270956964277]
[15.099999999999962,0.26354471705114313,9.013455999035612,1557.5251966333537,{"$f":"VLOOKUP(A156-$B$2,'Ref. Coeff. Horiz.'!A:X,24)","v":180},{"$f":"VLOOKUP(A156-$B$2,'Ref. Coeff. Vertical'!A:X,24)","v":0},{"$f":"VLOOKUP(A156-$B$2,'Ref. Coeff. Horiz.'!A:X,23)","v":1},{"$f":"VLOOKUP(A156-$B$2,'Ref. Coeff. Vertical'!A:X,23)","v":1},1737.5251966333537,1557.5251966333537,null,null,null,null,null,null,64.1166504228256,64.099999999999994,{"$f":"'Antenna Data'!B154","v":-3.24},1.7100518379239646,4.6601855129086109,"",1.0371705315968363,0.31700337932590261,"",1.4201855129086107,"",-2.9229966206740974,"",21.030185512908613,16.687003379325905,17.790185512908611,13.447003379325903]
[15.199999999999962,0.26529004630313741,9.0717455809738965,1567.5976363922894,{"$f":"VLOOKUP(A157-$B$2,'Ref. Coeff. Horiz.'!A:X,24)","v":180},{"$f":"VLOOKUP(A157-$B$2,'Ref. Coeff. Vertical'!A:X,24)","v":0},{"$f":"VLOOKUP(A157-$B$2,'Ref. Coeff. Horiz.'!A:X,23)","v":1},{"$f":"VLOOKUP(A157-$B$2,'Ref. Coeff. Vertical'!A:X,23)","v":1},1747.5976363922894,1567.5976363922894,null,null,null,null,null,null,63.674578184017356,63.7,{"$f":"'Antenna Data'!B155","v":-3.2900000000000009},1.7944985256421919,5.0788621170717327,"",0.88304871975899468,-1.0803066954068743,"",1.7888621170717318,"",-4.3703066954068754,"",21.448862117071734,15.289693304593127,18.158862117071735,11.999693304593126]
[15.299999999999962,0.26703537555513174,9.1300075288018796,1577.6653009769648,{"$f":"VLOOKUP(A158-$B$2,'Ref. Coeff. Horiz.'!A:X,24)","v":180},{"$f":"VLOOKUP(A158-$B$2,'Ref. Coeff. Vertical'!A:X,24)","v":0},{"$f":"VLOOKUP(A158-$B$2,'Ref. Coeff. Horiz.'!A:X,23)","v":1},{"$f":"VLOOKUP(A158-$B$2,'Ref. Coeff. Vertical'!A:X,23)","v":1},1757.6653009769648,1577.6653009769648,null,null,null,null,null,null,63.238149335484266,63.2,{"$f":"'Antenna Data'!B156","v":-3.3400000000000016},1.8650594493363044,5.4138535926766362,"",0.72218643745321087,-2.8270134362823947,"",2.0738535926766346,"",-6.1670134362823958,"",21.783853592676635,13.542986563717607,18.443853592676636,10.202986563717605]
[15.399999999999961,0.26878070480712607,9.1882416650435612,1587.7281597195272,{"$f":"VLOOKUP(A159-$B$2,'Ref. Coeff. Horiz.'!A:X,24)","v":180},{"$f":"VLOOKUP(A159-$B$2,'Ref. Coeff. Vertical'!A:X,24)","v":0},{"$f":"VLOOKUP(A159-$B$2,'Ref. Coeff. Horiz.'!A:X,23)","v":1},{"$f":"VLOOKUP(A159-$B$2,'Ref. Coeff. Vertical'!A:X,23)","v":1},1767.7281597195272,1587.7281597195272,null,null,null,null,null,null,62.807253890803892,62.8,{"$f":"'Antenna Data'!B157","v":-3.3900000000000006},1.9212102198986087,5.6714977641455508,"",0.55583386992620332,-5.1010998574025681,"",2.2814977641455503,"",-8.4910998574025687,"",22.041497764145554,11.268900142597433,18.651497764145553,7.8789001425974323]
[15.499999999999961,0.2705260340591204,9.2464478123076663,1597.7861819667646,{"$f":"VLOOKUP(A160-$B$2,'Ref. Coeff. Horiz.'!A:X,24)","v":180},{"$f":"VLOOKUP(A160-$B$2,'Ref. Coeff. Vertical'!A:X,24)","v":0},{"$f":"VLOOKUP(A160-$B$2,'Ref. Coeff. Horiz.'!A:X,23)","v":1},{"$f":"VLOOKUP(A160-$B$2,'Ref. Coeff. Vertical'!A:X,23)","v":1},1777.7861819667646,1597.7861819667646,null,null,null,null,null,null,62.381784701563291,62.4,{"$f":"'Antenna Data'!B158","v":-3.4500000000000011},1.9625388831592865,5.8563654008220336,"",0.38528058877641774,-8.2844574215904991,"",2.4063654008220325,"",-11.7344574215905,"",22.226365400822033,8.0855425784095019,18.776365400822034,4.6355425784095008]
[15.599999999999961,0.27227136331111473,9.3046257932881709,1607.8393370801957,{"$f":"VLOOKUP(A161-$B$2,'Ref. Coeff. Horiz.'!A:X,24)","v":180},{"$f":"VLOOKUP(A161-$B$2,'Ref. Coeff. Vertical'!A:X,24)","v":0},{"$f":"VLOOKUP(A161-$B$2,'Ref. Coeff. Horiz.'!A:X,23)","v":1},{"$f":"VLOOKUP(A161-$B$2,'Ref. Coeff. Vertical'!A:X,23)","v":1},1787.8393370801957,1607.8393370801957,null,null,null,null,null,null,61.961637366396651,62,{"$f":"'Antenna Data'!B159","v":-3.5000000000000018},1.9887487279178966,5.9715982972570361,"",0.21184545594594836,-13.479616942324276,"",2.4715982972570343,"Max",-16.979616942324277,"",22.341598297257036,2.8903830576757255,18.841598297257036,-0.60961694232427632]
[15.69999999999996,0.27401669256310907,9.3627754307648594,1617.8875944361675,{"$f":"VLOOKUP(A162-$B$2,'Ref. Coeff. Horiz.'!A:X,24)","v":180},{"$f":"VLOOKUP(A162-$B$2,'Ref. Coeff. Vertical'!A:X,24)","v":0},{"$f":"VLOOKUP(A162-$B$2,'Ref. Coeff. Horiz.'!A:X,23)","v":1},{"$f":"VLOOKUP(A162-$B$2,'Ref. Coeff. Vertical'!A:X,23)","v":1},1797.8875944361675,1617.8875944361675,null,null,null,null,null,null,61.546710143499318,61.5,{"$f":"'Antenna Data'!B160","v":-3.5500000000000007},1.9996601892993386,6.0191240087721471,"Max",3.6866344154707895E-2,-28.667398540070309,"",2.4691240087721464,"",-32.217398540070306,"",22.38912400877215,-12.297398540070308,18.839124008772146,-15.847398540070305]
[15.79999999999996,0.27576202181510334,9.4208965476038475,1627.9309234259447,{"$f":"VLOOKUP(A163-$B$2,'Ref. Coeff. Horiz.'!A:X,24)","v":180},{"$f":"VLOOKUP(A163-$B$2,'Ref. Coeff. Vertical'!A:X,24)","v":0},{"$f":"VLOOKUP(A163-$B$2,'Ref. Coeff. Horiz.'!A:X,23)","v":1},{"$f":"VLOOKUP(A163-$B$2,'Ref. Coeff. Vertical'!A:X,23)","v":1},1807.9309234259447,1627.9309234259447,null,null,null,null,null,null,61.136903866464081,61.1,{"$f":"'Antenna Data'!B161","v":-3.6100000000000012},1.9952118373808112,5.9997802553067912,"",0.13831024537425579,-17.182912964017568,"",2.3897802553067899,"",-20.792912964017567,"",22.369780255306793,-0.81291296401756696,18.75978025530679,-4.4229129640175664]
[15.899999999999959,0.27750735106709767,9.4789889667581395,1637.9692934558066,{"$f":"VLOOKUP(A164-$B$2,'Ref. Coeff. Horiz.'!A:X,24)","v":180},{"$f":"VLOOKUP(A164-$B$2,'Ref. Coeff. Vertical'!A:X,24)","v":0},{"$f":"VLOOKUP(A164-$B$2,'Ref. Coeff. Horiz.'!A:X,23)","v":1},{"$f":"VLOOKUP(A164-$B$2,'Ref. Coeff. Vertical'!A:X,23)","v":1},1817.9692934558066,1637.9692934558066,null,null,null,null,null,null,60.732121863293209,60.7,{"$f":"'Antenna Data'!B162","v":-3.66},1.9754604482374738,5.9133667771939518,"",0.31233958674717655,-10.10745937294902,"",2.2533667771939516,"",-13.76745937294902,"",22.283366777193955,6.2625406270509814,18.623366777193951,2.6025406270509812]
[15.999999999999959,0.27925268031909201,9.5370525112681488,1648.0026739471359,{"$f":"VLOOKUP(A165-$B$2,'Ref. Coeff. Horiz.'!A:X,24)","v":180},{"$f":"VLOOKUP(A165-$B$2,'Ref. Coeff. Vertical'!A:X,24)","v":0},{"$f":"VLOOKUP(A165-$B$2,'Ref. Coeff. Horiz.'!A:X,23)","v":1},{"$f":"VLOOKUP(A165-$B$2,'Ref. Coeff. Vertical'!A:X,23)","v":1},1828.0026739471359,1648.0026739471359,null,null,null,null,null,null,60.332269878447889,60.3,{"$f":"'Antenna Data'!B163","v":-3.7200000000000006},1.9405801617267999,5.7586317467415231,"",0.48388907397500824,-6.305083679585489,"",2.0386317467415225,"",-10.025083679585489,"",22.128631746741526,10.064916320414511,18.408631746741523,6.3449163204145123]
[16.099999999999959,0.28099800957108634,9.5950870042622469,1658.0310343365161,{"$f":"VLOOKUP(A166-$B$2,'Ref. Coeff. Horiz.'!A:X,24)","v":180},{"$f":"VLOOKUP(A166-$B$2,'Ref. Coeff. Vertical'!A:X,24)","v":0},{"$f":"VLOOKUP(A166-$B$2,'Ref. Coeff. Horiz.'!A:X,23)","v":1},{"$f":"VLOOKUP(A166-$B$2,'Ref. Coeff. Vertical'!A:X,23)","v":1},1838.0310343365161,1658.0310343365161,null,null,null,null,null,null,59.93725599780236,59.9,{"$f":"'Antenna Data'!B164","v":-3.7800000000000011},1.89086073741879,5.5331908815256163,"",0.65164842644486931,-3.7197329821660006,"",1.7531908815256152,"",-7.4997329821660017,"",21.903190881525617,12.650267017834,18.123190881525616,8.8702670178339993]
[16.19999999999996,0.28274333882308067,9.6530922689573089,1668.0543440758229,{"$f":"VLOOKUP(A167-$B$2,'Ref. Coeff. Horiz.'!A:X,24)","v":180},{"$f":"VLOOKUP(A167-$B$2,'Ref. Coeff. Vertical'!A:X,24)","v":0},{"$f":"VLOOKUP(A167-$B$2,'Ref. Coeff. Horiz.'!A:X,23)","v":1},{"$f":"VLOOKUP(A167-$B$2,'Ref. Coeff. Vertical'!A:X,23)","v":1},1848.0543440758229,1668.0543440758229,null,null,null,null,null,null,59.546990576377638,59.5,{"$f":"'Antenna Data'!B165","v":-3.8300000000000018},1.8267049270260933,5.2333680032754426,"",0.8143396770258714,-1.7838880917251696,"",1.4033680032754408,"",-5.6138880917251717,"",21.603368003275442,14.586111908274832,17.773368003275444,10.756111908274828]
[16.299999999999962,0.28448866807507506,9.7110681286592353,1678.0725726323155,{"$f":"VLOOKUP(A168-$B$2,'Ref. Coeff. Horiz.'!A:X,24)","v":180},{"$f":"VLOOKUP(A168-$B$2,'Ref. Coeff. Vertical'!A:X,24)","v":0},{"$f":"VLOOKUP(A168-$B$2,'Ref. Coeff. Horiz.'!A:X,23)","v":1},{"$f":"VLOOKUP(A168-$B$2,'Ref. Coeff. Vertical'!A:X,23)","v":1},1858.0725726323155,1678.0725726323155,null,null,null,null,null,null,59.161386168735383,59.2,{"$f":"'Antenna Data'!B166","v":-3.8900000000000006},1.7486249884410254,4.8539336062276899,"",0.97072686673421371,-0.25805900547890648,"",0.96393360622768931,"",-4.148059005478907,"",21.223933606227689,16.111940994521095,17.333933606227689,12.221940994521095]
[16.399999999999963,0.28623399732706939,9.7690144067635032,1688.0856894887331,{"$f":"VLOOKUP(A169-$B$2,'Ref. Coeff. Horiz.'!A:X,24)","v":180},{"$f":"VLOOKUP(A169-$B$2,'Ref. Coeff. Vertical'!A:X,24)","v":0},{"$f":"VLOOKUP(A169-$B$2,'Ref. Coeff. Horiz.'!A:X,23)","v":1},{"$f":"VLOOKUP(A169-$B$2,'Ref. Coeff. Vertical'!A:X,23)","v":1},1868.0856894887331,1688.0856894887331,null,null,null,null,null,null,58.780357461918229,58.8,{"$f":"'Antenna Data'!B167","v":-3.9500000000000011},1.6572383729938662,4.3876996147378842,"",1.1196253726477636,0.98145463539762612,"",0.4376996147378831,"",-2.9685453646023747,"",20.757699614737884,17.351454635397626,16.807699614737885,13.401454635397627]
[16.499999999999964,0.28797932657906378,9.8269309267557023,1698.0936641433852,{"$f":"VLOOKUP(A170-$B$2,'Ref. Coeff. Horiz.'!A:X,24)","v":180},{"$f":"VLOOKUP(A170-$B$2,'Ref. Coeff. Vertical'!A:X,24)","v":0},{"$f":"VLOOKUP(A170-$B$2,'Ref. Coeff. Horiz.'!A:X,23)","v":1},{"$f":"VLOOKUP(A170-$B$2,'Ref. Coeff. Vertical'!A:X,23)","v":1},1878.0936641433852,1698.0936641433852,null,null,null,null,null,null,58.403821210828688,58.4,{"$f":"'Antenna Data'!B168","v":-4.0100000000000016},1.5532626237597955,3.8248978384207923,"",1.2599107990769964,2.0067959683834129,"",-0.18510216157920922,"",-2.0032040316165887,"",20.194897838420793,18.376795968383412,16.184897838420792,14.366795968383412]
[16.599999999999966,0.28972465583105811,9.8848175122120665,1708.096466110245,{"$f":"VLOOKUP(A171-$B$2,'Ref. Coeff. Horiz.'!A:X,24)","v":180},{"$f":"VLOOKUP(A171-$B$2,'Ref. Coeff. Vertical'!A:X,24)","v":0},{"$f":"VLOOKUP(A171-$B$2,'Ref. Coeff. Horiz.'!A:X,23)","v":1},{"$f":"VLOOKUP(A171-$B$2,'Ref. Coeff. Vertical'!A:X,23)","v":1},1888.096466110245,1708.096466110245,null,null,null,null,null,null,58.031696175943843,58,{"$f":"'Antenna Data'!B169","v":-4.07},1.4375095286136119,3.1522146423373143,"",1.3905273658382533,2.8635908056158992,"",-0.91778535766268599,"",-1.2064091943841011,"",19.522214642337314,19.233590805615901,15.452214642337315,15.1635908056159]
[16.699999999999967,0.29146998508305244,9.9426739868000169,1718.0940649190427,{"$f":"VLOOKUP(A172-$B$2,'Ref. Coeff. Horiz.'!A:X,24)","v":180},{"$f":"VLOOKUP(A172-$B$2,'Ref. Coeff. Vertical'!A:X,24)","v":0},{"$f":"VLOOKUP(A172-$B$2,'Ref. Coeff. Horiz.'!A:X,23)","v":1},{"$f":"VLOOKUP(A172-$B$2,'Ref. Coeff. Vertical'!A:X,23)","v":1},1898.0940649190427,1718.0940649190427,null,null,null,null,null,null,57.663903063267618,57.7,{"$f":"'Antenna Data'!B170","v":-4.1300000000000008},1.3108785772189928,2.351249322955689,"",1.5104957318007588,3.5823900485514666,"",-1.7787506770443118,"",-0.54760995144853419,"",18.721249322955689,19.952390048551468,14.59124932295569,15.822390048551467]
[16.799999999999969,0.29321531433504683,10.000500174278699,1728.086430115359,{"$f":"VLOOKUP(A173-$B$2,'Ref. Coeff. Horiz.'!A:X,24)","v":180},{"$f":"VLOOKUP(A173-$B$2,'Ref. Coeff. Vertical'!A:X,24)","v":0},{"$f":"VLOOKUP(A173-$B$2,'Ref. Coeff. Horiz.'!A:X,23)","v":1},{"$f":"VLOOKUP(A173-$B$2,'Ref. Coeff. Vertical'!A:X,23)","v":1},1908.086430115359,1728.086430115359,null,null,null,null,null,null,57.300364466427872,57.3,{"$f":"'Antenna Data'!B171","v":-4.1900000000000013},1.1743497762027832,1.3959493871278574,"",1.6189201966534605,4.1845088217969604,"",-2.7940506128721436,"",-5.4911782030409029E-3,"",17.765949387127858,20.554508821796961,13.575949387127856,16.36450882179696]
[16.89999999999997,0.29496064358704116,10.058295898499518,1738.0735312607167,{"$f":"VLOOKUP(A174-$B$2,'Ref. Coeff. Horiz.'!A:X,24)","v":180},{"$f":"VLOOKUP(A174-$B$2,'Ref. Coeff. Vertical'!A:X,24)","v":0},{"$f":"VLOOKUP(A174-$B$2,'Ref. Coeff. Horiz.'!A:X,23)","v":1},{"$f":"VLOOKUP(A174-$B$2,'Ref. Coeff. Vertical'!A:X,23)","v":1},1918.0735312607167,1738.0735312607167,null,null,null,null,null,null,56.941004810829007,56.9,{"$f":"'Antenna Data'!B172","v":-4.2500000000000018},1.0289758813682273,0.24810390513304553,"",1.7149952290203241,4.6852583241585428,"",-4.0018960948669564,"",0.43525832415854104,"",16.618103905133047,21.055258324158544,12.368103905133044,16.805258324158544]
[16.999999999999972,0.29670597283903555,10.116060983406676,1748.0553379326734,{"$f":"VLOOKUP(A175-$B$2,'Ref. Coeff. Horiz.'!A:X,24)","v":180},{"$f":"VLOOKUP(A175-$B$2,'Ref. Coeff. Vertical'!A:X,24)","v":0},{"$f":"VLOOKUP(A175-$B$2,'Ref. Coeff. Horiz.'!A:X,23)","v":1},{"$f":"VLOOKUP(A175-$B$2,'Ref. Coeff. Vertical'!A:X,23)","v":1},1928.0553379326734,1748.0553379326734,null,null,null,null,null,null,56.585750299775732,56.6,{"$f":"'Antenna Data'!B173","v":-4.3100000000000005},0.87587410991236103,-1.1511662168055854,"",1.7980112745990302,5.0958482138039596,"",-5.4611662168055854,"",0.78584821380395908,"",15.218833783194416,21.465848213803959,10.908833783194416,17.15584821380396]
[17.099999999999973,0.29845130209102988,10.173795253037701,1758.0318197249146,{"$f":"VLOOKUP(A176-$B$2,'Ref. Coeff. Horiz.'!A:X,24)","v":180},{"$f":"VLOOKUP(A176-$B$2,'Ref. Coeff. Vertical'!A:X,24)","v":0},{"$f":"VLOOKUP(A176-$B$2,'Ref. Coeff. Horiz.'!A:X,23)","v":1},{"$f":"VLOOKUP(A176-$B$2,'Ref. Coeff. Vertical'!A:X,23)","v":1},1938.0318197249146,1758.0318197249146,null,null,null,null,null,null,56.234528862487274,56.2,{"$f":"'Antenna Data'!B174","v":-4.3800000000000008},0.71621739920386662,-2.8991026559700641,"",1.8673598038614998,5.4245601219857509,"",-7.2791026559700649,"",1.0445601219857501,"",13.470897344029936,21.794560121985754,9.090897344029937,17.414560121985751]
[17.199999999999974,0.30019663134302421,10.231498531524002,1768.0029462473474,{"$f":"VLOOKUP(A177-$B$2,'Ref. Coeff. Horiz.'!A:X,24)","v":180},{"$f":"VLOOKUP(A177-$B$2,'Ref. Coeff. Vertical'!A:X,24)","v":0},{"$f":"VLOOKUP(A177-$B$2,'Ref. Coeff. Horiz.'!A:X,23)","v":1},{"$f":"VLOOKUP(A177-$B$2,'Ref. Coeff. Vertical'!A:X,23)","v":1},1948.0029462473474,1768.0029462473474,null,null,null,null,null,null,55.887270103924884,55.9,{"$f":"'Antenna Data'!B175","v":-4.4400000000000013},0.55122528172510288,-5.1734174380495679,"",1.9225375649872429,5.6774966871004464,"",-9.6134174380495701,"",1.2374966871004451,"",11.196582561950432,22.047496687100448,6.7565825619504309,17.607496687100447]
[17.299999999999976,0.3019419605950186,10.289170643091381,1777.9686871261906,{"$f":"VLOOKUP(A178-$B$2,'Ref. Coeff. Horiz.'!A:X,24)","v":180},{"$f":"VLOOKUP(A178-$B$2,'Ref. Coeff. Vertical'!A:X,24)","v":0},{"$f":"VLOOKUP(A178-$B$2,'Ref. Coeff. Horiz.'!A:X,23)","v":1},{"$f":"VLOOKUP(A178-$B$2,'Ref. Coeff. Vertical'!A:X,23)","v":1},1957.9686871261906,1777.9686871261906,null,null,null,null,null,null,55.543905256359636,55.5,{"$f":"'Antenna Data'!B176","v":-4.5100000000000016},0.38215444826669298,-8.3552216174882759,"",1.9631500140513918,5.8590697493657462,"",-12.865221617488277,"",1.3490697493657446,"",8.0147783825117251,22.229069749365749,3.5047783825117236,17.719069749365744]
[17.399999999999977,0.30368728984701293,10.346811412060585,1787.9290120040689,{"$f":"VLOOKUP(A179-$B$2,'Ref. Coeff. Horiz.'!A:X,24)","v":180},{"$f":"VLOOKUP(A179-$B$2,'Ref. Coeff. Vertical'!A:X,24)","v":0},{"$f":"VLOOKUP(A179-$B$2,'Ref. Coeff. Horiz.'!A:X,23)","v":1},{"$f":"VLOOKUP(A179-$B$2,'Ref. Coeff. Vertical'!A:X,23)","v":1},1967.9290120040689,1787.9290120040689,null,null,null,null,null,null,55.204367132610166,55.2,{"$f":"'Antenna Data'!B177","v":-4.57},0.21028907336997107,-13.543665853778112,"",1.9889139010075823,5.9723196632263766,"",-18.113665853778112,"",1.4023196632263764,"Max",2.8263341462218889,22.342319663226377,-1.7436658537781113,17.772319663226376]
[17.499999999999979,0.30543261909900732,10.404420662847839,1797.8838905401067,{"$f":"VLOOKUP(A180-$B$2,'Ref. Coeff. Horiz.'!A:X,24)","v":180},{"$f":"VLOOKUP(A180-$B$2,'Ref. Coeff. Vertical'!A:X,24)","v":0},{"$f":"VLOOKUP(A180-$B$2,'Ref. Coeff. Horiz.'!A:X,23)","v":1},{"$f":"VLOOKUP(A180-$B$2,'Ref. Coeff. Vertical'!A:X,23)","v":1},1977.8838905401067,1797.8838905401067,null,null,null,null,null,null,54.868590080883649,54.9,{"$f":"'Antenna Data'!B178","v":-4.6400000000000006},3.6930978333293785E-2,-28.652183747265767,"",1.9996589966390135,6.0191188282324219,"Max",-33.292183747265767,"",1.3791188282324214,"",-12.282183747265766,22.389118828232423,-16.922183747265766,17.749118828232422]
[17.59999999999998,0.30717794835100165,10.46199821996537,1807.8332924100157,{"$f":"VLOOKUP(A181-$B$2,'Ref. Coeff. Horiz.'!A:X,24)","v":180},{"$f":"VLOOKUP(A181-$B$2,'Ref. Coeff. Vertical'!A:X,24)","v":0},{"$f":"VLOOKUP(A181-$B$2,'Ref. Coeff. Horiz.'!A:X,23)","v":1},{"$f":"VLOOKUP(A181-$B$2,'Ref. Coeff. Vertical'!A:X,23)","v":1},1987.8332924100157,1807.8332924100157,null,null,null,null,null,null,54.536509941156439,54.5,{"$f":"'Antenna Data'!B179","v":-4.7000000000000011},0.13661029217401111,-17.290331596399,"",1.9953289523464874,6.0002900847864158,"",-21.990331596399002,"",1.3002900847864147,"",-0.92033159639899864,22.370290084786419,-5.6203315963990015,17.670290084786416]
[17.699999999999982,0.30892327760299598,10.519543908021951,1817.7771873061929,{"$f":"VLOOKUP(A182-$B$2,'Ref. Coeff. Horiz.'!A:X,24)","v":180},{"$f":"VLOOKUP(A182-$B$2,'Ref. Coeff. Vertical'!A:X,24)","v":0},{"$f":"VLOOKUP(A182-$B$2,'Ref. Coeff. Horiz.'!A:X,23)","v":1},{"$f":"VLOOKUP(A182-$B$2,'Ref. Coeff. Vertical'!A:X,23)","v":1},1997.7771873061929,1817.7771873061929,null,null,null,null,null,null,54.208064003033179,54.2,{"$f":"'Antenna Data'!B180","v":-4.7700000000000014},0.30902740371096504,-10.200060136244176,"",1.9759812913475816,5.9156565671478418,"",-14.970060136244177,"",1.1456565671478405,"",6.1699398637558254,22.285656567147843,1.399939863755824,17.515656567147843]
[17.799999999999983,0.31066860685499037,10.577057551723446,1827.7155449378115,{"$f":"VLOOKUP(A183-$B$2,'Ref. Coeff. Horiz.'!A:X,24)","v":180},{"$f":"VLOOKUP(A183-$B$2,'Ref. Coeff. Vertical'!A:X,24)","v":0},{"$f":"VLOOKUP(A183-$B$2,'Ref. Coeff. Horiz.'!A:X,23)","v":1},{"$f":"VLOOKUP(A183-$B$2,'Ref. Coeff. Vertical'!A:X,23)","v":1},2007.7155449378115,1827.7155449378115,null,null,null,null,null,null,53.883190965026444,53.9,{"$f":"'Antenna Data'!B181","v":-4.8400000000000016},0.47902510015089328,-6.3928345930269339,"",1.9417865365238853,5.7640297111798606,"",-11.232834593026936,"",0.92402971117985899,"",9.977165406973068,22.134029711179863,5.1371654069730646,17.29402971117986]
[17.899999999999984,0.3124139361069847,10.634538975873316,1837.6483350309088,{"$f":"VLOOKUP(A184-$B$2,'Ref. Coeff. Horiz.'!A:X,24)","v":180},{"$f":"VLOOKUP(A184-$B$2,'Ref. Coeff. Vertical'!A:X,24)","v":0},{"$f":"VLOOKUP(A184-$B$2,'Ref. Coeff. Horiz.'!A:X,23)","v":1},{"$f":"VLOOKUP(A184-$B$2,'Ref. Coeff. Vertical'!A:X,23)","v":1},2017.6483350309088,1837.6483350309088,null,null,null,null,null,null,53.561830895201346,53.6,{"$f":"'Antenna Data'!B182","v":-4.91},0.64532993155998919,-3.8043638213699023,"",1.8930264867224587,5.5431338107807786,"",-8.7143638213699024,"",0.63313381078077846,"",12.565636178630099,21.913133810780778,7.6556361786300986,17.003133810780781]
[17.999999999999986,0.31415926535897909,10.691988005373172,1847.575527328484,{"$f":"VLOOKUP(A185-$B$2,'Ref. Coeff. Horiz.'!A:X,24)","v":180},{"$f":"VLOOKUP(A185-$B$2,'Ref. Coeff. Vertical'!A:X,24)","v":0},{"$f":"VLOOKUP(A185-$B$2,'Ref. Coeff. Horiz.'!A:X,23)","v":1},{"$f":"VLOOKUP(A185-$B$2,'Ref. Coeff. Vertical'!A:X,23)","v":1},2027.575527328484,1847.575527328484,null,null,null,null,null,null,53.243925193131929,53.2,{"$f":"'Antenna Data'!B183","v":-4.9800000000000004},0.80669976877351135,-1.8657613507998858,"",1.8300916597429644,5.2494568363976057,"",-6.8457613507998865,"",0.26945683639760531,"",14.504238649200115,21.619456836397607,9.5242386492001145,16.639456836397606]
[18.099999999999987,0.31590459461097342,10.749404465223312,1857.4970915905881,{"$f":"VLOOKUP(A186-$B$2,'Ref. Coeff. Horiz.'!A:X,24)","v":180},{"$f":"VLOOKUP(A186-$B$2,'Ref. Coeff. Vertical'!A:X,24)","v":0},{"$f":"VLOOKUP(A186-$B$2,'Ref. Coeff. Horiz.'!A:X,23)","v":1},{"$f":"VLOOKUP(A186-$B$2,'Ref. Coeff. Vertical'!A:X,23)","v":1},2037.4970915905881,1857.4970915905881,null,null,null,null,null,null,52.929416553118699,52.9,{"$f":"'Antenna Data'!B184","v":-5.0500000000000007},0.9619330337213311,-0.33710321823761391,"",1.7534779264751725,4.8780060633710445,"",-5.3871032182376144,"",-0.17199393662895623,"",16.032896781762386,21.248006063371044,10.982896781762387,16.198006063371047]
[18.199999999999989,0.31764992386296775,10.806788180523238,1867.4129975944154,{"$f":"VLOOKUP(A187-$B$2,'Ref. Coeff. Horiz.'!A:X,24)","v":180},{"$f":"VLOOKUP(A187-$B$2,'Ref. Coeff. Vertical'!A:X,24)","v":0},{"$f":"VLOOKUP(A187-$B$2,'Ref. Coeff. Horiz.'!A:X,23)","v":1},{"$f":"VLOOKUP(A187-$B$2,'Ref. Coeff. Vertical'!A:X,23)","v":1},2047.4129975944154,1867.4129975944154,null,null,null,null,null,null,52.618248928618748,52.6,{"$f":"'Antenna Data'!B185","v":-5.120000000000001},1.1098775772299754,0.9055015493252011,"",1.6637823666459846,4.4219303435872677,"",-4.2144984506747996,"",-0.69806965641273333,"",17.275501549325202,20.791930343587268,12.155501549325201,15.671930343587267]
[18.29999999999999,0.31939525311496214,10.864138976472205,1877.3232151343968,{"$f":"VLOOKUP(A188-$B$2,'Ref. Coeff. Horiz.'!A:X,24)","v":180},{"$f":"VLOOKUP(A188-$B$2,'Ref. Coeff. Vertical'!A:X,24)","v":0},{"$f":"VLOOKUP(A188-$B$2,'Ref. Coeff. Horiz.'!A:X,23)","v":1},{"$f":"VLOOKUP(A188-$B$2,'Ref. Coeff. Vertical'!A:X,23)","v":1},2057.3232151343968,1877.3232151343968,null,null,null,null,null,null,52.310367497842066,52.3,{"$f":"'Antenna Data'!B186","v":-5.1900000000000013},1.2494391392041373,1.9343021255912283,"",1.5616983823468658,3.8719432088664996,"",-3.255697874408773,"",-1.3180567911335017,"",18.304302125591228,20.241943208866502,13.114302125591228,15.051943208866499]
[18.399999999999991,0.32114058236695647,10.92145667836974,1887.2277140222911,{"$f":"VLOOKUP(A189-$B$2,'Ref. Coeff. Horiz.'!A:X,24)","v":180},{"$f":"VLOOKUP(A189-$B$2,'Ref. Coeff. Vertical'!A:X,24)","v":0},{"$f":"VLOOKUP(A189-$B$2,'Ref. Coeff. Horiz.'!A:X,23)","v":1},{"$f":"VLOOKUP(A189-$B$2,'Ref. Coeff. Vertical'!A:X,23)","v":1},2067.2277140222914,1887.2277140222911,null,null,null,null,null,null,52.005718630469872,52,{"$f":"'Antenna Data'!B187","v":-5.2700000000000014},1.3795893297395587,2.7949965342441057,"",1.4480101109000454,3.2154318876751309,"",-2.4750034657558957,"",-2.0545681123248705,"",19.164996534244107,19.585431887675131,13.894996534244106,14.31543188767513]
[18.499999999999993,0.32288591161895086,10.978741111616184,1897.1264640872766,{"$f":"VLOOKUP(A190-$B$2,'Ref. Coeff. Horiz.'!A:X,24)","v":180},{"$f":"VLOOKUP(A190-$B$2,'Ref. Coeff. Vertical'!A:X,24)","v":0},{"$f":"VLOOKUP(A190-$B$2,'Ref. Coeff. Horiz.'!A:X,23)","v":1},{"$f":"VLOOKUP(A190-$B$2,'Ref. Coeff. Vertical'!A:X,23)","v":1},2077.1264640872769,1897.1264640872766,null,null,null,null,null,null,51.704249855452076,51.7,{"$f":"'Antenna Data'!B188","v":-5.3400000000000016},1.4993730738077744,3.5181941477862022,"",1.3235861836466287,2.4350445019209097,"",-1.8218058522137994,"",-2.9049554980790919,"",19.888194147786201,18.805044501920911,14.548194147786202,13.465044501920909]
[18.599999999999994,0.32463124087094519,11.035992101713218,1907.019435176044,{"$f":"VLOOKUP(A191-$B$2,'Ref. Coeff. Horiz.'!A:X,24)","v":180},{"$f":"VLOOKUP(A191-$B$2,'Ref. Coeff. Vertical'!A:X,24)","v":0},{"$f":"VLOOKUP(A191-$B$2,'Ref. Coeff. Horiz.'!A:X,23)","v":1},{"$f":"VLOOKUP(A191-$B$2,'Ref. Coeff. Vertical'!A:X,23)","v":1},2087.0194351760438,1907.019435176044,null,null,null,null,null,null,51.405909829843793,51.4,{"$f":"'Antenna Data'!B189","v":-5.4200000000000017},1.607915466646554,4.1252642547416114,"",1.1893728818662326,1.5063606440837951,"",-1.2947357452583903,"",-3.9136393559162066,"",20.495264254741613,17.876360644083796,15.075264254741612,12.456360644083794]
[18.699999999999996,0.32637657012293952,11.093209474264395,1916.9065971528873,{"$f":"VLOOKUP(A192-$B$2,'Ref. Coeff. Horiz.'!A:X,24)","v":180},{"$f":"VLOOKUP(A192-$B$2,'Ref. Coeff. Vertical'!A:X,24)","v":0},{"$f":"VLOOKUP(A192-$B$2,'Ref. Coeff. Horiz.'!A:X,23)","v":1},{"$f":"VLOOKUP(A192-$B$2,'Ref. Coeff. Vertical'!A:X,23)","v":1},2096.9065971528871,1916.9065971528873,null,null,null,null,null,null,51.110648308641551,51.1,{"$f":"'Antenna Data'!B190","v":-5.49},1.7044279918485785,4.6315731602462105,"",1.0463867452347639,0.39384459460651822,"",-0.85842683975378975,"",-5.0961554053934819,"",21.00157316024621,16.763844594606518,15.511573160246211,11.273844594606519]
[18.799999999999997,0.32812189937493391,11.150393054975682,1926.7879198997975,{"$f":"VLOOKUP(A193-$B$2,'Ref. Coeff. Horiz.'!A:X,24)","v":180},{"$f":"VLOOKUP(A193-$B$2,'Ref. Coeff. Vertical'!A:X,24)","v":0},{"$f":"VLOOKUP(A193-$B$2,'Ref. Coeff. Horiz.'!A:X,23)","v":1},{"$f":"VLOOKUP(A193-$B$2,'Ref. Coeff. Vertical'!A:X,23)","v":1},2106.7879198997975,1926.7879198997975,null,null,null,null,null,null,50.818416115582338,50.8,{"$f":"'Antenna Data'!B191","v":-5.57},1.7882140593253111,5.0483901014950199,"",0.89570669196522534,-0.95668362182409494,"",-0.52160989850498041,"",-6.5266836218240956,"",21.418390101495021,15.413316378175907,15.848390101495021,9.8433163781759063]
[18.899999999999999,0.32986722862692824,11.20754266965597,1936.6633733165515,{"$f":"VLOOKUP(A194-$B$2,'Ref. Coeff. Horiz.'!A:X,24)","v":180},{"$f":"VLOOKUP(A194-$B$2,'Ref. Coeff. Vertical'!A:X,24)","v":0},{"$f":"VLOOKUP(A194-$B$2,'Ref. Coeff. Horiz.'!A:X,23)","v":1},{"$f":"VLOOKUP(A194-$B$2,'Ref. Coeff. Vertical'!A:X,23)","v":1},2116.6633733165518,1936.6633733165515,null,null,null,null,null,null,50.529165114869535,50.5,{"$f":"'Antenna Data'!B192","v":-5.65},1.8586738257894362,5.3840636632328511,"",0.73846571303295128,-2.6333932835814973,"",-0.26593633676714923,"",-8.2833932835814981,"",21.754063663232852,13.736606716418503,16.10406366323285,8.0866067164185029]
[19,0.33161255787892263,11.264658144217622,1946.5329273208049,{"$f":"VLOOKUP(A195-$B$2,'Ref. Coeff. Horiz.'!A:X,24)","v":180},{"$f":"VLOOKUP(A195-$B$2,'Ref. Coeff. Vertical'!A:X,24)","v":0},{"$f":"VLOOKUP(A195-$B$2,'Ref. Coeff. Horiz.'!A:X,23)","v":1},{"$f":"VLOOKUP(A195-$B$2,'Ref. Coeff. Vertical'!A:X,23)","v":1},2126.5329273208049,1946.5329273208049,null,null,null,null,null,null,50.242848183791736,50.2,{"$f":"'Antenna Data'!B193","v":-5.73},1.9153082661033629,5.6447736600177736,"",0.57584220563982003,-4.7939301443259055,"",-8.522633998222684E-2,"",-10.523930144325906,"",22.014773660017774,11.576069855674096,16.284773660017773,5.8460698556740951]
[19.100000000000001,0.33335788713091696,11.321739304676996,1956.3965518481846,{"$f":"VLOOKUP(A196-$B$2,'Ref. Coeff. Horiz.'!A:X,24)","v":180},{"$f":"VLOOKUP(A196-$B$2,'Ref. Coeff. Vertical'!A:X,24)","v":0},{"$f":"VLOOKUP(A196-$B$2,'Ref. Coeff. Horiz.'!A:X,23)","v":1},{"$f":"VLOOKUP(A196-$B$2,'Ref. Coeff. Vertical'!A:X,23)","v":1},2136.3965518481846,1956.3965518481846,null,null,null,null,null,null,49.959419186201785,50,{"$f":"'Antenna Data'!B194","v":-5.8100000000000005},1.9577224697369884,5.8350225092540402,"",0.40905101330629184,-7.7644505432325595,"",2.5022509254039704E-2,"",-13.57445054323256,"",22.205022509254043,8.6055494567674415,16.395022509254041,2.795549456767441]
[19.200000000000003,0.3351032163829113,11.37878597715498,1966.2542168523805,{"$f":"VLOOKUP(A197-$B$2,'Ref. Coeff. Horiz.'!A:X,24)","v":180},{"$f":"VLOOKUP(A197-$B$2,'Ref. Coeff. Vertical'!A:X,24)","v":0},{"$f":"VLOOKUP(A197-$B$2,'Ref. Coeff. Horiz.'!A:X,23)","v":1},{"$f":"VLOOKUP(A197-$B$2,'Ref. Coeff. Vertical'!A:X,23)","v":1},2146.2542168523805,1966.2542168523805,null,null,null,null,null,null,49.678832946824492,49.7,{"$f":"'Antenna Data'!B195","v":-5.8900000000000006},1.9856281426182885,5.9579583904381277,"",0.23933424168355877,-12.419903243747081,"",6.7958390438127125E-2,"Max",-18.30990324374708,"",22.327958390438127,3.9500967562529201,16.437958390438126,-1.9399032437470787]
[{"$f":"A197+0.1","v":19.300000000000004},{"$f":"A198*(PI()/180)","v":0.33684854563490568},{"$f":"(2*$B$1*SIN(B198-$C$2)*COS($C$2))","v":11.435797987877519},{"$f":"(C198/$O$1)*360","v":1976.1058923052351},{"$f":"VLOOKUP(A198-$B$2,'Ref. Coeff. Horiz.'!A:X,24)","v":180},{"$f":"VLOOKUP(A198-$B$2,'Ref. Coeff. Vertical'!A:X,24)","v":0},{"$f":"VLOOKUP(A198-$B$2,'Ref. Coeff. Horiz.'!A:X,23)","v":1},{"$f":"VLOOKUP(A198-$B$2,'Ref. Coeff. Vertical'!A:X,23)","v":1},{"$f":"D198+E198","v":2156.1058923052351},{"$f":"D198+F198","v":1976.1058923052351},null,null,null,null,null,null,{"$f":"(((COS($C$2))/(TAN(B198-$C$2)))-(SIN($C$2)))*$B$1","v":49.401045226363095},{"$f":"ROUND(Q198,1)","v":49.4},{"$f":"'Antenna Data'!B196","v":-5.9700000000000006},{"$f":"SQRT((1+(2*G198*COS(I198*PI()/180)))+(G198^2))","v":1.9988453007978955},{"$f":"IF(T198=0,-99,10*LOG(T198^2))","v":6.0155836701599412},{"$f":"IF(AND((U199<U198),(U198>U197)),\"Max\",\"\")","v":"Max"},{"$f":"SQRT((1+(2*H198*COS(J198*PI()/180)))+(H198^2))","v":6.795192034203254E-2},{"$f":"IF(W198=0,-99,10*LOG(W198^2))","v":-23.355965309265933},{"$f":"IF(AND((X199<X198),(X198>X197)),\"Max\",\"\")","v":""},{"$f":"U198+S198","v":4.5583670159940581E-2},{"$f":"IF(AND((Z199<Z198),(Z198>Z197)),\"Max\",\"\")","v":""},{"$f":"X198+S198","v":-29.325965309265932},{"$f":"IF(AND((AB199<AB198),(AB198>AB197)),\"Max\",\"\")","v":""},{"$f":"U198+$AD$2","v":22.385583670159942},{"$f":"X198+$AD$2","v":-6.9859653092659322},{"$f":"Z198+$AD$2","v":16.41558367015994},{"$f":"AB198+$AD$2","v":-12.955965309265931}]
[19.400000000000006,0.33859387488690001,11.492775163176137,1985.9515481968365,{"$f":"VLOOKUP(A199-$B$2,'Ref. Coeff. Horiz.'!A:X,24)","v":180},{"$f":"VLOOKUP(A199-$B$2,'Ref. Coeff. Vertical'!A:X,24)","v":0},{"$f":"VLOOKUP(A199-$B$2,'Ref. Coeff. Horiz.'!A:X,23)","v":1},{"$f":"VLOOKUP(A199-$B$2,'Ref. Coeff. Vertical'!A:X,23)","v":1},2165.9515481968365,1985.9515481968365,null,null,null,null,null,null,49.1260126973757,49.1,{"$f":"'Antenna Data'!B197","v":-6.0500000000000007},1.9973031485354966,6.0088797325104393,"",0.10382741858580929,-19.673758870388752,"",-4.1120267489561435E-2,"",-25.723758870388753,"",22.378879732510441,-3.3037588703887515,16.32887973251044,-9.3537588703887522]
[19.500000000000007,0.3403392041388944,11.54971732948848,1995.7911545356092,{"$f":"VLOOKUP(A200-$B$2,'Ref. Coeff. Horiz.'!A:X,24)","v":180},{"$f":"VLOOKUP(A200-$B$2,'Ref. Coeff. Vertical'!A:X,24)","v":0},{"$f":"VLOOKUP(A200-$B$2,'Ref. Coeff. Horiz.'!A:X,23)","v":1},{"$f":"VLOOKUP(A200-$B$2,'Ref. Coeff. Vertical'!A:X,23)","v":1},2175.7911545356092,1995.7911545356092,null,null,null,null,null,null,48.853692920893842,48.9,{"$f":"'Antenna Data'!B198","v":-6.1300000000000008},1.9810401396041932,5.9378655050364539,"",0.27473617395057465,-11.221683082952698,"",-0.19213449496354684,"",-17.351683082952697,"",22.307865505036453,5.1483169170473033,16.177865505036454,-0.98168308295269568]
[19.600000000000009,0.34208453339088873,11.606624313358829,2005.6246813484056,{"$f":"VLOOKUP(A201-$B$2,'Ref. Coeff. Horiz.'!A:X,24)","v":180},{"$f":"VLOOKUP(A201-$B$2,'Ref. Coeff. Vertical'!A:X,24)","v":0},{"$f":"VLOOKUP(A201-$B$2,'Ref. Coeff. Horiz.'!A:X,23)","v":1},{"$f":"VLOOKUP(A201-$B$2,'Ref. Coeff. Vertical'!A:X,23)","v":1},2185.6246813484058,2005.6246813484056,null,null,null,null,null,null,48.584044323756927,48.6,{"$f":"'Antenna Data'!B199","v":-6.2200000000000006},1.9502032267517173,5.8015974134859949,"",0.44351705081900428,-7.0617935849985933,"",-0.41840258651400575,"",-13.281793584998594,"",22.171597413485998,9.3082064150014077,15.951597413485995,3.088206415001407]
[19.70000000000001,0.34382986264288312,11.663495941438645,2015.4520986805978,{"$f":"VLOOKUP(A202-$B$2,'Ref. Coeff. Horiz.'!A:X,24)","v":180},{"$f":"VLOOKUP(A202-$B$2,'Ref. Coeff. Vertical'!A:X,24)","v":0},{"$f":"VLOOKUP(A202-$B$2,'Ref. Coeff. Horiz.'!A:X,23)","v":1},{"$f":"VLOOKUP(A202-$B$2,'Ref. Coeff. Vertical'!A:X,23)","v":1},2195.4520986805978,2015.4520986805978,null,null,null,null,null,null,48.317026176636929,48.3,{"$f":"'Antenna Data'!B200","v":-6.3000000000000007},1.9050463103082269,5.5981107505409859,"",0.60893230788078156,-4.3086196628702425,"",-0.70188924945901476,"",-10.608619662870243,"",21.968110750540987,12.061380337129759,15.668110750540986,5.7613803371297578]
[19.800000000000011,0.34557519189487745,11.72033204048709,2025.2733765961691,{"$f":"VLOOKUP(A203-$B$2,'Ref. Coeff. Horiz.'!A:X,24)","v":180},{"$f":"VLOOKUP(A203-$B$2,'Ref. Coeff. Vertical'!A:X,24)","v":0},{"$f":"VLOOKUP(A203-$B$2,'Ref. Coeff. Horiz.'!A:X,23)","v":1},{"$f":"VLOOKUP(A203-$B$2,'Ref. Coeff. Vertical'!A:X,23)","v":1},2205.2733765961693,2025.2733765961691,null,null,null,null,null,null,48.052598572729032,48.1,{"$f":"'Antenna Data'!B201","v":-6.3900000000000006},1.8459279028442135,5.3242946921035852,"",0.76977280901649725,-2.2727486744584708,"",-1.0657053078964154,"",-8.6627486744584719,"",21.694294692103586,14.09725132554153,15.304294692103586,7.7072513255415291]
[19.900000000000013,0.34732052114687179,11.777132437371542,2035.0884851778021,{"$f":"VLOOKUP(A204-$B$2,'Ref. Coeff. Horiz.'!A:X,24)","v":180},{"$f":"VLOOKUP(A204-$B$2,'Ref. Coeff. Vertical'!A:X,24)","v":0},{"$f":"VLOOKUP(A204-$B$2,'Ref. Coeff. Horiz.'!A:X,23)","v":1},{"$f":"VLOOKUP(A204-$B$2,'Ref. Coeff. Vertical'!A:X,23)","v":1},2215.0884851778019,2035.0884851778021,null,null,null,null,null,null,47.790722407084729,47.8,{"$f":"'Antenna Data'!B202","v":-6.48},1.7733080325155526,4.9756836257490438,"",0.92486681301462315,-0.67841608116430341,"",-1.5043163742509567,"",-7.1584160811643036,"",21.345683625749047,15.691583918835697,14.865683625749044,9.2115839188356965]
[20.000000000000014,0.34906585039886617,11.833896959068147,2044.8973945269756,{"$f":"VLOOKUP(A205-$B$2,'Ref. Coeff. Horiz.'!A:X,24)","v":180},{"$f":"VLOOKUP(A205-$B$2,'Ref. Coeff. Vertical'!A:X,24)","v":0},{"$f":"VLOOKUP(A205-$B$2,'Ref. Coeff. Horiz.'!A:X,23)","v":1},{"$f":"VLOOKUP(A205-$B$2,'Ref. Coeff. Vertical'!A:X,23)","v":1},2224.8973945269754,2044.8973945269756,null,null,null,null,null,null,47.531359356564927,47.5,{"$f":"'Antenna Data'!B203","v":-6.57},1.6877444132435286,4.5461335813105013,"",1.0730884379049399,0.61271031091964845,"",-2.023866418689499,"",-5.9572896890803522,"",20.916133581310504,16.98271031091965,14.346133581310502,10.41271031091965]
[20.100000000000016,0.35081117965086051,11.890625432662324,2054.7000747640495,{"$f":"VLOOKUP(A206-$B$2,'Ref. Coeff. Horiz.'!A:X,24)","v":180},{"$f":"VLOOKUP(A206-$B$2,'Ref. Coeff. Vertical'!A:X,24)","v":0},{"$f":"VLOOKUP(A206-$B$2,'Ref. Coeff. Horiz.'!A:X,23)","v":1},{"$f":"VLOOKUP(A206-$B$2,'Ref. Coeff. Vertical'!A:X,23)","v":1},2234.7000747640495,2054.7000747640495,null,null,null,null,null,null,47.274471860391536,47.3,{"$f":"'Antenna Data'!B204","v":-6.66},1.5898879151277296,4.0273301649329118,"",1.2133657393097961,1.6798345601618194,"",-2.6326698350670883,"",-4.9801654398381805,"",20.397330164932914,18.04983456016182,13.737330164932914,11.38983456016182]
[20.200000000000017,0.35255650890285489,11.947317685349308,2064.4964960283601,{"$f":"VLOOKUP(A207-$B$2,'Ref. Coeff. Horiz.'!A:X,24)","v":180},{"$f":"VLOOKUP(A207-$B$2,'Ref. Coeff. Vertical'!A:X,24)","v":0},{"$f":"VLOOKUP(A207-$B$2,'Ref. Coeff. Horiz.'!A:X,23)","v":1},{"$f":"VLOOKUP(A207-$B$2,'Ref. Coeff. Vertical'!A:X,23)","v":1},2244.4964960283601,2064.4964960283601,null,null,null,null,null,null,47.020023101276593,47,{"$f":"'Antenna Data'!B205","v":-6.7500000000000018},1.4804773734397958,3.4080354865788753,"",1.3446883455778134,2.5724328171861592,"",-3.3419645134211264,"",-4.1775671828138421,"",19.778035486578876,18.942432817186159,13.028035486578874,12.192432817186159]
[20.300000000000018,0.35430183815484922,12.003973544434665,2074.2866284783099,{"$f":"VLOOKUP(A208-$B$2,'Ref. Coeff. Horiz.'!A:X,24)","v":180},{"$f":"VLOOKUP(A208-$B$2,'Ref. Coeff. Vertical'!A:X,24)","v":0},{"$f":"VLOOKUP(A208-$B$2,'Ref. Coeff. Horiz.'!A:X,23)","v":1},{"$f":"VLOOKUP(A208-$B$2,'Ref. Coeff. Vertical'!A:X,23)","v":1},2254.2866284783099,2074.2866284783099,null,null,null,null,null,null,46.767976987109336,46.8,{"$f":"'Antenna Data'!B206","v":-6.8400000000000016},1.3603337791642101,2.6729096477547163,"",1.4661145962252784,3.3233583496656403,"",-4.1670903522452853,"",-3.5166416503343614,"",19.042909647754719,19.69335834966564,12.202909647754716,12.853358349665641]
[20.40000000000002,0.35604716740684356,12.060592837334818,2084.0704422914564,{"$f":"VLOOKUP(A209-$B$2,'Ref. Coeff. Horiz.'!A:X,24)","v":180},{"$f":"VLOOKUP(A209-$B$2,'Ref. Coeff. Vertical'!A:X,24)","v":0},{"$f":"VLOOKUP(A209-$B$2,'Ref. Coeff. Horiz.'!A:X,23)","v":1},{"$f":"VLOOKUP(A209-$B$2,'Ref. Coeff. Vertical'!A:X,23)","v":1},2264.0704422914564,2084.0704422914564,null,null,null,null,null,null,46.518298133181666,46.5,{"$f":"'Antenna Data'!B207","v":-6.9300000000000015},1.2303538983051647,1.8006009926000077,"",1.5767781343376408,3.9554117763872947,"",-5.1293990073999938,"",-2.9745882236127068,"",18.170600992600008,20.325411776387295,11.240600992600008,13.395411776387295]
[20.500000000000021,0.35779249665883794,12.117175391577588,2093.8479076646072,{"$f":"VLOOKUP(A210-$B$2,'Ref. Coeff. Horiz.'!A:X,24)","v":180},{"$f":"VLOOKUP(A210-$B$2,'Ref. Coeff. Vertical'!A:X,24)","v":0},{"$f":"VLOOKUP(A210-$B$2,'Ref. Coeff. Horiz.'!A:X,23)","v":1},{"$f":"VLOOKUP(A210-$B$2,'Ref. Coeff. Vertical'!A:X,23)","v":1},2273.8479076646072,2093.8479076646072,null,null,null,null,null,null,46.270951844933997,46.3,{"$f":"'Antenna Data'!B208","v":-7.0200000000000014},1.0915033710389379,0.76050162676386968,"",1.6758939080415052,4.4849304456643351,"",-6.2594983732361316,"",-2.5350695543356663,"",17.13050162676387,20.854930445664337,10.11050162676387,13.834930445664334]
[20.600000000000023,0.35953782591083228,12.173721034802696,2103.6189948139058,{"$f":"VLOOKUP(A211-$B$2,'Ref. Coeff. Horiz.'!A:X,24)","v":180},{"$f":"VLOOKUP(A211-$B$2,'Ref. Coeff. Vertical'!A:X,24)","v":0},{"$f":"VLOOKUP(A211-$B$2,'Ref. Coeff. Horiz.'!A:X,23)","v":1},{"$f":"VLOOKUP(A211-$B$2,'Ref. Coeff. Vertical'!A:X,23)","v":1},2283.6189948139058,2103.6189948139058,null,null,null,null,null,null,46.025904101203658,46,{"$f":"'Antenna Data'!B209","v":-7.120000000000001},0.94480934523396631,-0.49311639418482867,"",1.7627635409091482,4.9238811890866767,"",-7.6131163941848294,"",-2.1961188109133243,"",15.876883605815172,21.293881189086676,8.7568836058151724,14.173881189086677]
[20.700000000000024,0.36128315516282666,12.230229594762312,2113.3836739749272,{"$f":"VLOOKUP(A212-$B$2,'Ref. Coeff. Horiz.'!A:X,24)","v":180},{"$f":"VLOOKUP(A212-$B$2,'Ref. Coeff. Vertical'!A:X,24)","v":0},{"$f":"VLOOKUP(A212-$B$2,'Ref. Coeff. Horiz.'!A:X,23)","v":1},{"$f":"VLOOKUP(A212-$B$2,'Ref. Coeff. Vertical'!A:X,23)","v":1},2293.3836739749272,2113.3836739749272,null,null,null,null,null,null,45.783121537958678,45.8,{"$f":"'Antenna Data'!B210","v":-7.2200000000000006},0.79135270186360707,-2.0325982103735822,"",1.8367800361646911,5.2811430085362705,"",-9.2525982103735824,"",-1.9388569914637301,"",14.337401789626419,21.651143008536273,7.1174017896264186,14.431143008536271]
[20.800000000000026,0.363028484414821,12.286700899321556,2123.1419154027644,{"$f":"VLOOKUP(A213-$B$2,'Ref. Coeff. Horiz.'!A:X,24)","v":180},{"$f":"VLOOKUP(A213-$B$2,'Ref. Coeff. Vertical'!A:X,24)","v":0},{"$f":"VLOOKUP(A213-$B$2,'Ref. Coeff. Horiz.'!A:X,23)","v":1},{"$f":"VLOOKUP(A213-$B$2,'Ref. Coeff. Vertical'!A:X,23)","v":1},2303.1419154027644,2123.1419154027644,null,null,null,null,null,null,45.542571432500999,45.5,{"$f":"'Antenna Data'!B211","v":-7.3100000000000005},0.63225993238325817,-3.9820867890468974,"",1.89743178478245,5.5633234275812367,"",-11.292086789046898,"",-1.7466765724187638,"",12.387913210953103,21.933323427581236,5.0779132109531027,14.623323427581237]
[20.900000000000027,0.36477381366681533,12.343134776459047,2132.8936893721234,{"$f":"VLOOKUP(A214-$B$2,'Ref. Coeff. Horiz.'!A:X,24)","v":180},{"$f":"VLOOKUP(A214-$B$2,'Ref. Coeff. Vertical'!A:X,24)","v":0},{"$f":"VLOOKUP(A214-$B$2,'Ref. Coeff. Horiz.'!A:X,23)","v":1},{"$f":"VLOOKUP(A214-$B$2,'Ref. Coeff. Vertical'!A:X,23)","v":1},2312.8936893721234,2132.8936893721234,null,null,null,null,null,null,45.304221688123043,45.3,{"$f":"'Antenna Data'!B212","v":-7.41},0.46869473021737446,-6.5821985890957428,"",1.9443058529630737,5.7752916707148172,"",-13.992198589095743,"",-1.6347083292851829,"",9.7878014109042581,22.145291670714819,2.377801410904258,14.735291670714819]
[21.000000000000028,0.36651914291880971,12.399531054267406,2142.6389661774078,{"$f":"VLOOKUP(A215-$B$2,'Ref. Coeff. Horiz.'!A:X,24)","v":180},{"$f":"VLOOKUP(A215-$B$2,'Ref. Coeff. Vertical'!A:X,24)","v":0},{"$f":"VLOOKUP(A215-$B$2,'Ref. Coeff. Horiz.'!A:X,23)","v":1},{"$f":"VLOOKUP(A215-$B$2,'Ref. Coeff. Vertical'!A:X,23)","v":1},2322.6389661774078,2142.6389661774078,null,null,null,null,null,null,45.0680408192027,45.1,{"$f":"'Antenna Data'!B213","v":-7.5100000000000016},0.30184936009500513,-10.404194809826384,"",1.9770905299986226,5.9205311179749032,"",-17.914194809826384,"",-1.5894688820250984,"Max",5.9658051901736169,22.290531117974904,-1.5441948098263829,14.780531117974903]
[21.10000000000003,0.36826447217080405,12.455889560953789,2152.3777161328148,{"$f":"VLOOKUP(A216-$B$2,'Ref. Coeff. Horiz.'!A:X,24)","v":180},{"$f":"VLOOKUP(A216-$B$2,'Ref. Coeff. Vertical'!A:X,24)","v":0},{"$f":"VLOOKUP(A216-$B$2,'Ref. Coeff. Horiz.'!A:X,23)","v":1},{"$f":"VLOOKUP(A216-$B$2,'Ref. Coeff. Vertical'!A:X,23)","v":1},2332.3777161328148,2152.3777161328148,null,null,null,null,null,null,44.833997936722156,44.8,{"$f":"'Antenna Data'!B214","v":-7.6100000000000012},0.13293587007578436,-17.527156351941372,"",1.9955771231518953,6.0013703328249122,"",-25.137156351941371,"",-1.608629667175089,"",-1.1571563519413708,22.371370332824913,-8.7671563519413702,14.761370332824912]
[21.200000000000031,0.37000980142279843,12.512210124840413,2162.109909572423,{"$f":"VLOOKUP(A217-$B$2,'Ref. Coeff. Horiz.'!A:X,24)","v":180},{"$f":"VLOOKUP(A217-$B$2,'Ref. Coeff. Vertical'!A:X,24)","v":0},{"$f":"VLOOKUP(A217-$B$2,'Ref. Coeff. Horiz.'!A:X,23)","v":1},{"$f":"VLOOKUP(A217-$B$2,'Ref. Coeff. Vertical'!A:X,23)","v":1},2342.109909572423,2162.109909572423,null,null,null,null,null,null,44.602062734196544,44.6,{"$f":"'Antenna Data'!B215","v":-7.7200000000000006},3.6822788279403357E-2,-28.67766658252232,"",1.9996609918341985,6.0191274947283429,"Max",-36.397666582522319,"",-1.7008725052716578,"",-12.307666582522319,22.389127494728342,-20.027666582522318,14.669127494728343]
[21.300000000000033,0.37175513067479277,12.568492574365068,2171.835516850284,{"$f":"VLOOKUP(A218-$B$2,'Ref. Coeff. Horiz.'!A:X,24)","v":180},{"$f":"VLOOKUP(A218-$B$2,'Ref. Coeff. Vertical'!A:X,24)","v":0},{"$f":"VLOOKUP(A218-$B$2,'Ref. Coeff. Horiz.'!A:X,23)","v":1},{"$f":"VLOOKUP(A218-$B$2,'Ref. Coeff. Vertical'!A:X,23)","v":1},2351.835516850284,2171.835516850284,null,null,null,null,null,null,44.372205473999024,44.4,{"$f":"'Antenna Data'!B216","v":-7.82},0.20620166601789588,-13.714156602635303,"",1.9893418190274506,5.9741882453239681,"",-21.534156602635303,"",-1.8458117546760322,"",2.6558433973646984,22.34418824532397,-5.1641566026353019,14.52418824532397]
[21.400000000000034,0.3735004599267871,12.62473673808166,2181.5545083405109,{"$f":"VLOOKUP(A219-$B$2,'Ref. Coeff. Horiz.'!A:X,24)","v":180},{"$f":"VLOOKUP(A219-$B$2,'Ref. Coeff. Vertical'!A:X,24)","v":0},{"$f":"VLOOKUP(A219-$B$2,'Ref. Coeff. Horiz.'!A:X,23)","v":1},{"$f":"VLOOKUP(A219-$B$2,'Ref. Coeff. Vertical'!A:X,23)","v":1},2361.5545083405109,2181.5545083405109,null,null,null,null,null,null,44.144396974069181,44.1,{"$f":"'Antenna Data'!B217","v":-7.9300000000000015},0.37398268397542972,-8.5429701179164326,"",1.9647231235180536,5.8660271308635785,"",-16.472970117916432,"",-2.063972869136423,"",7.8270298820835684,22.23602713086358,-0.10297011791643129,14.306027130863578]
[21.500000000000036,0.37524578917878149,12.680942444660706,2191.2668544373701,{"$f":"VLOOKUP(A220-$B$2,'Ref. Coeff. Horiz.'!A:X,24)","v":180},{"$f":"VLOOKUP(A220-$B$2,'Ref. Coeff. Vertical'!A:X,24)","v":0},{"$f":"VLOOKUP(A220-$B$2,'Ref. Coeff. Horiz.'!A:X,23)","v":1},{"$f":"VLOOKUP(A220-$B$2,'Ref. Coeff. Vertical'!A:X,23)","v":1},2371.2668544373701,2191.2668544373701,null,null,null,null,null,null,43.918608594992442,43.9,{"$f":"'Antenna Data'!B218","v":-8.0300000000000011},0.53896339666129123,-5.3688145726219112,"",1.9260110220503204,5.6931753629555324,"",-13.398814572621912,"",-2.3368246370444687,"",11.00118542737809,22.063175362955533,2.9711854273780887,14.033175362955532]
[21.600000000000037,0.37699111843077582,12.737109522889877,2200.9725255553708,{"$f":"VLOOKUP(A221-$B$2,'Ref. Coeff. Horiz.'!A:X,24)","v":180},{"$f":"VLOOKUP(A221-$B$2,'Ref. Coeff. Vertical'!A:X,24)","v":0},{"$f":"VLOOKUP(A221-$B$2,'Ref. Coeff. Horiz.'!A:X,23)","v":1},{"$f":"VLOOKUP(A221-$B$2,'Ref. Coeff. Vertical'!A:X,23)","v":1},2380.9725255553708,2200.9725255553708,null,null,null,null,null,null,43.694812227438298,43.7,{"$f":"'Antenna Data'!B219","v":-8.14},0.69996558979406753,-3.0984661862828067,"",1.8735122559258179,5.4531307691305617,"",-11.238466186282807,"",-2.6868692308694389,"",13.271533813717195,21.823130769130564,5.1315338137171942,13.683130769130562]
[21.700000000000038,0.37873644768277021,12.793237801674517,2210.6714921293565,{"$f":"VLOOKUP(A222-$B$2,'Ref. Coeff. Horiz.'!A:X,24)","v":180},{"$f":"VLOOKUP(A222-$B$2,'Ref. Coeff. Vertical'!A:X,24)","v":0},{"$f":"VLOOKUP(A222-$B$2,'Ref. Coeff. Horiz.'!A:X,23)","v":1},{"$f":"VLOOKUP(A222-$B$2,'Ref. Coeff. Vertical'!A:X,23)","v":1},2390.6714921293565,2210.6714921293565,null,null,null,null,null,null,43.472980279945943,43.5,{"$f":"'Antenna Data'!B220","v":-8.2500000000000018},0.85584365019613373,-1.3521113433497802,"",1.8076315018329823,5.1421980246484562,"",-9.6021113433497813,"",-3.1078019753515456,"",15.017888656650221,21.512198024648455,6.7678886566502197,13.262198024648455]
[21.80000000000004,0.38048177693476454,12.849327110038146,2220.3637246145913,{"$f":"VLOOKUP(A223-$B$2,'Ref. Coeff. Horiz.'!A:X,24)","v":180},{"$f":"VLOOKUP(A223-$B$2,'Ref. Coeff. Vertical'!A:X,24)","v":0},{"$f":"VLOOKUP(A223-$B$2,'Ref. Coeff. Horiz.'!A:X,23)","v":1},{"$f":"VLOOKUP(A223-$B$2,'Ref. Coeff. Vertical'!A:X,23)","v":1},2400.3637246145913,2220.3637246145913,null,null,null,null,null,null,43.253085667046037,43.3,{"$f":"'Antenna Data'!B221","v":-8.3600000000000012},1.0054926489524447,4.7577997291525134E-2,"",1.7288679917514203,4.7552366770156356,"",-8.3124220027084768,"",-3.6047633229843656,"",16.417577997291527,21.125236677015636,8.0575779972915242,12.765236677015636]
[21.900000000000041,0.38222710618675887,12.90537727712301,2230.049193486856,{"$f":"VLOOKUP(A224-$B$2,'Ref. Coeff. Horiz.'!A:X,24)","v":180},{"$f":"VLOOKUP(A224-$B$2,'Ref. Coeff. Vertical'!A:X,24)","v":0},{"$f":"VLOOKUP(A224-$B$2,'Ref. Coeff. Horiz.'!A:X,23)","v":1},{"$f":"VLOOKUP(A224-$B$2,'Ref. Coeff. Vertical'!A:X,23)","v":1},2410.049193486856,2230.049193486856,null,null,null,null,null,null,43.035101797707917,43,{"$f":"'Antenna Data'!B222","v":-8.4700000000000006},1.1478560813484877,1.197748789211895,"",1.6378114716020544,4.2852781736998526,"",-7.2722512107881059,"",-4.184721826300148,"",17.567748789211898,20.655278173699855,9.0977487892118951,12.185278173699853]
[22.000000000000043,0.38397243543875326,12.961388132190582,2239.7278692425325,{"$f":"VLOOKUP(A225-$B$2,'Ref. Coeff. Horiz.'!A:X,24)","v":180},{"$f":"VLOOKUP(A225-$B$2,'Ref. Coeff. Vertical'!A:X,24)","v":0},{"$f":"VLOOKUP(A225-$B$2,'Ref. Coeff. Horiz.'!A:X,23)","v":1},{"$f":"VLOOKUP(A225-$B$2,'Ref. Coeff. Vertical'!A:X,23)","v":1},2419.7278692425325,2239.7278692425325,null,null,null,null,null,null,42.819002564101829,42.8,{"$f":"'Antenna Data'!B223","v":-8.59},1.2819332101006307,2.1573079726050812,"",1.5351375328748511,3.7229457994296444,"",-6.4326920273949186,"",-4.8670542005703554,"",18.527307972605083,20.092945799429646,9.9373079726050833,11.502945799429646]
[22.100000000000044,0.38571776469074759,13.017359504622075,2249.3997223986944,{"$f":"VLOOKUP(A226-$B$2,'Ref. Coeff. Horiz.'!A:X,24)","v":180},{"$f":"VLOOKUP(A226-$B$2,'Ref. Coeff. Vertical'!A:X,24)","v":0},{"$f":"VLOOKUP(A226-$B$2,'Ref. Coeff. Horiz.'!A:X,23)","v":1},{"$f":"VLOOKUP(A226-$B$2,'Ref. Coeff. Vertical'!A:X,23)","v":1},2429.3997223986944,2249.3997223986944,null,null,null,null,null,null,42.604762330666354,42.6,{"$f":"'Antenna Data'!B224","v":-8.7000000000000011},1.4067859617530609,2.9645605172711353,"",1.4216023557290935,3.0555626892946286,"",-5.7354394827288662,"",-5.6444373107053725,"",19.334560517271136,19.42556268929463,10.634560517271135,10.725562689294629]
[22.200000000000045,0.38746309394274198,13.073291223918989,2259.0647234932012,{"$f":"VLOOKUP(A227-$B$2,'Ref. Coeff. Horiz.'!A:X,24)","v":180},{"$f":"VLOOKUP(A227-$B$2,'Ref. Coeff. Vertical'!A:X,24)","v":0},{"$f":"VLOOKUP(A227-$B$2,'Ref. Coeff. Horiz.'!A:X,23)","v":1},{"$f":"VLOOKUP(A227-$B$2,'Ref. Coeff. Vertical'!A:X,23)","v":1},2439.0647234932012,2259.0647234932012,null,null,null,null,null,null,42.392355923471229,42.4,{"$f":"'Antenna Data'!B225","v":-8.82},1.5215453298091695,3.6456979073669342,"",1.2980369059991756,2.2657408114431341,"",-5.1743020926330665,"",-6.5542591885568662,"",20.015697907366935,18.635740811443135,11.195697907366934,9.8157408114431348]
[22.300000000000047,0.38920842319473631,13.129183119703603,2268.7228430847827,{"$f":"VLOOKUP(A228-$B$2,'Ref. Coeff. Horiz.'!A:X,24)","v":180},{"$f":"VLOOKUP(A228-$B$2,'Ref. Coeff. Vertical'!A:X,24)","v":0},{"$f":"VLOOKUP(A228-$B$2,'Ref. Coeff. Horiz.'!A:X,23)","v":1},{"$f":"VLOOKUP(A228-$B$2,'Ref. Coeff. Vertical'!A:X,23)","v":1},2448.7228430847827,2268.7228430847827,null,null,null,null,null,null,42.181758619866358,42.2,{"$f":"'Antenna Data'!B226","v":-8.9400000000000013},1.6254172421611359,4.2192972473262778,"",1.1653406321266244,1.3290577867257563,"",-4.7207027526737235,"",-7.610942213274245,"",20.589297247326279,17.699057786725756,11.649297247326277,8.7590577867257551]
[22.400000000000048,0.39095375244673064,13.185035021719511,2278.3740517531314,{"$f":"VLOOKUP(A229-$B$2,'Ref. Coeff. Horiz.'!A:X,24)","v":180},{"$f":"VLOOKUP(A229-$B$2,'Ref. Coeff. Vertical'!A:X,24)","v":0},{"$f":"VLOOKUP(A229-$B$2,'Ref. Coeff. Horiz.'!A:X,23)","v":1},{"$f":"VLOOKUP(A229-$B$2,'Ref. Coeff. Vertical'!A:X,23)","v":1},2458.3740517531314,2278.3740517531314,null,null,null,null,null,null,41.972946138408155,42,{"$f":"'Antenna Data'!B227","v":-9.0500000000000007},1.7176878546472767,4.6988848974594317,"",1.0244747112531583,0.21002484969285526,"",-4.351115102540569,"",-8.8399751503071453,"",21.068884897459434,16.580024849692855,12.018884897459433,7.5300248496928557]
[22.50000000000005,0.39269908169872503,13.240846759832134,2288.0183200989927,{"$f":"VLOOKUP(A230-$B$2,'Ref. Coeff. Horiz.'!A:X,24)","v":180},{"$f":"VLOOKUP(A230-$B$2,'Ref. Coeff. Vertical'!A:X,24)","v":0},{"$f":"VLOOKUP(A230-$B$2,'Ref. Coeff. Horiz.'!A:X,23)","v":1},{"$f":"VLOOKUP(A230-$B$2,'Ref. Coeff. Vertical'!A:X,23)","v":1},2468.0183200989927,2288.0183200989927,null,null,null,null,null,null,41.765894629054443,41.8,{"$f":"'Antenna Data'!B228","v":-9.18},1.7977282370662933,5.0944807995238737,"",0.876454896531774,-1.1454085666774949,"",-4.085519200476126,"",-10.325408566677496,"",21.464480799523876,15.224591433322505,12.284480799523875,6.0445914333225055]
[22.600000000000051,0.39444441095071936,13.296618164029237,2297.655618744252,{"$f":"VLOOKUP(A231-$B$2,'Ref. Coeff. Horiz.'!A:X,24)","v":180},{"$f":"VLOOKUP(A231-$B$2,'Ref. Coeff. Vertical'!A:X,24)","v":0},{"$f":"VLOOKUP(A231-$B$2,'Ref. Coeff. Horiz.'!A:X,23)","v":1},{"$f":"VLOOKUP(A231-$B$2,'Ref. Coeff. Vertical'!A:X,23)","v":1},2477.655618744252,2297.655618744252,null,null,null,null,null,null,41.560580663619696,41.6,{"$f":"'Antenna Data'!B229","v":-9.3000000000000007},1.8649984226770193,5.4135693768034434,"",0.72234402012630716,-2.8251183627577992,"",-3.8864306231965573,"",-12.125118362757799,"",21.783569376803445,13.544881637242202,12.483569376803445,4.2448816372422016]
[22.700000000000053,0.39618974020271375,13.352349064421453,2307.285918332027,{"$f":"VLOOKUP(A232-$B$2,'Ref. Coeff. Horiz.'!A:X,24)","v":180},{"$f":"VLOOKUP(A232-$B$2,'Ref. Coeff. Vertical'!A:X,24)","v":0},{"$f":"VLOOKUP(A232-$B$2,'Ref. Coeff. Horiz.'!A:X,23)","v":1},{"$f":"VLOOKUP(A232-$B$2,'Ref. Coeff. Vertical'!A:X,23)","v":1},2487.285918332027,2307.285918332027,null,null,null,null,null,null,41.356981226482532,41.4,{"$f":"'Antenna Data'!B230","v":-9.4200000000000017},1.9190507970731858,5.661729412339489,"",0.56324420836150135,-4.9860653055162016,"",-3.7582705876605127,"",-14.406065305516204,"",22.031729412339491,11.383934694483798,12.611729412339489,1.9639346944837968]
[22.800000000000054,0.39793506945470808,13.408039291242792,2316.9091895267543,{"$f":"VLOOKUP(A233-$B$2,'Ref. Coeff. Horiz.'!A:X,24)","v":180},{"$f":"VLOOKUP(A233-$B$2,'Ref. Coeff. Vertical'!A:X,24)","v":0},{"$f":"VLOOKUP(A233-$B$2,'Ref. Coeff. Horiz.'!A:X,23)","v":1},{"$f":"VLOOKUP(A233-$B$2,'Ref. Coeff. Vertical'!A:X,23)","v":1},2496.9091895267543,2316.9091895267543,null,null,null,null,null,null,41.155073705537831,41.2,{"$f":"'Antenna Data'!B231","v":-9.5500000000000007},1.95953280730861,5.8430507802561102,"",0.40028886704633793,-7.9525297690983994,"",-3.7069492197438905,"Max",-17.502529769098402,"",22.213050780256111,8.4174702309016016,12.663050780256111,-1.1325297690984009]
[22.900000000000055,0.39968039870670241,13.463688674851166,2326.5254030142814,{"$f":"VLOOKUP(A234-$B$2,'Ref. Coeff. Horiz.'!A:X,24)","v":180},{"$f":"VLOOKUP(A234-$B$2,'Ref. Coeff. Vertical'!A:X,24)","v":0},{"$f":"VLOOKUP(A234-$B$2,'Ref. Coeff. Horiz.'!A:X,23)","v":1},{"$f":"VLOOKUP(A234-$B$2,'Ref. Coeff. Vertical'!A:X,23)","v":1},2506.5254030142814,2326.5254030142814,null,null,null,null,null,null,40.954835883385769,41,{"$f":"'Antenna Data'!B232","v":-9.68},1.9861889772205292,5.9604113470298685,"",0.23463449611612133,-12.592162745387483,"",-3.7195886529701312,"",-22.272162745387483,"",22.33041134702987,3.7778372546125176,12.65041134702987,-5.9021627453874821]
[23.000000000000057,0.4014257279586968,13.519297045728903,2336.1345295019546,{"$f":"VLOOKUP(A235-$B$2,'Ref. Coeff. Horiz.'!A:X,24)","v":180},{"$f":"VLOOKUP(A235-$B$2,'Ref. Coeff. Vertical'!A:X,24)","v":0},{"$f":"VLOOKUP(A235-$B$2,'Ref. Coeff. Horiz.'!A:X,23)","v":1},{"$f":"VLOOKUP(A235-$B$2,'Ref. Coeff. Vertical'!A:X,23)","v":1},2516.1345295019546,2336.1345295019546,null,null,null,null,null,null,40.756245928750815,40.799999999999997,{"$f":"'Antenna Data'!B233","v":-9.8100000000000023},1.9988622200196209,6.0156571915428358,"Max",6.7452393421079726E-2,-23.420052711946472,"",-3.7943428084571664,"",-33.23005271194647,"",22.385657191542837,-7.0500527119464707,12.575657191542835,-16.860052711946469]
[23.100000000000058,0.40317105721069113,13.574864234483259,2345.7365397187068,{"$f":"VLOOKUP(A236-$B$2,'Ref. Coeff. Horiz.'!A:X,24)","v":180},{"$f":"VLOOKUP(A236-$B$2,'Ref. Coeff. Vertical'!A:X,24)","v":0},{"$f":"VLOOKUP(A236-$B$2,'Ref. Coeff. Horiz.'!A:X,23)","v":1},{"$f":"VLOOKUP(A236-$B$2,'Ref. Coeff. Vertical'!A:X,23)","v":1},2525.7365397187068,2345.7365397187068,null,null,null,null,null,null,40.559282388123577,40.6,{"$f":"'Antenna Data'!B234","v":-9.9400000000000013},1.9974944443465468,6.0097116015929863,"",0.10007969226911533,-19.993080774132576,"",-3.9302883984070149,"",-29.933080774132577,"",22.379711601592987,-3.6230807741325748,12.439711601592986,-13.563080774132576]
[23.20000000000006,0.40491638646268552,13.630390071846943,2355.3314044151516,{"$f":"VLOOKUP(A237-$B$2,'Ref. Coeff. Horiz.'!A:X,24)","v":180},{"$f":"VLOOKUP(A237-$B$2,'Ref. Coeff. Vertical'!A:X,24)","v":0},{"$f":"VLOOKUP(A237-$B$2,'Ref. Coeff. Horiz.'!A:X,23)","v":1},{"$f":"VLOOKUP(A237-$B$2,'Ref. Coeff. Vertical'!A:X,23)","v":1},2535.3314044151516,2355.3314044151516,null,null,null,null,null,null,40.363924177618799,40.4,{"$f":"'Antenna Data'!B235","v":-10.07},1.9821264550990902,5.9426271604004812,"",0.26678589917068679,-11.476742571136477,"",-4.1273728395995191,"",-21.546742571136477,"",22.312627160400481,4.8932574288635244,12.242627160400481,-5.1767425711364758]
[23.300000000000061,0.40666171571467985,13.68587438867862,2364.9190943636654,{"$f":"VLOOKUP(A238-$B$2,'Ref. Coeff. Horiz.'!A:X,24)","v":180},{"$f":"VLOOKUP(A238-$B$2,'Ref. Coeff. Vertical'!A:X,24)","v":0},{"$f":"VLOOKUP(A238-$B$2,'Ref. Coeff. Horiz.'!A:X,23)","v":1},{"$f":"VLOOKUP(A238-$B$2,'Ref. Coeff. Vertical'!A:X,23)","v":1},2544.9190943636654,2364.9190943636654,null,null,null,null,null,null,40.17015057504301,40.200000000000003,{"$f":"'Antenna Data'!B236","v":-10.210000000000001},1.9528971553741805,5.8135874563402972,"",0.43150052205233375,-7.300373490316769,"",-4.3964125436597037,"",-17.51037349031677,"",22.183587456340298,9.069626509683232,11.973587456340297,-1.1403734903167688]
[23.400000000000063,0.40840704496667418,13.741317015963443,2374.4995803584825,{"$f":"VLOOKUP(A239-$B$2,'Ref. Coeff. Horiz.'!A:X,24)","v":180},{"$f":"VLOOKUP(A239-$B$2,'Ref. Coeff. Vertical'!A:X,24)","v":0},{"$f":"VLOOKUP(A239-$B$2,'Ref. Coeff. Horiz.'!A:X,23)","v":1},{"$f":"VLOOKUP(A239-$B$2,'Ref. Coeff. Vertical'!A:X,23)","v":1},2554.4995803584825,2374.4995803584825,null,null,null,null,null,null,39.977941212165582,40,{"$f":"'Antenna Data'!B237","v":-10.34},1.9100420608094728,5.6208586180051441,"",0.59307615526060942,-4.5377907301548248,"",-4.7191413819948558,"",-14.877790730154825,"",21.990858618005145,11.832209269845176,11.650858618005145,1.4922092698451763]
[23.500000000000064,0.41015237421866857,13.796717784813556,2384.0728332157823,{"$f":"VLOOKUP(A240-$B$2,'Ref. Coeff. Horiz.'!A:X,24)","v":180},{"$f":"VLOOKUP(A240-$B$2,'Ref. Coeff. Vertical'!A:X,24)","v":0},{"$f":"VLOOKUP(A240-$B$2,'Ref. Coeff. Horiz.'!A:X,23)","v":1},{"$f":"VLOOKUP(A240-$B$2,'Ref. Coeff. Vertical'!A:X,23)","v":1},2564.0728332157823,2384.0728332157823,null,null,null,null,null,null,39.787276067187129,39.799999999999997,{"$f":"'Antenna Data'!B238","v":-10.48},1.8538911424149922,5.3616845893038834,"",0.75039165245572292,-2.4942401160494878,"",-5.1183154106961171,"",-12.974240116049488,"",21.731684589303885,13.875759883950513,11.251684589303885,3.3957598839505128]
[23.600000000000065,0.4118977034706629,13.852076526468601,2393.6388237737742,{"$f":"VLOOKUP(A241-$B$2,'Ref. Coeff. Horiz.'!A:X,24)","v":180},{"$f":"VLOOKUP(A241-$B$2,'Ref. Coeff. Vertical'!A:X,24)","v":0},{"$f":"VLOOKUP(A241-$B$2,'Ref. Coeff. Horiz.'!A:X,23)","v":1},{"$f":"VLOOKUP(A241-$B$2,'Ref. Coeff. Vertical'!A:X,23)","v":1},2573.6388237737742,2393.6388237737742,null,null,null,null,null,null,39.598135457399323,39.6,{"$f":"'Antenna Data'!B239","v":-10.620000000000001},1.7848660186233232,5.0321124251386031,"",0.90235984815577974,-0.89240475020083099,"",-5.5878875748613979,"",-11.512404750200831,"",21.402112425138604,15.477595249799171,10.782112425138603,4.8575952497991697]
[23.700000000000067,0.41364303272265729,13.90739307229626,2403.1975228927936,{"$f":"VLOOKUP(A242-$B$2,'Ref. Coeff. Horiz.'!A:X,24)","v":180},{"$f":"VLOOKUP(A242-$B$2,'Ref. Coeff. Vertical'!A:X,24)","v":0},{"$f":"VLOOKUP(A242-$B$2,'Ref. Coeff. Horiz.'!A:X,23)","v":1},{"$f":"VLOOKUP(A242-$B$2,'Ref. Coeff. Vertical'!A:X,23)","v":1},2583.1975228927936,2403.1975228927936,null,null,null,null,null,null,39.410500032030626,39.4,{"$f":"'Antenna Data'!B240","v":-10.760000000000002},1.703476521725334,4.6267230450706034,"",1.0479349884084181,0.40668681609807183,"",-6.1332769549293982,"",-10.35331318390193,"",20.996723045070603,16.776686816098074,10.236723045070603,6.0166868160980709]
[23.800000000000068,0.41538836197465162,13.962667253792732,2412.7489014553839,{"$f":"VLOOKUP(A243-$B$2,'Ref. Coeff. Horiz.'!A:X,24)","v":180},{"$f":"VLOOKUP(A243-$B$2,'Ref. Coeff. Vertical'!A:X,24)","v":0},{"$f":"VLOOKUP(A243-$B$2,'Ref. Coeff. Horiz.'!A:X,23)","v":1},{"$f":"VLOOKUP(A243-$B$2,'Ref. Coeff. Vertical'!A:X,23)","v":1},2592.7489014553839,2412.7489014553839,null,null,null,null,null,null,39.224350765272334,39.200000000000003,{"$f":"'Antenna Data'!B241","v":-10.91},1.6103166680681589,4.1382257650019456,"",1.1861198204826762,1.4825712636336517,"",-6.7717742349980545,"",-9.4274287363663483,"",20.508225765001946,17.852571263633653,9.5982257650019456,6.9425712636336527]
[23.90000000000007,0.41713369122664595,14.017898902583282,2422.2929303663909,{"$f":"VLOOKUP(A244-$B$2,'Ref. Coeff. Horiz.'!A:X,24)","v":180},{"$f":"VLOOKUP(A244-$B$2,'Ref. Coeff. Vertical'!A:X,24)","v":0},{"$f":"VLOOKUP(A244-$B$2,'Ref. Coeff. Horiz.'!A:X,23)","v":1},{"$f":"VLOOKUP(A244-$B$2,'Ref. Coeff. Vertical'!A:X,23)","v":1},2602.2929303663909,2422.2929303663909,null,null,null,null,null,null,39.039668949479648,39,{"$f":"'Antenna Data'!B242","v":-11.060000000000002},1.5060600653446785,3.5568458586422813,"",1.3159722943793215,2.3849349204396062,"",-7.5031541413577205,"",-8.6750650795603956,"",19.926845858642281,18.754934920439606,8.8668458586422805,7.6949349204396054]
[24.000000000000071,0.41887902047864034,14.073087850422727,2431.829580553047,{"$f":"VLOOKUP(A245-$B$2,'Ref. Coeff. Horiz.'!A:X,24)","v":180},{"$f":"VLOOKUP(A245-$B$2,'Ref. Coeff. Vertical'!A:X,24)","v":0},{"$f":"VLOOKUP(A245-$B$2,'Ref. Coeff. Horiz.'!A:X,23)","v":1},{"$f":"VLOOKUP(A245-$B$2,'Ref. Coeff. Vertical'!A:X,23)","v":1},2611.829580553047,2431.829580553047,null,null,null,null,null,null,38.856436188542808,38.9,{"$f":"'Antenna Data'!B243","v":-11.200000000000001},1.3914547939748367,2.8693820280445577,"",1.4366118321677752,3.1467887806343442,"",-8.3306179719554443,"",-8.0532112193656573,"",19.23938202804456,19.516788780634347,8.0393820280445567,8.3167887806343437]
[24.100000000000072,0.42062434973063467,14.128233929195957,2441.3588229650613,{"$f":"VLOOKUP(A246-$B$2,'Ref. Coeff. Horiz.'!A:X,24)","v":180},{"$f":"VLOOKUP(A246-$B$2,'Ref. Coeff. Vertical'!A:X,24)","v":0},{"$f":"VLOOKUP(A246-$B$2,'Ref. Coeff. Horiz.'!A:X,23)","v":1},{"$f":"VLOOKUP(A246-$B$2,'Ref. Coeff. Vertical'!A:X,23)","v":1},2621.3588229650613,2441.3588229650613,null,null,null,null,null,null,38.674634391423226,38.700000000000003,{"$f":"'Antenna Data'!B244","v":-11.350000000000001},1.2673178029445835,2.0577107153199723,"",1.5472251246472528,3.7910701819226338,"",-9.2922892846800291,"",-7.5589298180773676,"",18.427710715319975,20.161070181922636,7.0777107153199719,8.8110701819226342]
[24.200000000000074,0.42236967898262906,14.183336970918459,2450.8806285747096,{"$f":"VLOOKUP(A247-$B$2,'Ref. Coeff. Horiz.'!A:X,24)","v":180},{"$f":"VLOOKUP(A247-$B$2,'Ref. Coeff. Vertical'!A:X,24)","v":0},{"$f":"VLOOKUP(A247-$B$2,'Ref. Coeff. Horiz.'!A:X,23)","v":1},{"$f":"VLOOKUP(A247-$B$2,'Ref. Coeff. Vertical'!A:X,23)","v":1},2630.8806285747096,2450.8806285747096,null,null,null,null,null,null,38.494245765849804,38.5,{"$f":"'Antenna Data'!B245","v":-11.510000000000002},1.1345288635088018,1.096310984642014,"",1.6470714185685555,4.3342486199192267,"",-10.413689015357988,"",-7.1757513800807748,"",17.466310984642014,20.704248619919227,5.9563109846420126,9.1942486199192253]
[24.300000000000075,0.42411500823462339,14.238396807736805,2460.3949683769197,{"$f":"VLOOKUP(A248-$B$2,'Ref. Coeff. Horiz.'!A:X,24)","v":180},{"$f":"VLOOKUP(A248-$B$2,'Ref. Coeff. Vertical'!A:X,24)","v":0},{"$f":"VLOOKUP(A248-$B$2,'Ref. Coeff. Horiz.'!A:X,23)","v":1},{"$f":"VLOOKUP(A248-$B$2,'Ref. Coeff. Vertical'!A:X,23)","v":1},2640.3949683769197,2460.3949683769197,null,null,null,null,null,null,38.315252812171025,38.299999999999997,{"$f":"'Antenna Data'!B246","v":-11.66},0.99402412686146568,-5.2061486387000103E-2,"",1.7354872616119355,4.7884286063952564,"",-11.712061486387,"",-6.8715713936047438,"",16.317938513613001,21.158428606395258,4.6579385136130007,9.4984286063952581]
[24.400000000000077,0.42586033748661772,14.293413271929188,2469.9018133893633,{"$f":"VLOOKUP(A249-$B$2,'Ref. Coeff. Horiz.'!A:X,24)","v":180},{"$f":"VLOOKUP(A249-$B$2,'Ref. Coeff. Vertical'!A:X,24)","v":0},{"$f":"VLOOKUP(A249-$B$2,'Ref. Coeff. Horiz.'!A:X,23)","v":1},{"$f":"VLOOKUP(A249-$B$2,'Ref. Coeff. Vertical'!A:X,23)","v":1},2649.9018133893633,2469.9018133893633,null,null,null,null,null,null,38.137638317358089,38.1,{"$f":"'Antenna Data'!B247","v":-11.82},0.84678933421532721,-1.444492415995364,"",1.811890676464551,5.1626398045585953,"",-13.264492415995365,"",-6.657360195441405,"",14.925507584004636,21.532639804558595,3.105507584004636,9.7126398045585951]
[24.500000000000078,0.42760566673861211,14.348386195905915,2479.4011346525417,{"$f":"VLOOKUP(A250-$B$2,'Ref. Coeff. Horiz.'!A:X,24)","v":180},{"$f":"VLOOKUP(A250-$B$2,'Ref. Coeff. Vertical'!A:X,24)","v":0},{"$f":"VLOOKUP(A250-$B$2,'Ref. Coeff. Horiz.'!A:X,23)","v":1},{"$f":"VLOOKUP(A250-$B$2,'Ref. Coeff. Vertical'!A:X,23)","v":1},2659.4011346525417,2479.4011346525417,null,null,null,null,null,null,37.961385349155023,38,{"$f":"'Antenna Data'!B248","v":-11.98},0.69385272970146394,-3.1746539760654264,"",1.8757847396452032,5.4636599671275743,"",-15.154653976065427,"",-6.5163400328724261,"",13.195346023934574,21.833659967127574,1.2153460239345737,9.8536599671275749]
[24.60000000000008,0.42935099599060644,14.403315412209924,2488.8929032298747,{"$f":"VLOOKUP(A251-$B$2,'Ref. Coeff. Horiz.'!A:X,24)","v":180},{"$f":"VLOOKUP(A251-$B$2,'Ref. Coeff. Vertical'!A:X,24)","v":0},{"$f":"VLOOKUP(A251-$B$2,'Ref. Coeff. Horiz.'!A:X,23)","v":1},{"$f":"VLOOKUP(A251-$B$2,'Ref. Coeff. Vertical'!A:X,23)","v":1},2668.8929032298747,2488.8929032298747,null,null,null,null,null,null,37.786477250371398,37.799999999999997,{"$f":"'Antenna Data'!B249","v":-12.14},0.53627772808793195,-5.412204783071787,"",1.9267605451526255,5.6965548911296668,"",-17.552204783071787,"",-6.4434451088703337,"",10.957795216928215,22.06655489112967,-1.1822047830717857,9.9265548911296673]
[24.700000000000081,0.43109632524260083,14.458200753517302,2498.3770902077895,{"$f":"VLOOKUP(A252-$B$2,'Ref. Coeff. Horiz.'!A:X,24)","v":180},{"$f":"VLOOKUP(A252-$B$2,'Ref. Coeff. Vertical'!A:X,24)","v":0},{"$f":"VLOOKUP(A252-$B$2,'Ref. Coeff. Horiz.'!A:X,23)","v":1},{"$f":"VLOOKUP(A252-$B$2,'Ref. Coeff. Vertical'!A:X,23)","v":1},2678.3770902077895,2498.3770902077895,null,null,null,null,null,null,37.612897633313672,37.6,{"$f":"'Antenna Data'!B250","v":-12.3},0.37515539051826946,-8.5157761779044847,"",1.9644995375324188,5.8650386181904786,"",-20.815776177904485,"",-6.4349613818095222,"Max",7.8542238220955163,22.23503861819048,-4.4457761779044844,9.9350386181904788]
[24.800000000000082,0.43284165449459516,14.513042052637772,2507.8536666958066,{"$f":"VLOOKUP(A253-$B$2,'Ref. Coeff. Horiz.'!A:X,24)","v":180},{"$f":"VLOOKUP(A253-$B$2,'Ref. Coeff. Vertical'!A:X,24)","v":0},{"$f":"VLOOKUP(A253-$B$2,'Ref. Coeff. Horiz.'!A:X,23)","v":1},{"$f":"VLOOKUP(A253-$B$2,'Ref. Coeff. Vertical'!A:X,23)","v":1},2687.8536666958066,2507.8536666958066,null,null,null,null,null,null,37.440630374351336,37.4,{"$f":"'Antenna Data'!B251","v":-12.47},0.2115967622830921,-13.489819637590044,"",1.9887752035339021,5.9717139291338972,"",-25.959819637590044,"",-6.4982860708661034,"",2.8801803624099573,22.341713929133899,-9.5898196375900433,9.8717139291338967]
[24.900000000000084,0.43458698374658949,14.567839142515234,2517.3226038266325,{"$f":"VLOOKUP(A254-$B$2,'Ref. Coeff. Horiz.'!A:X,24)","v":180},{"$f":"VLOOKUP(A254-$B$2,'Ref. Coeff. Vertical'!A:X,24)","v":0},{"$f":"VLOOKUP(A254-$B$2,'Ref. Coeff. Horiz.'!A:X,23)","v":1},{"$f":"VLOOKUP(A254-$B$2,'Ref. Coeff. Vertical'!A:X,23)","v":1},2697.3226038266325,2517.3226038266325,null,null,null,null,null,null,37.269659608613914,37.299999999999997,{"$f":"'Antenna Data'!B252","v":-12.63},4.6725127059173067E-2,-26.608990179497233,"",1.9994541161280257,6.0182288461494915,"Max",-39.238990179497236,"",-6.6117711538505093,"",-10.238990179497232,22.388228846149492,-22.868990179497235,9.7582288461494926]
[25.000000000000085,0.43633231299858388,14.622591856228247,2526.7838727562412,{"$f":"VLOOKUP(A255-$B$2,'Ref. Coeff. Horiz.'!A:X,24)","v":180},{"$f":"VLOOKUP(A255-$B$2,'Ref. Coeff. Vertical'!A:X,24)","v":0},{"$f":"VLOOKUP(A255-$B$2,'Ref. Coeff. Horiz.'!A:X,23)","v":1},{"$f":"VLOOKUP(A255-$B$2,'Ref. Coeff. Vertical'!A:X,23)","v":1},2706.7838727562412,2526.7838727562412,null,null,null,null,null,null,37.099969724815217,37.1,{"$f":"'Antenna Data'!B253","v":-12.8},0.1183317679171141,-18.537972938551551,"",1.9964963292482181,6.0053703207728297,"",-31.337972938551552,"",-6.794629679227171,"",-2.16797293855155,22.375370320772831,-14.967972938551551,9.57537032077283]
[25.100000000000087,0.43807764225057821,14.677300026990547,2536.2374446639665,{"$f":"VLOOKUP(A256-$B$2,'Ref. Coeff. Horiz.'!A:X,24)","v":180},{"$f":"VLOOKUP(A256-$B$2,'Ref. Coeff. Vertical'!A:X,24)","v":0},{"$f":"VLOOKUP(A256-$B$2,'Ref. Coeff. Horiz.'!A:X,23)","v":1},{"$f":"VLOOKUP(A256-$B$2,'Ref. Coeff. Vertical'!A:X,23)","v":1},2716.2374446639665,2536.2374446639665,null,null,null,null,null,null,36.931545360201461,36.9,{"$f":"'Antenna Data'!B254","v":-12.98},0.28244946162661572,-10.981184974602847,"",1.9799551261649424,5.9331069498792131,"",-23.961184974602848,"",-7.0468930501207874,"",5.3888150253971538,22.303106949879215,-7.5911849746028466,9.3231069498792145]
[25.200000000000088,0.4398229715025726,14.731963488151562,2545.68329075259,{"$f":"VLOOKUP(A257-$B$2,'Ref. Coeff. Horiz.'!A:X,24)","v":180},{"$f":"VLOOKUP(A257-$B$2,'Ref. Coeff. Vertical'!A:X,24)","v":0},{"$f":"VLOOKUP(A257-$B$2,'Ref. Coeff. Horiz.'!A:X,23)","v":1},{"$f":"VLOOKUP(A257-$B$2,'Ref. Coeff. Vertical'!A:X,23)","v":1},2725.68329075259,2545.68329075259,null,null,null,null,null,null,36.764371395619456,36.799999999999997,{"$f":"'Antenna Data'!B255","v":-13.15},0.44451445060644068,-7.0422823219236408,"",1.9499761288800581,5.8005858974132005,"",-20.192282321923642,"",-7.3494141025867998,"",9.3277176780763611,22.170585897413201,-3.822282321923641,9.020585897413202]
[25.30000000000009,0.44156830075456693,14.786582073196906,2555.1213822484251,{"$f":"VLOOKUP(A258-$B$2,'Ref. Coeff. Horiz.'!A:X,24)","v":180},{"$f":"VLOOKUP(A258-$B$2,'Ref. Coeff. Vertical'!A:X,24)","v":0},{"$f":"VLOOKUP(A258-$B$2,'Ref. Coeff. Horiz.'!A:X,23)","v":1},{"$f":"VLOOKUP(A258-$B$2,'Ref. Coeff. Vertical'!A:X,23)","v":1},2735.1213822484251,2555.1213822484251,null,null,null,null,null,null,36.598432950701948,36.6,{"$f":"'Antenna Data'!B256","v":-13.330000000000002},0.60343172955747493,-4.3874371510552104,"",1.9067957802982674,5.6060836434176302,"",-17.717437151055211,"",-7.7239163565823716,"",11.982562848944792,21.976083643417631,-1.3474371510552103,8.6460836434176294]
[25.400000000000091,0.44331363000656127,14.841155615748898,2564.5516904014094,{"$f":"VLOOKUP(A259-$B$2,'Ref. Coeff. Horiz.'!A:X,24)","v":180},{"$f":"VLOOKUP(A259-$B$2,'Ref. Coeff. Vertical'!A:X,24)","v":0},{"$f":"VLOOKUP(A259-$B$2,'Ref. Coeff. Horiz.'!A:X,23)","v":1},{"$f":"VLOOKUP(A259-$B$2,'Ref. Coeff. Vertical'!A:X,23)","v":1},2744.5516904014094,2564.5516904014094,null,null,null,null,null,null,36.433715379166522,36.4,{"$f":"'Antenna Data'!B257","v":-13.510000000000002},0.75813215037471904,-2.4051017138443562,"",1.8507392151700381,5.346904545866229,"",-15.915101713844358,"",-8.1630954541337726,"",13.964898286155645,21.716904545866228,0.45489828615564321,8.2069045458662284]
[25.500000000000092,0.44505895925855565,14.895683949567061,2573.9741864851881,{"$f":"VLOOKUP(A260-$B$2,'Ref. Coeff. Horiz.'!A:X,24)","v":180},{"$f":"VLOOKUP(A260-$B$2,'Ref. Coeff. Vertical'!A:X,24)","v":0},{"$f":"VLOOKUP(A260-$B$2,'Ref. Coeff. Horiz.'!A:X,23)","v":1},{"$f":"VLOOKUP(A260-$B$2,'Ref. Coeff. Vertical'!A:X,23)","v":1},2753.9741864851881,2573.9741864851881,null,null,null,null,null,null,36.270204264225271,36.299999999999997,{"$f":"'Antenna Data'!B258","v":-13.690000000000001},0.90757955054055561,-0.84230596282549608,"",1.7822175398757014,5.0192142701273337,"",-14.532305962825497,"",-8.6707857298726676,"",15.527694037174506,21.389214270127333,1.8376940371745043,7.6992142701273334]
[25.600000000000094,0.44680428851054999,14.950166908548638,2583.3888417972048,{"$f":"VLOOKUP(A261-$B$2,'Ref. Coeff. Horiz.'!A:X,24)","v":180},{"$f":"VLOOKUP(A261-$B$2,'Ref. Coeff. Vertical'!A:X,24)","v":0},{"$f":"VLOOKUP(A261-$B$2,'Ref. Coeff. Horiz.'!A:X,23)","v":1},{"$f":"VLOOKUP(A261-$B$2,'Ref. Coeff. Vertical'!A:X,23)","v":1},2763.3888417972048,2583.3888417972048,null,null,null,null,null,null,36.107885414101922,36.1,{"$f":"'Antenna Data'!B259","v":-13.870000000000001},1.0507776039302625,0.43021615488901238,"",1.7017245450067946,4.6177852599177056,"",-13.439783845110989,"",-9.2522147400822945,"",16.800216154889014,20.987785259917707,2.9302161548890115,7.1177852599177065]
[{"$f":"A261+0.1","v":25.700000000000095},{"$f":"A262*(PI()/180)","v":0.44854961776254437},{"$f":"(2*$B$1*SIN(B262-$C$2)*COS($C$2))","v":15.004604326729085},{"$f":"(C262/$O$1)*360","v":2592.7956276587856},{"$f":"VLOOKUP(A262-$B$2,'Ref. Coeff. Horiz.'!A:X,24)","v":180},{"$f":"VLOOKUP(A262-$B$2,'Ref. Coeff. Vertical'!A:X,24)","v":0},{"$f":"VLOOKUP(A262-$B$2,'Ref. Coeff. Horiz.'!A:X,23)","v":1},{"$f":"VLOOKUP(A262-$B$2,'Ref. Coeff. Vertical'!A:X,23)","v":1},{"$f":"D262+E262","v":2772.7956276587856},{"$f":"D262+F262","v":2592.7956276587856},null,null,null,null,null,null,{"$f":"(((COS($C$2))/(TAN(B262-$C$2)))-(SIN($C$2)))*$B$1","v":35.946744857653705},{"$f":"ROUND(Q262,1)","v":35.9},{"$f":"'Antenna Data'!B260","v":-14.06},{"$f":"SQRT((1+(2*G262*COS(I262*PI()/180)))+(G262^2))","v":1.1867763494890653},{"$f":"IF(T262=0,-99,10*LOG(T262^2))","v":1.487377659051504},{"$f":"IF(AND((U263<U262),(U262>U261)),\"Max\",\"\")","v":""},{"$f":"SQRT((1+(2*H262*COS(J262*PI()/180)))+(H262^2))","v":1.6098328783738396},{"$f":"IF(W262=0,-99,10*LOG(W262^2))","v":4.1356158589314953},{"$f":"IF(AND((X263<X262),(X262>X261)),\"Max\",\"\")","v":""},{"$f":"U262+S262","v":-12.572622340948497},{"$f":"IF(AND((Z263<Z262),(Z262>Z261)),\"Max\",\"\")","v":""},{"$f":"X262+S262","v":-9.9243841410685043},{"$f":"IF(AND((AB263<AB262),(AB262>AB261)),\"Max\",\"\")","v":""},{"$f":"U262+$AD$2","v":17.857377659051505},{"$f":"X262+$AD$2","v":20.505615858931495},{"$f":"Z262+$AD$2","v":3.797377659051504},{"$f":"AB262+$AD$2","v":6.4456158589314967}]
[25.800000000000097,0.4502949470145387,15.058996038282585,2602.1945154152304,{"$f":"VLOOKUP(A263-$B$2,'Ref. Coeff. Horiz.'!A:X,24)","v":180},{"$f":"VLOOKUP(A263-$B$2,'Ref. Coeff. Vertical'!A:X,24)","v":0},{"$f":"VLOOKUP(A263-$B$2,'Ref. Coeff. Horiz.'!A:X,23)","v":1},{"$f":"VLOOKUP(A263-$B$2,'Ref. Coeff. Vertical'!A:X,23)","v":1},2782.1945154152304,2602.1945154152304,null,null,null,null,null,null,35.786768840094958,35.799999999999997,{"$f":"'Antenna Data'!B261","v":-14.25},1.3146783559331849,2.376390260625783,"",1.5071897095060147,3.5633584053665626,"",-11.873609739374217,"",-10.686641594633437,"",18.746390260625784,19.933358405366562,4.496390260625784,5.6833584053665636]
[25.900000000000098,0.45204027626653304,15.113341877522549,2611.5854764358965,{"$f":"VLOOKUP(A264-$B$2,'Ref. Coeff. Horiz.'!A:X,24)","v":180},{"$f":"VLOOKUP(A264-$B$2,'Ref. Coeff. Vertical'!A:X,24)","v":0},{"$f":"VLOOKUP(A264-$B$2,'Ref. Coeff. Horiz.'!A:X,23)","v":1},{"$f":"VLOOKUP(A264-$B$2,'Ref. Coeff. Vertical'!A:X,23)","v":1},2791.5854764358965,2611.5854764358965,null,null,null,null,null,null,35.627943818819894,35.6,{"$f":"'Antenna Data'!B262","v":-14.440000000000001},1.4336444835775128,3.1288293590915863,"",1.3945119198873037,2.888444616848203,"",-11.311170640908415,"",-11.551555383151799,"",19.498829359091587,19.258444616848205,5.058829359091586,4.8184446168482022]
[26.000000000000099,0.45378560551852742,15.167641678902132,2620.9684821142882,{"$f":"VLOOKUP(A265-$B$2,'Ref. Coeff. Horiz.'!A:X,24)","v":180},{"$f":"VLOOKUP(A265-$B$2,'Ref. Coeff. Vertical'!A:X,24)","v":0},{"$f":"VLOOKUP(A265-$B$2,'Ref. Coeff. Horiz.'!A:X,23)","v":1},{"$f":"VLOOKUP(A265-$B$2,'Ref. Coeff. Vertical'!A:X,23)","v":1},2800.9684821142882,2620.9684821142882,null,null,null,null,null,null,35.470256459321668,35.5,{"$f":"'Antenna Data'!B263","v":-14.63},1.5428992075791921,3.7667511198121,"",1.2725808560761449,2.0937077138043918,"",-10.8632488801879,"",-12.536292286195609,"",20.1367511198121,18.463707713804393,5.5067511198121011,3.833707713804392]
[26.100000000000101,0.45553093477052176,15.221895277014719,2630.3435038681432,{"$f":"VLOOKUP(A266-$B$2,'Ref. Coeff. Horiz.'!A:X,24)","v":180},{"$f":"VLOOKUP(A266-$B$2,'Ref. Coeff. Vertical'!A:X,24)","v":0},{"$f":"VLOOKUP(A266-$B$2,'Ref. Coeff. Horiz.'!A:X,23)","v":1},{"$f":"VLOOKUP(A266-$B$2,'Ref. Coeff. Vertical'!A:X,23)","v":1},2810.3435038681432,2630.3435038681432,null,null,null,null,null,null,35.313693631205311,35.299999999999997,{"$f":"'Antenna Data'!B264","v":-14.82},1.6417354702804514,4.3060636275014916,"",1.1422366854654211,1.1551220876719781,"",-10.51393637249851,"",-13.664877912328022,"",20.676063627501492,17.525122087671978,5.8560636275014915,2.7051220876719793]
[26.200000000000102,0.45727626402251614,15.276102506594441,2639.7105131395192,{"$f":"VLOOKUP(A267-$B$2,'Ref. Coeff. Horiz.'!A:X,24)","v":180},{"$f":"VLOOKUP(A267-$B$2,'Ref. Coeff. Vertical'!A:X,24)","v":0},{"$f":"VLOOKUP(A267-$B$2,'Ref. Coeff. Horiz.'!A:X,23)","v":1},{"$f":"VLOOKUP(A267-$B$2,'Ref. Coeff. Vertical'!A:X,23)","v":1},2819.7105131395192,2639.7105131395192,null,null,null,null,null,null,35.15824240429194,35.200000000000003,{"$f":"'Antenna Data'!B265","v":-15.020000000000001},1.729519033911699,4.7585069185350175,"",1.00437239674194,3.7895369001898709E-2,"",-10.261493081464984,"",-14.982104630998103,"",21.128506918535017,16.407895369001899,6.1085069185350171,1.3878953690018978]
[26.300000000000104,0.45902159327451048,15.330263202516672,2649.0694813948808,{"$f":"VLOOKUP(A268-$B$2,'Ref. Coeff. Horiz.'!A:X,24)","v":180},{"$f":"VLOOKUP(A268-$B$2,'Ref. Coeff. Vertical'!A:X,24)","v":0},{"$f":"VLOOKUP(A268-$B$2,'Ref. Coeff. Horiz.'!A:X,23)","v":1},{"$f":"VLOOKUP(A268-$B$2,'Ref. Coeff. Vertical'!A:X,23)","v":1},2829.0694813948808,2649.0694813948808,null,null,null,null,null,null,35.003890044811889,35,{"$f":"'Antenna Data'!B266","v":-15.22},1.8056923086479066,5.1328749633934878,"",0.85992748908835237,-1.3107633569069419,"",-10.087125036606512,"",-16.530763356906942,"",21.502874963393488,15.059236643093058,6.2828749633934891,-0.16076335690694066]
[26.400000000000105,0.46076692252650486,15.384377199798548,2658.4203801251888,{"$f":"VLOOKUP(A269-$B$2,'Ref. Coeff. Horiz.'!A:X,24)","v":180},{"$f":"VLOOKUP(A269-$B$2,'Ref. Coeff. Vertical'!A:X,24)","v":0},{"$f":"VLOOKUP(A269-$B$2,'Ref. Coeff. Horiz.'!A:X,23)","v":1},{"$f":"VLOOKUP(A269-$B$2,'Ref. Coeff. Vertical'!A:X,23)","v":1},2838.4203801251888,2658.4203801251888,null,null,null,null,null,null,34.850624011684268,34.9,{"$f":"'Antenna Data'!B267","v":-15.420000000000002},1.869777634870466,5.4357992142491955,"",0.70988139582482435,-2.9762841084788159,"",-9.9842007857508062,"",-18.396284108478817,"",21.805799214249198,13.393715891521186,6.3857992142491948,-2.0262841084788157]
[26.500000000000107,0.46251225177849919,15.438444333599442,2667.7631808459832,{"$f":"VLOOKUP(A270-$B$2,'Ref. Coeff. Horiz.'!A:X,24)","v":180},{"$f":"VLOOKUP(A270-$B$2,'Ref. Coeff. Vertical'!A:X,24)","v":0},{"$f":"VLOOKUP(A270-$B$2,'Ref. Coeff. Horiz.'!A:X,23)","v":1},{"$f":"VLOOKUP(A270-$B$2,'Ref. Coeff. Vertical'!A:X,23)","v":1},2847.7631808459832,2667.7631808459832,null,null,null,null,null,null,34.698431952880881,34.700000000000003,{"$f":"'Antenna Data'!B268","v":-15.620000000000001},1.9213800024437113,5.6722653257979054,"",0.55524668950782574,-5.1102804424522521,"",-9.9477346742020956,"Max",-20.730280442452255,"",22.042265325797906,11.259719557547749,6.4222653257979054,-4.3602804424522539]
[26.600000000000108,0.46425758103049353,15.492464439221491,2677.0978550974737,{"$f":"VLOOKUP(A271-$B$2,'Ref. Coeff. Horiz.'!A:X,24)","v":180},{"$f":"VLOOKUP(A271-$B$2,'Ref. Coeff. Vertical'!A:X,24)","v":0},{"$f":"VLOOKUP(A271-$B$2,'Ref. Coeff. Horiz.'!A:X,23)","v":1},{"$f":"VLOOKUP(A271-$B$2,'Ref. Coeff. Vertical'!A:X,23)","v":1},2857.0978550974737,2677.0978550974737,null,null,null,null,null,null,34.54730170187203,34.5,{"$f":"'Antenna Data'!B269","v":-15.82},1.960189193841922,5.8459598136211701,"",0.39706211648223588,-8.0228309360108216,"",-9.9740401863788293,"",-23.84283093601082,"",22.215959813621172,8.3471690639891793,6.3959598136211717,-7.4728309360108192]
[26.700000000000109,0.46600291028248791,15.546437352110082,2686.4243744446221,{"$f":"VLOOKUP(A272-$B$2,'Ref. Coeff. Horiz.'!A:X,24)","v":180},{"$f":"VLOOKUP(A272-$B$2,'Ref. Coeff. Vertical'!A:X,24)","v":0},{"$f":"VLOOKUP(A272-$B$2,'Ref. Coeff. Horiz.'!A:X,23)","v":1},{"$f":"VLOOKUP(A272-$B$2,'Ref. Coeff. Vertical'!A:X,23)","v":1},2866.4243744446221,2686.4243744446221,null,null,null,null,null,null,34.39722127415228,34.4,{"$f":"'Antenna Data'!B270","v":-16.02},1.9859813420293457,5.9595032810547002,"",0.23638550952060744,-12.527582986282786,"",-10.060496718945299,"",-28.547582986282784,"",22.329503281054702,3.8424170137172151,6.3095032810547025,-12.177582986282783]
[26.800000000000111,0.46774823953448225,15.600362907854365,2695.7427104772341,{"$f":"VLOOKUP(A273-$B$2,'Ref. Coeff. Horiz.'!A:X,24)","v":180},{"$f":"VLOOKUP(A273-$B$2,'Ref. Coeff. Vertical'!A:X,24)","v":0},{"$f":"VLOOKUP(A273-$B$2,'Ref. Coeff. Horiz.'!A:X,23)","v":1},{"$f":"VLOOKUP(A273-$B$2,'Ref. Coeff. Vertical'!A:X,23)","v":1},2875.7427104772341,2695.7427104772341,null,null,null,null,null,null,34.24817886384394,34.200000000000003,{"$f":"'Antenna Data'!B271","v":-16.23},1.9986198980741234,6.0146041378375941,"Max",7.4286627478842154E-2,-22.581787152739501,"",-10.215395862162406,"",-38.811787152739498,"",22.384604137837595,-6.2117871527395003,6.1546041378375946,-22.441787152739497]
[26.900000000000112,0.46949356878647663,15.654240942187744,2705.052834810042,{"$f":"VLOOKUP(A274-$B$2,'Ref. Coeff. Horiz.'!A:X,24)","v":180},{"$f":"VLOOKUP(A274-$B$2,'Ref. Coeff. Vertical'!A:X,24)","v":0},{"$f":"VLOOKUP(A274-$B$2,'Ref. Coeff. Horiz.'!A:X,23)","v":1},{"$f":"VLOOKUP(A274-$B$2,'Ref. Coeff. Vertical'!A:X,23)","v":1},2885.052834810042,2705.052834810042,null,null,null,null,null,null,34.100162840376356,34.1,{"$f":"'Antenna Data'!B272","v":-16.43},1.9980560075385816,6.0121531555173666,"",8.8160029145775878E-2,-21.094565498283295,"",-10.417846844482632,"",-37.524565498283295,"",22.382153155517369,-4.7245654982832939,5.9521531555173688,-21.154565498283294]
[27.000000000000114,0.47123889803847097,15.708071290988382,2714.3547190827921,{"$f":"VLOOKUP(A275-$B$2,'Ref. Coeff. Horiz.'!A:X,24)","v":180},{"$f":"VLOOKUP(A275-$B$2,'Ref. Coeff. Vertical'!A:X,24)","v":0},{"$f":"VLOOKUP(A275-$B$2,'Ref. Coeff. Horiz.'!A:X,23)","v":1},{"$f":"VLOOKUP(A275-$B$2,'Ref. Coeff. Vertical'!A:X,23)","v":1},2894.3547190827921,2714.3547190827921,null,null,null,null,null,null,33.953161745238937,34,{"$f":"'Antenna Data'!B273","v":-16.630000000000003},1.9843282987052171,5.9522705188727967,"",0.2498823782455524,-12.045287386519284,"",-10.677729481127205,"",-28.675287386519287,"",22.322270518872799,4.3247126134807168,5.692270518872796,-12.305287386519286]
[27.100000000000115,0.4729842272904653,15.7618537902797,2723.6483349603318,{"$f":"VLOOKUP(A276-$B$2,'Ref. Coeff. Horiz.'!A:X,24)","v":180},{"$f":"VLOOKUP(A276-$B$2,'Ref. Coeff. Vertical'!A:X,24)","v":0},{"$f":"VLOOKUP(A276-$B$2,'Ref. Coeff. Horiz.'!A:X,23)","v":1},{"$f":"VLOOKUP(A276-$B$2,'Ref. Coeff. Vertical'!A:X,23)","v":1},2903.6483349603318,2723.6483349603318,null,null,null,null,null,null,33.807164288806142,33.799999999999997,{"$f":"'Antenna Data'!B274","v":-16.84},1.9575620896427812,5.8343109166338465,"",0.40981784391774673,-7.7481827173153484,"",-11.005689083366153,"",-24.588182717315348,"",22.204310916633847,8.6218172826846526,5.3643109166338476,-8.2181827173153472]
[27.200000000000117,0.47472955654245969,15.815588276230882,2732.9336541326961,{"$f":"VLOOKUP(A277-$B$2,'Ref. Coeff. Horiz.'!A:X,24)","v":180},{"$f":"VLOOKUP(A277-$B$2,'Ref. Coeff. Vertical'!A:X,24)","v":0},{"$f":"VLOOKUP(A277-$B$2,'Ref. Coeff. Horiz.'!A:X,23)","v":1},{"$f":"VLOOKUP(A277-$B$2,'Ref. Coeff. Vertical'!A:X,23)","v":1},2912.9336541326961,2732.9336541326961,null,null,null,null,null,null,33.662159347232389,33.700000000000003,{"$f":"'Antenna Data'!B275","v":-17.040000000000003},1.9179680249640156,5.6568272527571315,"",0.56692032528004976,-4.9295594472777644,"",-11.38317274724287,"",-21.969559447277767,"",22.026827252757133,11.440440552722237,4.9868272527571307,-5.5995594472777661]
[27.300000000000118,0.47647488579445402,15.869274585157362,2742.210648315192,{"$f":"VLOOKUP(A278-$B$2,'Ref. Coeff. Horiz.'!A:X,24)","v":180},{"$f":"VLOOKUP(A278-$B$2,'Ref. Coeff. Vertical'!A:X,24)","v":0},{"$f":"VLOOKUP(A278-$B$2,'Ref. Coeff. Horiz.'!A:X,23)","v":1},{"$f":"VLOOKUP(A278-$B$2,'Ref. Coeff. Vertical'!A:X,23)","v":1},2922.210648315192,2742.210648315192,null,null,null,null,null,null,33.518135959415332,33.5,{"$f":"'Antenna Data'!B276","v":-17.25},1.8658401568507745,5.4174887156362717,"",0.72016700082903151,-2.8513356511357286,"",-11.832511284363729,"",-20.101335651135727,"",21.787488715636272,13.518664348864272,4.5374887156362718,-3.7313356511357263]
[27.400000000000119,0.4782202150464484,15.922912553521334,2751.4792892484861,{"$f":"VLOOKUP(A279-$B$2,'Ref. Coeff. Horiz.'!A:X,24)","v":180},{"$f":"VLOOKUP(A279-$B$2,'Ref. Coeff. Vertical'!A:X,24)","v":0},{"$f":"VLOOKUP(A279-$B$2,'Ref. Coeff. Horiz.'!A:X,23)","v":1},{"$f":"VLOOKUP(A279-$B$2,'Ref. Coeff. Vertical'!A:X,23)","v":1},2931.4792892484861,2751.4792892484861,null,null,null,null,null,null,33.375083324025532,33.4,{"$f":"'Antenna Data'!B277","v":-17.450000000000003},1.8015534884994524,5.1129432188781667,"",0.86856492450216294,-1.2239542570797006,"",-12.337056781121836,"",-18.673954257079703,"",21.482943218878169,15.1460457429203,4.0329432188781649,-2.3039542570797025]
[27.500000000000121,0.47996554429844274,15.976502017932239,2760.7395486986907,{"$f":"VLOOKUP(A280-$B$2,'Ref. Coeff. Horiz.'!A:X,24)","v":180},{"$f":"VLOOKUP(A280-$B$2,'Ref. Coeff. Vertical'!A:X,24)","v":0},{"$f":"VLOOKUP(A280-$B$2,'Ref. Coeff. Horiz.'!A:X,23)","v":1},{"$f":"VLOOKUP(A280-$B$2,'Ref. Coeff. Vertical'!A:X,23)","v":1},2940.7395486986907,2760.7395486986907,null,null,null,null,null,null,33.232990796600994,33.200000000000003,{"$f":"'Antenna Data'!B278","v":-17.650000000000002},1.7255610015477629,4.7386063391081583,"",1.0111573714993505,9.6375045648277896E-2,"",-12.911393660891843,"",-17.553624954351726,"",21.10860633910816,16.466375045648277,3.4586063391081581,-1.1836249543517248]
[27.600000000000122,0.48171087355043707,16.030042815147283,2769.99139845745,{"$f":"VLOOKUP(A281-$B$2,'Ref. Coeff. Horiz.'!A:X,24)","v":180},{"$f":"VLOOKUP(A281-$B$2,'Ref. Coeff. Vertical'!A:X,24)","v":0},{"$f":"VLOOKUP(A281-$B$2,'Ref. Coeff. Horiz.'!A:X,23)","v":1},{"$f":"VLOOKUP(A281-$B$2,'Ref. Coeff. Vertical'!A:X,23)","v":1},2949.99139845745,2769.99139845745,null,null,null,null,null,null,33.091847886704855,33.1,{"$f":"'Antenna Data'!B279","v":-17.84},1.6383901922616366,4.2883467905607295,"",1.1470298940746362,1.1914947340057254,"",-13.551653209439269,"",-16.648505265994274,"",20.658346790560731,17.561494734005727,2.8183467905607316,-0.27850526599427283]
[27.700000000000124,0.48345620280243146,16.083534782071908,2779.2348103420254,{"$f":"VLOOKUP(A282-$B$2,'Ref. Coeff. Horiz.'!A:X,24)","v":180},{"$f":"VLOOKUP(A282-$B$2,'Ref. Coeff. Vertical'!A:X,24)","v":0},{"$f":"VLOOKUP(A282-$B$2,'Ref. Coeff. Horiz.'!A:X,23)","v":1},{"$f":"VLOOKUP(A282-$B$2,'Ref. Coeff. Vertical'!A:X,23)","v":1},2959.2348103420254,2779.2348103420254,null,null,null,null,null,null,32.951644255144579,33,{"$f":"'Antenna Data'!B280","v":-18.04},1.5406391442695444,3.754018562757234,"",1.2753160499046499,2.1123565066999186,"",-14.285981437242764,"",-15.927643493300081,"",20.124018562757236,18.482356506699919,2.0840185627572367,0.44235650669991955]
[27.800000000000125,0.48520153205442579,16.136977755760302,2788.4697561953799,{"$f":"VLOOKUP(A283-$B$2,'Ref. Coeff. Horiz.'!A:X,24)","v":180},{"$f":"VLOOKUP(A283-$B$2,'Ref. Coeff. Vertical'!A:X,24)","v":0},{"$f":"VLOOKUP(A283-$B$2,'Ref. Coeff. Horiz.'!A:X,23)","v":1},{"$f":"VLOOKUP(A283-$B$2,'Ref. Coeff. Vertical'!A:X,23)","v":1},2968.4697561953799,2788.4697561953799,null,null,null,null,null,null,32.812369711251243,32.799999999999997,{"$f":"'Antenna Data'!B281","v":-18.23},1.432972168412987,3.1247551098025603,"",1.3952027682576373,2.892746585683597,"",-15.10524489019744,"",-15.337253414316404,"",19.494755109802561,19.262746585683598,1.2647551098025609,1.0327465856835971]
[27.900000000000126,0.48694686130642018,16.190371573415906,2797.6962078862684,{"$f":"VLOOKUP(A284-$B$2,'Ref. Coeff. Horiz.'!A:X,24)","v":180},{"$f":"VLOOKUP(A284-$B$2,'Ref. Coeff. Vertical'!A:X,24)","v":0},{"$f":"VLOOKUP(A284-$B$2,'Ref. Coeff. Horiz.'!A:X,23)","v":1},{"$f":"VLOOKUP(A284-$B$2,'Ref. Coeff. Vertical'!A:X,23)","v":1},2977.6962078862684,2797.6962078862684,null,null,null,null,null,null,32.674014210217294,32.700000000000003,{"$f":"'Antenna Data'!B282","v":-18.41},1.3161150428207937,2.3858770603088462,"",1.5059353220045053,3.5561263974565178,"",-16.024122939691154,"",-14.853873602543482,"",18.755877060308848,19.926126397456517,0.34587706030884746,1.5161263974565191]
[28.000000000000128,0.48869219055841451,16.243716072391891,2806.9141373093184,{"$f":"VLOOKUP(A285-$B$2,'Ref. Coeff. Horiz.'!A:X,24)","v":180},{"$f":"VLOOKUP(A285-$B$2,'Ref. Coeff. Vertical'!A:X,24)","v":0},{"$f":"VLOOKUP(A285-$B$2,'Ref. Coeff. Horiz.'!A:X,23)","v":1},{"$f":"VLOOKUP(A285-$B$2,'Ref. Coeff. Vertical'!A:X,23)","v":1},2986.9141373093184,2806.9141373093184,null,null,null,null,null,null,32.536567850491366,32.5,{"$f":"'Antenna Data'!B283","v":-18.59},1.190849888597848,1.5171404074499399,"",1.6068218765085631,4.119354718378089,"",-17.07285959255006,"",-14.470645281621911,"",17.887140407449941,20.489354718378088,-0.70285959255005892,1.8993547183780901]
[28.100000000000129,0.49043751981040884,16.297011090191653,2816.1235163851175,{"$f":"VLOOKUP(A286-$B$2,'Ref. Coeff. Horiz.'!A:X,24)","v":180},{"$f":"VLOOKUP(A286-$B$2,'Ref. Coeff. Vertical'!A:X,24)","v":0},{"$f":"VLOOKUP(A286-$B$2,'Ref. Coeff. Horiz.'!A:X,23)","v":1},{"$f":"VLOOKUP(A286-$B$2,'Ref. Coeff. Vertical'!A:X,23)","v":1},2996.1235163851175,2816.1235163851175,null,null,null,null,null,null,32.400020871228691,32.4,{"$f":"'Antenna Data'!B284","v":-18.760000000000002},1.058009718533204,0.48979314010730202,"",1.6972375895817582,4.5948528348252786,"",-18.270206859892699,"",-14.165147165174723,"",16.859793140107303,20.96485283482528,-1.9002068598926982,2.2048528348252781]
[28.200000000000131,0.49218284906240323,16.350256464469339,2825.3243170603018,{"$f":"VLOOKUP(A287-$B$2,'Ref. Coeff. Horiz.'!A:X,24)","v":180},{"$f":"VLOOKUP(A287-$B$2,'Ref. Coeff. Vertical'!A:X,24)","v":0},{"$f":"VLOOKUP(A287-$B$2,'Ref. Coeff. Horiz.'!A:X,23)","v":1},{"$f":"VLOOKUP(A287-$B$2,'Ref. Coeff. Vertical'!A:X,23)","v":1},3005.3243170603018,2825.3243170603018,null,null,null,null,null,null,32.264363649795747,32.299999999999997,{"$f":"'Antenna Data'!B285","v":-18.920000000000002},0.91847269796978392,-0.73867497545513083,"",1.7766282399770956,4.9919312210757392,"",-19.658674975455131,"",-13.928068778924263,"",15.63132502454487,21.361931221075739,-3.2886749754551303,2.4419312210757376]
[28.300000000000132,0.49392817831439756,16.403452033030295,2834.5165113076346,{"$f":"VLOOKUP(A288-$B$2,'Ref. Coeff. Horiz.'!A:X,24)","v":180},{"$f":"VLOOKUP(A288-$B$2,'Ref. Coeff. Vertical'!A:X,24)","v":0},{"$f":"VLOOKUP(A288-$B$2,'Ref. Coeff. Horiz.'!A:X,23)","v":1},{"$f":"VLOOKUP(A288-$B$2,'Ref. Coeff. Vertical'!A:X,23)","v":1},3014.5165113076346,2834.5165113076346,null,null,null,null,null,null,32.129586699327909,32.1,{"$f":"'Antenna Data'!B286","v":-19.080000000000002},0.77315615842970009,-2.2346556094729477,"",1.844513365276119,5.3176361291218619,"",-21.31465560947295,"",-13.76236387087814,"",14.135344390527052,21.687636129121863,-4.9446556094729495,2.607636129121861]
[28.400000000000134,0.49567350756639195,16.456597633831596,2843.7000711260998,{"$f":"VLOOKUP(A289-$B$2,'Ref. Coeff. Horiz.'!A:X,24)","v":180},{"$f":"VLOOKUP(A289-$B$2,'Ref. Coeff. Vertical'!A:X,24)","v":0},{"$f":"VLOOKUP(A289-$B$2,'Ref. Coeff. Horiz.'!A:X,23)","v":1},{"$f":"VLOOKUP(A289-$B$2,'Ref. Coeff. Vertical'!A:X,23)","v":1},3023.7000711260998,2843.7000711260998,null,null,null,null,null,null,31.995680666338576,32,{"$f":"'Antenna Data'!B287","v":-19.220000000000002},0.62301040574945143,-4.1100939906745113,"",1.9004888935029083,5.5773067184089244,"",-23.330093990674513,"",-13.642693281591079,"",12.259906009325491,21.947306718408925,-6.9600939906745118,2.7273067184089221]
[28.500000000000135,0.49741883681838628,16.509693104982521,2852.8749685409794,{"$f":"VLOOKUP(A290-$B$2,'Ref. Coeff. Horiz.'!A:X,24)","v":180},{"$f":"VLOOKUP(A290-$B$2,'Ref. Coeff. Vertical'!A:X,24)","v":0},{"$f":"VLOOKUP(A290-$B$2,'Ref. Coeff. Horiz.'!A:X,23)","v":1},{"$f":"VLOOKUP(A290-$B$2,'Ref. Coeff. Vertical'!A:X,23)","v":1},3032.8749685409794,2852.8749685409794,null,null,null,null,null,null,31.862636328378645,31.9,{"$f":"'Antenna Data'!B288","v":-19.36},0.46901236534668589,-6.5763141422424649,"",1.9442292563254717,5.774949480186895,"",-25.936314142242466,"",-13.585050519813105,"",9.7936858577575361,22.144949480186895,-9.5663141422424651,2.7849494801868957]
[28.600000000000136,0.49916416607038061,16.562738284745066,2862.0411756039475,{"$f":"VLOOKUP(A291-$B$2,'Ref. Coeff. Horiz.'!A:X,24)","v":180},{"$f":"VLOOKUP(A291-$B$2,'Ref. Coeff. Vertical'!A:X,24)","v":0},{"$f":"VLOOKUP(A291-$B$2,'Ref. Coeff. Horiz.'!A:X,23)","v":1},{"$f":"VLOOKUP(A291-$B$2,'Ref. Coeff. Vertical'!A:X,23)","v":1},3042.0411756039475,2862.0411756039475,null,null,null,null,null,null,31.730444591745187,31.7,{"$f":"'Antenna Data'!B289","v":-19.48},0.31215910780973144,-10.112479784328416,"",1.9754889752695242,5.9134922066163682,"",-29.592479784328418,"",-13.566507793383632,"Max",6.257520215671585,22.283492206616369,-13.222479784328417,2.8034922066163688]
[28.700000000000138,0.50090949532237494,16.61573301153441,2871.1986643931455,{"$f":"VLOOKUP(A292-$B$2,'Ref. Coeff. Horiz.'!A:X,24)","v":180},{"$f":"VLOOKUP(A292-$B$2,'Ref. Coeff. Vertical'!A:X,24)","v":0},{"$f":"VLOOKUP(A292-$B$2,'Ref. Coeff. Horiz.'!A:X,23)","v":1},{"$f":"VLOOKUP(A292-$B$2,'Ref. Coeff. Vertical'!A:X,23)","v":1},3051.1986643931455,2871.1986643931455,null,null,null,null,null,null,31.599096489237869,31.6,{"$f":"'Antenna Data'!B290","v":-19.59},0.15346129827781979,-16.280022640038176,"",1.9941037159412955,5.9949548557373156,"",-35.870022640038172,"",-13.595045144262684,"",8.9977359961824988E-2,22.364954855737317,-19.500022640038171,2.7749548557373167]
[28.800000000000139,0.50265482457436939,16.668677123919423,2880.3474070132761,{"$f":"VLOOKUP(A293-$B$2,'Ref. Coeff. Horiz.'!A:X,24)","v":180},{"$f":"VLOOKUP(A293-$B$2,'Ref. Coeff. Vertical'!A:X,24)","v":0},{"$f":"VLOOKUP(A293-$B$2,'Ref. Coeff. Horiz.'!A:X,23)","v":1},{"$f":"VLOOKUP(A293-$B$2,'Ref. Coeff. Vertical'!A:X,23)","v":1},3060.3474070132761,2880.3474070132761,null,null,null,null,null,null,31.468583177962262,31.5,{"$f":"'Antenna Data'!B291","v":-19.690000000000001},6.063386937887048E-3,-44.345694323484288,"",1.9999908088135909,6.0205599963725067,"Max",-64.035694323484293,"",-13.669440003627495,"",-27.975694323484287,22.390559996372509,-47.665694323484288,2.7005599963725064]
[28.900000000000141,0.50440015382636372,16.721570460623159,2889.4873755956819,{"$f":"VLOOKUP(A294-$B$2,'Ref. Coeff. Horiz.'!A:X,24)","v":180},{"$f":"VLOOKUP(A294-$B$2,'Ref. Coeff. Vertical'!A:X,24)","v":0},{"$f":"VLOOKUP(A294-$B$2,'Ref. Coeff. Horiz.'!A:X,23)","v":1},{"$f":"VLOOKUP(A294-$B$2,'Ref. Coeff. Vertical'!A:X,23)","v":1},3069.4873755956819,2889.4873755956819,null,null,null,null,null,null,31.338895937178677,31.3,{"$f":"'Antenna Data'!B292","v":-19.78},0.16539683334666466,-15.629456192312098,"",1.9931492386469445,5.9907963613084174,"",-35.409456192312099,"",-13.789203638691584,"",0.74054380768790296,22.360796361308417,-19.039456192312098,2.5807963613084173]
[29.000000000000142,0.50614548307835805,16.774412860523334,2898.6185422984317,{"$f":"VLOOKUP(A295-$B$2,'Ref. Coeff. Horiz.'!A:X,24)","v":180},{"$f":"VLOOKUP(A295-$B$2,'Ref. Coeff. Vertical'!A:X,24)","v":0},{"$f":"VLOOKUP(A295-$B$2,'Ref. Coeff. Horiz.'!A:X,23)","v":1},{"$f":"VLOOKUP(A295-$B$2,'Ref. Coeff. Vertical'!A:X,23)","v":1},3078.6185422984317,2898.6185422984317,null,null,null,null,null,null,31.210026166195455,31.2,{"$f":"'Antenna Data'!B293","v":-19.850000000000001},0.323527008324832,-9.8017891637801764,"",1.9736591080742341,5.9054428626501974,"",-29.65178916378018,"",-13.944557137349804,"",6.5682108362198246,22.275442862650198,-13.281789163780179,2.4254428626501969]
[29.100000000000144,0.50789081233035238,16.827204162652848,2907.7408793064119,{"$f":"VLOOKUP(A296-$B$2,'Ref. Coeff. Horiz.'!A:X,24)","v":180},{"$f":"VLOOKUP(A296-$B$2,'Ref. Coeff. Vertical'!A:X,24)","v":0},{"$f":"VLOOKUP(A296-$B$2,'Ref. Coeff. Horiz.'!A:X,23)","v":1},{"$f":"VLOOKUP(A296-$B$2,'Ref. Coeff. Vertical'!A:X,23)","v":1},3087.7408793064119,2907.7408793064119,null,null,null,null,null,null,31.081965382305814,31.1,{"$f":"'Antenna Data'!B294","v":-19.900000000000002},0.47945438651684702,-6.385054073362209,"",1.9416805842490565,5.7635557585299875,"",-26.285054073362211,"",-14.136444241470015,"",9.984945926637792,22.133555758529987,-9.9150540733622101,2.2335557585299863]
[29.200000000000145,0.50963614158234671,16.879944206200229,2916.8543588313992,{"$f":"VLOOKUP(A297-$B$2,'Ref. Coeff. Horiz.'!A:X,24)","v":180},{"$f":"VLOOKUP(A297-$B$2,'Ref. Coeff. Vertical'!A:X,24)","v":0},{"$f":"VLOOKUP(A297-$B$2,'Ref. Coeff. Horiz.'!A:X,23)","v":1},{"$f":"VLOOKUP(A297-$B$2,'Ref. Coeff. Vertical'!A:X,23)","v":1},3096.8543588313992,2916.8543588313992,null,null,null,null,null,null,30.954705218767007,31,{"$f":"'Antenna Data'!B295","v":-19.940000000000001},0.63219824001363667,-3.9829343506763228,"",1.8974523407252304,5.5634175261858285,"",-23.922934350676325,"",-14.376582473814173,"",12.387065649323677,21.933417526185828,-7.552934350676324,1.9934175261858282]
[29.300000000000146,0.51138147083434116,16.932632830510158,2925.9589531121551,{"$f":"VLOOKUP(A298-$B$2,'Ref. Coeff. Horiz.'!A:X,24)","v":180},{"$f":"VLOOKUP(A298-$B$2,'Ref. Coeff. Vertical'!A:X,24)","v":0},{"$f":"VLOOKUP(A298-$B$2,'Ref. Coeff. Horiz.'!A:X,23)","v":1},{"$f":"VLOOKUP(A298-$B$2,'Ref. Coeff. Vertical'!A:X,23)","v":1},3105.9589531121551,2925.9589531121551,null,null,null,null,null,null,30.828237422820838,30.8,{"$f":"'Antenna Data'!B296","v":-19.970000000000002},0.78080275410650857,-2.1491732692466119,"",1.8412895098760831,5.3024415784075449,"",-22.119173269246616,"",-14.667558421592457,"",14.220826730753389,21.672441578407547,-5.7491732692466151,1.7024415784075444]
[29.400000000000148,0.51312680008633549,16.985269875083951,2935.0546344145064,{"$f":"VLOOKUP(A299-$B$2,'Ref. Coeff. Horiz.'!A:X,24)","v":180},{"$f":"VLOOKUP(A299-$B$2,'Ref. Coeff. Vertical'!A:X,24)","v":0},{"$f":"VLOOKUP(A299-$B$2,'Ref. Coeff. Horiz.'!A:X,23)","v":1},{"$f":"VLOOKUP(A299-$B$2,'Ref. Coeff. Vertical'!A:X,23)","v":1},3115.0546344145064,2935.0546344145064,null,null,null,null,null,null,30.702553853754694,30.7,{"$f":"'Antenna Data'!B297","v":-19.98},0.92434293102660225,-0.68333751451465119,"",1.7735811641594403,4.9770213564694643,"",-20.663337514514652,"",-15.002978643530536,"",15.68666248548535,21.347021356469465,-4.2933375145146506,1.3670213564694649]
[29.500000000000149,0.51487212933832982,17.037855179580042,2944.1413750314314,{"$f":"VLOOKUP(A300-$B$2,'Ref. Coeff. Horiz.'!A:X,24)","v":180},{"$f":"VLOOKUP(A300-$B$2,'Ref. Coeff. Vertical'!A:X,24)","v":0},{"$f":"VLOOKUP(A300-$B$2,'Ref. Coeff. Horiz.'!A:X,23)","v":1},{"$f":"VLOOKUP(A300-$B$2,'Ref. Coeff. Vertical'!A:X,23)","v":1},3124.1413750314314,2944.1413750314314,null,null,null,null,null,null,30.577646481001828,30.6,{"$f":"'Antenna Data'!B298","v":-19.98},1.0619302459187363,0.52191981122721931,"",1.6947873473692734,4.5823042613085931,"",-19.458080188772779,"",-15.397695738691407,"",16.891919811227222,20.952304261308594,-3.0880801887727785,0.97230426130859371]
[29.600000000000151,0.51661745859032415,17.09038858381447,2953.21914728314,{"$f":"VLOOKUP(A301-$B$2,'Ref. Coeff. Horiz.'!A:X,24)","v":180},{"$f":"VLOOKUP(A301-$B$2,'Ref. Coeff. Vertical'!A:X,24)","v":0},{"$f":"VLOOKUP(A301-$B$2,'Ref. Coeff. Horiz.'!A:X,23)","v":1},{"$f":"VLOOKUP(A301-$B$2,'Ref. Coeff. Vertical'!A:X,23)","v":1},3133.21914728314,2953.21914728314,null,null,null,null,null,null,30.453507382280318,30.5,{"$f":"'Antenna Data'!B299","v":-19.96},1.1927180213431989,1.5307556253006007,"",1.6054356796717699,4.1118582127101391,"",-18.429244374699401,"",-15.848141787289862,"",17.900755625300601,20.48185821271014,-2.0592443746994,0.52185821271013921]
[29.700000000000152,0.51836278784231848,17.142869927761382,2962.2879235171663,{"$f":"VLOOKUP(A302-$B$2,'Ref. Coeff. Horiz.'!A:X,24)","v":180},{"$f":"VLOOKUP(A302-$B$2,'Ref. Coeff. Vertical'!A:X,24)","v":0},{"$f":"VLOOKUP(A302-$B$2,'Ref. Coeff. Horiz.'!A:X,23)","v":1},{"$f":"VLOOKUP(A302-$B$2,'Ref. Coeff. Vertical'!A:X,23)","v":1},3142.2879235171663,2962.2879235171663,null,null,null,null,null,null,30.330128741769517,30.3,{"$f":"'Antenna Data'!B300","v":-19.920000000000002},1.3159064888376588,2.3845005693773764,"",1.5061175626872396,3.557177456332524,"",-17.535499430622625,"",-16.362822543667477,"",18.754500569377377,19.927177456332526,-1.1654994306226243,7.1774563325242013E-3]
[29.800000000000153,0.52010811709431293,17.195299051553498,2971.3476761084439,{"$f":"VLOOKUP(A303-$B$2,'Ref. Coeff. Horiz.'!A:X,24)","v":180},{"$f":"VLOOKUP(A303-$B$2,'Ref. Coeff. Vertical'!A:X,24)","v":0},{"$f":"VLOOKUP(A303-$B$2,'Ref. Coeff. Horiz.'!A:X,23)","v":1},{"$f":"VLOOKUP(A303-$B$2,'Ref. Coeff. Vertical'!A:X,23)","v":1},3151.3476761084439,2971.3476761084439,null,null,null,null,null,null,30.207502848323251,30.2,{"$f":"'Antenna Data'!B301","v":-19.880000000000003},1.4307475084816614,3.1112599659246869,"",1.3974840131370159,2.9069369673611334,"",-16.768740034075314,"",-16.973063032638869,"",19.481259965924689,19.276936967361134,-0.39874003407531333,-0.60306303263886818]
[29.900000000000155,0.52185344634630726,17.247675795482611,2980.3983774593949,{"$f":"VLOOKUP(A304-$B$2,'Ref. Coeff. Horiz.'!A:X,24)","v":180},{"$f":"VLOOKUP(A304-$B$2,'Ref. Coeff. Vertical'!A:X,24)","v":0},{"$f":"VLOOKUP(A304-$B$2,'Ref. Coeff. Horiz.'!A:X,23)","v":1},{"$f":"VLOOKUP(A304-$B$2,'Ref. Coeff. Vertical'!A:X,23)","v":1},3160.3983774593949,2980.3983774593949,null,null,null,null,null,null,30.085622093718897,30.1,{"$f":"'Antenna Data'!B302","v":-19.82},1.5365489199739581,3.7309278338139151,"",1.2802411556136146,2.1458356849504541,"",-16.089072166186085,"",-17.674164315049545,"",20.100927833813916,18.515835684950456,0.28092783381391584,-1.3041643150495439]
[30.000000000000156,0.52359877559830159,17.300000000000082,2989.4400000000142,{"$f":"VLOOKUP(A305-$B$2,'Ref. Coeff. Horiz.'!A:X,24)","v":180},{"$f":"VLOOKUP(A305-$B$2,'Ref. Coeff. Vertical'!A:X,24)","v":0},{"$f":"VLOOKUP(A305-$B$2,'Ref. Coeff. Horiz.'!A:X,23)","v":1},{"$f":"VLOOKUP(A305-$B$2,'Ref. Coeff. Vertical'!A:X,23)","v":1},3169.4400000000142,2989.4400000000142,null,null,null,null,null,null,29.964478970941389,30,{"$f":"'Antenna Data'!B303","v":-19.75},1.6326785014345135,4.2580134828638201,"",1.1551454068443379,1.2527331116700269,"",-15.49198651713618,"",-18.497266888329975,"",20.628013482863821,17.622733111670026,0.87801348286382108,-2.1272668883299737]
[30.100000000000158,0.52534410485029592,17.352271505717308,2998.4725161879505,{"$f":"VLOOKUP(A306-$B$2,'Ref. Coeff. Horiz.'!A:X,24)","v":180},{"$f":"VLOOKUP(A306-$B$2,'Ref. Coeff. Vertical'!A:X,24)","v":0},{"$f":"VLOOKUP(A306-$B$2,'Ref. Coeff. Horiz.'!A:X,23)","v":1},{"$f":"VLOOKUP(A306-$B$2,'Ref. Coeff. Vertical'!A:X,23)","v":1},3178.4725161879505,2998.4725161879505,null,null,null,null,null,null,29.844066072501533,29.8,{"$f":"'Antenna Data'!B304","v":-19.670000000000002},1.7185675149616371,4.7033319665824083,"",1.0229983853939246,0.19749896524882685,"",-14.966668033417594,"",-19.472501034751176,"",21.073331966582408,16.567498965248827,1.4033319665824067,-3.1025010347511746]
[30.200000000000159,0.52708943410229026,17.404490153406215,3007.4958985085937,{"$f":"VLOOKUP(A307-$B$2,'Ref. Coeff. Horiz.'!A:X,24)","v":180},{"$f":"VLOOKUP(A307-$B$2,'Ref. Coeff. Vertical'!A:X,24)","v":0},{"$f":"VLOOKUP(A307-$B$2,'Ref. Coeff. Horiz.'!A:X,23)","v":1},{"$f":"VLOOKUP(A307-$B$2,'Ref. Coeff. Vertical'!A:X,23)","v":1},3187.4958985085937,3007.4958985085937,null,null,null,null,null,null,29.72437608878765,29.7,{"$f":"'Antenna Data'!B305","v":-19.580000000000002},1.7937138208887151,5.0750630894013602,"",0.88464158208440591,-1.064653014332295,"",-14.504936910598641,"",-20.644653014332295,"",21.445063089401362,15.305346985667706,1.8650630894013602,-4.2746530143322943]
[30.300000000000161,0.5288347633542847,17.45665578399975,3016.5101194751564,{"$f":"VLOOKUP(A308-$B$2,'Ref. Coeff. Horiz.'!A:X,24)","v":180},{"$f":"VLOOKUP(A308-$B$2,'Ref. Coeff. Vertical'!A:X,24)","v":0},{"$f":"VLOOKUP(A308-$B$2,'Ref. Coeff. Horiz.'!A:X,23)","v":1},{"$f":"VLOOKUP(A308-$B$2,'Ref. Coeff. Vertical'!A:X,23)","v":1},3196.5101194751564,3016.5101194751564,null,null,null,null,null,null,29.605401806449915,29.6,{"$f":"'Antenna Data'!B306","v":-19.48},1.8576845456732545,5.3794393631765205,"",0.74095082749582597,-2.6042122521765201,"",-14.100560636823481,"",-22.084212252176521,"",21.749439363176521,13.765787747823481,2.2694393631765202,-5.7142122521765195]
[30.400000000000162,0.53058009260627903,17.508768238592353,3025.5151516287583,{"$f":"VLOOKUP(A309-$B$2,'Ref. Coeff. Horiz.'!A:X,24)","v":180},{"$f":"VLOOKUP(A309-$B$2,'Ref. Coeff. Vertical'!A:X,24)","v":0},{"$f":"VLOOKUP(A309-$B$2,'Ref. Coeff. Horiz.'!A:X,23)","v":1},{"$f":"VLOOKUP(A309-$B$2,'Ref. Coeff. Vertical'!A:X,23)","v":1},3205.5151516287583,3025.5151516287583,null,null,null,null,null,null,29.487136106816546,29.5,{"$f":"'Antenna Data'!B307","v":-19.37},1.9101182913942887,5.6212052686092022,"",0.59283059374577485,-4.5413878430804075,"",-13.748794731390799,"",-23.911387843080409,"",21.991205268609203,11.828612156919593,2.6212052686092022,-7.5413878430804075]
[30.500000000000163,0.53232542185827336,17.560827358440452,3034.5109675385102,{"$f":"VLOOKUP(A310-$B$2,'Ref. Coeff. Horiz.'!A:X,24)","v":180},{"$f":"VLOOKUP(A310-$B$2,'Ref. Coeff. Vertical'!A:X,24)","v":0},{"$f":"VLOOKUP(A310-$B$2,'Ref. Coeff. Horiz.'!A:X,23)","v":1},{"$f":"VLOOKUP(A310-$B$2,'Ref. Coeff. Vertical'!A:X,23)","v":1},3214.5109675385102,3034.5109675385102,null,null,null,null,null,null,29.369571964341148,29.4,{"$f":"'Antenna Data'!B308","v":-19.260000000000002},1.9507268779099602,5.8039293579580207,"",0.44120816832834725,-7.1071291165186556,"",-13.456070642041981,"",-26.367129116518658,"",22.173929357958023,9.2628708834813445,2.9139293579580201,-9.9971291165186571]
[30.600000000000165,0.53407075111026769,17.612832984962932,3043.4975398015945,{"$f":"VLOOKUP(A311-$B$2,'Ref. Coeff. Horiz.'!A:X,24)","v":180},{"$f":"VLOOKUP(A311-$B$2,'Ref. Coeff. Vertical'!A:X,24)","v":0},{"$f":"VLOOKUP(A311-$B$2,'Ref. Coeff. Horiz.'!A:X,23)","v":1},{"$f":"VLOOKUP(A311-$B$2,'Ref. Coeff. Vertical'!A:X,23)","v":1},3223.4975398015945,3043.4975398015945,null,null,null,null,null,null,29.252702445080505,29.3,{"$f":"'Antenna Data'!B309","v":-19.14},1.9792966118162731,5.930217624628435,"",0.28702773812407606,-10.841522627541531,"",-13.209782375371566,"",-29.98152262754153,"",22.300217624628438,5.5284773724584699,3.1602176246284355,-13.611522627541529]
[30.700000000000166,0.53581608036226203,17.664784959741645,3052.4748410433563,{"$f":"VLOOKUP(A312-$B$2,'Ref. Coeff. Horiz.'!A:X,24)","v":180},{"$f":"VLOOKUP(A312-$B$2,'Ref. Coeff. Vertical'!A:X,24)","v":0},{"$f":"VLOOKUP(A312-$B$2,'Ref. Coeff. Horiz.'!A:X,23)","v":1},{"$f":"VLOOKUP(A312-$B$2,'Ref. Coeff. Vertical'!A:X,23)","v":1},3232.4748410433563,3052.4748410433563,null,null,null,null,null,null,29.13652070520213,29.1,{"$f":"'Antenna Data'!B310","v":-19.02},1.9956890794293332,6.0018576167198026,"",0.13124442177289619,-17.638382923351728,"",-13.018142383280196,"",-36.658382923351724,"",22.371857616719804,-1.2683829233517265,3.3518576167198049,-20.288382923351723]
[30.800000000000168,0.53756140961425647,17.716683124521861,3061.4428439173771,{"$f":"VLOOKUP(A313-$B$2,'Ref. Coeff. Horiz.'!A:X,24)","v":180},{"$f":"VLOOKUP(A313-$B$2,'Ref. Coeff. Vertical'!A:X,24)","v":0},{"$f":"VLOOKUP(A313-$B$2,'Ref. Coeff. Horiz.'!A:X,23)","v":1},{"$f":"VLOOKUP(A313-$B$2,'Ref. Coeff. Vertical'!A:X,23)","v":1},3241.4428439173771,3061.4428439173771,null,null,null,null,null,null,29.02101998952088,29,{"$f":"'Antenna Data'!B311","v":-18.89},1.9998414640672939,6.0199113731820999,"Max",2.5181711561816891E-2,-31.978295098073271,"",-12.8700886268179,"",-50.868295098073276,"",22.389911373182102,-15.60829509807327,3.4999113731821012,-34.498295098073271]
[30.900000000000169,0.5393067388662508,17.768527321212776,3070.4015211055676,{"$f":"VLOOKUP(A314-$B$2,'Ref. Coeff. Horiz.'!A:X,24)","v":180},{"$f":"VLOOKUP(A314-$B$2,'Ref. Coeff. Vertical'!A:X,24)","v":0},{"$f":"VLOOKUP(A314-$B$2,'Ref. Coeff. Horiz.'!A:X,23)","v":1},{"$f":"VLOOKUP(A314-$B$2,'Ref. Coeff. Vertical'!A:X,23)","v":1},3250.4015211055676,3070.4015211055676,null,null,null,null,null,null,28.906193630063971,28.9,{"$f":"'Antenna Data'!B312","v":-18.75},1.9917663909154961,5.9847679961532565,"",0.18129159941779077,-14.832446390348395,"",-12.765232003846744,"",-33.582446390348395,"",22.354767996153257,1.5375536096516065,3.6047679961532566,-17.212446390348394]
[31.000000000000171,0.54105206811824513,17.820317391887961,3079.3508453182394,{"$f":"VLOOKUP(A315-$B$2,'Ref. Coeff. Horiz.'!A:X,24)","v":180},{"$f":"VLOOKUP(A315-$B$2,'Ref. Coeff. Vertical'!A:X,24)","v":0},{"$f":"VLOOKUP(A315-$B$2,'Ref. Coeff. Horiz.'!A:X,23)","v":1},{"$f":"VLOOKUP(A315-$B$2,'Ref. Coeff. Vertical'!A:X,23)","v":1},3259.3508453182394,3079.3508453182394,null,null,null,null,null,null,28.792035044663766,28.8,{"$f":"'Antenna Data'!B313","v":-18.62},1.9715513056998077,5.8961616641208749,"",0.33613308226561944,-9.4697748420498336,"",-12.723838335879126,"Max",-28.089774842049835,"",22.266161664120876,6.9002251579501674,3.6461616641208749,-11.719774842049834]
[31.100000000000172,0.54279739737023946,17.872053178785897,3088.290789294203,{"$f":"VLOOKUP(A316-$B$2,'Ref. Coeff. Horiz.'!A:X,24)","v":180},{"$f":"VLOOKUP(A316-$B$2,'Ref. Coeff. Vertical'!A:X,24)","v":0},{"$f":"VLOOKUP(A316-$B$2,'Ref. Coeff. Horiz.'!A:X,23)","v":1},{"$f":"VLOOKUP(A316-$B$2,'Ref. Coeff. Vertical'!A:X,23)","v":1},3268.290789294203,3088.290789294203,null,null,null,null,null,null,28.678537735577748,28.7,{"$f":"'Antenna Data'!B314","v":-18.48},1.9393573962514636,5.7531570162001575,"",0.48876670263504379,-6.2179677637562918,"",-12.726842983799843,"",-24.697967763756292,"",22.12315701620016,10.152032236243709,3.6431570162001581,-8.3279677637562912]
[31.200000000000173,0.5445427266222338,17.923734524310394,3097.221325800836,{"$f":"VLOOKUP(A317-$B$2,'Ref. Coeff. Horiz.'!A:X,24)","v":180},{"$f":"VLOOKUP(A317-$B$2,'Ref. Coeff. Vertical'!A:X,24)","v":0},{"$f":"VLOOKUP(A317-$B$2,'Ref. Coeff. Horiz.'!A:X,23)","v":1},{"$f":"VLOOKUP(A317-$B$2,'Ref. Coeff. Vertical'!A:X,23)","v":1},3277.221325800836,3097.221325800836,null,null,null,null,null,null,28.565695288134954,28.6,{"$f":"'Antenna Data'!B315","v":-18.34},1.895418068804507,5.5541003277668697,"",0.63827137210545526,-3.8998926841893433,"",-12.78589967223313,"",-22.239892684189343,"",21.924100327766872,12.470107315810658,3.5841003277668708,-5.8698926841893417]
[31.300000000000175,0.54628805587422824,17.975361271031119,3106.1424276341768,{"$f":"VLOOKUP(A318-$B$2,'Ref. Coeff. Horiz.'!A:X,24)","v":180},{"$f":"VLOOKUP(A318-$B$2,'Ref. Coeff. Vertical'!A:X,24)","v":0},{"$f":"VLOOKUP(A318-$B$2,'Ref. Coeff. Horiz.'!A:X,23)","v":1},{"$f":"VLOOKUP(A318-$B$2,'Ref. Coeff. Vertical'!A:X,23)","v":1},3286.1424276341768,3106.1424276341768,null,null,null,null,null,null,28.453501369408418,28.5,{"$f":"'Antenna Data'!B316","v":-18.200000000000003},1.840036993507971,5.2965310897002364,"",0.78374987242240202,-2.1164503371001753,"",-12.903468910299766,"",-20.316450337100179,"",21.666531089700236,14.253549662899825,3.4665310897002346,-3.9464503371001776]
[31.400000000000176,0.54803338512622257,18.026933261684036,3115.0540676190012,{"$f":"VLOOKUP(A319-$B$2,'Ref. Coeff. Horiz.'!A:X,24)","v":180},{"$f":"VLOOKUP(A319-$B$2,'Ref. Coeff. Vertical'!A:X,24)","v":0},{"$f":"VLOOKUP(A319-$B$2,'Ref. Coeff. Horiz.'!A:X,23)","v":1},{"$f":"VLOOKUP(A319-$B$2,'Ref. Coeff. Vertical'!A:X,23)","v":1},3295.0540676190012,3115.0540676190012,null,null,null,null,null,null,28.341949726912997,28.3,{"$f":"'Antenna Data'!B317","v":-18.060000000000002},1.7735857361448191,4.9770437471612707,"",0.92433415848579692,-0.68341994894488611,"",-13.082956252838731,"",-18.74341994894489,"",21.347043747161273,15.686580051055115,3.2870437471612703,-2.3734199489448891]
[31.500000000000178,0.5497787143782169,18.078450339171923,3123.9562186089079,{"$f":"VLOOKUP(A320-$B$2,'Ref. Coeff. Horiz.'!A:X,24)","v":180},{"$f":"VLOOKUP(A320-$B$2,'Ref. Coeff. Vertical'!A:X,24)","v":0},{"$f":"VLOOKUP(A320-$B$2,'Ref. Coeff. Horiz.'!A:X,23)","v":1},{"$f":"VLOOKUP(A320-$B$2,'Ref. Coeff. Vertical'!A:X,23)","v":1},3303.9562186089079,3123.9562186089079,null,null,null,null,null,null,28.231034187327868,28.2,{"$f":"'Antenna Data'!B318","v":-17.920000000000002},1.6965009954135297,4.5910823760268133,"",1.0591904326233832,0.49948098500847832,"",-13.328917623973188,"",-17.420519014991523,"",20.961082376026816,16.869480985008479,3.0410823760268126,-1.0505190149915222]
[31.600000000000179,0.55152404363021124,18.129912346564829,3132.8488534864023,{"$f":"VLOOKUP(A321-$B$2,'Ref. Coeff. Horiz.'!A:X,24)","v":180},{"$f":"VLOOKUP(A321-$B$2,'Ref. Coeff. Vertical'!A:X,24)","v":0},{"$f":"VLOOKUP(A321-$B$2,'Ref. Coeff. Horiz.'!A:X,23)","v":1},{"$f":"VLOOKUP(A321-$B$2,'Ref. Coeff. Vertical'!A:X,23)","v":1},3312.8488534864023,3132.8488534864023,null,null,null,null,null,null,28.120748655243446,28.1,{"$f":"'Antenna Data'!B319","v":-17.78},1.6092814673344813,4.1326401985693186,"",1.187523961397742,1.4928476282173286,"",-13.647359801430682,"",-16.287152371782671,"",20.502640198569321,17.862847628217331,2.7226401985693194,8.2847628217329827E-2]
[31.70000000000018,0.55326937288220557,18.181319127100558,3141.731945162976,{"$f":"VLOOKUP(A322-$B$2,'Ref. Coeff. Horiz.'!A:X,24)","v":180},{"$f":"VLOOKUP(A322-$B$2,'Ref. Coeff. Vertical'!A:X,24)","v":0},{"$f":"VLOOKUP(A322-$B$2,'Ref. Coeff. Horiz.'!A:X,23)","v":1},{"$f":"VLOOKUP(A322-$B$2,'Ref. Coeff. Vertical'!A:X,23)","v":1},3321.731945162976,3141.731945162976,null,null,null,null,null,null,28.011087111931914,28,{"$f":"'Antenna Data'!B320","v":-17.630000000000003},1.5124843603796247,3.5938178517999515,"",1.3085836081836846,2.3360295171689192,"",-14.036182148200052,"",-15.293970482831083,"",19.963817851799952,18.706029517168922,2.3338178517999495,1.0760295171689176]
[31.800000000000182,0.55501470213420001,18.232670524185139,3150.6054665791921,{"$f":"VLOOKUP(A323-$B$2,'Ref. Coeff. Horiz.'!A:X,24)","v":180},{"$f":"VLOOKUP(A323-$B$2,'Ref. Coeff. Vertical'!A:X,24)","v":0},{"$f":"VLOOKUP(A323-$B$2,'Ref. Coeff. Horiz.'!A:X,23)","v":1},{"$f":"VLOOKUP(A323-$B$2,'Ref. Coeff. Vertical'!A:X,23)","v":1},3330.6054665791921,3150.6054665791921,null,null,null,null,null,null,27.902043614140961,27.9,{"$f":"'Antenna Data'!B321","v":-17.490000000000002},1.4067215867805702,2.9641630391076976,"",1.4216660568802935,3.0559518900938065,"",-14.525836960892304,"",-14.434048109906195,"",19.3341630391077,19.425951890093806,1.8441630391076966,1.935951890093806]
[31.900000000000183,0.55676003138619434,18.283966381393309,3159.469390704764,{"$f":"VLOOKUP(A324-$B$2,'Ref. Coeff. Horiz.'!A:X,24)","v":180},{"$f":"VLOOKUP(A324-$B$2,'Ref. Coeff. Vertical'!A:X,24)","v":0},{"$f":"VLOOKUP(A324-$B$2,'Ref. Coeff. Horiz.'!A:X,23)","v":1},{"$f":"VLOOKUP(A324-$B$2,'Ref. Coeff. Vertical'!A:X,23)","v":1},3339.469390704764,3159.469390704764,null,null,null,null,null,null,27.79361229291024,27.8,{"$f":"'Antenna Data'!B322","v":-17.36},1.2926556571388426,2.2296570231905948,"",1.5261197043701802,3.6717719949004768,"",-15.130342976809406,"",-13.688228005099523,"",18.599657023190595,20.041771994900479,1.2396570231905955,2.6817719949004779]
[32.000000000000185,0.55850536063818867,18.335206542468985,3168.3236905386407,{"$f":"VLOOKUP(A325-$B$2,'Ref. Coeff. Horiz.'!A:X,24)","v":180},{"$f":"VLOOKUP(A325-$B$2,'Ref. Coeff. Vertical'!A:X,24)","v":0},{"$f":"VLOOKUP(A325-$B$2,'Ref. Coeff. Horiz.'!A:X,23)","v":1},{"$f":"VLOOKUP(A325-$B$2,'Ref. Coeff. Vertical'!A:X,23)","v":1},3348.3236905386407,3168.3236905386407,null,null,null,null,null,null,27.685787352409974,27.7,{"$f":"'Antenna Data'!B323","v":-17.220000000000002},1.1709953069342096,1.3711030905734758,"",1.6213482016945187,4.1975258840780763,"",-15.848896909426527,"",-13.022474115921927,"",17.741103090573478,20.567525884078076,0.52110309057347415,3.3475258840780739]
[{"$f":"A325+0.1","v":32.100000000000186},{"$f":"A326*(PI()/180)","v":0.56025068989018301},{"$f":"(2*$B$1*SIN(B326-$C$2)*COS($C$2))","v":18.386390851325761},{"$f":"(C326/$O$1)*360","v":3177.168339109091},{"$f":"VLOOKUP(A326-$B$2,'Ref. Coeff. Horiz.'!A:X,24)","v":180},{"$f":"VLOOKUP(A326-$B$2,'Ref. Coeff. Vertical'!A:X,24)","v":0},{"$f":"VLOOKUP(A326-$B$2,'Ref. Coeff. Horiz.'!A:X,23)","v":1},{"$f":"VLOOKUP(A326-$B$2,'Ref. Coeff. Vertical'!A:X,23)","v":1},{"$f":"D326+E326","v":3357.168339109091},{"$f":"D326+F326","v":3177.168339109091},null,null,null,null,null,null,{"$f":"(((COS($C$2))/(TAN(B326-$C$2)))-(SIN($C$2)))*$B$1","v":27.578563068801294},{"$f":"ROUND(Q326,1)","v":27.6},{"$f":"'Antenna Data'!B324","v":-17.080000000000002},{"$f":"SQRT((1+(2*G326*COS(I326*PI()/180)))+(G326^2))","v":1.0424908847978802},{"$f":"IF(T326=0,-99,10*LOG(T326^2))","v":0.36144532664657442},{"$f":"IF(AND((U327<U326),(U326>U325)),\"Max\",\"\")","v":""},{"$f":"SQRT((1+(2*H326*COS(J326*PI()/180)))+(H326^2))","v":1.7068136263556544},{"$f":"IF(W326=0,-99,10*LOG(W326^2))","v":4.6437220278683675},{"$f":"IF(AND((X327<X326),(X326>X325)),\"Max\",\"\")","v":""},{"$f":"U326+S326","v":-16.718554673353427},{"$f":"IF(AND((Z327<Z326),(Z326>Z325)),\"Max\",\"\")","v":""},{"$f":"X326+S326","v":-12.436277972131634},{"$f":"IF(AND((AB327<AB326),(AB326>AB325)),\"Max\",\"\")","v":""},{"$f":"U326+$AD$2","v":16.731445326646575},{"$f":"X326+$AD$2","v":21.013722027868369},{"$f":"Z326+$AD$2","v":-0.34855467335342638},{"$f":"AB326+$AD$2","v":3.9337220278683667}]
[32.200000000000188,0.56199601914217734,18.437519152047354,3186.0033094737828,{"$f":"VLOOKUP(A327-$B$2,'Ref. Coeff. Horiz.'!A:X,24)","v":180},{"$f":"VLOOKUP(A327-$B$2,'Ref. Coeff. Vertical'!A:X,24)","v":0},{"$f":"VLOOKUP(A327-$B$2,'Ref. Coeff. Horiz.'!A:X,23)","v":1},{"$f":"VLOOKUP(A327-$B$2,'Ref. Coeff. Vertical'!A:X,23)","v":1},3366.0033094737828,3186.0033094737828,null,null,null,null,null,null,27.471933789117802,27.5,{"$f":"'Antenna Data'!B325","v":-16.95},0.90792953348189587,-0.83895713547112383,"",1.7820392706759727,5.0183454064745137,"",-17.788957135471122,"",-11.931654593525487,"",15.531042864528878,21.388345406474514,-1.4189571354711212,4.4383454064745145]
[32.300000000000189,0.56374134839417178,18.488591288888088,3194.8285747198611,{"$f":"VLOOKUP(A328-$B$2,'Ref. Coeff. Horiz.'!A:X,24)","v":180},{"$f":"VLOOKUP(A328-$B$2,'Ref. Coeff. Vertical'!A:X,24)","v":0},{"$f":"VLOOKUP(A328-$B$2,'Ref. Coeff. Horiz.'!A:X,23)","v":1},{"$f":"VLOOKUP(A328-$B$2,'Ref. Coeff. Vertical'!A:X,23)","v":1},3374.8285747198611,3194.8285747198611,null,null,null,null,null,null,27.365893930167896,27.4,{"$f":"'Antenna Data'!B326","v":-16.82},0.76813019531067095,-2.2913032474740143,"",1.8466120337125489,5.3275132275238892,"",-19.111303247474016,"",-11.492486772476111,"",14.078696752525987,21.697513227523892,-2.7413032474740149,4.8775132275238899]
[32.40000000000019,0.56548667764616611,18.53960710627338,3203.6441079640394,{"$f":"VLOOKUP(A329-$B$2,'Ref. Coeff. Horiz.'!A:X,24)","v":180},{"$f":"VLOOKUP(A329-$B$2,'Ref. Coeff. Vertical'!A:X,24)","v":0},{"$f":"VLOOKUP(A329-$B$2,'Ref. Coeff. Horiz.'!A:X,23)","v":1},{"$f":"VLOOKUP(A329-$B$2,'Ref. Coeff. Vertical'!A:X,23)","v":1},3383.6441079640394,3203.6441079640394,null,null,null,null,null,null,27.260437977457464,27.3,{"$f":"'Antenna Data'!B327","v":-16.690000000000001},0.62393847454387574,-4.0971646641547865,"",1.9001844068363116,5.5759149978483888,"",-20.787164664154787,"",-11.114085002151612,"",12.272835335845215,21.945914997848391,-4.4171646641547859,5.2559149978483894]
[32.500000000000192,0.56723200689816045,18.590566448800203,3212.4498823526746,{"$f":"VLOOKUP(A330-$B$2,'Ref. Coeff. Horiz.'!A:X,24)","v":180},{"$f":"VLOOKUP(A330-$B$2,'Ref. Coeff. Vertical'!A:X,24)","v":0},{"$f":"VLOOKUP(A330-$B$2,'Ref. Coeff. Horiz.'!A:X,23)","v":1},{"$f":"VLOOKUP(A330-$B$2,'Ref. Coeff. Vertical'!A:X,23)","v":1},3392.4498823526746,3212.4498823526746,null,null,null,null,null,null,27.155560484132387,27.2,{"$f":"'Antenna Data'!B328","v":-16.560000000000002},0.47622138951299864,-6.4438220425939265,"",1.9424760457133861,5.7671134371950536,"",-23.003822042593928,"",-10.792886562804949,"",9.9261779574060753,22.137113437195055,-6.6338220425939269,5.5771134371950524]
[32.600000000000193,0.56897733615015478,18.641469161237559,3221.2458710618498,{"$f":"VLOOKUP(A331-$B$2,'Ref. Coeff. Horiz.'!A:X,24)","v":180},{"$f":"VLOOKUP(A331-$B$2,'Ref. Coeff. Vertical'!A:X,24)","v":0},{"$f":"VLOOKUP(A331-$B$2,'Ref. Coeff. Horiz.'!A:X,23)","v":1},{"$f":"VLOOKUP(A331-$B$2,'Ref. Coeff. Vertical'!A:X,23)","v":1},3401.2458710618498,3221.2458710618498,null,null,null,null,null,null,27.05125606994056,27.1,{"$f":"'Antenna Data'!B329","v":-16.440000000000001},0.32586204761390181,-9.7393243569235626,"",1.9732749240602228,5.9037519400607756,"",-26.179324356923566,"",-10.536248059939226,"",6.6306756430764384,22.273751940060777,-9.8093243569235646,5.8337519400607754]
[32.700000000000195,0.57072266540214911,18.692315088526961,3230.0320472974586,{"$f":"VLOOKUP(A332-$B$2,'Ref. Coeff. Horiz.'!A:X,24)","v":180},{"$f":"VLOOKUP(A332-$B$2,'Ref. Coeff. Vertical'!A:X,24)","v":0},{"$f":"VLOOKUP(A332-$B$2,'Ref. Coeff. Horiz.'!A:X,23)","v":1},{"$f":"VLOOKUP(A332-$B$2,'Ref. Coeff. Vertical'!A:X,23)","v":1},3410.0320472974586,3230.0320472974586,null,null,null,null,null,null,26.947519420212974,26.9,{"$f":"'Antenna Data'!B330","v":-16.310000000000002},0.17375427625165341,-15.201289964438352,"",1.9924380671640125,5.9876966138403143,"",-31.511289964438355,"",-10.322303386159689,"",1.1687100355616487,22.357696613840314,-15.141289964438354,6.0476966138403121]
[32.800000000000196,0.57246799465414355,18.743104075782899,3238.8083842952847,{"$f":"VLOOKUP(A333-$B$2,'Ref. Coeff. Horiz.'!A:X,24)","v":180},{"$f":"VLOOKUP(A333-$B$2,'Ref. Coeff. Vertical'!A:X,24)","v":0},{"$f":"VLOOKUP(A333-$B$2,'Ref. Coeff. Horiz.'!A:X,23)","v":1},{"$f":"VLOOKUP(A333-$B$2,'Ref. Coeff. Vertical'!A:X,23)","v":1},3418.8083842952847,3238.8083842952847,null,null,null,null,null,null,26.844345284863337,26.8,{"$f":"'Antenna Data'!B331","v":-16.190000000000001},2.07972426419426E-2,-33.639884824561882,"",1.9998918657513691,6.0201302795087841,"Max",-49.829884824561887,"",-10.169869720491217,"",-17.269884824561881,22.390130279508785,-33.459884824561883,6.2001302795087838]
[32.900000000000198,0.57421332390613788,18.793835968293305,3247.5748553210829,{"$f":"VLOOKUP(A334-$B$2,'Ref. Coeff. Horiz.'!A:X,24)","v":180},{"$f":"VLOOKUP(A334-$B$2,'Ref. Coeff. Vertical'!A:X,24)","v":0},{"$f":"VLOOKUP(A334-$B$2,'Ref. Coeff. Horiz.'!A:X,23)","v":1},{"$f":"VLOOKUP(A334-$B$2,'Ref. Coeff. Vertical'!A:X,23)","v":1},3427.5748553210829,3247.5748553210829,null,null,null,null,null,null,26.741728477406088,26.7,{"$f":"'Antenna Data'!B332","v":-16.07},0.13210990501802727,-17.581292393597824,"",1.9956319733347958,6.0016090688188504,"",-33.651292393597828,"",-10.068390931181149,"",-1.211292393597823,22.371609068818852,-17.281292393597827,6.301609068818852]
[33.000000000000199,0.57595865315813222,18.844510611520036,3256.3314336706617,{"$f":"VLOOKUP(A335-$B$2,'Ref. Coeff. Horiz.'!A:X,24)","v":180},{"$f":"VLOOKUP(A335-$B$2,'Ref. Coeff. Vertical'!A:X,24)","v":0},{"$f":"VLOOKUP(A335-$B$2,'Ref. Coeff. Horiz.'!A:X,23)","v":1},{"$f":"VLOOKUP(A335-$B$2,'Ref. Coeff. Vertical'!A:X,23)","v":1},3436.3314336706617,3256.3314336706617,null,null,null,null,null,null,26.639663873992081,26.6,{"$f":"'Antenna Data'!B333","v":-15.96},0.28407334308198584,-10.931390355147832,"",1.9797227926531105,5.9320876633176862,"",-26.891390355147834,"",-10.027912336682315,"Max",5.4386096448521695,22.302087663317685,-10.521390355147833,6.3420876633176864]
[33.1000000000002,0.57770398241012655,18.895127851099346,3265.0780926699667,{"$f":"VLOOKUP(A336-$B$2,'Ref. Coeff. Horiz.'!A:X,24)","v":180},{"$f":"VLOOKUP(A336-$B$2,'Ref. Coeff. Vertical'!A:X,24)","v":0},{"$f":"VLOOKUP(A336-$B$2,'Ref. Coeff. Horiz.'!A:X,23)","v":1},{"$f":"VLOOKUP(A336-$B$2,'Ref. Coeff. Vertical'!A:X,23)","v":1},3445.0780926699667,3265.0780926699667,null,null,null,null,null,null,26.538146412461906,26.5,{"$f":"'Antenna Data'!B334","v":-15.850000000000001},0.4342097935348781,-7.24600770652237,"",1.9522965592343822,5.8109157774379412,"",-23.096007706522371,"",-10.03908422256206,"",9.123992293477631,22.180915777437942,-6.7260077065223705,6.3309157774379408]
[33.200000000000202,0.57944931166212088,18.945687532842339,3273.8148056751556,{"$f":"VLOOKUP(A337-$B$2,'Ref. Coeff. Horiz.'!A:X,24)","v":180},{"$f":"VLOOKUP(A337-$B$2,'Ref. Coeff. Vertical'!A:X,24)","v":0},{"$f":"VLOOKUP(A337-$B$2,'Ref. Coeff. Horiz.'!A:X,23)","v":1},{"$f":"VLOOKUP(A337-$B$2,'Ref. Coeff. Vertical'!A:X,23)","v":1},3453.8148056751556,3273.8148056751556,null,null,null,null,null,null,26.437171091416218,26.4,{"$f":"'Antenna Data'!B335","v":-15.74},0.58165163041653645,-4.7067410041293254,"",1.9135520324343911,5.636805517172256,"",-20.446741004129326,"",-10.103194482827744,"",11.663258995870676,22.006805517172257,-4.0767410041293246,6.2668055171722568]
[33.300000000000203,0.58119464091411532,18.996189502735461,3282.5415460726877,{"$f":"VLOOKUP(A338-$B$2,'Ref. Coeff. Horiz.'!A:X,24)","v":180},{"$f":"VLOOKUP(A338-$B$2,'Ref. Coeff. Vertical'!A:X,24)","v":0},{"$f":"VLOOKUP(A338-$B$2,'Ref. Coeff. Horiz.'!A:X,23)","v":1},{"$f":"VLOOKUP(A338-$B$2,'Ref. Coeff. Vertical'!A:X,23)","v":1},3462.5415460726877,3282.5415460726877,null,null,null,null,null,null,26.336732969302865,26.3,{"$f":"'Antenna Data'!B336","v":-15.63},0.72555184250491189,-2.7866310136794628,"",1.8637528065271216,5.4077662088542802,"",-18.416631013679464,"",-10.222233791145721,"",13.583368986320538,21.777766208854281,-2.0466310136794625,6.1477662088542804]
[33.400000000000205,0.58293997016610966,19.046633606940951,3291.2582872793964,{"$f":"VLOOKUP(A339-$B$2,'Ref. Coeff. Horiz.'!A:X,24)","v":180},{"$f":"VLOOKUP(A339-$B$2,'Ref. Coeff. Vertical'!A:X,24)","v":0},{"$f":"VLOOKUP(A339-$B$2,'Ref. Coeff. Horiz.'!A:X,23)","v":1},{"$f":"VLOOKUP(A339-$B$2,'Ref. Coeff. Vertical'!A:X,23)","v":1},3471.2582872793964,3291.2582872793964,null,null,null,null,null,null,26.236827163520395,26.2,{"$f":"'Antenna Data'!B337","v":-15.520000000000001},0.86508882445391644,-1.2587859665488066,"",1.8032252565347833,5.1209996321691973,"",-16.778785966548806,"",-10.399000367830805,"",15.111214033451194,21.490999632169199,-0.40878596654880539,5.970999632169196]
[33.500000000000206,0.58468529941810399,19.097019691797318,3299.9650027425764,{"$f":"VLOOKUP(A340-$B$2,'Ref. Coeff. Horiz.'!A:X,24)","v":180},{"$f":"VLOOKUP(A340-$B$2,'Ref. Coeff. Vertical'!A:X,24)","v":0},{"$f":"VLOOKUP(A340-$B$2,'Ref. Coeff. Horiz.'!A:X,23)","v":1},{"$f":"VLOOKUP(A340-$B$2,'Ref. Coeff. Vertical'!A:X,23)","v":1},3479.9650027425764,3299.9650027425764,null,null,null,null,null,null,26.137448849537588,26.1,{"$f":"'Antenna Data'!B338","v":-15.420000000000002},0.99947097001044982,-4.5963120051323069E-3,"",1.7323561354716808,4.7727435708423114,"",-15.424596312005134,"",-10.647256429157689,"",16.365403687994867,21.142743570842313,0.94540368799486707,5.7227435708423116]
[33.600000000000207,0.58643062867009832,19.14734760381981,3308.6616659400629,{"$f":"VLOOKUP(A341-$B$2,'Ref. Coeff. Horiz.'!A:X,24)","v":180},{"$f":"VLOOKUP(A341-$B$2,'Ref. Coeff. Vertical'!A:X,24)","v":0},{"$f":"VLOOKUP(A341-$B$2,'Ref. Coeff. Horiz.'!A:X,23)","v":1},{"$f":"VLOOKUP(A341-$B$2,'Ref. Coeff. Vertical'!A:X,23)","v":1},3488.6616659400629,3308.6616659400629,null,null,null,null,null,null,26.038593260028755,26,{"$f":"'Antenna Data'!B339","v":-15.32},1.1279410425000886,1.0457279931937851,"",1.6515898415296113,4.3580440597229178,"",-14.274272006806216,"",-10.961955940277083,"",17.415727993193787,20.728044059722919,2.0957279931937851,5.4080440597229185]
[33.700000000000209,0.58817595792209265,19.197617189700878,3317.3482503803116,{"$f":"VLOOKUP(A342-$B$2,'Ref. Coeff. Horiz.'!A:X,24)","v":180},{"$f":"VLOOKUP(A342-$B$2,'Ref. Coeff. Vertical'!A:X,24)","v":0},{"$f":"VLOOKUP(A342-$B$2,'Ref. Coeff. Horiz.'!A:X,23)","v":1},{"$f":"VLOOKUP(A342-$B$2,'Ref. Coeff. Vertical'!A:X,23)","v":1},3497.3482503803116,3317.3482503803116,null,null,null,null,null,null,25.940255684024418,25.9,{"$f":"'Antenna Data'!B340","v":-15.22},1.2497802994618143,1.9366734902818485,"",1.5614253754429415,3.8704246601134811,"",-13.283326509718153,"",-11.34957533988652,"",18.306673490281849,20.240424660113483,3.0866734902818482,5.0204246601134805]
[33.80000000000021,0.58992128717408709,19.247828296310651,3326.0247296024804,{"$f":"VLOOKUP(A343-$B$2,'Ref. Coeff. Horiz.'!A:X,24)","v":180},{"$f":"VLOOKUP(A343-$B$2,'Ref. Coeff. Vertical'!A:X,24)","v":0},{"$f":"VLOOKUP(A343-$B$2,'Ref. Coeff. Horiz.'!A:X,23)","v":1},{"$f":"VLOOKUP(A343-$B$2,'Ref. Coeff. Vertical'!A:X,23)","v":1},3506.0247296024804,3326.0247296024804,null,null,null,null,null,null,25.842431466077027,25.8,{"$f":"'Antenna Data'!B341","v":-15.13},1.3643123501151895,2.6982762099570885,"",1.4624130098310673,3.3014008390302294,"",-12.431723790042913,"",-11.828599160969771,"",19.068276209957091,19.67140083903023,3.9382762099570883,4.5414008390302296]
[33.900000000000212,0.59166661642608143,19.297980770697386,3334.6910771765079,{"$f":"VLOOKUP(A344-$B$2,'Ref. Coeff. Horiz.'!A:X,24)","v":180},{"$f":"VLOOKUP(A344-$B$2,'Ref. Coeff. Vertical'!A:X,24)","v":0},{"$f":"VLOOKUP(A344-$B$2,'Ref. Coeff. Horiz.'!A:X,23)","v":1},{"$f":"VLOOKUP(A344-$B$2,'Ref. Coeff. Vertical'!A:X,23)","v":1},3514.6910771765079,3334.6910771765079,null,null,null,null,null,null,25.745116005441513,25.7,{"$f":"'Antenna Data'!B342","v":-15.030000000000001},1.4709067262455442,3.3517026787354656,"",1.3551506937184543,2.6397518350049047,"",-11.678297321264536,"",-12.390248164995096,"",19.721702678735468,19.009751835004906,4.6917026787354654,3.9797518350049046]
[34.000000000000213,0.59341194567807576,19.348074460087947,3343.347266703197,{"$f":"VLOOKUP(A345-$B$2,'Ref. Coeff. Horiz.'!A:X,24)","v":180},{"$f":"VLOOKUP(A345-$B$2,'Ref. Coeff. Vertical'!A:X,24)","v":0},{"$f":"VLOOKUP(A345-$B$2,'Ref. Coeff. Horiz.'!A:X,23)","v":1},{"$f":"VLOOKUP(A345-$B$2,'Ref. Coeff. Vertical'!A:X,23)","v":1},3523.347266703197,3343.347266703197,null,null,null,null,null,null,25.6483047552702,25.6,{"$f":"'Antenna Data'!B343","v":-14.940000000000001},1.5689821490807017,3.9123600495609145,"",1.2402802166712608,1.8703963291410113,"",-11.027639950439086,"",-13.06960367085899,"",20.282360049560914,18.240396329141014,5.3423600495609147,3.3003963291410106]
[34.100000000000215,0.59515727493007009,19.398109211888272,3351.9932718142932,{"$f":"VLOOKUP(A346-$B$2,'Ref. Coeff. Horiz.'!A:X,24)","v":180},{"$f":"VLOOKUP(A346-$B$2,'Ref. Coeff. Vertical'!A:X,24)","v":0},{"$f":"VLOOKUP(A346-$B$2,'Ref. Coeff. Horiz.'!A:X,23)","v":1},{"$f":"VLOOKUP(A346-$B$2,'Ref. Coeff. Vertical'!A:X,23)","v":1},3531.9932718142932,3351.9932718142932,null,null,null,null,null,null,25.551993221821974,25.6,{"$f":"'Antenna Data'!B344","v":-14.860000000000001},1.658009476792405,4.3917401709302739,"",1.1184831580612058,0.9725889789140012,"",-10.468259829069726,"",-13.887411021086001,"",20.761740170930274,17.342588978914002,5.9017401709302746,2.4825889789140003]
[34.200000000000216,0.59690260418206442,19.448084873683825,3360.6290661725648,{"$f":"VLOOKUP(A347-$B$2,'Ref. Coeff. Horiz.'!A:X,24)","v":180},{"$f":"VLOOKUP(A347-$B$2,'Ref. Coeff. Vertical'!A:X,24)","v":0},{"$f":"VLOOKUP(A347-$B$2,'Ref. Coeff. Horiz.'!A:X,23)","v":1},{"$f":"VLOOKUP(A347-$B$2,'Ref. Coeff. Vertical'!A:X,23)","v":1},3540.6290661725648,3360.6290661725648,null,null,null,null,null,null,25.456176963685266,25.5,{"$f":"'Antenna Data'!B345","v":-14.770000000000001},1.7375143193740281,4.7985678485466163,"",0.99047664786717793,-8.3115184375983933E-2,"",-9.971432151453385,"",-14.853115184375985,"",21.168567848546616,16.286884815624017,6.398567848546616,1.5168848156240156]
[34.300000000000217,0.59864793343405887,19.498001293240083,3369.2546234718861,{"$f":"VLOOKUP(A348-$B$2,'Ref. Coeff. Horiz.'!A:X,24)","v":180},{"$f":"VLOOKUP(A348-$B$2,'Ref. Coeff. Vertical'!A:X,24)","v":0},{"$f":"VLOOKUP(A348-$B$2,'Ref. Coeff. Horiz.'!A:X,23)","v":1},{"$f":"VLOOKUP(A348-$B$2,'Ref. Coeff. Vertical'!A:X,23)","v":1},3549.2546234718861,3369.2546234718861,null,null,null,null,null,null,25.360851591014633,25.4,{"$f":"'Antenna Data'!B346","v":-14.690000000000001},1.8070793098077593,5.139544269326195,"",0.85700896615187561,-1.3402926880257944,"",-9.5504557306738072,"",-16.030292688025796,"",21.509544269326195,15.029707311974207,6.8195442693261938,0.33970731197420534]
[34.400000000000219,0.6003932626860532,19.547858318502964,3377.8699174373123,{"$f":"VLOOKUP(A349-$B$2,'Ref. Coeff. Horiz.'!A:X,24)","v":180},{"$f":"VLOOKUP(A349-$B$2,'Ref. Coeff. Vertical'!A:X,24)","v":0},{"$f":"VLOOKUP(A349-$B$2,'Ref. Coeff. Horiz.'!A:X,23)","v":1},{"$f":"VLOOKUP(A349-$B$2,'Ref. Coeff. Vertical'!A:X,23)","v":1},3557.8699174373123,3377.8699174373123,null,null,null,null,null,null,25.266012764780708,25.3,{"$f":"'Antenna Data'!B347","v":-14.610000000000001},1.8663460226267738,5.4198433111026345,"",0.71885500890319765,-2.867173935962946,"",-9.1901566888973676,"",-17.477173935962949,"",21.789843311102636,13.502826064037055,7.1798433111026334,-1.1071739359629476]
[34.50000000000022,0.60213859193804753,19.597655797599323,3386.4749218251632,{"$f":"VLOOKUP(A350-$B$2,'Ref. Coeff. Horiz.'!A:X,24)","v":180},{"$f":"VLOOKUP(A350-$B$2,'Ref. Coeff. Vertical'!A:X,24)","v":0},{"$f":"VLOOKUP(A350-$B$2,'Ref. Coeff. Horiz.'!A:X,23)","v":1},{"$f":"VLOOKUP(A350-$B$2,'Ref. Coeff. Vertical'!A:X,23)","v":1},3566.4749218251632,3386.4749218251632,null,null,null,null,null,null,25.171656196033091,25.2,{"$f":"'Antenna Data'!B348","v":-14.530000000000001},1.915016533186483,5.643450555551448,"",0.57681164830681708,-4.7793195585501334,"",-8.8865494444485531,"",-19.309319558550136,"",22.013450555551451,11.590680441449868,7.4834505555514479,-2.9393195585501353]
[34.600000000000222,0.60388392119004186,19.647393578837413,3395.0696104231051,{"$f":"VLOOKUP(A351-$B$2,'Ref. Coeff. Horiz.'!A:X,24)","v":180},{"$f":"VLOOKUP(A351-$B$2,'Ref. Coeff. Vertical'!A:X,24)","v":0},{"$f":"VLOOKUP(A351-$B$2,'Ref. Coeff. Horiz.'!A:X,23)","v":1},{"$f":"VLOOKUP(A351-$B$2,'Ref. Coeff. Vertical'!A:X,23)","v":1},3575.0696104231051,3395.0696104231051,null,null,null,null,null,null,25.077777645176077,25.1,{"$f":"'Antenna Data'!B349","v":-14.46},1.9528546131696836,5.8133982395568795,"",0.43169301572054025,-7.2964995530996344,"",-8.6466017604431222,"",-21.756499553099637,"",22.18339823955688,9.0735004469003666,7.7233982395568788,-5.386499553099636]
[34.700000000000223,0.60562925044203619,19.697071510707318,3403.6539570502241,{"$f":"VLOOKUP(A352-$B$2,'Ref. Coeff. Horiz.'!A:X,24)","v":180},{"$f":"VLOOKUP(A352-$B$2,'Ref. Coeff. Vertical'!A:X,24)","v":0},{"$f":"VLOOKUP(A352-$B$2,'Ref. Coeff. Horiz.'!A:X,23)","v":1},{"$f":"VLOOKUP(A352-$B$2,'Ref. Coeff. Vertical'!A:X,23)","v":1},3583.6539570502241,3403.6539570502241,null,null,null,null,null,null,24.984372921256945,25,{"$f":"'Antenna Data'!B350","v":-14.39},1.9796865600506757,5.9319286939573495,"",0.28432573565317726,-10.923676570080485,"",-8.4580713060426511,"",-25.313676570080485,"",22.30192869395735,5.4463234299195165,7.9119286939573499,-8.9436765700804841]
[34.800000000000225,0.60737457969403064,19.74668944188145,3412.2279355571145,{"$f":"VLOOKUP(A353-$B$2,'Ref. Coeff. Horiz.'!A:X,24)","v":180},{"$f":"VLOOKUP(A353-$B$2,'Ref. Coeff. Vertical'!A:X,24)","v":0},{"$f":"VLOOKUP(A353-$B$2,'Ref. Coeff. Horiz.'!A:X,23)","v":1},{"$f":"VLOOKUP(A353-$B$2,'Ref. Coeff. Vertical'!A:X,23)","v":1},3592.2279355571145,3412.2279355571145,null,null,null,null,null,null,24.891437881266405,24.9,{"$f":"'Antenna Data'!B351","v":-14.32},1.9954016604198346,6.0006065853785318,"",0.13554413891336592,-17.358385141546886,"",-8.3193934146214694,"",-31.678385141546887,"",22.370606585378532,-0.98838514154688539,8.0506065853785316,-15.308385141546886]
[34.900000000000226,0.60911990894602497,19.796247221214976,3420.7915198259479,{"$f":"VLOOKUP(A354-$B$2,'Ref. Coeff. Horiz.'!A:X,24)","v":180},{"$f":"VLOOKUP(A354-$B$2,'Ref. Coeff. Vertical'!A:X,24)","v":0},{"$f":"VLOOKUP(A354-$B$2,'Ref. Coeff. Horiz.'!A:X,23)","v":1},{"$f":"VLOOKUP(A354-$B$2,'Ref. Coeff. Vertical'!A:X,23)","v":1},3600.7915198259479,3420.7915198259479,null,null,null,null,null,null,24.7989684294512,24.8,{"$f":"'Antenna Data'!B352","v":-14.25},1.9999522892095094,6.0203927054777298,"Max",1.3814517206295297E-2,-37.193285766604397,"",-8.2296072945222711,"",-51.443285766604397,"",22.39039270547773,-20.823285766604396,8.1403927054777299,-35.0732857666044]
[35.000000000000227,0.6108652381980193,19.845744697746309,3429.3446837705619,{"$f":"VLOOKUP(A355-$B$2,'Ref. Coeff. Horiz.'!A:X,24)","v":180},{"$f":"VLOOKUP(A355-$B$2,'Ref. Coeff. Vertical'!A:X,24)","v":0},{"$f":"VLOOKUP(A355-$B$2,'Ref. Coeff. Horiz.'!A:X,23)","v":1},{"$f":"VLOOKUP(A355-$B$2,'Ref. Coeff. Vertical'!A:X,23)","v":1},3609.3446837705619,3429.3446837705619,null,null,null,null,null,null,24.706960516638372,24.7,{"$f":"'Antenna Data'!B353","v":-14.180000000000001},1.9933536489534689,5.9916871096234035,"",0.16291479430637726,-15.760789511634218,"",-8.1883128903765972,"Max",-29.940789511634222,"",22.361687109623404,0.60921048836578251,8.1816871096234038,-13.570789511634221]
[35.100000000000229,0.61261056745001363,19.895181720697551,3437.8874013365362,{"$f":"VLOOKUP(A356-$B$2,'Ref. Coeff. Horiz.'!A:X,24)","v":180},{"$f":"VLOOKUP(A356-$B$2,'Ref. Coeff. Vertical'!A:X,24)","v":0},{"$f":"VLOOKUP(A356-$B$2,'Ref. Coeff. Horiz.'!A:X,23)","v":1},{"$f":"VLOOKUP(A356-$B$2,'Ref. Coeff. Vertical'!A:X,23)","v":1},3617.8874013365362,3437.8874013365362,null,null,null,null,null,null,24.615410139571157,24.6,{"$f":"'Antenna Data'!B354","v":-14.120000000000001},1.9756831552425087,5.9143459410328472,"",0.31092775702886155,-10.146810120964396,"",-8.2056540589671538,"",-24.266810120964397,"",22.284345941032846,6.2231898790356048,8.1643459410328472,-7.8968101209643962]
[35.20000000000023,0.61435589670200796,19.94455813947496,3446.4196465012728,{"$f":"VLOOKUP(A357-$B$2,'Ref. Coeff. Horiz.'!A:X,24)","v":180},{"$f":"VLOOKUP(A357-$B$2,'Ref. Coeff. Vertical'!A:X,24)","v":0},{"$f":"VLOOKUP(A357-$B$2,'Ref. Coeff. Horiz.'!A:X,23)","v":1},{"$f":"VLOOKUP(A357-$B$2,'Ref. Coeff. Vertical'!A:X,23)","v":1},3626.4196465012728,3446.4196465012728,null,null,null,null,null,null,24.524313340256139,24.5,{"$f":"'Antenna Data'!B355","v":-14.06},1.9470794764984085,5.787673580993788,"",0.45703556994908029,-6.8009999709680615,"",-8.2723264190062125,"",-20.860999970968063,"",22.157673580993787,9.5690000290319404,8.0976735809937885,-4.4909999709680619]
[35.300000000000232,0.61610122595400241,19.993873803669398,3454.9413932740717,{"$f":"VLOOKUP(A358-$B$2,'Ref. Coeff. Horiz.'!A:X,24)","v":180},{"$f":"VLOOKUP(A358-$B$2,'Ref. Coeff. Vertical'!A:X,24)","v":0},{"$f":"VLOOKUP(A358-$B$2,'Ref. Coeff. Horiz.'!A:X,23)","v":1},{"$f":"VLOOKUP(A358-$B$2,'Ref. Coeff. Vertical'!A:X,23)","v":1},3634.9413932740717,3454.9413932740717,null,null,null,null,null,null,24.433666205321551,24.4,{"$f":"'Antenna Data'!B356","v":-14},1.9077412380661203,5.6103893517946366,"",0.60043598208463012,-4.43066579717755,"",-8.3896106482053625,"",-18.43066579717755,"",21.980389351794638,11.939334202822451,7.9803893517946385,-2.0606657971775491]
[35.400000000000233,0.61784655520599674,20.043128563056804,3463.4526156962156,{"$f":"VLOOKUP(A359-$B$2,'Ref. Coeff. Horiz.'!A:X,24)","v":180},{"$f":"VLOOKUP(A359-$B$2,'Ref. Coeff. Vertical'!A:X,24)","v":0},{"$f":"VLOOKUP(A359-$B$2,'Ref. Coeff. Horiz.'!A:X,23)","v":1},{"$f":"VLOOKUP(A359-$B$2,'Ref. Coeff. Vertical'!A:X,23)","v":1},3643.4526156962156,3463.4526156962156,null,null,null,null,null,null,24.343464865386437,24.3,{"$f":"'Antenna Data'!B357","v":-13.950000000000001},1.8579254024105696,5.3805654528743441,"",0.74034667492839357,-2.6112973958531329,"",-8.5694345471256561,"",-16.561297395853135,"",21.750565452874344,13.758702604146869,7.8005654528743449,-0.19129739585313388]
[35.500000000000234,0.61959188445799107,20.092322267598632,3471.9532878410437,{"$f":"VLOOKUP(A360-$B$2,'Ref. Coeff. Horiz.'!A:X,24)","v":180},{"$f":"VLOOKUP(A360-$B$2,'Ref. Coeff. Vertical'!A:X,24)","v":0},{"$f":"VLOOKUP(A360-$B$2,'Ref. Coeff. Horiz.'!A:X,23)","v":1},{"$f":"VLOOKUP(A360-$B$2,'Ref. Coeff. Vertical'!A:X,23)","v":1},3651.9532878410437,3471.9532878410437,null,null,null,null,null,null,24.253705494440407,24.3,{"$f":"'Antenna Data'!B358","v":-13.89},1.7979453388908928,5.0955296836626314,"",0.87600945106803396,-1.1498241660321376,"",-8.7944703163373692,"",-15.039824166032139,"",21.465529683662631,15.220175833967863,7.5755296836626318,1.3301758339678624]
[35.600000000000236,0.6213372137099854,20.14145476744233,3480.4433838140344,{"$f":"VLOOKUP(A361-$B$2,'Ref. Coeff. Horiz.'!A:X,24)","v":180},{"$f":"VLOOKUP(A361-$B$2,'Ref. Coeff. Vertical'!A:X,24)","v":0},{"$f":"VLOOKUP(A361-$B$2,'Ref. Coeff. Horiz.'!A:X,23)","v":1},{"$f":"VLOOKUP(A361-$B$2,'Ref. Coeff. Vertical'!A:X,23)","v":1},3660.4433838140344,3480.4433838140344,null,null,null,null,null,null,24.164384309233931,24.2,{"$f":"'Antenna Data'!B359","v":-13.840000000000002},1.7281685981631918,4.7517221897108,"",1.0066942417251996,5.7951689221424289E-2,"",-9.0882778102892026,"",-13.782048310778578,"",21.121722189710802,16.427951689221427,7.2817221897107984,2.5879516892214234]
[35.700000000000237,0.62308254296197974,20.190525912921782,3488.9228777528833,{"$f":"VLOOKUP(A362-$B$2,'Ref. Coeff. Horiz.'!A:X,24)","v":180},{"$f":"VLOOKUP(A362-$B$2,'Ref. Coeff. Vertical'!A:X,24)","v":0},{"$f":"VLOOKUP(A362-$B$2,'Ref. Coeff. Horiz.'!A:X,23)","v":1},{"$f":"VLOOKUP(A362-$B$2,'Ref. Coeff. Vertical'!A:X,23)","v":1},3668.9228777528833,3488.9228777528833,null,null,null,null,null,null,24.075497568678866,24.1,{"$f":"'Antenna Data'!B360","v":-13.790000000000001},1.6490144077257438,4.34448900335068,"",1.1317029129205665,1.0746486746258797,"",-9.4455109966493218,"",-12.715351325374121,"",20.714489003350682,17.444648674625881,6.9244890033506792,3.6546486746258804]
[35.800000000000239,0.62482787221397418,20.239535554557772,3497.391743827583,{"$f":"VLOOKUP(A363-$B$2,'Ref. Coeff. Horiz.'!A:X,24)","v":180},{"$f":"VLOOKUP(A363-$B$2,'Ref. Coeff. Vertical'!A:X,24)","v":0},{"$f":"VLOOKUP(A363-$B$2,'Ref. Coeff. Horiz.'!A:X,23)","v":1},{"$f":"VLOOKUP(A363-$B$2,'Ref. Coeff. Vertical'!A:X,23)","v":1},3677.391743827583,3497.391743827583,null,null,null,null,null,null,23.987041573258942,24,{"$f":"'Antenna Data'!B361","v":-13.740000000000002},1.5609509064616789,3.867784885232064,"",1.2503728514392987,1.9407907110015157,"",-9.872215114767938,"",-11.799209288998487,"",20.237784885232067,18.310790711001516,6.497784885232063,4.5707907110015142]
[35.90000000000024,0.62657320146596851,20.28848354305843,3505.8499562404968,{"$f":"VLOOKUP(A364-$B$2,'Ref. Coeff. Horiz.'!A:X,24)","v":180},{"$f":"VLOOKUP(A364-$B$2,'Ref. Coeff. Vertical'!A:X,24)","v":0},{"$f":"VLOOKUP(A364-$B$2,'Ref. Coeff. Horiz.'!A:X,23)","v":1},{"$f":"VLOOKUP(A364-$B$2,'Ref. Coeff. Vertical'!A:X,23)","v":1},3685.8499562404968,3505.8499562404968,null,null,null,null,null,null,23.899012664450215,23.9,{"$f":"'Antenna Data'!B362","v":-13.700000000000001},1.464492137248024,3.3137408865665856,"",1.3620803133217614,2.6840543189968198,"",-10.386259113433415,"",-11.015945681003181,"",19.683740886566586,19.054054318996819,5.9837408865665864,5.3540543189968197]
[36.000000000000242,0.62831853071796284,20.337369729319686,3514.2974892264415,{"$f":"VLOOKUP(A365-$B$2,'Ref. Coeff. Horiz.'!A:X,24)","v":180},{"$f":"VLOOKUP(A365-$B$2,'Ref. Coeff. Vertical'!A:X,24)","v":0},{"$f":"VLOOKUP(A365-$B$2,'Ref. Coeff. Horiz.'!A:X,23)","v":1},{"$f":"VLOOKUP(A365-$B$2,'Ref. Coeff. Vertical'!A:X,23)","v":1},3694.2974892264415,3514.2974892264415,null,null,null,null,null,null,23.811407224151093,23.8,{"$f":"'Antenna Data'!B363","v":-13.66},1.3601948177816423,2.6720223178179232,"",1.4662435192286396,3.3241221110724233,"",-10.987977682182077,"",-10.335877888927577,"",19.042022317817924,19.694122111072424,5.3820223178179241,6.0341221110724241]
[36.100000000000243,0.63006385996995717,20.38619396442575,3522.7343170527693,{"$f":"VLOOKUP(A366-$B$2,'Ref. Coeff. Horiz.'!A:X,24)","v":180},{"$f":"VLOOKUP(A366-$B$2,'Ref. Coeff. Vertical'!A:X,24)","v":0},{"$f":"VLOOKUP(A366-$B$2,'Ref. Coeff. Horiz.'!A:X,23)","v":1},{"$f":"VLOOKUP(A366-$B$2,'Ref. Coeff. Vertical'!A:X,23)","v":1},3702.7343170527693,3522.7343170527693,null,null,null,null,null,null,23.724221674121857,23.7,{"$f":"'Antenna Data'!B364","v":-13.620000000000001},1.2486549107189999,1.928848590087302,"",1.5623254827139408,3.8754303298929953,"",-11.691151409912699,"",-9.7445696701070048,"",18.298848590087303,20.245430329892997,4.678848590087302,6.6254303298929962]
[36.200000000000244,0.63180918922195162,20.43495609964954,3531.1604140194399,{"$f":"VLOOKUP(A367-$B$2,'Ref. Coeff. Horiz.'!A:X,24)","v":180},{"$f":"VLOOKUP(A367-$B$2,'Ref. Coeff. Vertical'!A:X,24)","v":0},{"$f":"VLOOKUP(A367-$B$2,'Ref. Coeff. Horiz.'!A:X,23)","v":1},{"$f":"VLOOKUP(A367-$B$2,'Ref. Coeff. Vertical'!A:X,23)","v":1},3711.1604140194399,3531.1604140194399,null,null,null,null,null,null,23.637452475433477,23.6,{"$f":"'Antenna Data'!B365","v":-13.580000000000002},1.1305040150344914,1.0654421819995801,"",1.6498365591751549,4.3488184604706666,"",-12.514557818000421,"",-9.2311815395293344,"",17.43544218199958,20.718818460470668,3.8554421819995799,7.1388184604706666]
[36.300000000000246,0.63355451847394595,20.483655986453115,3539.5757544590979,{"$f":"VLOOKUP(A368-$B$2,'Ref. Coeff. Horiz.'!A:X,24)","v":180},{"$f":"VLOOKUP(A368-$B$2,'Ref. Coeff. Vertical'!A:X,24)","v":0},{"$f":"VLOOKUP(A368-$B$2,'Ref. Coeff. Horiz.'!A:X,23)","v":1},{"$f":"VLOOKUP(A368-$B$2,'Ref. Coeff. Vertical'!A:X,23)","v":1},3719.5757544590979,3539.5757544590979,null,null,null,null,null,null,23.551096127925554,23.6,{"$f":"'Antenna Data'!B366","v":-13.540000000000001},1.0064056011687221,5.5460903635538988E-2,"",1.7283367050248677,4.7525670648207692,"",-13.484539096364461,"",-8.7874329351792326,"",16.425460903635539,21.122567064820771,2.8854609036355399,7.5825670648207684]
[36.400000000000247,0.63529984772594028,20.532293476488189,3547.9803127371588,{"$f":"VLOOKUP(A369-$B$2,'Ref. Coeff. Horiz.'!A:X,24)","v":180},{"$f":"VLOOKUP(A369-$B$2,'Ref. Coeff. Vertical'!A:X,24)","v":0},{"$f":"VLOOKUP(A369-$B$2,'Ref. Coeff. Horiz.'!A:X,23)","v":1},{"$f":"VLOOKUP(A369-$B$2,'Ref. Coeff. Vertical'!A:X,23)","v":1},3727.9803127371588,3547.9803127371588,null,null,null,null,null,null,23.465149169673115,23.5,{"$f":"'Antenna Data'!B367","v":-13.510000000000002},0.87705111306419892,-1.139501918884718,"",1.7974374384308531,5.0930756654700771,"",-14.64950191888472,"",-8.4169243345299236,"",15.230498081115282,21.463075665470079,1.7204980811152808,7.9530756654700774]
[36.500000000000249,0.63704517697793461,20.580868421596531,3556.3740632518802,{"$f":"VLOOKUP(A370-$B$2,'Ref. Coeff. Horiz.'!A:X,24)","v":180},{"$f":"VLOOKUP(A370-$B$2,'Ref. Coeff. Vertical'!A:X,24)","v":0},{"$f":"VLOOKUP(A370-$B$2,'Ref. Coeff. Horiz.'!A:X,23)","v":1},{"$f":"VLOOKUP(A370-$B$2,'Ref. Coeff. Vertical'!A:X,23)","v":1},3736.3740632518802,3556.3740632518802,null,null,null,null,null,null,23.379608176462273,23.4,{"$f":"'Antenna Data'!B368","v":-13.48},0.7431559605695699,-2.5784006909534352,"",1.8568034947914993,5.375318897160966,"",-16.058400690953434,"",-8.1046811028390344,"",13.791599309046566,21.745318897160967,0.31159930904656719,8.2653188971609666]
[36.60000000000025,0.63879050622992894,20.629380673810427,3564.7569804344416,{"$f":"VLOOKUP(A371-$B$2,'Ref. Coeff. Horiz.'!A:X,24)","v":180},{"$f":"VLOOKUP(A371-$B$2,'Ref. Coeff. Vertical'!A:X,24)","v":0},{"$f":"VLOOKUP(A371-$B$2,'Ref. Coeff. Horiz.'!A:X,23)","v":1},{"$f":"VLOOKUP(A371-$B$2,'Ref. Coeff. Vertical'!A:X,23)","v":1},3744.7569804344416,3564.7569804344416,null,null,null,null,null,null,23.294469761274414,23.3,{"$f":"'Antenna Data'!B369","v":-13.450000000000001},0.60545542593635537,-4.3583564883192976,"",1.9061541719399884,5.6031604791939831,"",-17.808356488319298,"",-7.846839520806018,"",12.011643511680703,21.973160479193986,-1.4383564883192967,8.523160479193983]
[36.700000000000252,0.64053583548192339,20.677830085353158,3573.1290387490253,{"$f":"VLOOKUP(A372-$B$2,'Ref. Coeff. Horiz.'!A:X,24)","v":180},{"$f":"VLOOKUP(A372-$B$2,'Ref. Coeff. Vertical'!A:X,24)","v":0},{"$f":"VLOOKUP(A372-$B$2,'Ref. Coeff. Horiz.'!A:X,23)","v":1},{"$f":"VLOOKUP(A372-$B$2,'Ref. Coeff. Vertical'!A:X,23)","v":1},3753.1290387490253,3573.1290387490253,null,null,null,null,null,null,23.209730573778828,23.2,{"$f":"'Antenna Data'!B370","v":-13.420000000000002},0.46470050823437037,-6.6565370508202273,"",1.945264361891907,5.7795726079297713,"",-20.076537050820228,"",-7.6404273920702304,"",9.7134629491797746,22.149572607929773,-3.7065370508202271,8.7295726079297715]
[36.800000000000253,0.64228116473391772,20.726216508639393,3581.4902126928869,{"$f":"VLOOKUP(A373-$B$2,'Ref. Coeff. Horiz.'!A:X,24)","v":180},{"$f":"VLOOKUP(A373-$B$2,'Ref. Coeff. Vertical'!A:X,24)","v":0},{"$f":"VLOOKUP(A373-$B$2,'Ref. Coeff. Horiz.'!A:X,23)","v":1},{"$f":"VLOOKUP(A373-$B$2,'Ref. Coeff. Vertical'!A:X,23)","v":1},3761.4902126928869,3581.4902126928869,null,null,null,null,null,null,23.125387299833619,23.1,{"$f":"'Antenna Data'!B371","v":-13.39},0.32165372947866133,-9.8522281743993858,"",1.9739652677573802,5.9067901383641921,"",-23.242228174399386,"",-7.4832098616358085,"",6.5177718256006152,22.276790138364191,-6.8722281743993854,8.8867901383641925]
[36.900000000000254,0.64402649398591205,20.774539796275711,3589.840476796443,{"$f":"VLOOKUP(A374-$B$2,'Ref. Coeff. Horiz.'!A:X,24)","v":180},{"$f":"VLOOKUP(A374-$B$2,'Ref. Coeff. Vertical'!A:X,24)","v":0},{"$f":"VLOOKUP(A374-$B$2,'Ref. Coeff. Horiz.'!A:X,23)","v":1},{"$f":"VLOOKUP(A374-$B$2,'Ref. Coeff. Vertical'!A:X,23)","v":1},3769.840476796443,3589.840476796443,null,null,null,null,null,null,23.041436660994723,23,{"$f":"'Antenna Data'!B372","v":-13.370000000000001},0.17708492609033652,-15.03636810927671,"",1.992144806220566,5.9864180698744978,"",-28.406368109276713,"",-7.3835819301255032,"",1.3336318907232911,22.356418069874501,-12.036368109276712,8.9864180698744978]
[37.000000000000256,0.64577182323790638,20.822799801060995,3598.1798056233397,{"$f":"VLOOKUP(A375-$B$2,'Ref. Coeff. Horiz.'!A:X,24)","v":180},{"$f":"VLOOKUP(A375-$B$2,'Ref. Coeff. Vertical'!A:X,24)","v":0},{"$f":"VLOOKUP(A375-$B$2,'Ref. Coeff. Horiz.'!A:X,23)","v":1},{"$f":"VLOOKUP(A375-$B$2,'Ref. Coeff. Vertical'!A:X,23)","v":1},3778.1798056233397,3598.1798056233397,null,null,null,null,null,null,22.957875414032884,23,{"$f":"'Antenna Data'!B373","v":-13.350000000000001},3.1767049015198362E-2,-29.960462537539726,"",1.9997476977351083,6.0195041093455757,"Max",-43.310462537539728,"",-7.3304958906544258,"",-13.590462537539725,22.389504109345577,-26.940462537539727,9.0395041093455752]
[37.100000000000257,0.64751715248990072,20.870996375986898,3606.5081737705359,{"$f":"VLOOKUP(A376-$B$2,'Ref. Coeff. Horiz.'!A:X,24)","v":180},{"$f":"VLOOKUP(A376-$B$2,'Ref. Coeff. Vertical'!A:X,24)","v":0},{"$f":"VLOOKUP(A376-$B$2,'Ref. Coeff. Horiz.'!A:X,23)","v":1},{"$f":"VLOOKUP(A376-$B$2,'Ref. Coeff. Vertical'!A:X,23)","v":1},3786.5081737705359,3606.5081737705359,null,null,null,null,null,null,22.874700350458411,22.9,{"$f":"'Antenna Data'!B374","v":-13.330000000000002},0.11352800460332182,-18.897939906949873,"",1.9967752482867935,6.0065836917865063,"",-32.227939906949871,"",-7.3234163082134955,"Max",-2.5279399069498716,22.376583691786507,-15.85793990694987,9.0465836917865055]
[37.200000000000259,0.64926248174189516,20.919129374238295,3614.8255558683773,{"$f":"VLOOKUP(A377-$B$2,'Ref. Coeff. Horiz.'!A:X,24)","v":180},{"$f":"VLOOKUP(A377-$B$2,'Ref. Coeff. Vertical'!A:X,24)","v":0},{"$f":"VLOOKUP(A377-$B$2,'Ref. Coeff. Horiz.'!A:X,23)","v":1},{"$f":"VLOOKUP(A377-$B$2,'Ref. Coeff. Vertical'!A:X,23)","v":1},3794.8255558683773,3614.8255558683773,null,null,null,null,null,null,22.791908296053666,22.8,{"$f":"'Antenna Data'!B375","v":-13.31},0.25803350584684392,-11.766477938130787,"",1.9832848282232136,5.9477017923532118,"",-25.076477938130786,"",-7.3622982076467887,"",4.6035220618692136,22.317701792353212,-8.7064779381307851,9.0077017923532132]
[37.30000000000026,0.65100781099388949,20.96719864919373,3623.131926580676,{"$f":"VLOOKUP(A378-$B$2,'Ref. Coeff. Horiz.'!A:X,24)","v":180},{"$f":"VLOOKUP(A378-$B$2,'Ref. Coeff. Vertical'!A:X,24)","v":0},{"$f":"VLOOKUP(A378-$B$2,'Ref. Coeff. Horiz.'!A:X,23)","v":1},{"$f":"VLOOKUP(A378-$B$2,'Ref. Coeff. Vertical'!A:X,23)","v":1},3803.131926580676,3623.131926580676,null,null,null,null,null,null,22.709496110413014,22.7,{"$f":"'Antenna Data'!B376","v":-13.3},0.40099193285418877,-7.9372872883520706,"",1.9593890552378475,5.842413556720536,"",-21.237287288352071,"",-7.4575864432794647,"",8.4327127116479303,22.212413556720538,-4.8672872883520704,8.9124135567205371]
[37.400000000000261,0.65275314024588382,21.015204054425848,3631.4272606047866,{"$f":"VLOOKUP(A379-$B$2,'Ref. Coeff. Horiz.'!A:X,24)","v":180},{"$f":"VLOOKUP(A379-$B$2,'Ref. Coeff. Vertical'!A:X,24)","v":0},{"$f":"VLOOKUP(A379-$B$2,'Ref. Coeff. Horiz.'!A:X,23)","v":1},{"$f":"VLOOKUP(A379-$B$2,'Ref. Coeff. Vertical'!A:X,23)","v":1},3811.4272606047866,3631.4272606047866,null,null,null,null,null,null,22.627460686490135,22.6,{"$f":"'Antenna Data'!B377","v":-13.280000000000001},0.54165891314922621,-5.3254821204254812,"",1.9252546901140126,5.68976380098918,"",-18.605482120425481,"",-7.5902361990108211,"",11.044517879574521,22.059763800989181,-2.2354821204254804,8.7797638009891799]
[37.500000000000263,0.65449846949787815,21.06314544370186,3639.7115326716812,{"$f":"VLOOKUP(A380-$B$2,'Ref. Coeff. Horiz.'!A:X,24)","v":180},{"$f":"VLOOKUP(A380-$B$2,'Ref. Coeff. Vertical'!A:X,24)","v":0},{"$f":"VLOOKUP(A380-$B$2,'Ref. Coeff. Horiz.'!A:X,23)","v":1},{"$f":"VLOOKUP(A380-$B$2,'Ref. Coeff. Vertical'!A:X,23)","v":1},3819.7115326716812,3639.7115326716812,null,null,null,null,null,null,22.545798950152648,22.5,{"$f":"'Antenna Data'!B378","v":-13.270000000000001},0.67930704942601083,-3.3586775709579699,"",1.8811012552757866,5.4882434646916964,"",-16.628677570957972,"",-7.7817565353083049,"",13.011322429042032,21.858243464691697,-0.25867757095797117,8.588243464691697]
[37.600000000000264,0.65624379874987249,21.111022670983989,3647.9847175460332,{"$f":"VLOOKUP(A381-$B$2,'Ref. Coeff. Horiz.'!A:X,24)","v":180},{"$f":"VLOOKUP(A381-$B$2,'Ref. Coeff. Vertical'!A:X,24)","v":0},{"$f":"VLOOKUP(A381-$B$2,'Ref. Coeff. Horiz.'!A:X,23)","v":1},{"$f":"VLOOKUP(A381-$B$2,'Ref. Coeff. Vertical'!A:X,23)","v":1},3827.9847175460332,3647.9847175460332,null,null,null,null,null,null,22.464507859743758,22.5,{"$f":"'Antenna Data'!B379","v":-13.260000000000002},0.81322960972424441,-1.7957363413159215,"",1.8271993875512731,5.2357188199408791,"",-15.055736341315923,"",-8.0242811800591234,"",14.57426365868408,21.605718819940879,1.3142636586840784,8.3457188199408776]
[37.700000000000266,0.65798912800186693,21.158835590429888,3656.2467900262845,{"$f":"VLOOKUP(A382-$B$2,'Ref. Coeff. Horiz.'!A:X,24)","v":180},{"$f":"VLOOKUP(A382-$B$2,'Ref. Coeff. Vertical'!A:X,24)","v":0},{"$f":"VLOOKUP(A382-$B$2,'Ref. Coeff. Horiz.'!A:X,23)","v":1},{"$f":"VLOOKUP(A382-$B$2,'Ref. Coeff. Vertical'!A:X,23)","v":1},3836.2467900262845,3656.2467900262845,null,null,null,null,null,null,22.383584405650939,22.4,{"$f":"'Antenna Data'!B380","v":-13.260000000000002},0.94274406398700383,-0.51212386920907971,"",1.76386893782312,4.9293262452264095,"",-13.772123869209082,"",-8.3306737547735921,"",15.85787613079092,21.29932624522641,2.5978761307909188,8.0393262452264089]
[37.800000000000267,0.65973445725386126,21.206584056393115,3664.4977249447302,{"$f":"VLOOKUP(A383-$B$2,'Ref. Coeff. Horiz.'!A:X,24)","v":180},{"$f":"VLOOKUP(A383-$B$2,'Ref. Coeff. Vertical'!A:X,24)","v":0},{"$f":"VLOOKUP(A383-$B$2,'Ref. Coeff. Horiz.'!A:X,23)","v":1},{"$f":"VLOOKUP(A383-$B$2,'Ref. Coeff. Vertical'!A:X,23)","v":1},3844.4977249447302,3664.4977249447302,null,null,null,null,null,null,22.303025609881438,22.3,{"$f":"'Antenna Data'!B381","v":-13.25},1.0671954501327932,0.56487930021946209,"",1.6914768314156334,4.5653210704757976,"",-12.685120699780537,"",-8.6846789295242033,"",16.934879300219464,20.935321070475798,3.684879300219464,7.6853210704757977]
[37.900000000000269,0.66147978650585559,21.254267923423566,3672.7374971675918,{"$f":"VLOOKUP(A384-$B$2,'Ref. Coeff. Horiz.'!A:X,24)","v":180},{"$f":"VLOOKUP(A384-$B$2,'Ref. Coeff. Vertical'!A:X,24)","v":0},{"$f":"VLOOKUP(A384-$B$2,'Ref. Coeff. Horiz.'!A:X,23)","v":1},{"$f":"VLOOKUP(A384-$B$2,'Ref. Coeff. Vertical'!A:X,23)","v":1},3852.7374971675918,3672.7374971675918,null,null,null,null,null,null,22.22282852564447,22.2,{"$f":"'Antenna Data'!B382","v":-13.25},1.1859595539853036,1.4813975616690724,"",1.6104347041438716,4.1388624166455674,"",-11.768602438330927,"",-9.1111375833544326,"",17.851397561669074,20.50886241664557,4.6013975616690743,7.2588624166455684]
[38.00000000000027,0.66322511575784993,21.301887046267904,3680.9660815950933,{"$f":"VLOOKUP(A385-$B$2,'Ref. Coeff. Horiz.'!A:X,24)","v":180},{"$f":"VLOOKUP(A385-$B$2,'Ref. Coeff. Vertical'!A:X,24)","v":0},{"$f":"VLOOKUP(A385-$B$2,'Ref. Coeff. Horiz.'!A:X,23)","v":1},{"$f":"VLOOKUP(A385-$B$2,'Ref. Coeff. Vertical'!A:X,23)","v":1},3860.9660815950933,3680.9660815950933,null,null,null,null,null,null,22.142990236940047,22.1,{"$f":"'Antenna Data'!B383","v":-13.25},1.2984458886801225,2.268477111847083,"",1.5211963299225035,3.6437053790148304,"",-10.981522888152917,"",-9.6062946209851692,"",18.638477111847084,20.01370537901483,5.3884771118470844,6.7637053790148318]
[38.100000000000271,0.66497044500984426,21.349441279870032,3689.1834531615409,{"$f":"VLOOKUP(A386-$B$2,'Ref. Coeff. Horiz.'!A:X,24)","v":180},{"$f":"VLOOKUP(A386-$B$2,'Ref. Coeff. Vertical'!A:X,24)","v":0},{"$f":"VLOOKUP(A386-$B$2,'Ref. Coeff. Horiz.'!A:X,23)","v":1},{"$f":"VLOOKUP(A386-$B$2,'Ref. Coeff. Vertical'!A:X,23)","v":1},3869.1834531615409,3689.1834531615409,null,null,null,null,null,null,22.063507858154271,22.1,{"$f":"'Antenna Data'!B384","v":-13.25},1.4041004604984413,2.9479636356376493,"",1.4242548566980811,3.0717541814415532,"",-10.302036364362351,"",-10.178245818558446,"",19.31796363563765,19.441754181441553,6.0679636356376498,6.1917541814415546]
[38.200000000000273,0.6667157742618387,21.396930479371502,3697.3895868353952,{"$f":"VLOOKUP(A387-$B$2,'Ref. Coeff. Horiz.'!A:X,24)","v":180},{"$f":"VLOOKUP(A387-$B$2,'Ref. Coeff. Vertical'!A:X,24)","v":0},{"$f":"VLOOKUP(A387-$B$2,'Ref. Coeff. Horiz.'!A:X,23)","v":1},{"$f":"VLOOKUP(A387-$B$2,'Ref. Coeff. Vertical'!A:X,23)","v":1},3877.3895868353952,3697.3895868353952,null,null,null,null,null,null,21.984378533660937,22,{"$f":"'Antenna Data'!B385","v":-13.25},1.5024083094550935,3.5357595381174334,"",1.3201398682261918,2.412398938977836,"",-9.7142404618825662,"",-10.837601061022164,"",19.905759538117433,18.782398938977838,6.6557595381174348,5.5323989389778365]
[38.300000000000274,0.66846110351383303,21.444354500111981,3705.5844576193504,{"$f":"VLOOKUP(A388-$B$2,'Ref. Coeff. Horiz.'!A:X,24)","v":180},{"$f":"VLOOKUP(A388-$B$2,'Ref. Coeff. Vertical'!A:X,24)","v":0},{"$f":"VLOOKUP(A388-$B$2,'Ref. Coeff. Horiz.'!A:X,23)","v":1},{"$f":"VLOOKUP(A388-$B$2,'Ref. Coeff. Vertical'!A:X,23)","v":1},3885.5844576193504,3705.5844576193504,null,null,null,null,null,null,21.905599437429469,21.9,{"$f":"'Antenna Data'!B386","v":-13.25},1.5928958143839658,4.0437474216367528,"",1.2094142898601989,1.6515019143180516,"",-9.2062525783632481,"",-11.598498085681948,"",20.413747421636753,18.021501914318051,7.1637474216367529,4.771501914318053]
[38.400000000000276,0.67020643276582736,21.491713197629668,3713.7680405504061,{"$f":"VLOOKUP(A389-$B$2,'Ref. Coeff. Horiz.'!A:X,24)","v":180},{"$f":"VLOOKUP(A389-$B$2,'Ref. Coeff. Vertical'!A:X,24)","v":0},{"$f":"VLOOKUP(A389-$B$2,'Ref. Coeff. Horiz.'!A:X,23)","v":1},{"$f":"VLOOKUP(A389-$B$2,'Ref. Coeff. Vertical'!A:X,23)","v":1},3893.7680405504061,3713.7680405504061,null,null,null,null,null,null,21.827167772638852,21.8,{"$f":"'Antenna Data'!B387","v":-13.260000000000002},1.6751327537077383,4.4809846085692149,"",1.0926711570529972,0.76978958546410259,"",-8.7790153914307858,"",-12.490210414535898,"",20.850984608569217,17.139789585464104,7.5909846085692152,3.8797895854641027]
[{"$f":"A389+0.1","v":38.500000000000277},{"$f":"A390*(PI()/180)","v":0.6719517620178217},{"$f":"(2*$B$1*SIN(B390-$C$2)*COS($C$2))","v":21.539006427661768},{"$f":"(C390/$O$1)*360","v":3721.9403106999534},{"$f":"VLOOKUP(A390-$B$2,'Ref. Coeff. Horiz.'!A:X,24)","v":180},{"$f":"VLOOKUP(A390-$B$2,'Ref. Coeff. Vertical'!A:X,24)","v":0},{"$f":"VLOOKUP(A390-$B$2,'Ref. Coeff. Horiz.'!A:X,23)","v":1},{"$f":"VLOOKUP(A390-$B$2,'Ref. Coeff. Vertical'!A:X,23)","v":1},{"$f":"D390+E390","v":3901.9403106999534},{"$f":"D390+F390","v":3721.9403106999534},null,null,null,null,null,null,{"$f":"(((COS($C$2))/(TAN(B390-$C$2)))-(SIN($C$2)))*$B$1","v":21.749080771297702},{"$f":"ROUND(Q390,1)","v":21.7},{"$f":"'Antenna Data'!B388","v":-13.270000000000001},{"$f":"SQRT((1+(2*G390*COS(I390*PI()/180)))+(G390^2))","v":1.7487341145446202},{"$f":"IF(T390=0,-99,10*LOG(T390^2))","v":4.8544756479596671},{"$f":"IF(AND((U391<U390),(U390>U389)),\"Max\",\"\")","v":""},{"$f":"SQRT((1+(2*H390*COS(J390*PI()/180)))+(H390^2))","v":0.97053026569388801},{"$f":"IF(W390=0,-99,10*LOG(W390^2))","v":-0.25981833443776547},{"$f":"IF(AND((X391<X390),(X390>X389)),\"Max\",\"\")","v":""},{"$f":"U390+S390","v":-8.4155243520403342},{"$f":"IF(AND((Z391<Z390),(Z390>Z389)),\"Max\",\"\")","v":""},{"$f":"X390+S390","v":-13.529818334437767},{"$f":"IF(AND((AB391<AB390),(AB390>AB389)),\"Max\",\"\")","v":""},{"$f":"U390+$AD$2","v":21.224475647959668},{"$f":"X390+$AD$2","v":16.110181665562237},{"$f":"Z390+$AD$2","v":7.9544756479596668},{"$f":"AB390+$AD$2","v":2.8401816655622341}]
[38.600000000000279,0.67369709126981603,21.586234046144895,3730.1012431738372,{"$f":"VLOOKUP(A391-$B$2,'Ref. Coeff. Horiz.'!A:X,24)","v":180},{"$f":"VLOOKUP(A391-$B$2,'Ref. Coeff. Vertical'!A:X,24)","v":0},{"$f":"VLOOKUP(A391-$B$2,'Ref. Coeff. Horiz.'!A:X,23)","v":1},{"$f":"VLOOKUP(A391-$B$2,'Ref. Coeff. Vertical'!A:X,23)","v":1},3910.1012431738372,3730.1012431738372,null,null,null,null,null,null,21.671335693870144,21.7,{"$f":"'Antenna Data'!B389","v":-13.280000000000001},1.8133616442805802,5.1696885083077024,"",0.84363472371165227,-1.4769110630984581,"",-8.1103114916922987,"",-14.756911063098459,"",21.539688508307705,14.893088936901544,8.2596885083077023,1.6130889369015424]
[38.70000000000028,0.67544242052181047,21.63339590921553,3738.2508131124432,{"$f":"VLOOKUP(A392-$B$2,'Ref. Coeff. Horiz.'!A:X,24)","v":180},{"$f":"VLOOKUP(A392-$B$2,'Ref. Coeff. Vertical'!A:X,24)","v":0},{"$f":"VLOOKUP(A392-$B$2,'Ref. Coeff. Horiz.'!A:X,23)","v":1},{"$f":"VLOOKUP(A392-$B$2,'Ref. Coeff. Vertical'!A:X,23)","v":1},3918.2508131124432,3738.2508131124432,null,null,null,null,null,null,21.593929828907537,21.6,{"$f":"'Antenna Data'!B390","v":-13.290000000000001},1.8687251402167866,5.4309085651321451,"",0.71264742357055921,-2.9425056124839326,"",-7.8590914348678558,"",-16.232505612483934,"",21.800908565132147,13.427494387516068,8.5109085651321443,0.13749438751606746]
[38.800000000000281,0.6771877497738048,21.680491873210467,3746.3889956907683,{"$f":"VLOOKUP(A393-$B$2,'Ref. Coeff. Horiz.'!A:X,24)","v":180},{"$f":"VLOOKUP(A393-$B$2,'Ref. Coeff. Vertical'!A:X,24)","v":0},{"$f":"VLOOKUP(A393-$B$2,'Ref. Coeff. Horiz.'!A:X,23)","v":1},{"$f":"VLOOKUP(A393-$B$2,'Ref. Coeff. Vertical'!A:X,23)","v":1},3926.3889956907683,3746.3889956907683,null,null,null,null,null,null,21.516860492685897,21.5,{"$f":"'Antenna Data'!B391","v":-13.31},1.9145834743762553,5.6414861200798398,"",0.57824745537298761,-4.7577253940574193,"",-7.6685138799201606,"",-18.067725394057419,"",22.011486120079841,11.612274605942581,8.7014861200798403,-1.697725394057418]
[38.900000000000283,0.67893307902579914,21.727521794667222,3754.5157661184962,{"$f":"VLOOKUP(A394-$B$2,'Ref. Coeff. Horiz.'!A:X,24)","v":180},{"$f":"VLOOKUP(A394-$B$2,'Ref. Coeff. Vertical'!A:X,24)","v":0},{"$f":"VLOOKUP(A394-$B$2,'Ref. Coeff. Horiz.'!A:X,23)","v":1},{"$f":"VLOOKUP(A394-$B$2,'Ref. Coeff. Vertical'!A:X,23)","v":1},3934.5157661184962,3754.5157661184962,null,null,null,null,null,null,21.440125028848858,21.4,{"$f":"'Antenna Data'!B392","v":-13.330000000000002},1.9507453520167006,5.8040116161635673,"",0.44112648025847306,-7.1087374259346747,"",-7.5259883838364345,"",-20.438737425934676,"",22.174011616163568,9.2612625740653272,8.8440116161635665,-4.0687374259346747]
[39.000000000000284,0.68067840827779347,21.774485530324508,3762.6310996400744,{"$f":"VLOOKUP(A395-$B$2,'Ref. Coeff. Horiz.'!A:X,24)","v":180},{"$f":"VLOOKUP(A395-$B$2,'Ref. Coeff. Vertical'!A:X,24)","v":0},{"$f":"VLOOKUP(A395-$B$2,'Ref. Coeff. Horiz.'!A:X,23)","v":1},{"$f":"VLOOKUP(A395-$B$2,'Ref. Coeff. Vertical'!A:X,23)","v":1},3942.6310996400744,3762.6310996400744,null,null,null,null,null,null,21.363720808056172,21.4,{"$f":"'Antenna Data'!B393","v":-13.340000000000002},1.97706980383765,5.9204400619065449,"",0.30198508366036708,-10.400290163637141,"",-7.4195599380934567,"",-23.740290163637141,"",22.290440061906544,5.9697098363628598,8.9504400619065443,-7.3702901636371401]
[39.100000000000286,0.6824237375297878,21.821382937122635,3770.7349715347914,{"$f":"VLOOKUP(A396-$B$2,'Ref. Coeff. Horiz.'!A:X,24)","v":180},{"$f":"VLOOKUP(A396-$B$2,'Ref. Coeff. Vertical'!A:X,24)","v":0},{"$f":"VLOOKUP(A396-$B$2,'Ref. Coeff. Horiz.'!A:X,23)","v":1},{"$f":"VLOOKUP(A396-$B$2,'Ref. Coeff. Vertical'!A:X,23)","v":1},3950.7349715347914,3770.7349715347914,null,null,null,null,null,null,21.287645227637601,21.3,{"$f":"'Antenna Data'!B394","v":-13.370000000000001},1.9934664132833264,5.9921784578704891,"",0.16152912774885753,-15.834983041893146,"",-7.3778215421295119,"",-29.204983041893147,"",22.362178457870492,0.5350169581068549,8.9921784578704891,-12.834983041893146]
[39.200000000000287,0.68416906678178224,21.868213872203977,3778.827357116847,{"$f":"VLOOKUP(A397-$B$2,'Ref. Coeff. Horiz.'!A:X,24)","v":180},{"$f":"VLOOKUP(A397-$B$2,'Ref. Coeff. Vertical'!A:X,24)","v":0},{"$f":"VLOOKUP(A397-$B$2,'Ref. Coeff. Horiz.'!A:X,23)","v":1},{"$f":"VLOOKUP(A397-$B$2,'Ref. Coeff. Vertical'!A:X,23)","v":1},3958.827357116847,3778.827357116847,null,null,null,null,null,null,21.211895711252044,21.2,{"$f":"'Antenna Data'!B395","v":-13.39},1.9998952817205029,6.0201451156637145,"Max",2.0466122057438911E-2,-33.779288802445457,"",-7.3698548843362861,"Max",-47.169288802445458,"",22.390145115663714,-17.409288802445456,9.0001451156637149,-30.799288802445457]
[39.300000000000288,0.68591439603377657,21.91497819291337,3786.9082317354305,{"$f":"VLOOKUP(A398-$B$2,'Ref. Coeff. Horiz.'!A:X,24)","v":180},{"$f":"VLOOKUP(A398-$B$2,'Ref. Coeff. Vertical'!A:X,24)","v":0},{"$f":"VLOOKUP(A398-$B$2,'Ref. Coeff. Horiz.'!A:X,23)","v":1},{"$f":"VLOOKUP(A398-$B$2,'Ref. Coeff. Vertical'!A:X,23)","v":1},3966.9082317354305,3786.9082317354305,null,null,null,null,null,null,21.136469708551957,21.1,{"$f":"'Antenna Data'!B396","v":-13.41},1.996366735606194,6.004806496742539,"",0.12049836913862257,-18.380376618444487,"",-7.4051935032574612,"",-31.790376618444487,"",22.37480649674254,-2.0103766184444858,8.9648064967425398,-15.420376618444486]
[39.40000000000029,0.68765972528577091,21.961675756798595,3794.9775707747967,{"$f":"VLOOKUP(A399-$B$2,'Ref. Coeff. Horiz.'!A:X,24)","v":180},{"$f":"VLOOKUP(A399-$B$2,'Ref. Coeff. Vertical'!A:X,24)","v":0},{"$f":"VLOOKUP(A399-$B$2,'Ref. Coeff. Horiz.'!A:X,23)","v":1},{"$f":"VLOOKUP(A399-$B$2,'Ref. Coeff. Vertical'!A:X,23)","v":1},3974.9775707747967,3794.9775707747967,null,null,null,null,null,null,21.061364694852799,21.1,{"$f":"'Antenna Data'!B397","v":-13.440000000000001},1.9829407810469897,5.9461948907773259,"",0.2606642646408458,-11.678370073454538,"",-7.4938051092226754,"",-25.118370073454539,"",22.316194890777325,4.6916299265454633,8.8761948907773256,-8.748370073454538]
[39.500000000000291,0.68940505453776524,22.008306421610769,3803.0353496543407,{"$f":"VLOOKUP(A400-$B$2,'Ref. Coeff. Horiz.'!A:X,24)","v":180},{"$f":"VLOOKUP(A400-$B$2,'Ref. Coeff. Vertical'!A:X,24)","v":0},{"$f":"VLOOKUP(A400-$B$2,'Ref. Coeff. Horiz.'!A:X,23)","v":1},{"$f":"VLOOKUP(A400-$B$2,'Ref. Coeff. Vertical'!A:X,23)","v":1},3983.0353496543407,3803.0353496543407,null,null,null,null,null,null,20.986578170807523,21,{"$f":"'Antenna Data'!B398","v":-13.47},1.9597263123842998,5.8439084748774057,"",0.39934043189818719,-7.9731343339879048,"",-7.6260915251225949,"",-21.443134333987906,"",22.213908474877407,8.3968656660120971,8.7439084748774061,-5.0731343339879054]
[39.600000000000293,0.69115038378975957,22.054870045304799,3811.0815438286691,{"$f":"VLOOKUP(A401-$B$2,'Ref. Coeff. Horiz.'!A:X,24)","v":180},{"$f":"VLOOKUP(A401-$B$2,'Ref. Coeff. Vertical'!A:X,24)","v":0},{"$f":"VLOOKUP(A401-$B$2,'Ref. Coeff. Horiz.'!A:X,23)","v":1},{"$f":"VLOOKUP(A401-$B$2,'Ref. Coeff. Vertical'!A:X,23)","v":1},3991.0815438286691,3811.0815438286691,null,null,null,null,null,null,20.912107662086026,20.9,{"$f":"'Antenna Data'!B399","v":-13.5},1.9268800826121644,5.6970937525761762,"",0.5358480635707622,-5.4191666877407387,"",-7.8029062474238238,"",-18.919166687740738,"",22.067093752576177,10.950833312259263,8.5670937525761772,-2.5491666877407368]
[39.700000000000294,0.69289571304175401,22.101366486039819,3819.1161287876803,{"$f":"VLOOKUP(A402-$B$2,'Ref. Coeff. Horiz.'!A:X,24)","v":180},{"$f":"VLOOKUP(A402-$B$2,'Ref. Coeff. Vertical'!A:X,24)","v":0},{"$f":"VLOOKUP(A402-$B$2,'Ref. Coeff. Horiz.'!A:X,23)","v":1},{"$f":"VLOOKUP(A402-$B$2,'Ref. Coeff. Vertical'!A:X,23)","v":1},3999.1161287876803,3819.1161287876803,null,null,null,null,null,null,20.837950719059389,20.8,{"$f":"'Antenna Data'!B400","v":-13.540000000000001},1.8846054445415155,5.5044088288290149,"",0.66952394908955459,-3.4846776703832787,"",-8.0355911711709851,"",-17.02467767038328,"",21.874408828829015,12.885322329616722,8.3344088288290159,-0.65467767038327906]
[39.800000000000296,0.69464104229374835,22.147795602179599,3827.1390800566346,{"$f":"VLOOKUP(A403-$B$2,'Ref. Coeff. Horiz.'!A:X,24)","v":180},{"$f":"VLOOKUP(A403-$B$2,'Ref. Coeff. Vertical'!A:X,24)","v":0},{"$f":"VLOOKUP(A403-$B$2,'Ref. Coeff. Horiz.'!A:X,23)","v":1},{"$f":"VLOOKUP(A403-$B$2,'Ref. Coeff. Vertical'!A:X,23)","v":1},4007.1390800566346,3827.1390800566346,null,null,null,null,null,null,20.764104916488932,20.8,{"$f":"'Antenna Data'!B401","v":-13.57},1.8331508726624013,5.2639641979712408,"",0.79972362604656844,-1.9412014706741694,"",-8.3060358020287595,"",-15.51120147067417,"",21.633964197971242,14.428798529325832,8.0639641979712415,0.85879852932583134]
[39.900000000000297,0.69638637154574268,22.194157252293,3835.1503731962298,{"$f":"VLOOKUP(A404-$B$2,'Ref. Coeff. Horiz.'!A:X,24)","v":180},{"$f":"VLOOKUP(A404-$B$2,'Ref. Coeff. Vertical'!A:X,24)","v":0},{"$f":"VLOOKUP(A404-$B$2,'Ref. Coeff. Horiz.'!A:X,23)","v":1},{"$f":"VLOOKUP(A404-$B$2,'Ref. Coeff. Vertical'!A:X,23)","v":1},4015.1503731962298,3835.1503731962298,null,null,null,null,null,null,20.690567853219868,20.7,{"$f":"'Antenna Data'!B402","v":-13.610000000000001},1.7728082766195863,4.9732354124313396,"",0.92582439714509945,-0.66942757916777462,"",-8.6367645875686616,"",-14.279427579167775,"",21.343235412431341,15.700572420832227,7.7332354124313394,2.0905724208322258]
[40.000000000000298,0.69813170079773701,22.240451295154397,3843.1499838026793,{"$f":"VLOOKUP(A405-$B$2,'Ref. Coeff. Horiz.'!A:X,24)","v":180},{"$f":"VLOOKUP(A405-$B$2,'Ref. Coeff. Vertical'!A:X,24)","v":0},{"$f":"VLOOKUP(A405-$B$2,'Ref. Coeff. Horiz.'!A:X,23)","v":1},{"$f":"VLOOKUP(A405-$B$2,'Ref. Coeff. Vertical'!A:X,23)","v":1},4023.1499838026793,3843.1499838026793,null,null,null,null,null,null,20.617337151879617,20.6,{"$f":"'Antenna Data'!B403","v":-13.65},1.7039111181033899,4.6289387343882735,"",1.0472281993928778,0.40082656458639948,"",-9.0210612656117277,"",-13.249173435413601,"",20.998938734388275,16.7708265645864,7.3489387343882733,3.1208265645864]
[40.1000000000003,0.69987703004973134,22.286677589744112,3851.1378875077826,{"$f":"VLOOKUP(A406-$B$2,'Ref. Coeff. Horiz.'!A:X,24)","v":180},{"$f":"VLOOKUP(A406-$B$2,'Ref. Coeff. Vertical'!A:X,24)","v":0},{"$f":"VLOOKUP(A406-$B$2,'Ref. Coeff. Horiz.'!A:X,23)","v":1},{"$f":"VLOOKUP(A406-$B$2,'Ref. Coeff. Vertical'!A:X,23)","v":1},4031.1378875077826,3851.1378875077826,null,null,null,null,null,null,20.544410458580604,20.5,{"$f":"'Antenna Data'!B404","v":-13.690000000000001},1.6268323437641949,4.2268559643323176,"",1.1633643132238025,1.3143147493692049,"",-9.4631440356676837,"",-12.375685250630797,"",20.59685596433232,17.684314749369207,6.9068559643323173,3.9943147493692042]
[40.200000000000301,0.70162235930172578,22.332835995248832,3859.1140599789978,{"$f":"VLOOKUP(A407-$B$2,'Ref. Coeff. Horiz.'!A:X,24)","v":180},{"$f":"VLOOKUP(A407-$B$2,'Ref. Coeff. Vertical'!A:X,24)","v":0},{"$f":"VLOOKUP(A407-$B$2,'Ref. Coeff. Horiz.'!A:X,23)","v":1},{"$f":"VLOOKUP(A407-$B$2,'Ref. Coeff. Vertical'!A:X,23)","v":1},4039.1140599789978,3859.1140599789978,null,null,null,null,null,null,20.471785442627485,20.5,{"$f":"'Antenna Data'!B405","v":-13.73},1.5419821474821818,3.7615869127571484,"",1.2736919002828873,2.1012877406896764,"",-9.9684130872428511,"",-11.628712259310324,"",20.13158691275715,18.471287740689679,6.4015869127571499,4.7412877406896765]
[40.300000000000303,0.70336768855372012,22.37892637106204,3867.0784769195202,{"$f":"VLOOKUP(A408-$B$2,'Ref. Coeff. Horiz.'!A:X,24)","v":180},{"$f":"VLOOKUP(A408-$B$2,'Ref. Coeff. Vertical'!A:X,24)","v":0},{"$f":"VLOOKUP(A408-$B$2,'Ref. Coeff. Horiz.'!A:X,23)","v":1},{"$f":"VLOOKUP(A408-$B$2,'Ref. Coeff. Vertical'!A:X,23)","v":1},4047.0784769195202,3867.0784769195202,null,null,null,null,null,null,20.399459796228733,20.399999999999999,{"$f":"'Antenna Data'!B406","v":-13.780000000000001},1.449805575962577,3.226195314382009,"",1.3777023596944971,2.7831080451275811,"",-10.553804685617992,"",-10.996891954872421,"",19.596195314382008,19.153108045127581,5.8161953143820089,5.3731080451275801]
[40.400000000000304,0.70511301780571445,22.42494857678447,3875.0311140683561,{"$f":"VLOOKUP(A409-$B$2,'Ref. Coeff. Horiz.'!A:X,24)","v":180},{"$f":"VLOOKUP(A409-$B$2,'Ref. Coeff. Vertical'!A:X,24)","v":0},{"$f":"VLOOKUP(A409-$B$2,'Ref. Coeff. Horiz.'!A:X,23)","v":1},{"$f":"VLOOKUP(A409-$B$2,'Ref. Coeff. Vertical'!A:X,23)","v":1},4055.0311140683561,3875.0311140683561,null,null,null,null,null,null,20.327431234212504,20.3,{"$f":"'Antenna Data'!B407","v":-13.830000000000002},1.3507799921790862,2.6116923843878439,"",1.4749214937509838,3.3753780911905333,"",-11.218307615612158,"",-10.454621908809468,"",18.981692384387845,19.745378091190535,5.151692384387843,5.9153780911905329]
[40.500000000000306,0.70685834705770878,22.470902472224495,3882.9719472003922,{"$f":"VLOOKUP(A410-$B$2,'Ref. Coeff. Horiz.'!A:X,24)","v":180},{"$f":"VLOOKUP(A410-$B$2,'Ref. Coeff. Vertical'!A:X,24)","v":0},{"$f":"VLOOKUP(A410-$B$2,'Ref. Coeff. Horiz.'!A:X,23)","v":1},{"$f":"VLOOKUP(A410-$B$2,'Ref. Coeff. Vertical'!A:X,23)","v":1},4062.9719472003922,3882.9719472003922,null,null,null,null,null,null,20.255697493746712,20.3,{"$f":"'Antenna Data'!B408","v":-13.88},1.2454124116529308,1.9062637908282181,"",1.5649114751003725,3.8897955026613076,"",-11.973736209171783,"",-9.9902044973386932,"",18.276263790828217,20.259795502661309,4.3962637908282183,6.3797955026613078]
[40.600000000000307,0.70860367630970311,22.516787917398581,3890.9009521264747,{"$f":"VLOOKUP(A411-$B$2,'Ref. Coeff. Horiz.'!A:X,24)","v":180},{"$f":"VLOOKUP(A411-$B$2,'Ref. Coeff. Vertical'!A:X,24)","v":0},{"$f":"VLOOKUP(A411-$B$2,'Ref. Coeff. Horiz.'!A:X,23)","v":1},{"$f":"VLOOKUP(A411-$B$2,'Ref. Coeff. Vertical'!A:X,23)","v":1},4070.9009521264747,3890.9009521264747,null,null,null,null,null,null,20.184256334063239,20.2,{"$f":"'Antenna Data'!B409","v":-13.930000000000001},1.1342367269320963,1.0940741153160503,"",1.6472726086711895,4.3353095382783744,"",-12.835925884683951,"",-9.5946904617216262,"",17.464074115316052,20.705309538278375,3.5340741153160504,6.7753095382783748]
[40.700000000000308,0.71034900556169756,22.562604772531714,3898.8181046934801,{"$f":"VLOOKUP(A412-$B$2,'Ref. Coeff. Horiz.'!A:X,24)","v":180},{"$f":"VLOOKUP(A412-$B$2,'Ref. Coeff. Vertical'!A:X,24)","v":0},{"$f":"VLOOKUP(A412-$B$2,'Ref. Coeff. Horiz.'!A:X,23)","v":1},{"$f":"VLOOKUP(A412-$B$2,'Ref. Coeff. Vertical'!A:X,23)","v":1},4078.8181046934801,3898.8181046934801,null,null,null,null,null,null,20.113105536186193,20.100000000000001,{"$f":"'Antenna Data'!B410","v":-13.990000000000002},1.0178108359250133,0.15334140387164905,"",1.721644882742553,4.718871521098368,"",-13.836658596128354,"",-9.2711284789016339,"",16.523341403871651,21.088871521098369,2.5333414038716473,7.0988715210983671]
[40.80000000000031,0.71209433481369189,22.608352898057792,3906.7233807843859,{"$f":"VLOOKUP(A413-$B$2,'Ref. Coeff. Horiz.'!A:X,24)","v":180},{"$f":"VLOOKUP(A413-$B$2,'Ref. Coeff. Vertical'!A:X,24)","v":0},{"$f":"VLOOKUP(A413-$B$2,'Ref. Coeff. Horiz.'!A:X,23)","v":1},{"$f":"VLOOKUP(A413-$B$2,'Ref. Coeff. Vertical'!A:X,23)","v":1},4086.7233807843859,3906.7233807843859,null,null,null,null,null,null,20.042242902664196,20,{"$f":"'Antenna Data'!B411","v":-14.040000000000001},0.89671368994464862,-0.94692399810687178,"",1.7877093047433208,5.0459380116842336,"",-14.986923998106873,"",-8.9940619883157673,"",15.423076001893129,21.415938011684233,1.3830760018931283,7.3759380116842337]
[40.900000000000311,0.71383966406568622,22.654032154620097,3914.6167563183526,{"$f":"VLOOKUP(A414-$B$2,'Ref. Coeff. Horiz.'!A:X,24)","v":180},{"$f":"VLOOKUP(A414-$B$2,'Ref. Coeff. Vertical'!A:X,24)","v":0},{"$f":"VLOOKUP(A414-$B$2,'Ref. Coeff. Horiz.'!A:X,23)","v":1},{"$f":"VLOOKUP(A414-$B$2,'Ref. Coeff. Vertical'!A:X,23)","v":1},4094.6167563183526,3914.6167563183526,null,null,null,null,null,null,19.971666257306538,20,{"$f":"'Antenna Data'!B412","v":-14.100000000000001},0.77154227743469428,-2.2528054269217326,"",1.8451890185373641,5.320817225652636,"",-16.352805426921734,"",-8.7791827743473654,"",14.117194573078269,21.690817225652637,1.7194573078267439E-2,7.5908172256526356]
[41.000000000000313,0.71558499331768055,22.699642403071696,3922.4982072507892,{"$f":"VLOOKUP(A415-$B$2,'Ref. Coeff. Horiz.'!A:X,24)","v":180},{"$f":"VLOOKUP(A415-$B$2,'Ref. Coeff. Vertical'!A:X,24)","v":0},{"$f":"VLOOKUP(A415-$B$2,'Ref. Coeff. Horiz.'!A:X,23)","v":1},{"$f":"VLOOKUP(A415-$B$2,'Ref. Coeff. Vertical'!A:X,23)","v":1},4102.4982072507892,3922.4982072507892,null,null,null,null,null,null,19.901373444923248,19.899999999999999,{"$f":"'Antenna Data'!B413","v":-14.170000000000002},0.64290855938088831,-3.8370158441684339,"",1.8938502011180256,5.5469124880580143,"",-18.007015844168436,"",-8.6230875119419874,"",12.532984155831567,21.916912488058017,-1.6370158441684346,7.7469124880580136]
[41.100000000000314,0.71733032256967488,22.745183504475857,3930.3677095734279,{"$f":"VLOOKUP(A416-$B$2,'Ref. Coeff. Horiz.'!A:X,24)","v":180},{"$f":"VLOOKUP(A416-$B$2,'Ref. Coeff. Vertical'!A:X,24)","v":0},{"$f":"VLOOKUP(A416-$B$2,'Ref. Coeff. Horiz.'!A:X,23)","v":1},{"$f":"VLOOKUP(A416-$B$2,'Ref. Coeff. Vertical'!A:X,23)","v":1},4110.3677095734274,3930.3677095734279,null,null,null,null,null,null,19.831362331068906,19.8,{"$f":"'Antenna Data'!B414","v":-14.23},0.51143637235729356,-5.8241677806969303,"",1.9335027377870513,5.7268958271728119,"",-20.054167780696929,"",-8.5031041728271894,"",10.545832219303071,22.096895827172812,-3.684167780696928,7.8668958271728116]
[41.200000000000315,0.71907565182166933,22.790655320106492,3938.2252393144013,{"$f":"VLOOKUP(A417-$B$2,'Ref. Coeff. Horiz.'!A:X,24)","v":180},{"$f":"VLOOKUP(A417-$B$2,'Ref. Coeff. Vertical'!A:X,24)","v":0},{"$f":"VLOOKUP(A417-$B$2,'Ref. Coeff. Horiz.'!A:X,23)","v":1},{"$f":"VLOOKUP(A417-$B$2,'Ref. Coeff. Vertical'!A:X,23)","v":1},4118.2252393144008,3938.2252393144013,null,null,null,null,null,null,19.761630801790218,19.8,{"$f":"'Antenna Data'!B415","v":-14.3},0.37775831502453805,-8.4557193482748421,"",1.9640006760258077,5.8628326587765329,"",-22.755719348274845,"",-8.4371673412234678,"",7.9142806517251589,22.232832658776534,-6.3857193482748436,7.9328326587765332]
[41.300000000000317,0.72082098107366366,22.836057711448557,3946.0707725383099,{"$f":"VLOOKUP(A418-$B$2,'Ref. Coeff. Horiz.'!A:X,24)","v":180},{"$f":"VLOOKUP(A418-$B$2,'Ref. Coeff. Vertical'!A:X,24)","v":0},{"$f":"VLOOKUP(A418-$B$2,'Ref. Coeff. Horiz.'!A:X,23)","v":1},{"$f":"VLOOKUP(A418-$B$2,'Ref. Coeff. Vertical'!A:X,23)","v":1},4126.0707725383099,3946.0707725383099,null,null,null,null,null,null,19.692176763377269,19.7,{"$f":"'Antenna Data'!B416","v":-14.370000000000001},0.24251263368555667,-12.305312638388566,"",1.9852424593743943,5.9562711019626136,"",-26.675312638388569,"",-8.4137288980373874,"Max",4.0646873616114352,22.326271101962615,-10.305312638388568,7.9562711019626136]
[41.400000000000318,0.72256631032565799,22.881390540198499,3953.9042853463006,{"$f":"VLOOKUP(A419-$B$2,'Ref. Coeff. Horiz.'!A:X,24)","v":180},{"$f":"VLOOKUP(A419-$B$2,'Ref. Coeff. Vertical'!A:X,24)","v":0},{"$f":"VLOOKUP(A419-$B$2,'Ref. Coeff. Horiz.'!A:X,23)","v":1},{"$f":"VLOOKUP(A419-$B$2,'Ref. Coeff. Vertical'!A:X,23)","v":1},4133.9042853463006,3953.9042853463006,null,null,null,null,null,null,19.622998142118295,19.600000000000001,{"$f":"'Antenna Data'!B417","v":-14.440000000000001},0.10634012221669045,-19.466056897739087,"",1.9971709437118643,6.008304779972713,"",-33.906056897739091,"",-8.4316952200272883,"",-3.0960568977390857,22.378304779972716,-17.53605689773909,7.9383047799727127]
[41.50000000000032,0.72431163957765232,22.92665366826466,3961.7257538761332,{"$f":"VLOOKUP(A420-$B$2,'Ref. Coeff. Horiz.'!A:X,24)","v":180},{"$f":"VLOOKUP(A420-$B$2,'Ref. Coeff. Vertical'!A:X,24)","v":0},{"$f":"VLOOKUP(A420-$B$2,'Ref. Coeff. Horiz.'!A:X,23)","v":1},{"$f":"VLOOKUP(A420-$B$2,'Ref. Coeff. Vertical'!A:X,23)","v":1},4141.7257538761332,3961.7257538761332,null,null,null,null,null,null,19.554092884058107,19.600000000000001,{"$f":"'Antenna Data'!B418","v":-14.510000000000002},3.0118948666525737E-2,-30.423203834217752,"",1.9997731993731747,6.0196148748195091,"Max",-44.93320383421775,"",-8.4903851251804916,"",-14.053203834217751,22.389614874819511,-28.563203834217749,7.8796148748195094]
[41.600000000000321,0.72605696882964665,22.971846957767703,3969.5351543022589,{"$f":"VLOOKUP(A421-$B$2,'Ref. Coeff. Horiz.'!A:X,24)","v":180},{"$f":"VLOOKUP(A421-$B$2,'Ref. Coeff. Vertical'!A:X,24)","v":0},{"$f":"VLOOKUP(A421-$B$2,'Ref. Coeff. Horiz.'!A:X,23)","v":1},{"$f":"VLOOKUP(A421-$B$2,'Ref. Coeff. Vertical'!A:X,23)","v":1},4149.5351543022589,3969.5351543022589,null,null,null,null,null,null,19.485458954759913,19.5,{"$f":"'Antenna Data'!B419","v":-14.590000000000002},0.16622785827758621,-15.58592381292039,"",1.9930801035413623,5.9904950741291234,"",-30.175923812920391,"",-8.5995049258708782,"",0.78407618707961113,22.360495074129126,-13.805923812920391,7.7704950741291228]
[41.700000000000323,0.7278022980816411,23.016970271041032,3977.3324628358901,{"$f":"VLOOKUP(A422-$B$2,'Ref. Coeff. Horiz.'!A:X,24)","v":180},{"$f":"VLOOKUP(A422-$B$2,'Ref. Coeff. Vertical'!A:X,24)","v":0},{"$f":"VLOOKUP(A422-$B$2,'Ref. Coeff. Horiz.'!A:X,23)","v":1},{"$f":"VLOOKUP(A422-$B$2,'Ref. Coeff. Vertical'!A:X,23)","v":1},4157.3324628358896,3977.3324628358901,null,null,null,null,null,null,19.417094339070612,19.399999999999999,{"$f":"'Antenna Data'!B420","v":-14.670000000000002},0.30135640492220922,-10.418391475140076,"",1.9771657283122108,5.920861478078149,"",-25.088391475140078,"",-8.7491385219218536,"",5.9516085248599246,22.290861478078149,-8.7183914751400771,7.6208614780781474]
[41.800000000000324,0.72954762733363543,23.062023470631203,3985.1176557250719,{"$f":"VLOOKUP(A423-$B$2,'Ref. Coeff. Horiz.'!A:X,24)","v":180},{"$f":"VLOOKUP(A423-$B$2,'Ref. Coeff. Vertical'!A:X,24)","v":0},{"$f":"VLOOKUP(A423-$B$2,'Ref. Coeff. Horiz.'!A:X,23)","v":1},{"$f":"VLOOKUP(A423-$B$2,'Ref. Coeff. Vertical'!A:X,23)","v":1},4165.1176557250719,3985.1176557250719,null,null,null,null,null,null,19.348997040889419,19.3,{"$f":"'Antenna Data'!B421","v":-14.75},0.43488380347055666,-7.2325353322921604,"",1.9521465307396844,5.8102482656222367,"",-21.982535332292159,"",-8.9397517343777633,"",9.1374646677078406,22.18024826562224,-5.6125353322921576,7.4302482656222377]
[41.900000000000325,0.73129295658562976,23.107006419298358,3992.8907092547561,{"$f":"VLOOKUP(A424-$B$2,'Ref. Coeff. Horiz.'!A:X,24)","v":180},{"$f":"VLOOKUP(A424-$B$2,'Ref. Coeff. Vertical'!A:X,24)","v":0},{"$f":"VLOOKUP(A424-$B$2,'Ref. Coeff. Horiz.'!A:X,23)","v":1},{"$f":"VLOOKUP(A424-$B$2,'Ref. Coeff. Vertical'!A:X,23)","v":1},4172.8907092547561,3992.8907092547561,null,null,null,null,null,null,19.281165082939825,19.3,{"$f":"'Antenna Data'!B422","v":-14.830000000000002},0.56620149866167191,-4.9405797089685466,"",1.9181803520298295,5.6577887637736382,"",-19.770579708968548,"",-9.1722112362263637,"",11.429420291031455,22.027788763773639,-3.4005797089685466,7.1977887637736373]
[42.000000000000327,0.73303828583762409,23.151918980016642,4000.651599746875,{"$f":"VLOOKUP(A425-$B$2,'Ref. Coeff. Horiz.'!A:X,24)","v":180},{"$f":"VLOOKUP(A425-$B$2,'Ref. Coeff. Vertical'!A:X,24)","v":0},{"$f":"VLOOKUP(A425-$B$2,'Ref. Coeff. Horiz.'!A:X,23)","v":1},{"$f":"VLOOKUP(A425-$B$2,'Ref. Coeff. Vertical'!A:X,23)","v":1},4180.651599746875,4000.651599746875,null,null,null,null,null,null,19.213596506544818,19.2,{"$f":"'Antenna Data'!B423","v":-14.920000000000002},0.69471588192482958,-3.1638554518068722,"",1.8754652338556987,5.4621803579025574,"",-18.083855451806873,"",-9.4578196420974443,"",13.206144548193128,21.832180357902558,-1.7138554518068716,6.9121803579025567]
[42.100000000000328,0.73478361508961842,23.196761015974594,4008.4003035604092,{"$f":"VLOOKUP(A426-$B$2,'Ref. Coeff. Horiz.'!A:X,24)","v":180},{"$f":"VLOOKUP(A426-$B$2,'Ref. Coeff. Vertical'!A:X,24)","v":0},{"$f":"VLOOKUP(A426-$B$2,'Ref. Coeff. Horiz.'!A:X,23)","v":1},{"$f":"VLOOKUP(A426-$B$2,'Ref. Coeff. Vertical'!A:X,23)","v":1},4188.4003035604092,4008.4003035604092,null,null,null,null,null,null,19.146289371405256,19.100000000000001,{"$f":"'Antenna Data'!B424","v":-15.010000000000002},0.81985090020995954,-1.7253024426619559,"",1.8242380605131898,5.2216302502528311,"",-16.735302442661958,"",-9.7883697497471704,"",14.644697557338045,21.591630250252834,-0.36530244266195666,6.5816302502528305]
[42.20000000000033,0.73652894434161287,23.24153239057561,4016.1367970914648,{"$f":"VLOOKUP(A427-$B$2,'Ref. Coeff. Horiz.'!A:X,24)","v":180},{"$f":"VLOOKUP(A427-$B$2,'Ref. Coeff. Vertical'!A:X,24)","v":0},{"$f":"VLOOKUP(A427-$B$2,'Ref. Coeff. Horiz.'!A:X,23)","v":1},{"$f":"VLOOKUP(A427-$B$2,'Ref. Coeff. Vertical'!A:X,23)","v":1},4196.1367970914653,4016.1367970914648,null,null,null,null,null,null,19.079241755381446,19.100000000000001,{"$f":"'Antenna Data'!B425","v":-15.100000000000001},0.94105054607102001,-0.52774097906014583,"",1.7647730363249097,4.9337771926661649,"",-15.627740979060148,"",-10.166222807333837,"",15.842259020939855,21.303777192666168,0.74225902093985319,6.2037771926661645]
[42.300000000000331,0.7382742735936072,23.286232967438309,4023.8610567733394,{"$f":"VLOOKUP(A428-$B$2,'Ref. Coeff. Horiz.'!A:X,24)","v":180},{"$f":"VLOOKUP(A428-$B$2,'Ref. Coeff. Vertical'!A:X,24)","v":0},{"$f":"VLOOKUP(A428-$B$2,'Ref. Coeff. Horiz.'!A:X,23)","v":1},{"$f":"VLOOKUP(A428-$B$2,'Ref. Coeff. Vertical'!A:X,23)","v":1},4203.8610567733394,4023.8610567733394,null,null,null,null,null,null,19.012451754277794,19,{"$f":"'Antenna Data'!B426","v":-15.200000000000001},1.0577812190332958,0.48791703655563945,"",1.6973800083247166,4.5955816553470461,"",-14.712082963444361,"",-10.604418344652956,"",16.857917036555641,20.965581655347048,1.6579170365556397,5.7655816553470451]
[42.400000000000333,0.74001960284560153,23.330862610396977,4031.573059076597,{"$f":"VLOOKUP(A429-$B$2,'Ref. Coeff. Horiz.'!A:X,24)","v":180},{"$f":"VLOOKUP(A429-$B$2,'Ref. Coeff. Vertical'!A:X,24)","v":0},{"$f":"VLOOKUP(A429-$B$2,'Ref. Coeff. Horiz.'!A:X,23)","v":1},{"$f":"VLOOKUP(A429-$B$2,'Ref. Coeff. Vertical'!A:X,23)","v":1},4211.573059076597,4031.573059076597,null,null,null,null,null,null,18.945917481630488,18.899999999999999,{"$f":"'Antenna Data'!B427","v":-15.290000000000001},1.1695339490973817,1.3602566595714864,"",1.6224026448168436,4.2031729126854573,"",-13.929743340428514,"",-11.086827087314543,"",17.730256659571488,20.573172912685457,2.440256659571487,5.2831729126854583]
[42.500000000000334,0.74176493209759586,23.375421183501992,4039.272780509144,{"$f":"VLOOKUP(A430-$B$2,'Ref. Coeff. Horiz.'!A:X,24)","v":180},{"$f":"VLOOKUP(A430-$B$2,'Ref. Coeff. Vertical'!A:X,24)","v":0},{"$f":"VLOOKUP(A430-$B$2,'Ref. Coeff. Horiz.'!A:X,23)","v":1},{"$f":"VLOOKUP(A430-$B$2,'Ref. Coeff. Vertical'!A:X,23)","v":1},4219.2727805091436,4039.272780509144,null,null,null,null,null,null,18.879637068498177,18.899999999999999,{"$f":"'Antenna Data'!B428","v":-15.39},1.2758264740799501,2.115832195002501,"",1.5402164809002339,3.7516353239109064,"",-13.2741678049975,"",-11.638364676089093,"",18.485832195002502,20.121635323910908,3.095832195002501,4.7316353239109077]
[42.600000000000335,0.7435102613495902,23.419908551020207,4046.9601976162912,{"$f":"VLOOKUP(A431-$B$2,'Ref. Coeff. Horiz.'!A:X,24)","v":180},{"$f":"VLOOKUP(A431-$B$2,'Ref. Coeff. Vertical'!A:X,24)","v":0},{"$f":"VLOOKUP(A431-$B$2,'Ref. Coeff. Horiz.'!A:X,23)","v":1},{"$f":"VLOOKUP(A431-$B$2,'Ref. Coeff. Vertical'!A:X,23)","v":1},4226.9601976162912,4046.9601976162912,null,null,null,null,null,null,18.813608663255621,18.8,{"$f":"'Antenna Data'!B429","v":-15.500000000000002},1.3762051633631232,2.7736636587252144,"",1.4512268424793755,3.2347060535384466,"",-12.726336341274788,"",-12.265293946461554,"",19.143663658725217,19.604706053538447,3.6436636587252131,4.1047060535384468]
[42.700000000000337,0.74525559060158464,23.464324577435395,4054.6352869808361,{"$f":"VLOOKUP(A432-$B$2,'Ref. Coeff. Horiz.'!A:X,24)","v":180},{"$f":"VLOOKUP(A432-$B$2,'Ref. Coeff. Vertical'!A:X,24)","v":0},{"$f":"VLOOKUP(A432-$B$2,'Ref. Coeff. Horiz.'!A:X,23)","v":1},{"$f":"VLOOKUP(A432-$B$2,'Ref. Coeff. Vertical'!A:X,23)","v":1},4234.6352869808361,4054.6352869808361,null,null,null,null,null,null,18.747830431390213,18.7,{"$f":"'Antenna Data'!B430","v":-15.600000000000001},1.4702467815125224,3.3478047473970762,"",1.355866660646273,2.6443396402833219,"",-12.252195252602926,"",-12.95566035971668,"",19.717804747397079,19.014339640283325,4.1178047473970754,3.4143396402833215]
[42.800000000000338,0.74700091985357897,23.50866912744862,4062.2980252231214,{"$f":"VLOOKUP(A433-$B$2,'Ref. Coeff. Horiz.'!A:X,24)","v":180},{"$f":"VLOOKUP(A433-$B$2,'Ref. Coeff. Vertical'!A:X,24)","v":0},{"$f":"VLOOKUP(A433-$B$2,'Ref. Coeff. Horiz.'!A:X,23)","v":1},{"$f":"VLOOKUP(A433-$B$2,'Ref. Coeff. Vertical'!A:X,23)","v":1},4242.2980252231209,4062.2980252231214,null,null,null,null,null,null,18.682300555301364,18.7,{"$f":"'Antenna Data'!B431","v":-15.71},1.5575600861253383,3.8488961893763882,"",1.2545941886160783,1.9700654303611613,"",-11.861103810623613,"",-13.739934569638839,"",20.218896189376387,18.340065430361161,4.5088961893763884,2.6300654303611619]
[42.90000000000034,0.7487462491055733,23.552942065978709,4069.9483890011206,{"$f":"VLOOKUP(A434-$B$2,'Ref. Coeff. Horiz.'!A:X,24)","v":180},{"$f":"VLOOKUP(A434-$B$2,'Ref. Coeff. Vertical'!A:X,24)","v":0},{"$f":"VLOOKUP(A434-$B$2,'Ref. Coeff. Horiz.'!A:X,23)","v":1},{"$f":"VLOOKUP(A434-$B$2,'Ref. Coeff. Vertical'!A:X,23)","v":1},4249.9483890011206,4069.9483890011206,null,null,null,null,null,null,18.617017234102651,18.600000000000001,{"$f":"'Antenna Data'!B432","v":-15.82},1.6377872551792509,4.285149744552422,"",1.1478906336286665,1.1980102442674032,"",-11.534850255447578,"",-14.621989755732598,"",20.655149744552425,17.568010244267406,4.8351497445524227,1.7480102442674035]
[43.000000000000341,0.75049157835756763,23.5971432581626,4077.5863550104968,{"$f":"VLOOKUP(A435-$B$2,'Ref. Coeff. Horiz.'!A:X,24)","v":180},{"$f":"VLOOKUP(A435-$B$2,'Ref. Coeff. Vertical'!A:X,24)","v":0},{"$f":"VLOOKUP(A435-$B$2,'Ref. Coeff. Horiz.'!A:X,23)","v":1},{"$f":"VLOOKUP(A435-$B$2,'Ref. Coeff. Vertical'!A:X,23)","v":1},4257.5863550104968,4077.5863550104968,null,null,null,null,null,null,18.551978683426789,18.600000000000001,{"$f":"'Antenna Data'!B433","v":-15.940000000000001},1.7106051400644446,4.6629954534560287,"",1.0362577163935176,0.30935555005002968,"",-11.277004546543973,"",-15.630644449949971,"",21.032995453456031,16.67935555005003,5.0929954534560284,0.73935555005003017]
[43.100000000000342,0.75223690760956197,23.641272569355799,4085.2118999846821,{"$f":"VLOOKUP(A436-$B$2,'Ref. Coeff. Horiz.'!A:X,24)","v":180},{"$f":"VLOOKUP(A436-$B$2,'Ref. Coeff. Vertical'!A:X,24)","v":0},{"$f":"VLOOKUP(A436-$B$2,'Ref. Coeff. Horiz.'!A:X,23)","v":1},{"$f":"VLOOKUP(A436-$B$2,'Ref. Coeff. Vertical'!A:X,23)","v":1},4265.2118999846825,4085.2118999846821,null,null,null,null,null,null,18.487183135233273,18.5,{"$f":"'Antenna Data'!B434","v":-16.060000000000002},1.7757263413926205,4.9875207425841603,"",0.92021517075322323,-0.72221222385651229,"",-11.072479257415843,"",-16.782212223856515,"",21.35752074258416,15.647787776143488,5.2975207425841582,-0.41221222385651402]
[43.200000000000344,0.75398223686155641,23.685329865132779,4092.8250006949438,{"$f":"VLOOKUP(A437-$B$2,'Ref. Coeff. Horiz.'!A:X,24)","v":180},{"$f":"VLOOKUP(A437-$B$2,'Ref. Coeff. Vertical'!A:X,24)","v":0},{"$f":"VLOOKUP(A437-$B$2,'Ref. Coeff. Horiz.'!A:X,23)","v":1},{"$f":"VLOOKUP(A437-$B$2,'Ref. Coeff. Vertical'!A:X,23)","v":1},4272.8250006949438,4092.8250006949438,null,null,null,null,null,null,18.422628837618674,18.399999999999999,{"$f":"'Antenna Data'!B435","v":-16.18},1.8329001055802747,5.2627759246948811,"",0.80029819627675236,-1.9349632384780984,"",-10.917224075305118,"",-18.114963238478097,"",21.632775924694883,14.435036761521904,5.4527759246948833,-1.7449632384780962]
[43.300000000000345,0.75572756611355074,23.729315011287369,4100.4256339504573,{"$f":"VLOOKUP(A438-$B$2,'Ref. Coeff. Horiz.'!A:X,24)","v":180},{"$f":"VLOOKUP(A438-$B$2,'Ref. Coeff. Vertical'!A:X,24)","v":0},{"$f":"VLOOKUP(A438-$B$2,'Ref. Coeff. Horiz.'!A:X,23)","v":1},{"$f":"VLOOKUP(A438-$B$2,'Ref. Coeff. Vertical'!A:X,23)","v":1},4280.4256339504573,4100.4256339504573,null,null,null,null,null,null,18.358314054629624,18.399999999999999,{"$f":"'Antenna Data'!B436","v":-16.3},1.881913041098263,5.491991035983121,"",0.67705487646444995,-3.3875225914422713,"",-10.80800896401688,"",-19.687522591442271,"",21.861991035983124,12.982477408557729,5.5619910359831213,-3.3175225914422697]
[43.400000000000347,0.75747289536554507,23.773227873833189,4108.0137765983745,{"$f":"VLOOKUP(A439-$B$2,'Ref. Coeff. Horiz.'!A:X,24)","v":180},{"$f":"VLOOKUP(A439-$B$2,'Ref. Coeff. Vertical'!A:X,24)","v":0},{"$f":"VLOOKUP(A439-$B$2,'Ref. Coeff. Horiz.'!A:X,23)","v":1},{"$f":"VLOOKUP(A439-$B$2,'Ref. Coeff. Vertical'!A:X,23)","v":1},4288.0137765983745,4108.0137765983745,null,null,null,null,null,null,18.294237066078274,18.3,{"$f":"'Antenna Data'!B437","v":-16.43},1.9225896541583694,5.6777320191277028,"",0.55104357515826763,-5.1762811372105908,"",-10.752267980872297,"",-21.606281137210591,"",22.047732019127704,11.19371886278941,5.617732019127704,-5.2362811372105895]
[43.500000000000348,0.75921822461753941,23.81706831900404,4115.5894055238978,{"$f":"VLOOKUP(A440-$B$2,'Ref. Coeff. Horiz.'!A:X,24)","v":180},{"$f":"VLOOKUP(A440-$B$2,'Ref. Coeff. Vertical'!A:X,24)","v":0},{"$f":"VLOOKUP(A440-$B$2,'Ref. Coeff. Horiz.'!A:X,23)","v":1},{"$f":"VLOOKUP(A440-$B$2,'Ref. Coeff. Vertical'!A:X,23)","v":1},4295.5894055238978,4115.5894055238978,null,null,null,null,null,null,18.230396167360425,18.2,{"$f":"'Antenna Data'!B438","v":-16.560000000000002},1.9547927044683846,5.8220141903533413,"",0.42283032360177469,-7.4766774897006911,"",-10.737985809646661,"Max",-24.036677489700693,"",22.192014190353341,8.8933225102993099,5.6320141903533401,-7.6666774897006924]
[43.60000000000035,0.76096355386953374,23.860836213254327,4123.1524976503479,{"$f":"VLOOKUP(A441-$B$2,'Ref. Coeff. Horiz.'!A:X,24)","v":180},{"$f":"VLOOKUP(A441-$B$2,'Ref. Coeff. Vertical'!A:X,24)","v":0},{"$f":"VLOOKUP(A441-$B$2,'Ref. Coeff. Horiz.'!A:X,23)","v":1},{"$f":"VLOOKUP(A441-$B$2,'Ref. Coeff. Vertical'!A:X,23)","v":1},4303.1524976503479,4123.1524976503479,null,null,null,null,null,null,18.16678966927606,18.2,{"$f":"'Antenna Data'!B439","v":-16.7},1.9784233825249771,5.9263847241772432,"",0.29298621038956607,-10.663056391050871,"",-10.773615275822756,"",-27.363056391050868,"",22.296384724177244,5.7069436089491301,5.5963847241772449,-10.993056391050867]
[43.700000000000351,0.76270888312152818,23.904531423259453,4130.7030299392336,{"$f":"VLOOKUP(A442-$B$2,'Ref. Coeff. Horiz.'!A:X,24)","v":180},{"$f":"VLOOKUP(A442-$B$2,'Ref. Coeff. Vertical'!A:X,24)","v":0},{"$f":"VLOOKUP(A442-$B$2,'Ref. Coeff. Horiz.'!A:X,23)","v":1},{"$f":"VLOOKUP(A442-$B$2,'Ref. Coeff. Vertical'!A:X,23)","v":1},4310.7030299392336,4130.7030299392336,null,null,null,null,null,null,18.103415897852372,18.100000000000001,{"$f":"'Antenna Data'!B440","v":-16.84},1.9934213107255385,5.9919819357376998,"",0.16208478628567402,-15.805154945751186,"",-10.8480180642623,"",-32.645154945751187,"",22.361981935737703,0.56484505424881526,5.5219819357377009,-16.275154945751186]
[43.800000000000352,0.76445421237352251,23.948153815916228,4138.2409793903234,{"$f":"VLOOKUP(A443-$B$2,'Ref. Coeff. Horiz.'!A:X,24)","v":180},{"$f":"VLOOKUP(A443-$B$2,'Ref. Coeff. Vertical'!A:X,24)","v":0},{"$f":"VLOOKUP(A443-$B$2,'Ref. Coeff. Horiz.'!A:X,23)","v":1},{"$f":"VLOOKUP(A443-$B$2,'Ref. Coeff. Vertical'!A:X,23)","v":1},4318.2409793903234,4138.2409793903234,null,null,null,null,null,null,18.040273194169231,18,{"$f":"'Antenna Data'!B441","v":-16.98},1.9997643713625834,6.0195765308238025,"Max",3.069949557908918E-2,-30.257375206428812,"",-10.960423469176199,"",-47.237375206428808,"",22.389576530823803,-13.887375206428811,5.4095765308238022,-30.867375206428807]
[43.900000000000354,0.76619954162551684,23.991703258343282,4145.7663230417193,{"$f":"VLOOKUP(A444-$B$2,'Ref. Coeff. Horiz.'!A:X,24)","v":180},{"$f":"VLOOKUP(A444-$B$2,'Ref. Coeff. Vertical'!A:X,24)","v":0},{"$f":"VLOOKUP(A444-$B$2,'Ref. Coeff. Horiz.'!A:X,23)","v":1},{"$f":"VLOOKUP(A444-$B$2,'Ref. Coeff. Vertical'!A:X,23)","v":1},4325.7663230417193,4145.7663230417193,null,null,null,null,null,null,17.97735991418698,18,{"$f":"'Antenna Data'!B442","v":-17.12},1.9974683653138898,6.009598198985592,"",0.10059885471643737,-19.948139270922457,"",-11.110401801014408,"",-37.068139270922458,"",22.379598198985594,-3.5781392709224562,5.2595981989855929,-20.698139270922457]
[44.000000000000355,0.76794487087751118,24.035179617881461,4153.2790379699163,{"$f":"VLOOKUP(A445-$B$2,'Ref. Coeff. Horiz.'!A:X,24)","v":180},{"$f":"VLOOKUP(A445-$B$2,'Ref. Coeff. Vertical'!A:X,24)","v":0},{"$f":"VLOOKUP(A445-$B$2,'Ref. Coeff. Horiz.'!A:X,23)","v":1},{"$f":"VLOOKUP(A445-$B$2,'Ref. Coeff. Vertical'!A:X,23)","v":1},4333.2790379699163,4153.2790379699163,null,null,null,null,null,null,17.914674428576632,17.899999999999999,{"$f":"'Antenna Data'!B443","v":-17.27},1.9865865059560284,5.9621496233309834,"",0.23124457691678788,-12.718568868447191,"",-11.307850376669016,"",-29.988568868447189,"",22.332149623330984,3.6514311315528101,5.0621496233309848,-13.618568868447188]
[44.100000000000357,0.76969020012950551,24.078582762094229,4160.7791012898824,{"$f":"VLOOKUP(A446-$B$2,'Ref. Coeff. Horiz.'!A:X,24)","v":180},{"$f":"VLOOKUP(A446-$B$2,'Ref. Coeff. Vertical'!A:X,24)","v":0},{"$f":"VLOOKUP(A446-$B$2,'Ref. Coeff. Horiz.'!A:X,23)","v":1},{"$f":"VLOOKUP(A446-$B$2,'Ref. Coeff. Vertical'!A:X,23)","v":1},4340.7791012898824,4160.7791012898824,null,null,null,null,null,null,17.852215122552355,17.899999999999999,{"$f":"'Antenna Data'!B444","v":-17.43},1.9672087535050373,5.8770089643740633,"",0.36067952552531279,-8.8575702062389876,"",-11.552991035625936,"",-26.287570206238989,"",22.247008964374064,7.5124297937610134,4.8170089643740646,-9.9175702062389881]
[44.200000000000358,0.77143552938149995,24.121912558768088,4168.2664901551252,{"$f":"VLOOKUP(A447-$B$2,'Ref. Coeff. Horiz.'!A:X,24)","v":180},{"$f":"VLOOKUP(A447-$B$2,'Ref. Coeff. Vertical'!A:X,24)","v":0},{"$f":"VLOOKUP(A447-$B$2,'Ref. Coeff. Horiz.'!A:X,23)","v":1},{"$f":"VLOOKUP(A447-$B$2,'Ref. Coeff. Vertical'!A:X,23)","v":1},4348.2664901551252,4168.2664901551252,null,null,null,null,null,null,17.789980395706195,17.8,{"$f":"'Antenna Data'!B445","v":-17.580000000000002},1.9394609956238629,5.753620999106567,"",0.4883554509306634,-6.2252792081148076,"",-11.826379000893436,"",-23.805279208114811,"",22.123620999106567,10.144720791885193,4.5436209991065653,-7.4352792081148102]
[44.30000000000036,0.77318085863349428,24.165168875912961,4175.7411817577595,{"$f":"VLOOKUP(A448-$B$2,'Ref. Coeff. Horiz.'!A:X,24)","v":180},{"$f":"VLOOKUP(A448-$B$2,'Ref. Coeff. Vertical'!A:X,24)","v":0},{"$f":"VLOOKUP(A448-$B$2,'Ref. Coeff. Horiz.'!A:X,23)","v":1},{"$f":"VLOOKUP(A448-$B$2,'Ref. Coeff. Vertical'!A:X,23)","v":1},4355.7411817577595,4175.7411817577595,null,null,null,null,null,null,17.7279686618451,17.7,{"$f":"'Antenna Data'!B446","v":-17.740000000000002},1.9035040807295331,5.591076243826409,"",0.61373627450724144,-4.2403641449532792,"",-12.148923756173593,"",-21.980364144953281,"",21.961076243826412,12.129635855046722,4.221076243826408,-5.6103641449532802]
[44.400000000000361,0.77492618788548862,24.208351581762599,4183.2031533285772,{"$f":"VLOOKUP(A449-$B$2,'Ref. Coeff. Horiz.'!A:X,24)","v":180},{"$f":"VLOOKUP(A449-$B$2,'Ref. Coeff. Vertical'!A:X,24)","v":0},{"$f":"VLOOKUP(A449-$B$2,'Ref. Coeff. Horiz.'!A:X,23)","v":1},{"$f":"VLOOKUP(A449-$B$2,'Ref. Coeff. Vertical'!A:X,23)","v":1},4363.2031533285772,4183.2031533285772,null,null,null,null,null,null,17.66617834883008,17.7,{"$f":"'Antenna Data'!B447","v":-17.91},1.8595327109820532,5.388076448458067,"",0.73630027623771177,-2.6589007317808822,"",-12.521923551541933,"",-20.568900731780882,"",21.75807644845807,13.711099268219119,3.8480764484580678,-4.1989007317808813]
[44.500000000000362,0.77667151713748295,24.251460544774996,4190.6523821371193,{"$f":"VLOOKUP(A450-$B$2,'Ref. Coeff. Horiz.'!A:X,24)","v":180},{"$f":"VLOOKUP(A450-$B$2,'Ref. Coeff. Vertical'!A:X,24)","v":0},{"$f":"VLOOKUP(A450-$B$2,'Ref. Coeff. Horiz.'!A:X,23)","v":1},{"$f":"VLOOKUP(A450-$B$2,'Ref. Coeff. Vertical'!A:X,23)","v":1},4370.6523821371193,4190.6523821371193,null,null,null,null,null,null,17.604607898417544,17.600000000000001,{"$f":"'Antenna Data'!B448","v":-18.080000000000002},1.8077742024402901,5.1428836913914946,"",0.85554218656438419,-1.3551714129215919,"",-12.937116308608507,"",-19.435171412921594,"",21.512883691391494,15.014828587078409,3.4328836913914937,-3.0651714129215932]
[44.600000000000364,0.77841684638947728,24.294495633632778,4198.088845491744,{"$f":"VLOOKUP(A451-$B$2,'Ref. Coeff. Horiz.'!A:X,24)","v":180},{"$f":"VLOOKUP(A451-$B$2,'Ref. Coeff. Vertical'!A:X,24)","v":0},{"$f":"VLOOKUP(A451-$B$2,'Ref. Coeff. Horiz.'!A:X,23)","v":1},{"$f":"VLOOKUP(A451-$B$2,'Ref. Coeff. Vertical'!A:X,23)","v":1},4378.088845491744,4198.088845491744,null,null,null,null,null,null,17.543255766102824,17.5,{"$f":"'Antenna Data'!B449","v":-18.25},1.7484871203262367,4.8532487512999438,"",0.97097517478731576,-0.25583747373909882,"",-13.396751248700056,"",-18.505837473739099,"",21.223248751299945,16.114162526260902,2.9732487512999448,-2.1358374737390982]
[44.700000000000365,0.78016217564147172,24.337456717243594,4205.5125207396932,{"$f":"VLOOKUP(A452-$B$2,'Ref. Coeff. Horiz.'!A:X,24)","v":180},{"$f":"VLOOKUP(A452-$B$2,'Ref. Coeff. Vertical'!A:X,24)","v":0},{"$f":"VLOOKUP(A452-$B$2,'Ref. Coeff. Horiz.'!A:X,23)","v":1},{"$f":"VLOOKUP(A452-$B$2,'Ref. Coeff. Vertical'!A:X,23)","v":1},4385.5125207396932,4205.5125207396932,null,null,null,null,null,null,17.482120420965703,17.5,{"$f":"'Antenna Data'!B450","v":-18.43},1.6819597977472445,4.5163122213283522,"",1.0821327269619325,0.68561063226869789,"",-13.913687778671648,"",-17.744389367731301,"",20.886312221328353,17.055610632268699,2.4563122213283535,-1.3743893677313004]
[44.800000000000367,0.78190750489346605,24.380343664740536,4212.9233852671641,{"$f":"VLOOKUP(A453-$B$2,'Ref. Coeff. Horiz.'!A:X,24)","v":180},{"$f":"VLOOKUP(A453-$B$2,'Ref. Coeff. Vertical'!A:X,24)","v":0},{"$f":"VLOOKUP(A453-$B$2,'Ref. Coeff. Horiz.'!A:X,23)","v":1},{"$f":"VLOOKUP(A453-$B$2,'Ref. Coeff. Vertical'!A:X,23)","v":1},4392.9233852671641,4212.9233852671641,null,null,null,null,null,null,17.421200345518105,17.399999999999999,{"$f":"'Antenna Data'!B451","v":-18.61},1.6085087465849124,4.1284685361335374,"",1.1885704069005987,1.5004982593193397,"",-14.481531463866462,"",-17.10950174068066,"",20.498468536133537,17.870498259319341,1.8884685361335389,-0.73950174068065877]
[{"$f":"A453+0.1","v":44.900000000000368},{"$f":"A454*(PI()/180)","v":0.78365283414546039},{"$f":"(2*$B$1*SIN(B454-$C$2)*COS($C$2))","v":24.423156345482521},{"$f":"(C454/$O$1)*360","v":4220.3214164993788},{"$f":"VLOOKUP(A454-$B$2,'Ref. Coeff. Horiz.'!A:X,24)","v":180},{"$f":"VLOOKUP(A454-$B$2,'Ref. Coeff. Vertical'!A:X,24)","v":0},{"$f":"VLOOKUP(A454-$B$2,'Ref. Coeff. Horiz.'!A:X,23)","v":1},{"$f":"VLOOKUP(A454-$B$2,'Ref. Coeff. Vertical'!A:X,23)","v":1},{"$f":"D454+E454","v":4400.3214164993788},{"$f":"D454+F454","v":4220.3214164993788},null,null,null,null,null,null,{"$f":"(((COS($C$2))/(TAN(B454-$C$2)))-(SIN($C$2)))*$B$1","v":17.360494035553742},{"$f":"ROUND(Q454,1)","v":17.399999999999999},{"$f":"'Antenna Data'!B452","v":-18.79},{"$f":"SQRT((1+(2*G454*COS(I454*PI()/180)))+(G454^2))","v":1.5284769695697238},{"$f":"IF(T454=0,-99,10*LOG(T454^2))","v":3.6851779869976347},{"$f":"IF(AND((U455<U454),(U454>U453)),\"Max\",\"\")","v":""},{"$f":"SQRT((1+(2*H454*COS(J454*PI()/180)))+(H454^2))","v":1.2898674945493336},{"$f":"IF(W454=0,-99,10*LOG(W454^2))","v":2.2109019681282875},{"$f":"IF(AND((X455<X454),(X454>X453)),\"Max\",\"\")","v":""},{"$f":"U454+S454","v":-15.104822013002364},{"$f":"IF(AND((Z455<Z454),(Z454>Z453)),\"Max\",\"\")","v":""},{"$f":"X454+S454","v":-16.579098031871712},{"$f":"IF(AND((AB455<AB454),(AB454>AB453)),\"Max\",\"\")","v":""},{"$f":"U454+$AD$2","v":20.055177986997634},{"$f":"X454+$AD$2","v":18.580901968128288},{"$f":"Z454+$AD$2","v":1.2651779869976369},{"$f":"AB454+$AD$2","v":-0.2090980318717115}]
[45.000000000000369,0.78539816339745472,24.465894629054702,4227.7065919006518,{"$f":"VLOOKUP(A455-$B$2,'Ref. Coeff. Horiz.'!A:X,24)","v":180},{"$f":"VLOOKUP(A455-$B$2,'Ref. Coeff. Vertical'!A:X,24)","v":0},{"$f":"VLOOKUP(A455-$B$2,'Ref. Coeff. Horiz.'!A:X,23)","v":1},{"$f":"VLOOKUP(A455-$B$2,'Ref. Coeff. Vertical'!A:X,23)","v":1},4407.7065919006518,4227.7065919006518,null,null,null,null,null,null,17.299999999999777,17.3,{"$f":"'Antenna Data'!B453","v":-18.98},1.4422321828207876,3.180703648732405,"",1.3856284966887593,2.8329361283877512,"",-15.799296351267596,"",-16.14706387161225,"",19.550703648732405,19.202936128387751,0.57070364873240464,0.2229361283877509]
[45.100000000000371,0.78714349264944905,24.508558385268856,4235.0788889744581,{"$f":"VLOOKUP(A456-$B$2,'Ref. Coeff. Horiz.'!A:X,24)","v":180},{"$f":"VLOOKUP(A456-$B$2,'Ref. Coeff. Vertical'!A:X,24)","v":0},{"$f":"VLOOKUP(A456-$B$2,'Ref. Coeff. Horiz.'!A:X,23)","v":1},{"$f":"VLOOKUP(A456-$B$2,'Ref. Coeff. Vertical'!A:X,23)","v":1},4415.0788889744581,4235.0788889744581,null,null,null,null,null,null,17.239716760770513,17.2,{"$f":"'Antenna Data'!B454","v":-19.18},1.3501649583416269,2.6077366457659581,"",1.4754845255936688,3.3786931823851551,"",-16.572263354234043,"",-15.801306817614844,"",18.977736645765958,19.748693182385157,-0.20226335423404151,0.56869318238515731]
[45.200000000000372,0.78888882190144349,24.551147484163781,4242.4382852635008,{"$f":"VLOOKUP(A457-$B$2,'Ref. Coeff. Horiz.'!A:X,24)","v":180},{"$f":"VLOOKUP(A457-$B$2,'Ref. Coeff. Vertical'!A:X,24)","v":0},{"$f":"VLOOKUP(A457-$B$2,'Ref. Coeff. Horiz.'!A:X,23)","v":1},{"$f":"VLOOKUP(A457-$B$2,'Ref. Coeff. Vertical'!A:X,23)","v":1},4422.4382852635008,4242.4382852635008,null,null,null,null,null,null,17.17964285262293,17.2,{"$f":"'Antenna Data'!B455","v":-19.37},1.2526867961245332,1.9568499958128447,"",1.5590945419746916,3.8574490236357302,"",-17.413150004187155,"",-15.51255097636427,"",18.326849995812847,20.227449023635732,-1.0431500041871544,0.85744902363573061]
[45.300000000000374,0.79063415115343783,24.593661796005698,4249.7847583497842,{"$f":"VLOOKUP(A458-$B$2,'Ref. Coeff. Horiz.'!A:X,24)","v":180},{"$f":"VLOOKUP(A458-$B$2,'Ref. Coeff. Vertical'!A:X,24)","v":0},{"$f":"VLOOKUP(A458-$B$2,'Ref. Coeff. Horiz.'!A:X,23)","v":1},{"$f":"VLOOKUP(A458-$B$2,'Ref. Coeff. Vertical'!A:X,23)","v":1},4429.7847583497842,4249.7847583497842,null,null,null,null,null,null,17.11977682301422,17.100000000000001,{"$f":"'Antenna Data'!B456","v":-19.580000000000002},1.1502281356301316,1.2156797326217796,"",1.6361464592159383,4.2764435366127413,"",-18.364320267378222,"",-15.30355646338726,"",17.585679732621781,20.646443536612743,-1.994320267378221,1.0664435366127414]
[45.400000000000375,0.79237948040543216,24.636101191288638,4257.1182858546763,{"$f":"VLOOKUP(A459-$B$2,'Ref. Coeff. Horiz.'!A:X,24)","v":180},{"$f":"VLOOKUP(A459-$B$2,'Ref. Coeff. Vertical'!A:X,24)","v":0},{"$f":"VLOOKUP(A459-$B$2,'Ref. Coeff. Horiz.'!A:X,23)","v":1},{"$f":"VLOOKUP(A459-$B$2,'Ref. Coeff. Vertical'!A:X,23)","v":1},4437.1182858546763,4257.1182858546763,null,null,null,null,null,null,17.060117231961136,17.100000000000001,{"$f":"'Antenna Data'!B457","v":-19.78},1.0432363164739866,0.36765394064279416,"",1.7063581066088624,4.6414036011488031,"",-19.412346059357208,"",-15.138596398851199,"",16.737653940642794,21.011403601148803,-3.0423460593572074,1.2314036011488021]
[45.500000000000377,0.79412480965742649,24.678465540734841,4264.43884543898,{"$f":"VLOOKUP(A460-$B$2,'Ref. Coeff. Horiz.'!A:X,24)","v":180},{"$f":"VLOOKUP(A460-$B$2,'Ref. Coeff. Vertical'!A:X,24)","v":0},{"$f":"VLOOKUP(A460-$B$2,'Ref. Coeff. Horiz.'!A:X,23)","v":1},{"$f":"VLOOKUP(A460-$B$2,'Ref. Coeff. Vertical'!A:X,23)","v":1},4444.43884543898,4264.43884543898,null,null,null,null,null,null,17.000662651901219,17,{"$f":"'Antenna Data'!B458","v":-20},0.93217349817096762,-0.61006496567255419,"",1.7694780499649312,4.9569035933476577,"",-20.610064965672553,"",-15.043096406652342,"",15.759935034327446,21.326903593347659,-4.240064965672552,1.3269035933476587]
[45.600000000000378,0.79587013890942082,24.720754715295154,4271.7464148030022,{"$f":"VLOOKUP(A461-$B$2,'Ref. Coeff. Horiz.'!A:X,24)","v":180},{"$f":"VLOOKUP(A461-$B$2,'Ref. Coeff. Vertical'!A:X,24)","v":0},{"$f":"VLOOKUP(A461-$B$2,'Ref. Coeff. Horiz.'!A:X,23)","v":1},{"$f":"VLOOKUP(A461-$B$2,'Ref. Coeff. Vertical'!A:X,23)","v":1},4451.7464148030022,4271.7464148030022,null,null,null,null,null,null,16.941411667555844,16.899999999999999,{"$f":"'Antenna Data'!B459","v":-20.21},0.81751454876092955,-1.7500901949959167,"",1.8252862686614963,5.2266197336611135,"",-21.960090194995917,"",-14.983380266338887,"",14.619909805004085,21.596619733661115,-5.5900901949959163,1.3866197336611137]
[45.700000000000379,0.79761546816141526,24.762968586149423,4279.0409716866197,{"$f":"VLOOKUP(A462-$B$2,'Ref. Coeff. Horiz.'!A:X,24)","v":180},{"$f":"VLOOKUP(A462-$B$2,'Ref. Coeff. Vertical'!A:X,24)","v":0},{"$f":"VLOOKUP(A462-$B$2,'Ref. Coeff. Horiz.'!A:X,23)","v":1},{"$f":"VLOOKUP(A462-$B$2,'Ref. Coeff. Vertical'!A:X,23)","v":1},4459.0409716866197,4279.0409716866197,null,null,null,null,null,null,16.882362875795074,16.899999999999999,{"$f":"'Antenna Data'!B460","v":-20.43},0.69974491206839196,-3.1012050131818381,"",1.8735946888359805,5.4535129323145259,"",-23.53120501318184,"",-14.976487067685474,"Max",13.268794986818163,21.823512932314529,-7.1612050131818386,1.3935129323145272]
[45.800000000000381,0.7993607974134096,24.805107024706867,4286.3224938693465,{"$f":"VLOOKUP(A463-$B$2,'Ref. Coeff. Horiz.'!A:X,24)","v":180},{"$f":"VLOOKUP(A463-$B$2,'Ref. Coeff. Vertical'!A:X,24)","v":0},{"$f":"VLOOKUP(A463-$B$2,'Ref. Coeff. Horiz.'!A:X,23)","v":1},{"$f":"VLOOKUP(A463-$B$2,'Ref. Coeff. Vertical'!A:X,23)","v":1},4466.3224938693465,4286.3224938693465,null,null,null,null,null,null,16.82351488550427,16.8,{"$f":"'Antenna Data'!B461","v":-20.66},0.57935846323378914,-4.7410528901011482,"",1.9142475730895883,5.6399621032315697,"",-25.401052890101148,"",-15.02003789676843,"",11.628947109898853,22.009962103231572,-9.0310528901011473,1.3499621032315705]
[45.900000000000382,0.80110612666540393,24.847169902606495,4293.5909591704021,{"$f":"VLOOKUP(A464-$B$2,'Ref. Coeff. Horiz.'!A:X,24)","v":180},{"$f":"VLOOKUP(A464-$B$2,'Ref. Coeff. Vertical'!A:X,24)","v":0},{"$f":"VLOOKUP(A464-$B$2,'Ref. Coeff. Horiz.'!A:X,23)","v":1},{"$f":"VLOOKUP(A464-$B$2,'Ref. Coeff. Vertical'!A:X,23)","v":1},4473.5909591704021,4293.5909591704021,null,null,null,null,null,null,16.764866317452402,16.8,{"$f":"'Antenna Data'!B462","v":-20.89},0.45685536199916349,-6.8044254702928662,"",1.9471217676900976,5.7878622392580406,"",-27.694425470292867,"",-15.102137760741961,"",9.5655745297071348,22.157862239258041,-11.324425470292866,1.2678622392580401]
[46.000000000000384,0.80285145591739826,24.88915709171749,4300.8463454487819,{"$f":"VLOOKUP(A465-$B$2,'Ref. Coeff. Horiz.'!A:X,24)","v":180},{"$f":"VLOOKUP(A465-$B$2,'Ref. Coeff. Vertical'!A:X,24)","v":0},{"$f":"VLOOKUP(A465-$B$2,'Ref. Coeff. Horiz.'!A:X,23)","v":1},{"$f":"VLOOKUP(A465-$B$2,'Ref. Coeff. Vertical'!A:X,23)","v":1},4480.8463454487819,4300.8463454487819,null,null,null,null,null,null,16.706415804162159,16.7,{"$f":"'Antenna Data'!B463","v":-21.12},0.3327399130356718,-9.5579020246147515,"",1.9721268088723407,5.8986967376908961,"",-30.677902024614752,"",-15.221303262309105,"",6.8120979753852495,22.268696737690895,-14.307902024614751,1.1486967376908961]
[46.100000000000385,0.80459678516939259,24.931068464139592,4308.0886306033208,{"$f":"VLOOKUP(A466-$B$2,'Ref. Coeff. Horiz.'!A:X,24)","v":180},{"$f":"VLOOKUP(A466-$B$2,'Ref. Coeff. Vertical'!A:X,24)","v":0},{"$f":"VLOOKUP(A466-$B$2,'Ref. Coeff. Horiz.'!A:X,23)","v":1},{"$f":"VLOOKUP(A466-$B$2,'Ref. Coeff. Vertical'!A:X,23)","v":1},4488.0886306033208,4308.0886306033208,null,null,null,null,null,null,16.64816198978167,16.600000000000001,{"$f":"'Antenna Data'!B464","v":-21.36},0.20751844236882536,-13.658866021148512,"",1.9892048904215009,5.9735903653205904,"",-35.018866021148511,"",-15.38640963467941,"",2.711133978851489,22.343590365320591,-18.64886602114851,0.98359036532059108]
[46.200000000000387,0.80634211442138704,24.972903892203497,4315.3177925727641,{"$f":"VLOOKUP(A467-$B$2,'Ref. Coeff. Horiz.'!A:X,24)","v":180},{"$f":"VLOOKUP(A467-$B$2,'Ref. Coeff. Vertical'!A:X,24)","v":0},{"$f":"VLOOKUP(A467-$B$2,'Ref. Coeff. Horiz.'!A:X,23)","v":1},{"$f":"VLOOKUP(A467-$B$2,'Ref. Coeff. Vertical'!A:X,23)","v":1},4495.3177925727641,4315.3177925727641,null,null,null,null,null,null,16.590103529957926,16.600000000000001,{"$f":"'Antenna Data'!B465","v":-21.6},8.1697198688896147E-2,-21.755856694275096,"",1.9983306952870403,6.0133471878516804,"",-43.355856694275097,"",-15.586652812148321,"",-5.3858566942750947,22.383347187851683,-26.985856694275096,0.78334718785168]
[46.300000000000388,0.80808744367338137,25.014663248471223,4322.5338093358268,{"$f":"VLOOKUP(A468-$B$2,'Ref. Coeff. Horiz.'!A:X,24)","v":180},{"$f":"VLOOKUP(A468-$B$2,'Ref. Coeff. Vertical'!A:X,24)","v":0},{"$f":"VLOOKUP(A468-$B$2,'Ref. Coeff. Horiz.'!A:X,23)","v":1},{"$f":"VLOOKUP(A468-$B$2,'Ref. Coeff. Vertical'!A:X,23)","v":1},4502.5338093358268,4322.5338093358268,null,null,null,null,null,null,16.532239091711823,16.5,{"$f":"'Antenna Data'!B466","v":-21.84},4.4219711965599477E-2,-27.087681812332054,"",1.9995110945112757,6.0184763641560917,"Max",-48.927681812332054,"",-15.821523635843908,"",-10.717681812332053,22.388476364156091,-32.557681812332049,0.5484763641560928]
[46.400000000000389,0.8098327729253757,25.056346405736537,4329.7366589112735,{"$f":"VLOOKUP(A469-$B$2,'Ref. Coeff. Horiz.'!A:X,24)","v":180},{"$f":"VLOOKUP(A469-$B$2,'Ref. Coeff. Vertical'!A:X,24)","v":0},{"$f":"VLOOKUP(A469-$B$2,'Ref. Coeff. Horiz.'!A:X,23)","v":1},{"$f":"VLOOKUP(A469-$B$2,'Ref. Coeff. Vertical'!A:X,23)","v":1},4509.7366589112735,4329.7366589112735,null,null,null,null,null,null,16.474567353314818,16.5,{"$f":"'Antenna Data'!B467","v":-22.09},0.16973234999621206,-15.404707515945812,"",1.9927847172649544,5.9892076784358315,"",-37.494707515945812,"",-16.100792321564168,"",0.96529248405418855,22.359207678435833,-21.124707515945811,0.26920767843583349]
[46.500000000000391,0.81157810217737003,25.097953237025315,4336.9263193579736,{"$f":"VLOOKUP(A470-$B$2,'Ref. Coeff. Horiz.'!A:X,24)","v":180},{"$f":"VLOOKUP(A470-$B$2,'Ref. Coeff. Vertical'!A:X,24)","v":0},{"$f":"VLOOKUP(A470-$B$2,'Ref. Coeff. Horiz.'!A:X,23)","v":1},{"$f":"VLOOKUP(A470-$B$2,'Ref. Coeff. Vertical'!A:X,23)","v":1},4516.9263193579736,4336.9263193579736,null,null,null,null,null,null,16.4170870041672,16.399999999999999,{"$f":"'Antenna Data'!B468","v":-22.34},0.29434691670770813,-10.622810181499759,"",1.9782213962609614,5.9254978968286887,"",-32.962810181499762,"",-16.414502103171312,"",5.7471898185002424,22.295497896828689,-16.592810181499761,-4.4502103171311092E-2]
[46.600000000000392,0.81332343142936436,25.139483615595932,4344.1027687749765,{"$f":"VLOOKUP(A471-$B$2,'Ref. Coeff. Horiz.'!A:X,24)","v":180},{"$f":"VLOOKUP(A471-$B$2,'Ref. Coeff. Vertical'!A:X,24)","v":0},{"$f":"VLOOKUP(A471-$B$2,'Ref. Coeff. Horiz.'!A:X,23)","v":1},{"$f":"VLOOKUP(A471-$B$2,'Ref. Coeff. Vertical'!A:X,23)","v":1},4524.1027687749765,4344.1027687749765,null,null,null,null,null,null,16.359796744677858,16.399999999999999,{"$f":"'Antenna Data'!B469","v":-22.59},0.41757767203667873,-7.5852546239906875,"",1.9559214932651106,5.8270283819764526,"",-30.175254623990689,"",-16.762971618023549,"",8.7847453760093135,22.197028381976452,-13.805254623990688,-0.39297161802354807]
[46.700000000000394,0.81506876068135881,25.180937414939645,4351.2659853015703,{"$f":"VLOOKUP(A472-$B$2,'Ref. Coeff. Horiz.'!A:X,24)","v":180},{"$f":"VLOOKUP(A472-$B$2,'Ref. Coeff. Vertical'!A:X,24)","v":0},{"$f":"VLOOKUP(A472-$B$2,'Ref. Coeff. Horiz.'!A:X,23)","v":1},{"$f":"VLOOKUP(A472-$B$2,'Ref. Coeff. Vertical'!A:X,23)","v":1},4531.2659853015703,4351.2659853015703,null,null,null,null,null,null,16.302695286145678,16.3,{"$f":"'Antenna Data'!B470","v":-22.84},0.53894878854425854,-5.369049999021418,"",1.926015109838622,5.6931937979696459,"",-28.209049999021417,"",-17.146806202030355,"",11.000950000978584,22.063193797969646,-11.839049999021416,-0.77680620203035389]
[46.800000000000395,0.81681408993335314,25.222314508781,4358.4159471173571,{"$f":"VLOOKUP(A473-$B$2,'Ref. Coeff. Horiz.'!A:X,24)","v":180},{"$f":"VLOOKUP(A473-$B$2,'Ref. Coeff. Vertical'!A:X,24)","v":0},{"$f":"VLOOKUP(A473-$B$2,'Ref. Coeff. Horiz.'!A:X,23)","v":1},{"$f":"VLOOKUP(A473-$B$2,'Ref. Coeff. Vertical'!A:X,23)","v":1},4538.4159471173571,4358.4159471173571,null,null,null,null,null,null,16.245781350642392,16.2,{"$f":"'Antenna Data'!B471","v":-23.09},0.65799613510288213,-3.6355331462139286,"",1.8886611888291907,5.5230811169403164,"",-26.725533146213927,"",-17.566918883059685,"",12.734466853786072,21.893081116940316,-10.355533146213926,-1.1969188830596842]
[46.900000000000396,0.81855941918534747,25.263614771078196,4365.5526324423117,{"$f":"VLOOKUP(A474-$B$2,'Ref. Coeff. Horiz.'!A:X,24)","v":180},{"$f":"VLOOKUP(A474-$B$2,'Ref. Coeff. Vertical'!A:X,24)","v":0},{"$f":"VLOOKUP(A474-$B$2,'Ref. Coeff. Horiz.'!A:X,23)","v":1},{"$f":"VLOOKUP(A474-$B$2,'Ref. Coeff. Vertical'!A:X,23)","v":1},4545.5526324423117,4365.5526324423117,null,null,null,null,null,null,16.189053670896946,16.2,{"$f":"'Antenna Data'!B472","v":-23.34},0.77426898415506429,-2.2221627491242062,"",1.8440465124761658,5.3154374217381335,"",-25.562162749124205,"",-18.024562578261865,"",14.147837250875796,21.685437421738136,-9.1921627491242042,-1.6545625782618636]
[47.000000000000398,0.8203047484373418,25.304838076023465,4372.6760195368543,{"$f":"VLOOKUP(A475-$B$2,'Ref. Coeff. Horiz.'!A:X,24)","v":180},{"$f":"VLOOKUP(A475-$B$2,'Ref. Coeff. Vertical'!A:X,24)","v":0},{"$f":"VLOOKUP(A475-$B$2,'Ref. Coeff. Horiz.'!A:X,23)","v":1},{"$f":"VLOOKUP(A475-$B$2,'Ref. Coeff. Vertical'!A:X,23)","v":1},4552.6760195368543,4372.6760195368543,null,null,null,null,null,null,16.132510990181324,16.100000000000001,{"$f":"'Antenna Data'!B473","v":-23.580000000000002},0.88733163688751526,-1.0382806777304585,"",1.7923846033088171,5.0686240928279256,"",-24.618280677730461,"",-18.511375907172077,"",15.331719322269542,21.438624092827926,-8.2482806777304596,-2.1413759071720762]
[47.100000000000399,0.82205007768933613,25.345984298043469,4379.7860867019108,{"$f":"VLOOKUP(A476-$B$2,'Ref. Coeff. Horiz.'!A:X,24)","v":180},{"$f":"VLOOKUP(A476-$B$2,'Ref. Coeff. Vertical'!A:X,24)","v":0},{"$f":"VLOOKUP(A476-$B$2,'Ref. Coeff. Horiz.'!A:X,23)","v":1},{"$f":"VLOOKUP(A476-$B$2,'Ref. Coeff. Vertical'!A:X,23)","v":1},4559.7860867019108,4379.7860867019108,null,null,null,null,null,null,16.07615206219786,16.100000000000001,{"$f":"'Antenna Data'!B474","v":-23.830000000000002},0.99676496114135271,-2.8144739749901591E-2,"",1.7339145342954072,4.7805537405587506,"",-23.858144739749903,"",-19.04944625944125,"",16.341855260250099,21.150553740558752,-7.4881447397499024,-2.6794462594412494]
[47.200000000000401,0.82379540694133058,25.38705331179969,4386.8828122789864,{"$f":"VLOOKUP(A477-$B$2,'Ref. Coeff. Horiz.'!A:X,24)","v":180},{"$f":"VLOOKUP(A477-$B$2,'Ref. Coeff. Vertical'!A:X,24)","v":0},{"$f":"VLOOKUP(A477-$B$2,'Ref. Coeff. Horiz.'!A:X,23)","v":1},{"$f":"VLOOKUP(A477-$B$2,'Ref. Coeff. Vertical'!A:X,23)","v":1},4566.8828122789864,4386.8828122789864,null,null,null,null,null,null,16.019975650967918,16,{"$f":"'Antenna Data'!B475","v":-24.060000000000002},1.1021678373682671,0.84495467239753641,"",1.668899654943629,4.4486044973431493,"",-23.215045327602464,"",-19.611395502656855,"",17.214954672397539,20.818604497343152,-6.8450453276024632,-3.2413955026568537]
[47.300000000000402,0.82554073619332491,25.428044992188781,4393.9661746502215,{"$f":"VLOOKUP(A478-$B$2,'Ref. Coeff. Horiz.'!A:X,24)","v":180},{"$f":"VLOOKUP(A478-$B$2,'Ref. Coeff. Vertical'!A:X,24)","v":0},{"$f":"VLOOKUP(A478-$B$2,'Ref. Coeff. Horiz.'!A:X,23)","v":1},{"$f":"VLOOKUP(A478-$B$2,'Ref. Coeff. Vertical'!A:X,23)","v":1},4573.9661746502215,4393.9661746502215,null,null,null,null,null,null,15.963980530722077,16,{"$f":"'Antenna Data'!B476","v":-24.3},1.2031585084393497,1.6064569325953002,"",1.5976262402608459,4.0695037000834384,"",-22.693543067404701,"",-20.230496299916563,"",17.976456932595301,20.439503700083439,-6.3235430674046995,-3.8604962999165622]
[47.400000000000404,0.82728606544531924,25.468959214342973,4401.0361522384655,{"$f":"VLOOKUP(A479-$B$2,'Ref. Coeff. Horiz.'!A:X,24)","v":180},{"$f":"VLOOKUP(A479-$B$2,'Ref. Coeff. Vertical'!A:X,24)","v":0},{"$f":"VLOOKUP(A479-$B$2,'Ref. Coeff. Horiz.'!A:X,23)","v":1},{"$f":"VLOOKUP(A479-$B$2,'Ref. Coeff. Vertical'!A:X,23)","v":1},4581.0361522384655,4401.0361522384655,null,null,null,null,null,null,15.908165485791567,15.9,{"$f":"'Antenna Data'!B477","v":-24.520000000000003},1.2993758296163933,2.2746956792187354,"",1.5204020696541716,3.6391690423357979,"",-22.245304320781269,"",-20.880830957664205,"",18.644695679218735,20.009169042335799,-5.8753043207812681,-4.5108309576642043]
[47.500000000000405,0.82903139469731357,25.509795853630457,4408.0927235073432,{"$f":"VLOOKUP(A480-$B$2,'Ref. Coeff. Horiz.'!A:X,24)","v":180},{"$f":"VLOOKUP(A480-$B$2,'Ref. Coeff. Vertical'!A:X,24)","v":0},{"$f":"VLOOKUP(A480-$B$2,'Ref. Coeff. Horiz.'!A:X,23)","v":1},{"$f":"VLOOKUP(A480-$B$2,'Ref. Coeff. Vertical'!A:X,23)","v":1},4588.0927235073432,4408.0927235073432,null,null,null,null,null,null,15.852529310501204,15.9,{"$f":"'Antenna Data'!B478","v":-24.73},1.3904804155012138,2.8632975267198315,"",1.437554942987415,3.1524890460891357,"",-21.866702473280171,"",-21.577510953910863,"",19.233297526719831,19.522489046089138,-5.4967024732801697,-5.2075109539108624]
[47.600000000000406,0.8307767239493079,25.550554785655745,4415.1358669613128,{"$f":"VLOOKUP(A481-$B$2,'Ref. Coeff. Horiz.'!A:X,24)","v":180},{"$f":"VLOOKUP(A481-$B$2,'Ref. Coeff. Vertical'!A:X,24)","v":0},{"$f":"VLOOKUP(A481-$B$2,'Ref. Coeff. Horiz.'!A:X,23)","v":1},{"$f":"VLOOKUP(A481-$B$2,'Ref. Coeff. Vertical'!A:X,23)","v":1},4595.1358669613128,4415.1358669613128,null,null,null,null,null,null,15.797070809063579,15.8,{"$f":"'Antenna Data'!B479","v":-24.92},1.4761556812858658,3.3826432467319298,"",1.349431141113717,2.6030145648484408,"",-21.537356753268071,"",-22.316985435151562,"",19.752643246731932,18.973014564848441,-5.16735675326807,-5.9469854351515608]
[47.700000000000408,0.83252205320130235,25.591235886260062,4422.1655611457381,{"$f":"VLOOKUP(A482-$B$2,'Ref. Coeff. Horiz.'!A:X,24)","v":180},{"$f":"VLOOKUP(A482-$B$2,'Ref. Coeff. Vertical'!A:X,24)","v":0},{"$f":"VLOOKUP(A482-$B$2,'Ref. Coeff. Horiz.'!A:X,23)","v":1},{"$f":"VLOOKUP(A482-$B$2,'Ref. Coeff. Vertical'!A:X,23)","v":1},4602.1655611457381,4422.1655611457381,null,null,null,null,null,null,15.741788795474633,15.7,{"$f":"'Antenna Data'!B480","v":-25.1},1.556108776132846,3.840799041030833,"",1.2563938382698088,1.982515956439834,"",-21.259200958969167,"",-23.117484043560168,"",20.210799041030835,18.352515956439834,-4.8892009589691661,-6.7474840435601671]
[47.800000000000409,0.83426738245329668,25.631839031521721,4429.181784646953,{"$f":"VLOOKUP(A483-$B$2,'Ref. Coeff. Horiz.'!A:X,24)","v":180},{"$f":"VLOOKUP(A483-$B$2,'Ref. Coeff. Vertical'!A:X,24)","v":0},{"$f":"VLOOKUP(A483-$B$2,'Ref. Coeff. Horiz.'!A:X,23)","v":1},{"$f":"VLOOKUP(A483-$B$2,'Ref. Coeff. Vertical'!A:X,23)","v":1},4609.181784646953,4429.181784646953,null,null,null,null,null,null,15.686682093410512,15.7,{"$f":"'Antenna Data'!B481","v":-25.26},1.6300714070161006,4.244132591070592,"",1.1588214737519134,1.2803306875822447,"",-21.01586740892941,"",-23.979669312417755,"",20.614132591070593,17.650330687582247,-4.6458674089294085,-7.6096693124177541]
[47.900000000000411,0.83601271170529101,25.672364097756493,4436.1845160923212,{"$f":"VLOOKUP(A484-$B$2,'Ref. Coeff. Horiz.'!A:X,24)","v":180},{"$f":"VLOOKUP(A484-$B$2,'Ref. Coeff. Vertical'!A:X,24)","v":0},{"$f":"VLOOKUP(A484-$B$2,'Ref. Coeff. Horiz.'!A:X,23)","v":1},{"$f":"VLOOKUP(A484-$B$2,'Ref. Coeff. Vertical'!A:X,23)","v":1},4616.1845160923212,4436.1845160923212,null,null,null,null,null,null,15.631749536125689,15.6,{"$f":"'Antenna Data'!B482","v":-25.4},1.6978005518504604,4.5977334081664054,"",1.0571060902938165,0.48237149860102962,"",-20.802266591833593,"",-24.917628501398969,"",20.967733408166406,16.85237149860103,-4.4322665918335922,-8.5476285013989681]
[48.000000000000412,0.83775804095728534,25.712810961518006,4443.1737341503112,{"$f":"VLOOKUP(A485-$B$2,'Ref. Coeff. Horiz.'!A:X,24)","v":180},{"$f":"VLOOKUP(A485-$B$2,'Ref. Coeff. Vertical'!A:X,24)","v":0},{"$f":"VLOOKUP(A485-$B$2,'Ref. Coeff. Horiz.'!A:X,23)","v":1},{"$f":"VLOOKUP(A485-$B$2,'Ref. Coeff. Vertical'!A:X,23)","v":1},4623.1737341503112,4443.1737341503112,null,null,null,null,null,null,15.576989966352409,15.6,{"$f":"'Antenna Data'!B483","v":-25.520000000000003},1.7590790612263338,4.9057071823579905,"",0.95165164653621348,-0.43043993300987871,"",-20.614292817642013,"",-25.950439933009882,"",21.275707182357991,15.939560066990122,-4.2442928176420125,-9.5804399330098811]
[48.100000000000414,0.83950337020927968,25.753179499598097,4450.1494175305506,{"$f":"VLOOKUP(A486-$B$2,'Ref. Coeff. Horiz.'!A:X,24)","v":180},{"$f":"VLOOKUP(A486-$B$2,'Ref. Coeff. Vertical'!A:X,24)","v":0},{"$f":"VLOOKUP(A486-$B$2,'Ref. Coeff. Horiz.'!A:X,23)","v":1},{"$f":"VLOOKUP(A486-$B$2,'Ref. Coeff. Vertical'!A:X,23)","v":1},4630.1494175305506,4450.1494175305506,null,null,null,null,null,null,15.522402236201335,15.5,{"$f":"'Antenna Data'!B484","v":-25.61},1.8137161485450026,5.1713863957546682,"",0.84287231091493753,-1.4847642575720812,"",-20.438613604245333,"",-27.094764257572081,"",21.541386395754671,14.88523574242792,-4.068613604245332,-10.72476425757208]
[48.200000000000415,0.84124869946127412,25.7934695890272,4457.1115449838999,{"$f":"VLOOKUP(A487-$B$2,'Ref. Coeff. Horiz.'!A:X,24)","v":180},{"$f":"VLOOKUP(A487-$B$2,'Ref. Coeff. Vertical'!A:X,24)","v":0},{"$f":"VLOOKUP(A487-$B$2,'Ref. Coeff. Horiz.'!A:X,23)","v":1},{"$f":"VLOOKUP(A487-$B$2,'Ref. Coeff. Vertical'!A:X,23)","v":1},4637.1115449838999,4457.1115449838999,null,null,null,null,null,null,15.467985207063466,15.5,{"$f":"'Antenna Data'!B485","v":-25.68},1.8615477688182602,5.3974837008867604,"",0.73119074420274355,-2.7193862953509109,"",-20.28251629911324,"",-28.399386295350912,"",21.767483700886761,13.650613704649089,-3.9125162991132392,-12.029386295350911]
[48.300000000000416,0.84299402871326845,25.83368110707471,4464.0600953025096,{"$f":"VLOOKUP(A488-$B$2,'Ref. Coeff. Horiz.'!A:X,24)","v":180},{"$f":"VLOOKUP(A488-$B$2,'Ref. Coeff. Vertical'!A:X,24)","v":0},{"$f":"VLOOKUP(A488-$B$2,'Ref. Coeff. Horiz.'!A:X,23)","v":1},{"$f":"VLOOKUP(A488-$B$2,'Ref. Coeff. Vertical'!A:X,23)","v":1},4644.0600953025096,4464.0600953025096,null,null,null,null,null,null,15.413737749513228,15.4,{"$f":"'Antenna Data'!B486","v":-25.72},1.9024368868498684,5.5862051601269567,"",0.61703637781980469,-4.1937846214199546,"",-20.13379483987304,"",-29.913784621419953,"",21.956205160126956,12.176215378580046,-3.7637948398730394,-13.543784621419952]
[48.400000000000418,0.84473935796526278,25.873813931249373,4470.9950473198915,{"$f":"VLOOKUP(A489-$B$2,'Ref. Coeff. Horiz.'!A:X,24)","v":180},{"$f":"VLOOKUP(A489-$B$2,'Ref. Coeff. Vertical'!A:X,24)","v":0},{"$f":"VLOOKUP(A489-$B$2,'Ref. Coeff. Horiz.'!A:X,23)","v":1},{"$f":"VLOOKUP(A489-$B$2,'Ref. Coeff. Vertical'!A:X,23)","v":1},4650.9950473198915,4470.9950473198915,null,null,null,null,null,null,15.359658743212801,15.4,{"$f":"'Antenna Data'!B487","v":-25.73},1.9362736359562849,5.7393346440371733,"",0.50084369487956859,-6.0059557837607089,"",-19.990665355962825,"",-31.735955783760708,"",22.109334644037176,10.364044216239293,-3.6206653559628243,-15.365955783760707]
[48.500000000000419,0.84648468721725711,25.913867939299642,4477.9163799109774,{"$f":"VLOOKUP(A490-$B$2,'Ref. Coeff. Horiz.'!A:X,24)","v":180},{"$f":"VLOOKUP(A490-$B$2,'Ref. Coeff. Vertical'!A:X,24)","v":0},{"$f":"VLOOKUP(A490-$B$2,'Ref. Coeff. Horiz.'!A:X,23)","v":1},{"$f":"VLOOKUP(A490-$B$2,'Ref. Coeff. Vertical'!A:X,23)","v":1},4657.9163799109774,4477.9163799109774,null,null,null,null,null,null,15.305747076817601,15.3,{"$f":"'Antenna Data'!B488","v":-25.71},1.962975368806871,5.8582970031221624,"",0.3830505207639473,-8.3348788578577437,"",-19.85170299687784,"",-34.044878857857746,"",22.228297003122165,8.0351211421422573,-3.4817029968778392,-17.674878857857745]
[48.600000000000421,0.84823001646925145,25.953843009214069,4484.8240719921905,{"$f":"VLOOKUP(A491-$B$2,'Ref. Coeff. Horiz.'!A:X,24)","v":180},{"$f":"VLOOKUP(A491-$B$2,'Ref. Coeff. Vertical'!A:X,24)","v":0},{"$f":"VLOOKUP(A491-$B$2,'Ref. Coeff. Horiz.'!A:X,23)","v":1},{"$f":"VLOOKUP(A491-$B$2,'Ref. Coeff. Vertical'!A:X,23)","v":1},4664.8240719921905,4484.8240719921905,null,null,null,null,null,null,15.252001647882949,15.3,{"$f":"'Antenna Data'!B489","v":-25.67},1.9824866023693124,5.9442052208093337,"",0.26409632982336995,-11.564752683815593,"",-19.725794779190668,"",-37.234752683815593,"",22.314205220809335,4.805247316184408,-3.355794779190667,-20.864752683815592]
[48.700000000000422,0.84997534572124589,25.993739019221653,4491.7181025215014,{"$f":"VLOOKUP(A492-$B$2,'Ref. Coeff. Horiz.'!A:X,24)","v":180},{"$f":"VLOOKUP(A492-$B$2,'Ref. Coeff. Vertical'!A:X,24)","v":0},{"$f":"VLOOKUP(A492-$B$2,'Ref. Coeff. Horiz.'!A:X,23)","v":1},{"$f":"VLOOKUP(A492-$B$2,'Ref. Coeff. Vertical'!A:X,23)","v":1},4671.7181025215014,4491.7181025215014,null,null,null,null,null,null,15.198421362771835,15.2,{"$f":"'Antenna Data'!B490","v":-25.6},1.9947788593321791,5.9978951383495103,"",0.14442057457791513,-16.807418629906216,"",-19.602104861650492,"",-42.407418629906218,"",22.36789513834951,-0.43741862990621527,-3.232104861650491,-26.037418629906217]
[48.800000000000423,0.85172067497324022,26.033555847792233,4498.5984504984972,{"$f":"VLOOKUP(A493-$B$2,'Ref. Coeff. Horiz.'!A:X,24)","v":180},{"$f":"VLOOKUP(A493-$B$2,'Ref. Coeff. Vertical'!A:X,24)","v":0},{"$f":"VLOOKUP(A493-$B$2,'Ref. Coeff. Horiz.'!A:X,23)","v":1},{"$f":"VLOOKUP(A493-$B$2,'Ref. Coeff. Vertical'!A:X,23)","v":1},4678.5984504984972,4498.5984504984972,null,null,null,null,null,null,15.145005136563897,15.1,{"$f":"'Antenna Data'!B491","v":-25.51},1.9998504087426889,6.0199502224063908,"Max",2.4461043552945837E-2,-32.230500382120219,"",-19.490049777593612,"",-57.740500382120217,"",22.389950222406391,-15.860500382120218,-3.1200497775936107,-41.370500382120213]
[48.900000000000425,0.85346600422523455,26.07329337363684,4505.4650949644456,{"$f":"VLOOKUP(A494-$B$2,'Ref. Coeff. Horiz.'!A:X,24)","v":180},{"$f":"VLOOKUP(A494-$B$2,'Ref. Coeff. Vertical'!A:X,24)","v":0},{"$f":"VLOOKUP(A494-$B$2,'Ref. Coeff. Horiz.'!A:X,23)","v":1},{"$f":"VLOOKUP(A494-$B$2,'Ref. Coeff. Vertical'!A:X,23)","v":1},4685.4650949644456,4505.4650949644456,null,null,null,null,null,null,15.091751892965421,15.1,{"$f":"'Antenna Data'!B492","v":-25.39},1.9977259089426969,6.0107180421703488,"",9.5347746376502104E-2,-20.413791348178275,"",-19.379281957829651,"",-45.803791348178279,"",22.380718042170351,-4.0437913481782743,-3.0092819578296499,-29.433791348178278]
[49.000000000000426,0.85521133347722889,26.112951475708083,4512.3180150023563,{"$f":"VLOOKUP(A495-$B$2,'Ref. Coeff. Horiz.'!A:X,24)","v":180},{"$f":"VLOOKUP(A495-$B$2,'Ref. Coeff. Vertical'!A:X,24)","v":0},{"$f":"VLOOKUP(A495-$B$2,'Ref. Coeff. Horiz.'!A:X,23)","v":1},{"$f":"VLOOKUP(A495-$B$2,'Ref. Coeff. Vertical'!A:X,23)","v":1},4692.3180150023563,4512.3180150023563,null,null,null,null,null,null,15.038660564220498,15,{"$f":"'Antenna Data'!B493","v":-25.25},1.9884559562087663,5.9703195183350477,"",0.21457611753846256,-13.368372338775531,"",-19.279680481664954,"",-38.618372338775529,"",22.34031951833505,3.0016276612244699,-2.9096804816649531,-22.248372338775528]
[49.100000000000428,0.85695666272922333,26.152530033200502,4519.1571897370468,{"$f":"VLOOKUP(A496-$B$2,'Ref. Coeff. Horiz.'!A:X,24)","v":180},{"$f":"VLOOKUP(A496-$B$2,'Ref. Coeff. Vertical'!A:X,24)","v":0},{"$f":"VLOOKUP(A496-$B$2,'Ref. Coeff. Horiz.'!A:X,23)","v":1},{"$f":"VLOOKUP(A496-$B$2,'Ref. Coeff. Vertical'!A:X,23)","v":1},4699.1571897370468,4519.1571897370468,null,null,null,null,null,null,14.985730091023244,15,{"$f":"'Antenna Data'!B494","v":-25.1},1.9721165428023417,5.89865152245285,"",0.3328007536129346,-9.5563139787820166,"",-19.20134847754715,"",-34.656313978782016,"",22.268651522452849,6.8136860212179844,-2.8313484775471487,-18.286313978782015]
[49.200000000000429,0.85870199198121766,26.192028925550943,4525.9825983352021,{"$f":"VLOOKUP(A497-$B$2,'Ref. Coeff. Horiz.'!A:X,24)","v":180},{"$f":"VLOOKUP(A497-$B$2,'Ref. Coeff. Vertical'!A:X,24)","v":0},{"$f":"VLOOKUP(A497-$B$2,'Ref. Coeff. Horiz.'!A:X,23)","v":1},{"$f":"VLOOKUP(A497-$B$2,'Ref. Coeff. Vertical'!A:X,23)","v":1},4705.9825983352021,4525.9825983352021,null,null,null,null,null,null,14.932959422431102,14.9,{"$f":"'Antenna Data'!B495","v":-24.93},1.9488084284126197,5.7953829847901961,"",0.44960617138550607,-6.9433547236786417,"",-19.134617015209805,"",-31.873354723678641,"",22.165382984790199,9.4266452763213593,-2.7646170152098044,-15.50335472367864]
[49.300000000000431,0.86044732123321199,26.231448032438937,4532.7942200054476,{"$f":"VLOOKUP(A498-$B$2,'Ref. Coeff. Horiz.'!A:X,24)","v":180},{"$f":"VLOOKUP(A498-$B$2,'Ref. Coeff. Vertical'!A:X,24)","v":0},{"$f":"VLOOKUP(A498-$B$2,'Ref. Coeff. Horiz.'!A:X,23)","v":1},{"$f":"VLOOKUP(A498-$B$2,'Ref. Coeff. Vertical'!A:X,23)","v":1},4712.7942200054476,4532.7942200054476,null,null,null,null,null,null,14.880347515779157,14.9,{"$f":"'Antenna Data'!B496","v":-24.75},1.9186564292274346,5.6599442654301164,"",0.56458613743540209,-4.9653957901376629,"",-19.090055734569884,"",-29.715395790137663,"",22.029944265430117,11.404604209862338,-2.7200557345698826,-13.345395790137662]
[49.400000000000432,0.86219265048520632,26.270787233787047,4539.5920339984013,{"$f":"VLOOKUP(A499-$B$2,'Ref. Coeff. Horiz.'!A:X,24)","v":180},{"$f":"VLOOKUP(A499-$B$2,'Ref. Coeff. Vertical'!A:X,24)","v":0},{"$f":"VLOOKUP(A499-$B$2,'Ref. Coeff. Horiz.'!A:X,23)","v":1},{"$f":"VLOOKUP(A499-$B$2,'Ref. Coeff. Vertical'!A:X,23)","v":1},4719.5920339984013,4539.5920339984013,null,null,null,null,null,null,14.827893336595523,14.8,{"$f":"'Antenna Data'!B497","v":-24.560000000000002},1.8818086290959688,5.4915091134561553,"",0.67734502541905883,-3.3838010881648692,"",-19.068490886543849,"Max",-27.943801088164872,"",21.861509113456158,12.986198911835132,-2.6984908865438477,-11.573801088164871]
[49.500000000000433,0.86393797973720066,26.310046409761242,4546.3760196067424,{"$f":"VLOOKUP(A500-$B$2,'Ref. Coeff. Horiz.'!A:X,24)","v":180},{"$f":"VLOOKUP(A500-$B$2,'Ref. Coeff. Vertical'!A:X,24)","v":0},{"$f":"VLOOKUP(A500-$B$2,'Ref. Coeff. Horiz.'!A:X,23)","v":1},{"$f":"VLOOKUP(A500-$B$2,'Ref. Coeff. Vertical'!A:X,23)","v":1},4726.3760196067424,4546.3760196067424,null,null,null,null,null,null,14.775595858517748,14.8,{"$f":"'Antenna Data'!B498","v":-24.36},1.8384355174507467,5.2889680345851184,"",0.78749910995224581,-2.0749985677335037,"",-19.071031965414882,"",-26.434998567733501,"",21.658968034585119,14.295001432266497,-2.7010319654148809,-10.0649985677335]
[49.600000000000435,0.8656833089891951,26.349225440771264,4553.1461561652741,{"$f":"VLOOKUP(A501-$B$2,'Ref. Coeff. Horiz.'!A:X,24)","v":180},{"$f":"VLOOKUP(A501-$B$2,'Ref. Coeff. Vertical'!A:X,24)","v":0},{"$f":"VLOOKUP(A501-$B$2,'Ref. Coeff. Horiz.'!A:X,23)","v":1},{"$f":"VLOOKUP(A501-$B$2,'Ref. Coeff. Vertical'!A:X,23)","v":1},4733.1461561652741,4553.1461561652741,null,null,null,null,null,null,14.723454063210207,14.7,{"$f":"'Antenna Data'!B499","v":-24.150000000000002},1.7887290588356237,5.0508912477494459,"",0.89467779344131371,-0.96666684060657992,"",-19.099108752250558,"",-25.116666840606584,"",21.420891247749445,15.403333159393421,-2.729108752250557,-8.7466668406065828]
[49.700000000000436,0.86742863824118943,26.388324207470987,4559.9024230509858,{"$f":"VLOOKUP(A502-$B$2,'Ref. Coeff. Horiz.'!A:X,24)","v":180},{"$f":"VLOOKUP(A502-$B$2,'Ref. Coeff. Vertical'!A:X,24)","v":0},{"$f":"VLOOKUP(A502-$B$2,'Ref. Coeff. Horiz.'!A:X,23)","v":1},{"$f":"VLOOKUP(A502-$B$2,'Ref. Coeff. Vertical'!A:X,23)","v":1},4739.9024230509858,4559.9024230509858,null,null,null,null,null,null,14.671466940282516,14.7,{"$f":"'Antenna Data'!B500","v":-23.94},1.7329016990407375,4.7754785505851363,"",0.99852476256813183,-1.2823210490545942E-2,"",-19.164521449414863,"",-23.952823210490546,"",21.145478550585139,16.357176789509456,-2.7945214494148622,-7.5828232104905453]
[49.800000000000438,0.86917396749318376,26.427342590758791,4566.6447996831184,{"$f":"VLOOKUP(A503-$B$2,'Ref. Coeff. Horiz.'!A:X,24)","v":180},{"$f":"VLOOKUP(A503-$B$2,'Ref. Coeff. Vertical'!A:X,24)","v":0},{"$f":"VLOOKUP(A503-$B$2,'Ref. Coeff. Horiz.'!A:X,23)","v":1},{"$f":"VLOOKUP(A503-$B$2,'Ref. Coeff. Vertical'!A:X,23)","v":1},4746.6447996831184,4566.6447996831184,null,null,null,null,null,null,14.619633487208885,14.6,{"$f":"'Antenna Data'!B501","v":-23.72},1.6711853129751408,4.4604922048126809,"",1.0986990714914617,0.8175751498896886,"",-19.259507795187318,"",-22.902424850110311,"",20.830492204812682,17.187575149889689,-2.8895077951873169,-6.5324248501103099]
[49.900000000000439,0.8709192967451781,26.466280471777914,4573.3732655232234,{"$f":"VLOOKUP(A504-$B$2,'Ref. Coeff. Horiz.'!A:X,24)","v":180},{"$f":"VLOOKUP(A504-$B$2,'Ref. Coeff. Vertical'!A:X,24)","v":0},{"$f":"VLOOKUP(A504-$B$2,'Ref. Coeff. Horiz.'!A:X,23)","v":1},{"$f":"VLOOKUP(A504-$B$2,'Ref. Coeff. Vertical'!A:X,23)","v":1},4753.3732655232234,4573.3732655232234,null,null,null,null,null,null,14.567952709248482,14.6,{"$f":"'Antenna Data'!B502","v":-23.51},1.6038300995130368,4.103167194772138,"",1.1948761491870288,1.5464578460655911,"",-19.406832805227864,"",-21.963542153934412,"",20.473167194772138,17.91645784606559,-3.0368328052278635,-5.5935421539344112]
[50.000000000000441,0.87266462599717243,26.505137731916811,4580.0878000752245,{"$f":"VLOOKUP(A505-$B$2,'Ref. Coeff. Horiz.'!A:X,24)","v":180},{"$f":"VLOOKUP(A505-$B$2,'Ref. Coeff. Vertical'!A:X,24)","v":0},{"$f":"VLOOKUP(A505-$B$2,'Ref. Coeff. Horiz.'!A:X,23)","v":1},{"$f":"VLOOKUP(A505-$B$2,'Ref. Coeff. Vertical'!A:X,23)","v":1},4760.0878000752245,4580.0878000752245,null,null,null,null,null,null,14.516423619366721,14.5,{"$f":"'Antenna Data'!B503","v":-23.29},1.5311034286304719,3.7000905803439372,"",1.2867487287097021,2.189874956907186,"",-19.589909419656063,"",-21.100125043092813,"",20.070090580343937,18.559874956907187,-3.2199094196560623,-4.7301250430928121]
[50.100000000000442,0.87440995524916687,26.54391425280954,4586.7883828854883,{"$f":"VLOOKUP(A506-$B$2,'Ref. Coeff. Horiz.'!A:X,24)","v":180},{"$f":"VLOOKUP(A506-$B$2,'Ref. Coeff. Vertical'!A:X,24)","v":0},{"$f":"VLOOKUP(A506-$B$2,'Ref. Coeff. Horiz.'!A:X,23)","v":1},{"$f":"VLOOKUP(A506-$B$2,'Ref. Coeff. Vertical'!A:X,23)","v":1},4766.7883828854883,4586.7883828854883,null,null,null,null,null,null,14.465045238157478,14.5,{"$f":"'Antenna Data'!B504","v":-23.07},1.4532886462064973,3.2470376129375689,"",1.3740276965211724,2.7599097392607708,"",-19.822962387062432,"",-20.31009026073923,"",19.617037612937569,19.129909739260771,-3.4529623870624313,-3.940090260739229]
[50.200000000000443,0.8761552845011612,26.582609916336082,4593.4749935428745,{"$f":"VLOOKUP(A507-$B$2,'Ref. Coeff. Horiz.'!A:X,24)","v":180},{"$f":"VLOOKUP(A507-$B$2,'Ref. Coeff. Vertical'!A:X,24)","v":0},{"$f":"VLOOKUP(A507-$B$2,'Ref. Coeff. Horiz.'!A:X,23)","v":1},{"$f":"VLOOKUP(A507-$B$2,'Ref. Coeff. Vertical'!A:X,23)","v":1},4773.4749935428745,4593.4749935428745,null,null,null,null,null,null,14.413816593766283,14.4,{"$f":"'Antenna Data'!B505","v":-22.85},1.370683841897097,2.7387458637908502,"",1.4564428603835564,3.2658690184512533,"",-20.111254136209151,"",-19.584130981548746,"",19.108745863790851,19.635869018451253,-3.7412541362091503,-3.2141309815487453]
[50.300000000000445,0.87790061375315553,26.621224604622743,4600.147611678809,{"$f":"VLOOKUP(A508-$B$2,'Ref. Coeff. Horiz.'!A:X,24)","v":180},{"$f":"VLOOKUP(A508-$B$2,'Ref. Coeff. Vertical'!A:X,24)","v":0},{"$f":"VLOOKUP(A508-$B$2,'Ref. Coeff. Horiz.'!A:X,23)","v":1},{"$f":"VLOOKUP(A508-$B$2,'Ref. Coeff. Vertical'!A:X,23)","v":1},4780.147611678809,4600.147611678809,null,null,null,null,null,null,14.362736721814356,14.4,{"$f":"'Antenna Data'!B506","v":-22.64},1.2836005855004697,2.1685981304444799,"",1.5337436346739453,3.7150554666918563,"",-20.471401869555521,"",-18.924944533308143,"",18.53859813044448,20.085055466691855,-4.1014018695555201,-2.5549445333081415]
[50.400000000000446,0.87964594300514987,26.659758200042479,4606.8062169673394,{"$f":"VLOOKUP(A509-$B$2,'Ref. Coeff. Horiz.'!A:X,24)","v":180},{"$f":"VLOOKUP(A509-$B$2,'Ref. Coeff. Vertical'!A:X,24)","v":0},{"$f":"VLOOKUP(A509-$B$2,'Ref. Coeff. Horiz.'!A:X,23)","v":1},{"$f":"VLOOKUP(A509-$B$2,'Ref. Coeff. Vertical'!A:X,23)","v":1},4786.8062169673394,4606.8062169673394,null,null,null,null,null,null,14.311804665323603,14.3,{"$f":"'Antenna Data'!B507","v":-22.43},1.1923626372221758,1.52816717843522,"",1.6056996423231125,4.1132862126125982,"",-20.901832821564781,"",-18.3167137873874,"",17.898167178435219,20.483286212612597,-4.5318328215647803,-1.9467137873873988]
[50.500000000000448,0.8813912722571442,26.698210585215282,4613.4507891252006,{"$f":"VLOOKUP(A510-$B$2,'Ref. Coeff. Horiz.'!A:X,24)","v":180},{"$f":"VLOOKUP(A510-$B$2,'Ref. Coeff. Vertical'!A:X,24)","v":0},{"$f":"VLOOKUP(A510-$B$2,'Ref. Coeff. Horiz.'!A:X,23)","v":1},{"$f":"VLOOKUP(A510-$B$2,'Ref. Coeff. Vertical'!A:X,23)","v":1},4793.4507891252006,4613.4507891252006,null,null,null,null,null,null,14.261019474642451,14.3,{"$f":"'Antenna Data'!B508","v":-22.22},1.0973046372153366,0.80654429068866595,"",1.6721012329239258,4.4652513420761242,"",-21.413455709311332,"",-17.754748657923876,"",17.176544290688668,20.835251342076127,-5.0434557093113312,-1.3847486579238755]
[50.600000000000449,0.88313660150913864,26.73658164300852,4620.0813079118716,{"$f":"VLOOKUP(A511-$B$2,'Ref. Coeff. Horiz.'!A:X,24)","v":180},{"$f":"VLOOKUP(A511-$B$2,'Ref. Coeff. Vertical'!A:X,24)","v":0},{"$f":"VLOOKUP(A511-$B$2,'Ref. Coeff. Horiz.'!A:X,23)","v":1},{"$f":"VLOOKUP(A511-$B$2,'Ref. Coeff. Vertical'!A:X,23)","v":1},4800.0813079118716,4620.0813079118716,null,null,null,null,null,null,14.210380207372596,14.2,{"$f":"'Antenna Data'!B509","v":-22.01},0.99877077971863448,-1.0683439200917287E-2,"",1.7327599168898731,4.7747678613995088,"",-22.020683439200919,"",-17.235232138600495,"",16.359316560799083,21.144767861399508,-5.6506834392009182,-0.86523213860049353]
[50.70000000000045,0.88488193076113297,26.774871256537285,4626.6977531296425,{"$f":"VLOOKUP(A512-$B$2,'Ref. Coeff. Horiz.'!A:X,24)","v":180},{"$f":"VLOOKUP(A512-$B$2,'Ref. Coeff. Vertical'!A:X,24)","v":0},{"$f":"VLOOKUP(A512-$B$2,'Ref. Coeff. Horiz.'!A:X,23)","v":1},{"$f":"VLOOKUP(A512-$B$2,'Ref. Coeff. Vertical'!A:X,23)","v":1},4806.6977531296425,4626.6977531296425,null,null,null,null,null,null,14.159885928296598,14.2,{"$f":"'Antenna Data'!B510","v":-21.810000000000002},0.89711347704165856,-0.94305238023336369,"",1.7875087158697276,5.0449633618528456,"",-22.753052380233367,"",-16.765036638147158,"",15.426947619766636,21.414963361852848,-6.3830523802333659,-0.3950366381471575]
[50.800000000000452,0.88662726001312731,26.813079309164785,4633.3001046236741,{"$f":"VLOOKUP(A513-$B$2,'Ref. Coeff. Horiz.'!A:X,24)","v":180},{"$f":"VLOOKUP(A513-$B$2,'Ref. Coeff. Vertical'!A:X,24)","v":0},{"$f":"VLOOKUP(A513-$B$2,'Ref. Coeff. Horiz.'!A:X,23)","v":1},{"$f":"VLOOKUP(A513-$B$2,'Ref. Coeff. Vertical'!A:X,23)","v":1},4813.3001046236741,4633.3001046236741,null,null,null,null,null,null,14.109535709306314,14.1,{"$f":"'Antenna Data'!B511","v":-21.62},0.79269201855529459,-2.0179102920382519,"",1.8362024299403177,5.2784111556037718,"",-23.637910292038253,"",-16.341588844396227,"",14.352089707961749,21.648411155603775,-7.2679102920382519,2.8411155603773608E-2]
[50.900000000000453,0.88837258926512164,26.851205684502663,4639.88834228206,{"$f":"VLOOKUP(A514-$B$2,'Ref. Coeff. Horiz.'!A:X,24)","v":180},{"$f":"VLOOKUP(A514-$B$2,'Ref. Coeff. Vertical'!A:X,24)","v":0},{"$f":"VLOOKUP(A514-$B$2,'Ref. Coeff. Horiz.'!A:X,23)","v":1},{"$f":"VLOOKUP(A514-$B$2,'Ref. Coeff. Vertical'!A:X,23)","v":1},4819.88834228206,4639.88834228206,null,null,null,null,null,null,14.059328629332196,14.1,{"$f":"'Antenna Data'!B512","v":-21.42},0.68587122973595505,-3.2751482824999858,"",1.8787178224045473,5.4772311062644876,"",-24.695148282499986,"",-15.942768893735515,"",13.094851717500015,21.847231106264488,-8.3251482824999847,0.42723110626448602]
[51.000000000000455,0.89011791851711597,26.889250266411363,4646.4624460358837,{"$f":"VLOOKUP(A515-$B$2,'Ref. Coeff. Horiz.'!A:X,24)","v":180},{"$f":"VLOOKUP(A515-$B$2,'Ref. Coeff. Vertical'!A:X,24)","v":0},{"$f":"VLOOKUP(A515-$B$2,'Ref. Coeff. Horiz.'!A:X,23)","v":1},{"$f":"VLOOKUP(A515-$B$2,'Ref. Coeff. Vertical'!A:X,23)","v":1},4826.4624460358837,4646.4624460358837,null,null,null,null,null,null,14.0092637742734,14,{"$f":"'Antenna Data'!B513","v":-21.23},0.57702013618464154,-4.776180621416132,"",1.9149537233148664,5.6431656658125959,"",-26.006180621416132,"",-15.586834334187404,"",11.59381937858387,22.013165665812597,-9.6361806214161305,0.7831656658125965]
[51.100000000000456,0.89186324776911041,26.927212939000498,4653.022395859286,{"$f":"VLOOKUP(A516-$B$2,'Ref. Coeff. Horiz.'!A:X,24)","v":180},{"$f":"VLOOKUP(A516-$B$2,'Ref. Coeff. Vertical'!A:X,24)","v":0},{"$f":"VLOOKUP(A516-$B$2,'Ref. Coeff. Horiz.'!A:X,23)","v":1},{"$f":"VLOOKUP(A516-$B$2,'Ref. Coeff. Vertical'!A:X,23)","v":1},4833.022395859286,4653.022395859286,null,null,null,null,null,null,13.959340236928707,14,{"$f":"'Antenna Data'!B514","v":-21.05},0.4665106374004459,-6.6227689799725624,"",1.9448310531231823,5.7776376054383736,"",-27.672768979972563,"",-15.272362394561627,"",9.7472310200274386,22.147637605438376,-11.302768979972562,1.0976376054383739]
[51.200000000000458,0.89360857702110474,26.965093586629177,4659.5681717695215,{"$f":"VLOOKUP(A517-$B$2,'Ref. Coeff. Horiz.'!A:X,24)","v":180},{"$f":"VLOOKUP(A517-$B$2,'Ref. Coeff. Vertical'!A:X,24)","v":0},{"$f":"VLOOKUP(A517-$B$2,'Ref. Coeff. Horiz.'!A:X,23)","v":1},{"$f":"VLOOKUP(A517-$B$2,'Ref. Coeff. Vertical'!A:X,23)","v":1},4839.5681717695215,4659.5681717695215,null,null,null,null,null,null,13.909557116928282,13.9,{"$f":"'Antenna Data'!B515","v":-20.87},0.35471619493050505,-9.0023796583371301,"",1.9682927681252149,5.8817939360191165,"",-29.872379658337131,"",-14.988206063980885,"",7.3676203416628709,22.251793936019119,-13.50237965833713,1.3817939360191165]
[{"$f":"A517+0.1","v":51.300000000000459},{"$f":"A518*(PI()/180)","v":0.89535390627309908},{"$f":"(2*$B$1*SIN(B518-$C$2)*COS($C$2))","v":27.002892093906382},{"$f":"(C518/$O$1)*360","v":4666.0997538270221},{"$f":"VLOOKUP(A518-$B$2,'Ref. Coeff. Horiz.'!A:X,24)","v":180},{"$f":"VLOOKUP(A518-$B$2,'Ref. Coeff. Vertical'!A:X,24)","v":0},{"$f":"VLOOKUP(A518-$B$2,'Ref. Coeff. Horiz.'!A:X,23)","v":1},{"$f":"VLOOKUP(A518-$B$2,'Ref. Coeff. Vertical'!A:X,23)","v":1},{"$f":"D518+E518","v":4846.0997538270221},{"$f":"D518+F518","v":4666.0997538270221},null,null,null,null,null,null,{"$f":"(((COS($C$2))/(TAN(B518-$C$2)))-(SIN($C$2)))*$B$1","v":13.859913520666169},{"$f":"ROUND(Q518,1)","v":13.9},{"$f":"'Antenna Data'!B516","v":-20.69},{"$f":"SQRT((1+(2*G518*COS(I518*PI()/180)))+(G518^2))","v":0.24201053934701916},{"$f":"IF(T518=0,-99,10*LOG(T518^2))","v":-12.323314409268587},{"$f":"IF(AND((U519<U518),(U518>U517)),\"Max\",\"\")","v":""},{"$f":"SQRT((1+(2*H518*COS(J518*PI()/180)))+(H518^2))","v":1.9853037296204739},{"$f":"IF(W518=0,-99,10*LOG(W518^2))","v":5.9565391691605534},{"$f":"IF(AND((X519<X518),(X518>X517)),\"Max\",\"\")","v":""},{"$f":"U518+S518","v":-33.013314409268588},{"$f":"IF(AND((Z519<Z518),(Z518>Z517)),\"Max\",\"\")","v":""},{"$f":"X518+S518","v":-14.733460830839448},{"$f":"IF(AND((AB519<AB518),(AB518>AB517)),\"Max\",\"\")","v":""},{"$f":"U518+$AD$2","v":4.0466855907314141},{"$f":"X518+$AD$2","v":22.326539169160554},{"$f":"Z518+$AD$2","v":-16.643314409268587},{"$f":"AB518+$AD$2","v":1.6365391691605531}]
[51.40000000000046,0.89709923552509341,27.0406083456913,4672.6171221354562,{"$f":"VLOOKUP(A519-$B$2,'Ref. Coeff. Horiz.'!A:X,24)","v":180},{"$f":"VLOOKUP(A519-$B$2,'Ref. Coeff. Vertical'!A:X,24)","v":0},{"$f":"VLOOKUP(A519-$B$2,'Ref. Coeff. Horiz.'!A:X,23)","v":1},{"$f":"VLOOKUP(A519-$B$2,'Ref. Coeff. Vertical'!A:X,23)","v":1},4852.6171221354562,4672.6171221354562,null,null,null,null,null,null,13.810408561233629,13.8,{"$f":"'Antenna Data'!B517","v":-20.520000000000003},0.12876640031931355,-17.803948897839895,"",1.995850498947455,6.002560138688116,"",-38.323948897839898,"",-14.517439861311887,"",-1.433948897839894,22.372560138688115,-21.953948897839897,1.8525601386881139]
[51.500000000000462,0.89884456477708774,27.078242227093696,4679.1202568417903,{"$f":"VLOOKUP(A520-$B$2,'Ref. Coeff. Horiz.'!A:X,24)","v":180},{"$f":"VLOOKUP(A520-$B$2,'Ref. Coeff. Vertical'!A:X,24)","v":0},{"$f":"VLOOKUP(A520-$B$2,'Ref. Coeff. Horiz.'!A:X,23)","v":1},{"$f":"VLOOKUP(A520-$B$2,'Ref. Coeff. Vertical'!A:X,23)","v":1},4859.1202568417903,4679.1202568417903,null,null,null,null,null,null,13.761041358353207,13.8,{"$f":"'Antenna Data'!B518","v":-20.36},1.5354263852813849E-2,-36.275420012063542,"",1.9999410607769266,6.0203439397144001,"Max",-56.635420012063541,"",-14.339656060285598,"",-19.905420012063541,22.390343939714402,-40.265420012063544,2.0303439397144025]
[51.600000000000463,0.90058989402908218,27.115793623474232,4685.6091381363467,{"$f":"VLOOKUP(A521-$B$2,'Ref. Coeff. Horiz.'!A:X,24)","v":180},{"$f":"VLOOKUP(A521-$B$2,'Ref. Coeff. Vertical'!A:X,24)","v":0},{"$f":"VLOOKUP(A521-$B$2,'Ref. Coeff. Horiz.'!A:X,23)","v":1},{"$f":"VLOOKUP(A521-$B$2,'Ref. Coeff. Vertical'!A:X,23)","v":1},4865.6091381363467,4685.6091381363467,null,null,null,null,null,null,13.71181103831359,13.7,{"$f":"'Antenna Data'!B519","v":-20.200000000000003},9.7858839437320572E-2,-20.187998781731366,"",1.9976044772536883,6.0101900546711118,"",-40.387998781731369,"",-14.189809945328891,"",-3.8179987817313652,22.380190054671111,-24.017998781731368,2.1801900546711099]
[51.700000000000465,0.90233522328107652,27.153262420444843,4692.0837462528689,{"$f":"VLOOKUP(A522-$B$2,'Ref. Coeff. Horiz.'!A:X,24)","v":180},{"$f":"VLOOKUP(A522-$B$2,'Ref. Coeff. Vertical'!A:X,24)","v":0},{"$f":"VLOOKUP(A522-$B$2,'Ref. Coeff. Horiz.'!A:X,23)","v":1},{"$f":"VLOOKUP(A522-$B$2,'Ref. Coeff. Vertical'!A:X,23)","v":1},4872.0837462528689,4692.0837462528689,null,null,null,null,null,null,13.662716733905206,13.7,{"$f":"'Antenna Data'!B520","v":-20.04},0.21051051136579577,-13.534524275503237,"",1.988890475768968,5.9722173610425191,"",-33.574524275503236,"",-14.06778263895748,"",2.8354757244967637,22.342217361042522,-17.204524275503235,2.3022173610425209]
[51.800000000000466,0.90408055253307085,27.190648503869078,4698.5440614685758,{"$f":"VLOOKUP(A523-$B$2,'Ref. Coeff. Horiz.'!A:X,24)","v":180},{"$f":"VLOOKUP(A523-$B$2,'Ref. Coeff. Vertical'!A:X,24)","v":0},{"$f":"VLOOKUP(A523-$B$2,'Ref. Coeff. Horiz.'!A:X,23)","v":1},{"$f":"VLOOKUP(A523-$B$2,'Ref. Coeff. Vertical'!A:X,23)","v":1},4878.5440614685758,4698.5440614685758,null,null,null,null,null,null,13.613757584356557,13.6,{"$f":"'Antenna Data'!B521","v":-19.89},0.32224412509926131,-9.8362998323371329,"",1.9738689733209256,5.9063664109243375,"",-29.726299832337133,"",-13.983633589075662,"",6.5337001676628681,22.276366410924339,-13.356299832337132,2.3863664109243388]
[51.900000000000468,0.90582588178506518,27.227951759862446,4704.9900641042304,{"$f":"VLOOKUP(A524-$B$2,'Ref. Coeff. Horiz.'!A:X,24)","v":180},{"$f":"VLOOKUP(A524-$B$2,'Ref. Coeff. Vertical'!A:X,24)","v":0},{"$f":"VLOOKUP(A524-$B$2,'Ref. Coeff. Horiz.'!A:X,23)","v":1},{"$f":"VLOOKUP(A524-$B$2,'Ref. Coeff. Vertical'!A:X,23)","v":1},4884.9900641042304,4704.9900641042304,null,null,null,null,null,null,13.564932735271286,13.6,{"$f":"'Antenna Data'!B522","v":-19.740000000000002},0.43270992276036463,-7.2760629118027111,"",1.9526295405797593,5.8123971059704473,"",-27.016062911802713,"",-13.927602894029555,"",9.0939370881972899,22.182397105970448,-10.646062911802712,2.4423971059704463]
[52.000000000000469,0.90757121103705951,27.265172074792755,4711.4217345241877,{"$f":"VLOOKUP(A525-$B$2,'Ref. Coeff. Horiz.'!A:X,24)","v":180},{"$f":"VLOOKUP(A525-$B$2,'Ref. Coeff. Vertical'!A:X,24)","v":0},{"$f":"VLOOKUP(A525-$B$2,'Ref. Coeff. Horiz.'!A:X,23)","v":1},{"$f":"VLOOKUP(A525-$B$2,'Ref. Coeff. Vertical'!A:X,23)","v":1},4891.4217345241877,4711.4217345241877,null,null,null,null,null,null,13.516241338565985,13.5,{"$f":"'Antenna Data'!B523","v":-19.600000000000001},0.54156606874733704,-5.3269710746940291,"",1.9252808089163442,5.6898816365653451,"",-24.926971074694031,"",-13.910118363434655,"Max",11.043028925305972,22.059881636565347,-8.5569710746940295,2.4598816365653455]
[52.10000000000047,0.90931654028905395,27.302309335280473,4717.8390531364657,{"$f":"VLOOKUP(A526-$B$2,'Ref. Coeff. Horiz.'!A:X,24)","v":180},{"$f":"VLOOKUP(A526-$B$2,'Ref. Coeff. Vertical'!A:X,24)","v":0},{"$f":"VLOOKUP(A526-$B$2,'Ref. Coeff. Horiz.'!A:X,23)","v":1},{"$f":"VLOOKUP(A526-$B$2,'Ref. Coeff. Vertical'!A:X,23)","v":1},4897.8390531364657,4717.8390531364657,null,null,null,null,null,null,13.467682552408684,13.5,{"$f":"'Antenna Data'!B524","v":-19.46},0.6484796560435373,-3.7620728790805016,"",1.8919498237790671,5.5381922867189326,"",-23.222072879080503,"",-13.921807713281069,"",12.607927120919499,21.908192286718933,-6.8520728790805023,2.4481922867189319]
[52.200000000000472,0.91106186954104829,27.339363428199061,4724.2420003927973,{"$f":"VLOOKUP(A527-$B$2,'Ref. Coeff. Horiz.'!A:X,24)","v":180},{"$f":"VLOOKUP(A527-$B$2,'Ref. Coeff. Vertical'!A:X,24)","v":0},{"$f":"VLOOKUP(A527-$B$2,'Ref. Coeff. Horiz.'!A:X,23)","v":1},{"$f":"VLOOKUP(A527-$B$2,'Ref. Coeff. Vertical'!A:X,23)","v":1},4904.2420003927973,4724.2420003927973,null,null,null,null,null,null,13.41925554115808,13.4,{"$f":"'Antenna Data'!B525","v":-19.32},0.75312766303327283,-2.4626280018422082,"",1.8527813479129225,5.3564833998925723,"",-21.782628001842209,"",-13.963516600107429,"",13.907371998157792,21.726483399892572,-5.4126280018422079,2.4064833998925721]
[52.300000000000473,0.91280719879304262,27.376334240675334,4730.6305567886975,{"$f":"VLOOKUP(A528-$B$2,'Ref. Coeff. Horiz.'!A:X,24)","v":180},{"$f":"VLOOKUP(A528-$B$2,'Ref. Coeff. Vertical'!A:X,24)","v":0},{"$f":"VLOOKUP(A528-$B$2,'Ref. Coeff. Horiz.'!A:X,23)","v":1},{"$f":"VLOOKUP(A528-$B$2,'Ref. Coeff. Vertical'!A:X,23)","v":1},4910.6305567886975,4730.6305567886975,null,null,null,null,null,null,13.370959475303406,13.4,{"$f":"'Antenna Data'!B526","v":-19.190000000000001},0.85519785858652042,-1.3586679054061013,"",1.8079371180074364,5.1436664234804805,"",-20.548667905406102,"",-14.046333576519521,"",15.0113320945939,21.51366642348048,-4.1786679054061011,2.3236664234804802]
[52.400000000000475,0.91455252804503695,27.413221660089771,4737.0047028635126,{"$f":"VLOOKUP(A529-$B$2,'Ref. Coeff. Horiz.'!A:X,24)","v":180},{"$f":"VLOOKUP(A529-$B$2,'Ref. Coeff. Vertical'!A:X,24)","v":0},{"$f":"VLOOKUP(A529-$B$2,'Ref. Coeff. Horiz.'!A:X,23)","v":1},{"$f":"VLOOKUP(A529-$B$2,'Ref. Coeff. Vertical'!A:X,23)","v":1},4917.0047028635126,4737.0047028635126,null,null,null,null,null,null,13.322793531405054,13.3,{"$f":"'Antenna Data'!B527","v":-19.07},0.95438965342184567,-0.4054855503367682,"",1.7575950584367583,4.8983764574859379,"",-19.475485550336767,"",-14.171623542514062,"",15.964514449663232,21.268376457485939,-3.1054855503367662,2.1983764574859386]
[52.500000000000476,0.91629785729703128,27.450025574076911,4743.3644192004895,{"$f":"VLOOKUP(A530-$B$2,'Ref. Coeff. Horiz.'!A:X,24)","v":180},{"$f":"VLOOKUP(A530-$B$2,'Ref. Coeff. Vertical'!A:X,24)","v":0},{"$f":"VLOOKUP(A530-$B$2,'Ref. Coeff. Horiz.'!A:X,23)","v":1},{"$f":"VLOOKUP(A530-$B$2,'Ref. Coeff. Vertical'!A:X,23)","v":1},4923.3644192004895,4743.3644192004895,null,null,null,null,null,null,13.274756892035789,13.3,{"$f":"'Antenna Data'!B528","v":-18.950000000000003},1.0504148960045128,0.42721743768884757,"",1.7019484558152267,4.6189280633380969,"",-18.522782562311157,"",-14.331071936661907,"",16.79721743768885,20.988928063338097,-2.1527825623111561,2.0389280633380942]
[52.600000000000477,0.91804318654902572,27.486745870525645,4749.7096864268306,{"$f":"VLOOKUP(A531-$B$2,'Ref. Coeff. Horiz.'!A:X,24)","v":180},{"$f":"VLOOKUP(A531-$B$2,'Ref. Coeff. Vertical'!A:X,24)","v":0},{"$f":"VLOOKUP(A531-$B$2,'Ref. Coeff. Horiz.'!A:X,23)","v":1},{"$f":"VLOOKUP(A531-$B$2,'Ref. Coeff. Vertical'!A:X,23)","v":1},4929.7096864268306,4749.7096864268306,null,null,null,null,null,null,13.226848745722711,13.2,{"$f":"'Antenna Data'!B529","v":-18.830000000000002},1.14299861148263,1.1609140562731222,"",1.6412050981363622,4.3032571472410446,"",-17.669085943726881,"",-14.526742852758957,"",17.530914056273122,20.673257147241046,-1.2990859437268796,1.8432571472410437]
[52.700000000000479,0.91978851580102006,27.523382437579574,4756.0404852137499,{"$f":"VLOOKUP(A532-$B$2,'Ref. Coeff. Horiz.'!A:X,24)","v":180},{"$f":"VLOOKUP(A532-$B$2,'Ref. Coeff. Vertical'!A:X,24)","v":0},{"$f":"VLOOKUP(A532-$B$2,'Ref. Coeff. Horiz.'!A:X,23)","v":1},{"$f":"VLOOKUP(A532-$B$2,'Ref. Coeff. Vertical'!A:X,23)","v":1},4936.0404852137499,4756.0404852137499,null,null,null,null,null,null,13.179068286889827,13.2,{"$f":"'Antenna Data'!B530","v":-18.720000000000002},1.2318796824100748,1.8113658478492458,"",1.575586382292411,3.9488443713937764,"",-16.908634152150757,"",-14.771155628606227,"",18.181365847849246,20.318844371393777,-0.53863415215075605,1.5988443713937741]
[52.80000000000048,0.92153384505301439,27.55993516363737,4762.3567962765374,{"$f":"VLOOKUP(A533-$B$2,'Ref. Coeff. Horiz.'!A:X,24)","v":180},{"$f":"VLOOKUP(A533-$B$2,'Ref. Coeff. Vertical'!A:X,24)","v":0},{"$f":"VLOOKUP(A533-$B$2,'Ref. Coeff. Horiz.'!A:X,23)","v":1},{"$f":"VLOOKUP(A533-$B$2,'Ref. Coeff. Vertical'!A:X,23)","v":1},4942.3567962765374,4762.3567962765374,null,null,null,null,null,null,13.131414715801261,13.1,{"$f":"'Antenna Data'!B531","v":-18.61},1.3168114702471925,2.3904720171963025,"",1.5053263937848942,3.552613528842405,"",-16.219527982803697,"",-15.057386471157594,"",18.760472017196303,19.922613528842405,0.15047201719630365,1.312613528842407]
[52.900000000000482,0.92327917430500872,27.596403937353081,4768.6586003746124,{"$f":"VLOOKUP(A534-$B$2,'Ref. Coeff. Horiz.'!A:X,24)","v":180},{"$f":"VLOOKUP(A534-$B$2,'Ref. Coeff. Vertical'!A:X,24)","v":0},{"$f":"VLOOKUP(A534-$B$2,'Ref. Coeff. Horiz.'!A:X,23)","v":1},{"$f":"VLOOKUP(A534-$B$2,'Ref. Coeff. Vertical'!A:X,23)","v":1},4948.6586003746124,4768.6586003746124,null,null,null,null,null,null,13.083887238505149,13.1,{"$f":"'Antenna Data'!B532","v":-18.5},1.3975623768694956,2.907424013826307,"",1.4306709624364593,3.1107952520020139,"",-15.592575986173692,"",-15.389204747997987,"",19.277424013826309,19.480795252002014,0.77742401382630888,0.98079525200201445]
[53.000000000000483,0.92502450355700305,27.632788647636509,4774.9458783115888,{"$f":"VLOOKUP(A535-$B$2,'Ref. Coeff. Horiz.'!A:X,24)","v":180},{"$f":"VLOOKUP(A535-$B$2,'Ref. Coeff. Vertical'!A:X,24)","v":0},{"$f":"VLOOKUP(A535-$B$2,'Ref. Coeff. Horiz.'!A:X,23)","v":1},{"$f":"VLOOKUP(A535-$B$2,'Ref. Coeff. Vertical'!A:X,23)","v":1},4954.9458783115888,4774.9458783115888,null,null,null,null,null,null,13.036485066778113,13,{"$f":"'Antenna Data'!B533","v":-18.400000000000002},1.473916345549668,3.3694567030637939,"",1.3518766978986989,2.6187416447721299,"",-15.030543296936209,"",-15.781258355227873,"",19.739456703063794,18.98874164477213,1.3394567030637923,0.58874164477212787]
[53.100000000000485,0.9267698328089975,27.669089183653512,4781.2186109353261,{"$f":"VLOOKUP(A536-$B$2,'Ref. Coeff. Horiz.'!A:X,24)","v":180},{"$f":"VLOOKUP(A536-$B$2,'Ref. Coeff. Vertical'!A:X,24)","v":0},{"$f":"VLOOKUP(A536-$B$2,'Ref. Coeff. Horiz.'!A:X,23)","v":1},{"$f":"VLOOKUP(A536-$B$2,'Ref. Coeff. Vertical'!A:X,23)","v":1},4961.2186109353261,4781.2186109353261,null,null,null,null,null,null,12.9892074180704,13,{"$f":"'Antenna Data'!B534","v":-18.3},1.545673301108293,3.7823541057553851,"",1.2692100087223546,2.070669763930725,"",-14.517645894244616,"",-16.229330236069277,"",20.152354105755386,18.440669763930725,1.8523541057553849,0.14066976393072395]
[53.200000000000486,0.92851516206099183,27.705305434826357,4787.4767791379945,{"$f":"VLOOKUP(A537-$B$2,'Ref. Coeff. Horiz.'!A:X,24)","v":180},{"$f":"VLOOKUP(A537-$B$2,'Ref. Coeff. Vertical'!A:X,24)","v":0},{"$f":"VLOOKUP(A537-$B$2,'Ref. Coeff. Horiz.'!A:X,23)","v":1},{"$f":"VLOOKUP(A537-$B$2,'Ref. Coeff. Vertical'!A:X,23)","v":1},4967.4767791379945,4787.4767791379945,null,null,null,null,null,null,12.942053515451621,12.9,{"$f":"'Antenna Data'!B535","v":-18.21},1.6126495291532581,4.1507998822746082,"",1.1829461087140789,1.4592991998923024,"",-14.059200117725393,"",-16.750700800107698,"",20.520799882274609,17.829299199892304,2.3107998822746083,-0.38070080010769658]
[53.300000000000487,0.93026049131298616,27.741437290834067,4793.7203638561268,{"$f":"VLOOKUP(A538-$B$2,'Ref. Coeff. Horiz.'!A:X,24)","v":180},{"$f":"VLOOKUP(A538-$B$2,'Ref. Coeff. Vertical'!A:X,24)","v":0},{"$f":"VLOOKUP(A538-$B$2,'Ref. Coeff. Horiz.'!A:X,23)","v":1},{"$f":"VLOOKUP(A538-$B$2,'Ref. Coeff. Vertical'!A:X,23)","v":1},4973.7203638561268,4793.7203638561268,null,null,null,null,null,null,12.895022587557076,12.9,{"$f":"'Antenna Data'!B536","v":-18.12},1.6746779945455383,4.4786262735969533,"",1.093368014249978,0.77532729493514074,"",-13.641373726403048,"",-17.344672705064859,"",20.848626273596956,17.145327294935143,2.7286262735969533,-0.97467270506485804]
[53.400000000000489,0.93200582056498049,27.777484641612737,4799.9493460706808,{"$f":"VLOOKUP(A539-$B$2,'Ref. Coeff. Horiz.'!A:X,24)","v":180},{"$f":"VLOOKUP(A539-$B$2,'Ref. Coeff. Vertical'!A:X,24)","v":0},{"$f":"VLOOKUP(A539-$B$2,'Ref. Coeff. Horiz.'!A:X,23)","v":1},{"$f":"VLOOKUP(A539-$B$2,'Ref. Coeff. Vertical'!A:X,23)","v":1},4979.9493460706808,4799.9493460706808,null,null,null,null,null,null,12.848113868534702,12.8,{"$f":"'Antenna Data'!B537","v":-18.03},1.7316085994404433,4.7689946784225015,"",1.0007655361491585,6.6468186400544648E-3,"",-13.2610053215775,"",-18.023353181359948,"",21.138994678422502,16.376646818640054,3.1089946784225013,-1.6533531813599467]
[53.50000000000049,0.93375114981697482,27.813447377355896,4806.1637068070986,{"$f":"VLOOKUP(A540-$B$2,'Ref. Coeff. Horiz.'!A:X,24)","v":180},{"$f":"VLOOKUP(A540-$B$2,'Ref. Coeff. Vertical'!A:X,24)","v":0},{"$f":"VLOOKUP(A540-$B$2,'Ref. Coeff. Horiz.'!A:X,23)","v":1},{"$f":"VLOOKUP(A540-$B$2,'Ref. Coeff. Vertical'!A:X,23)","v":1},4986.1637068070986,4806.1637068070986,null,null,null,null,null,null,12.80132659799261,12.8,{"$f":"'Antenna Data'!B538","v":-17.950000000000003},1.7833083814565172,5.0245290147615034,"",0.90543426963359408,-0.86286143977735974,"",-12.925470985238499,"",-18.812861439777361,"",21.394529014761503,15.507138560222641,3.4445290147615015,-2.44286143977736]
[53.600000000000492,0.93549647906896927,27.849325388514806,4812.3634271353585,{"$f":"VLOOKUP(A541-$B$2,'Ref. Coeff. Horiz.'!A:X,24)","v":180},{"$f":"VLOOKUP(A541-$B$2,'Ref. Coeff. Vertical'!A:X,24)","v":0},{"$f":"VLOOKUP(A541-$B$2,'Ref. Coeff. Horiz.'!A:X,23)","v":1},{"$f":"VLOOKUP(A541-$B$2,'Ref. Coeff. Vertical'!A:X,23)","v":1},4992.3634271353585,4812.3634271353585,null,null,null,null,null,null,12.754660020947194,12.8,{"$f":"'Antenna Data'!B539","v":-17.87},1.8296616527197456,5.2474157187344339,"",0.80767458581215312,-1.8552716471942898,"",-12.622584281265567,"",-19.72527164719429,"",21.617415718734435,14.514728352805712,3.7474157187344339,-3.3552716471942894]
[53.700000000000493,0.9372418083209636,27.885118565798823,4818.5484881700359,{"$f":"VLOOKUP(A542-$B$2,'Ref. Coeff. Horiz.'!A:X,24)","v":180},{"$f":"VLOOKUP(A542-$B$2,'Ref. Coeff. Vertical'!A:X,24)","v":0},{"$f":"VLOOKUP(A542-$B$2,'Ref. Coeff. Horiz.'!A:X,23)","v":1},{"$f":"VLOOKUP(A542-$B$2,'Ref. Coeff. Vertical'!A:X,23)","v":1},4998.5484881700359,4818.5484881700359,null,null,null,null,null,null,12.708113387771824,12.7,{"$f":"'Antenna Data'!B540","v":-17.8},1.8705700807175647,5.439479672751137,"",0.70779062802801207,-3.0019038445003372,"",-12.360520327248864,"",-20.801903844500337,"",21.809479672751138,13.368096155499664,4.0094796727511373,-4.4319038445003365]
[53.800000000000495,0.93898713757295793,27.920826800175725,4824.7188710703649,{"$f":"VLOOKUP(A543-$B$2,'Ref. Coeff. Horiz.'!A:X,24)","v":180},{"$f":"VLOOKUP(A543-$B$2,'Ref. Coeff. Vertical'!A:X,24)","v":0},{"$f":"VLOOKUP(A543-$B$2,'Ref. Coeff. Horiz.'!A:X,23)","v":1},{"$f":"VLOOKUP(A543-$B$2,'Ref. Coeff. Vertical'!A:X,23)","v":1},5004.7188710703649,4824.7188710703649,null,null,null,null,null,null,12.661685954146094,12.7,{"$f":"'Antenna Data'!B541","v":-17.73},1.905952712074644,5.6022424261531043,"",0.60608931630190666,-4.3492674269445644,"",-12.127757573846896,"",-22.079267426944565,"",21.972242426153105,12.020732573055437,4.2422424261531049,-5.7092674269445638]
[53.900000000000496,0.94073246682495226,27.956449982872034,4830.8745570402871,{"$f":"VLOOKUP(A544-$B$2,'Ref. Coeff. Horiz.'!A:X,24)","v":180},{"$f":"VLOOKUP(A544-$B$2,'Ref. Coeff. Vertical'!A:X,24)","v":0},{"$f":"VLOOKUP(A544-$B$2,'Ref. Coeff. Horiz.'!A:X,23)","v":1},{"$f":"VLOOKUP(A544-$B$2,'Ref. Coeff. Vertical'!A:X,23)","v":1},5010.8745570402871,4830.8745570402871,null,null,null,null,null,null,12.615376981005641,12.6,{"$f":"'Antenna Data'!B542","v":-17.66},1.935745940530647,5.7369671434770968,"",0.50287936298790881,-5.9707237291950062,"",-11.923032856522903,"",-23.630723729195005,"",22.1069671434771,10.399276270804995,4.4469671434770977,-7.2607237291950035]
[54.000000000000497,0.94247779607694659,27.991988005373354,4837.0155273285154,{"$f":"VLOOKUP(A545-$B$2,'Ref. Coeff. Horiz.'!A:X,24)","v":180},{"$f":"VLOOKUP(A545-$B$2,'Ref. Coeff. Vertical'!A:X,24)","v":0},{"$f":"VLOOKUP(A545-$B$2,'Ref. Coeff. Horiz.'!A:X,23)","v":1},{"$f":"VLOOKUP(A545-$B$2,'Ref. Coeff. Vertical'!A:X,23)","v":1},5017.0155273285154,4837.0155273285154,null,null,null,null,null,null,12.569185734492516,12.6,{"$f":"'Antenna Data'!B543","v":-17.59},1.9599034205590842,5.84469341741843,"",0.39847030263346306,-7.9920808069640872,"",-11.74530658258157,"",-25.582080806964086,"",22.214693417418431,8.3779191930359147,4.6246934174184311,-9.2120808069640852]
[54.100000000000499,0.94422312532894104,28.027440759424721,4843.1417632285911,{"$f":"VLOOKUP(A546-$B$2,'Ref. Coeff. Horiz.'!A:X,24)","v":180},{"$f":"VLOOKUP(A546-$B$2,'Ref. Coeff. Vertical'!A:X,24)","v":0},{"$f":"VLOOKUP(A546-$B$2,'Ref. Coeff. Horiz.'!A:X,23)","v":1},{"$f":"VLOOKUP(A546-$B$2,'Ref. Coeff. Vertical'!A:X,23)","v":1},5023.1417632285911,4843.1417632285911,null,null,null,null,null,null,12.523111485906101,12.5,{"$f":"'Antenna Data'!B544","v":-17.53},1.9783959282144004,5.9262641904388857,"",0.29317153890627767,-10.657563865878195,"",-11.603735809561115,"",-28.187563865878197,"",22.296264190438887,5.7124361341218055,4.7662641904388856,-11.817563865878196]
[54.2000000000005,0.94596845458093537,28.062808137030881,4849.2532460789353,{"$f":"VLOOKUP(A547-$B$2,'Ref. Coeff. Horiz.'!A:X,24)","v":180},{"$f":"VLOOKUP(A547-$B$2,'Ref. Coeff. Vertical'!A:X,24)","v":0},{"$f":"VLOOKUP(A547-$B$2,'Ref. Coeff. Horiz.'!A:X,23)","v":1},{"$f":"VLOOKUP(A547-$B$2,'Ref. Coeff. Vertical'!A:X,23)","v":1},5029.2532460789353,4849.2532460789353,null,null,null,null,null,null,12.477153511654567,12.5,{"$f":"'Antenna Data'!B545","v":-17.470000000000002},1.9912111709330336,5.9823464010280674,"",0.18729141131268998,-14.549642755221214,"",-11.487653598971935,"",-32.019642755221213,"",22.352346401028068,1.820357244778787,4.8823464010280659,-15.649642755221212]
[54.300000000000502,0.9477137838329297,28.098090030456671,4855.3499572629125,{"$f":"VLOOKUP(A548-$B$2,'Ref. Coeff. Horiz.'!A:X,24)","v":180},{"$f":"VLOOKUP(A548-$B$2,'Ref. Coeff. Vertical'!A:X,24)","v":0},{"$f":"VLOOKUP(A548-$B$2,'Ref. Coeff. Horiz.'!A:X,23)","v":1},{"$f":"VLOOKUP(A548-$B$2,'Ref. Coeff. Vertical'!A:X,23)","v":1},5035.3499572629125,4855.3499572629125,null,null,null,null,null,null,12.43131109320684,12.4,{"$f":"'Antenna Data'!B546","v":-17.420000000000002},1.9983535481420178,6.0134465188791832,"",8.1136284288878202E-2,-21.815697701868931,"",-11.406553481120818,"",-39.235697701868929,"",22.383446518879182,-5.4456977018689301,4.9634465188791825,-22.865697701868928]
[54.400000000000503,0.94945911308492403,28.133286332227335,4861.4318782088831,{"$f":"VLOOKUP(A549-$B$2,'Ref. Coeff. Horiz.'!A:X,24)","v":180},{"$f":"VLOOKUP(A549-$B$2,'Ref. Coeff. Vertical'!A:X,24)","v":0},{"$f":"VLOOKUP(A549-$B$2,'Ref. Coeff. Horiz.'!A:X,23)","v":1},{"$f":"VLOOKUP(A549-$B$2,'Ref. Coeff. Vertical'!A:X,23)","v":1},5041.4318782088831,4861.4318782088831,null,null,null,null,null,null,12.385583517045136,12.4,{"$f":"'Antenna Data'!B547","v":-17.37},1.9998438646458574,6.0199217995825567,"Max",2.4990338899678454E-2,-32.044557085344323,"",-11.350078200417444,"",-49.414557085344327,"",22.389921799582559,-15.674557085344322,5.0199217995825567,-33.044557085344323]
[54.500000000000504,0.95120444233691837,28.168396935128822,4867.4989903902597,{"$f":"VLOOKUP(A550-$B$2,'Ref. Coeff. Horiz.'!A:X,24)","v":180},{"$f":"VLOOKUP(A550-$B$2,'Ref. Coeff. Vertical'!A:X,24)","v":0},{"$f":"VLOOKUP(A550-$B$2,'Ref. Coeff. Horiz.'!A:X,23)","v":1},{"$f":"VLOOKUP(A550-$B$2,'Ref. Coeff. Vertical'!A:X,23)","v":1},5047.4989903902597,4867.4989903902597,null,null,null,null,null,null,12.339970074617966,12.3,{"$f":"'Antenna Data'!B548","v":-17.32},1.995718998869213,6.0019878349023266,"",0.13078867516902751,-17.668597188205823,"",-11.318012165097674,"Max",-34.988597188205823,"",22.371987834902328,-1.2985971882058216,5.0519878349023273,-18.618597188205822]
[54.600000000000506,0.95294977158891281,28.203421732208152,4873.551275325568,{"$f":"VLOOKUP(A551-$B$2,'Ref. Coeff. Horiz.'!A:X,24)","v":180},{"$f":"VLOOKUP(A551-$B$2,'Ref. Coeff. Vertical'!A:X,24)","v":0},{"$f":"VLOOKUP(A551-$B$2,'Ref. Coeff. Horiz.'!A:X,23)","v":1},{"$f":"VLOOKUP(A551-$B$2,'Ref. Coeff. Vertical'!A:X,23)","v":1},5053.551275325568,4873.551275325568,null,null,null,null,null,null,12.294470062293691,12.3,{"$f":"'Antenna Data'!B549","v":-17.28},1.9860315281288479,5.9597227722476607,"",0.23596349140957976,-12.543103729232524,"",-11.32027722775234,"",-29.823103729232525,"",22.329722772247663,3.8268962707674774,5.0497227722476605,-13.453103729232524]
[54.700000000000507,0.95469510084090714,28.238360616773726,4879.5887145784991,{"$f":"VLOOKUP(A552-$B$2,'Ref. Coeff. Horiz.'!A:X,24)","v":180},{"$f":"VLOOKUP(A552-$B$2,'Ref. Coeff. Vertical'!A:X,24)","v":0},{"$f":"VLOOKUP(A552-$B$2,'Ref. Coeff. Horiz.'!A:X,23)","v":1},{"$f":"VLOOKUP(A552-$B$2,'Ref. Coeff. Vertical'!A:X,23)","v":1},5059.5887145784991,4879.5887145784991,null,null,null,null,null,null,12.249082781314565,12.2,{"$f":"'Antenna Data'!B550","v":-17.23},1.9708493131936162,5.8930684069461741,"",0.3402249030924237,-9.3646780190665861,"",-11.336931593053826,"",-26.594678019066585,"",22.263068406946175,7.0053219809334148,5.0330684069461746,-10.224678019066584]
[54.800000000000509,0.95644043009290147,28.273213482395622,4885.6112897579633,{"$f":"VLOOKUP(A553-$B$2,'Ref. Coeff. Horiz.'!A:X,24)","v":180},{"$f":"VLOOKUP(A553-$B$2,'Ref. Coeff. Vertical'!A:X,24)","v":0},{"$f":"VLOOKUP(A553-$B$2,'Ref. Coeff. Horiz.'!A:X,23)","v":1},{"$f":"VLOOKUP(A553-$B$2,'Ref. Coeff. Vertical'!A:X,23)","v":1},5065.6112897579633,4885.6112897579633,null,null,null,null,null,null,12.203807537751269,12.2,{"$f":"'Antenna Data'!B551","v":-17.190000000000001},1.9502550444659643,5.8018281981353752,"",0.44328913987945684,-7.0662581666232258,"",-11.388171801864626,"",-24.256258166623226,"",22.171828198135376,9.3037418333767761,4.9818281981353749,-7.8862581666232252]
[54.90000000000051,0.9581857593448958,28.307980222905989,4891.6189825181546,{"$f":"VLOOKUP(A554-$B$2,'Ref. Coeff. Horiz.'!A:X,24)","v":180},{"$f":"VLOOKUP(A554-$B$2,'Ref. Coeff. Vertical'!A:X,24)","v":0},{"$f":"VLOOKUP(A554-$B$2,'Ref. Coeff. Horiz.'!A:X,23)","v":1},{"$f":"VLOOKUP(A554-$B$2,'Ref. Coeff. Vertical'!A:X,23)","v":1},5071.6189825181546,4891.6189825181546,null,null,null,null,null,null,12.158643642457953,12.2,{"$f":"'Antenna Data'!B552","v":-17.16},1.9243457521824265,5.6856621105271907,"",0.54487927659020274,-5.2739941863358384,"",-11.47433788947281,"",-22.433994186335838,"",22.055662110527191,11.096005813664163,4.8956621105271907,-6.0639941863358366]
[55.000000000000512,0.95993108859689014,28.342660732399295,4897.611774558598,{"$f":"VLOOKUP(A555-$B$2,'Ref. Coeff. Horiz.'!A:X,24)","v":180},{"$f":"VLOOKUP(A555-$B$2,'Ref. Coeff. Vertical'!A:X,24)","v":0},{"$f":"VLOOKUP(A555-$B$2,'Ref. Coeff. Horiz.'!A:X,23)","v":1},{"$f":"VLOOKUP(A555-$B$2,'Ref. Coeff. Vertical'!A:X,23)","v":1},5077.611774558598,4897.611774558598,null,null,null,null,null,null,12.113590411027751,12.1,{"$f":"'Antenna Data'!B553","v":-17.130000000000003},1.8932322830844932,5.544078027538788,"",0.6447259280397295,-3.8124972804946182,"",-11.585921972461215,"",-20.942497280494621,"",21.914078027538789,12.557502719505383,4.7840780275387864,-4.5724972804946198]
[55.100000000000513,0.96167641784888458,28.377254905232693,4903.5896476242096,{"$f":"VLOOKUP(A556-$B$2,'Ref. Coeff. Horiz.'!A:X,24)","v":180},{"$f":"VLOOKUP(A556-$B$2,'Ref. Coeff. Vertical'!A:X,24)","v":0},{"$f":"VLOOKUP(A556-$B$2,'Ref. Coeff. Horiz.'!A:X,23)","v":1},{"$f":"VLOOKUP(A556-$B$2,'Ref. Coeff. Vertical'!A:X,23)","v":1},5083.5896476242096,4903.5896476242096,null,null,null,null,null,null,12.06864716374878,12.1,{"$f":"'Antenna Data'!B554","v":-17.100000000000001},1.8570387460543929,5.3764193028200804,"",0.74256790642521242,-2.5852764957773222,"",-11.723580697179921,"",-19.685276495777323,"",21.74641930282008,13.784723504222679,4.64641930282008,-3.3152764957773222]
[55.200000000000514,0.96342174710087891,28.411762636026339,4909.5525835053504,{"$f":"VLOOKUP(A557-$B$2,'Ref. Coeff. Horiz.'!A:X,24)","v":180},{"$f":"VLOOKUP(A557-$B$2,'Ref. Coeff. Vertical'!A:X,24)","v":0},{"$f":"VLOOKUP(A557-$B$2,'Ref. Coeff. Horiz.'!A:X,23)","v":1},{"$f":"VLOOKUP(A557-$B$2,'Ref. Coeff. Vertical'!A:X,23)","v":1},5089.5525835053504,4909.5525835053504,null,null,null,null,null,null,12.023813225560625,12,{"$f":"'Antenna Data'!B555","v":-17.07},1.8159019292438536,5.1818478006801367,"",0.83815284010046009,-1.5335355806216624,"",-11.888152199319864,"",-18.603535580621664,"",21.551847800680136,14.836464419378338,4.4818478006801374,-2.2335355806216626]
[55.300000000000516,0.96516707635287324,28.446183819663695,4915.5005640378859,{"$f":"VLOOKUP(A558-$B$2,'Ref. Coeff. Horiz.'!A:X,24)","v":180},{"$f":"VLOOKUP(A558-$B$2,'Ref. Coeff. Vertical'!A:X,24)","v":0},{"$f":"VLOOKUP(A558-$B$2,'Ref. Coeff. Horiz.'!A:X,23)","v":1},{"$f":"VLOOKUP(A558-$B$2,'Ref. Coeff. Vertical'!A:X,23)","v":1},5095.5005640378859,4915.5005640378859,null,null,null,null,null,null,11.979087926011262,12,{"$f":"'Antenna Data'!B556","v":-17.05},1.7699706912471436,4.9593214997217547,"",0.93123775273886256,-0.6187885174186557,"",-12.090678500278246,"",-17.668788517418655,"",21.329321499721758,15.751211482581345,4.279321499721755,-1.2987885174186538]
[55.400000000000517,0.96691240560486758,28.480518351291867,4921.4335711032345,{"$f":"VLOOKUP(A559-$B$2,'Ref. Coeff. Horiz.'!A:X,24)","v":180},{"$f":"VLOOKUP(A559-$B$2,'Ref. Coeff. Vertical'!A:X,24)","v":0},{"$f":"VLOOKUP(A559-$B$2,'Ref. Coeff. Horiz.'!A:X,23)","v":1},{"$f":"VLOOKUP(A559-$B$2,'Ref. Coeff. Vertical'!A:X,23)","v":1},5101.4335711032345,4921.4335711032345,null,null,null,null,null,null,11.934470599214471,11.9,{"$f":"'Antenna Data'!B557","v":-17.03},1.7194053288839308,4.7075653679156151,"",1.0215896020445465,0.18552927873173303,"",-12.322434632084386,"",-16.844470721268269,"",21.077565367915618,16.555529278731733,4.0475653679156149,-0.47447072126826839]
[55.500000000000519,0.96865773485686191,28.51476612632192,4927.3515866284279,{"$f":"VLOOKUP(A560-$B$2,'Ref. Coeff. Horiz.'!A:X,24)","v":180},{"$f":"VLOOKUP(A560-$B$2,'Ref. Coeff. Vertical'!A:X,24)","v":0},{"$f":"VLOOKUP(A560-$B$2,'Ref. Coeff. Horiz.'!A:X,23)","v":1},{"$f":"VLOOKUP(A560-$B$2,'Ref. Coeff. Vertical'!A:X,23)","v":1},5107.3515866284279,4927.3515866284279,null,null,null,null,null,null,11.88996058380768,11.9,{"$f":"'Antenna Data'!B558","v":-17.010000000000002},1.6643769241614641,4.4250337172942524,"",1.1089857773293657,0.89851952772652055,"",-12.58496628270575,"",-16.111480472273481,"",20.795033717294253,17.268519527726522,3.785033717294251,0.25851952772651998]
[55.60000000000052,0.97040306410885635,28.548927040429191,4933.2545925861632,{"$f":"VLOOKUP(A561-$B$2,'Ref. Coeff. Horiz.'!A:X,24)","v":180},{"$f":"VLOOKUP(A561-$B$2,'Ref. Coeff. Vertical'!A:X,24)","v":0},{"$f":"VLOOKUP(A561-$B$2,'Ref. Coeff. Horiz.'!A:X,23)","v":1},{"$f":"VLOOKUP(A561-$B$2,'Ref. Coeff. Vertical'!A:X,23)","v":1},5113.2545925861632,4933.2545925861632,null,null,null,null,null,null,11.845557222910291,11.8,{"$f":"'Antenna Data'!B559","v":-17},1.6050666729815344,4.1098615461146082,"",1.1932145554274729,1.5343708492694528,"",-12.890138453885392,"",-15.465629150730548,"",20.479861546114609,17.904370849269455,3.4798615461146092,0.9043708492694531]
[55.700000000000522,0.97214839336085068,28.583000989553607,4939.1425709948626,{"$f":"VLOOKUP(A562-$B$2,'Ref. Coeff. Horiz.'!A:X,24)","v":180},{"$f":"VLOOKUP(A562-$B$2,'Ref. Coeff. Vertical'!A:X,24)","v":0},{"$f":"VLOOKUP(A562-$B$2,'Ref. Coeff. Horiz.'!A:X,23)","v":1},{"$f":"VLOOKUP(A562-$B$2,'Ref. Coeff. Vertical'!A:X,23)","v":1},5119.1425709948626,4939.1425709948626,null,null,null,null,null,null,11.80125986408242,11.8,{"$f":"'Antenna Data'!B560","v":-16.990000000000002},1.5416651981441332,3.7598013733148719,"",1.2740755145717351,2.1039033887133303,"",-13.23019862668513,"",-14.886096611286671,"",20.129801373314873,18.473903388713332,3.1398013733148709,1.4839033887133297]
[55.800000000000523,0.97389372261284501,28.616987869900019,4945.015503918723,{"$f":"VLOOKUP(A563-$B$2,'Ref. Coeff. Horiz.'!A:X,24)","v":180},{"$f":"VLOOKUP(A563-$B$2,'Ref. Coeff. Vertical'!A:X,24)","v":0},{"$f":"VLOOKUP(A563-$B$2,'Ref. Coeff. Horiz.'!A:X,23)","v":1},{"$f":"VLOOKUP(A563-$B$2,'Ref. Coeff. Vertical'!A:X,23)","v":1},5125.015503918723,4945.015503918723,null,null,null,null,null,null,11.757067859284078,11.8,{"$f":"'Antenna Data'!B561","v":-16.98},1.4743718491784463,3.3721406023432889,"",1.3513799060035345,2.6155491401339597,"",-13.607859397656711,"",-14.364450859866041,"",19.742140602343291,18.985549140133962,2.7621406023432904,2.0055491401339598]
[55.900000000000524,0.97563905186483935,28.650887577938484,4950.8733734677699,{"$f":"VLOOKUP(A564-$B$2,'Ref. Coeff. Horiz.'!A:X,24)","v":180},{"$f":"VLOOKUP(A564-$B$2,'Ref. Coeff. Vertical'!A:X,24)","v":0},{"$f":"VLOOKUP(A564-$B$2,'Ref. Coeff. Horiz.'!A:X,23)","v":1},{"$f":"VLOOKUP(A564-$B$2,'Ref. Coeff. Vertical'!A:X,23)","v":1},5130.8733734677699,4950.8733734677699,null,null,null,null,null,null,11.712980564834815,11.7,{"$f":"'Antenna Data'!B562","v":-16.970000000000002},1.4033939915019857,2.9435922561244503,"",1.424950983232798,3.0759985068533946,"",-14.026407743875552,"",-13.894001493146607,"",19.313592256124451,19.445998506853396,2.3435922561244489,2.4759985068533936]
[56.000000000000526,0.97738438111683368,28.684700010404622,4956.7161617979182,{"$f":"VLOOKUP(A565-$B$2,'Ref. Coeff. Horiz.'!A:X,24)","v":180},{"$f":"VLOOKUP(A565-$B$2,'Ref. Coeff. Vertical'!A:X,24)","v":0},{"$f":"VLOOKUP(A565-$B$2,'Ref. Coeff. Horiz.'!A:X,23)","v":1},{"$f":"VLOOKUP(A565-$B$2,'Ref. Coeff. Vertical'!A:X,23)","v":1},5136.7161617979182,4956.7161617979182,null,null,null,null,null,null,11.668997341373753,11.7,{"$f":"'Antenna Data'!B563","v":-16.970000000000002},1.3289462873714055,2.4701485643834324,"",1.4946242890043475,3.4906407131580752,"",-14.49985143561657,"",-13.479359286841927,"",18.840148564383433,19.860640713158077,1.870148564383431,2.8906407131580742]
[56.100000000000527,0.97912971036882812,28.718425064299893,4962.5438511110215,{"$f":"VLOOKUP(A566-$B$2,'Ref. Coeff. Horiz.'!A:X,24)","v":180},{"$f":"VLOOKUP(A566-$B$2,'Ref. Coeff. Vertical'!A:X,24)","v":0},{"$f":"VLOOKUP(A566-$B$2,'Ref. Coeff. Horiz.'!A:X,23)","v":1},{"$f":"VLOOKUP(A566-$B$2,'Ref. Coeff. Vertical'!A:X,23)","v":1},5142.5438511110215,4962.5438511110215,null,null,null,null,null,null,11.625117553820049,11.6,{"$f":"'Antenna Data'!B564","v":-16.970000000000002},1.2512499710446625,1.9468816087462071,"",1.5602479001622545,3.8638721352835725,"",-15.023118391253796,"",-13.106127864716431,"",18.316881608746208,20.233872135283573,1.3468816087462052,3.2638721352835702]
[56.200000000000529,0.98087503962082245,28.752062636891939,4968.3564236549264,{"$f":"VLOOKUP(A567-$B$2,'Ref. Coeff. Horiz.'!A:X,24)","v":180},{"$f":"VLOOKUP(A567-$B$2,'Ref. Coeff. Vertical'!A:X,24)","v":0},{"$f":"VLOOKUP(A567-$B$2,'Ref. Coeff. Horiz.'!A:X,23)","v":1},{"$f":"VLOOKUP(A567-$B$2,'Ref. Coeff. Vertical'!A:X,23)","v":1},5148.3564236549264,4968.3564236549264,null,null,null,null,null,null,11.58134057133382,11.6,{"$f":"'Antenna Data'!B565","v":-16.98},1.1705321205224877,1.3676667130539399,"",1.6216826307342389,4.1993173032110827,"",-15.612333286946061,"",-12.780682696788919,"",17.73766671305394,20.569317303211083,0.75766671305393984,3.5893173032110823]
[56.30000000000053,0.98262036887281679,28.785612625714876,4974.1538617235301,{"$f":"VLOOKUP(A568-$B$2,'Ref. Coeff. Horiz.'!A:X,24)","v":180},{"$f":"VLOOKUP(A568-$B$2,'Ref. Coeff. Vertical'!A:X,24)","v":0},{"$f":"VLOOKUP(A568-$B$2,'Ref. Coeff. Horiz.'!A:X,23)","v":1},{"$f":"VLOOKUP(A568-$B$2,'Ref. Coeff. Vertical'!A:X,23)","v":1},5154.1538617235301,4974.1538617235301,null,null,null,null,null,null,11.537665767277407,11.5,{"$f":"'Antenna Data'!B566","v":-16.98},1.0870249281796853,0.72479007301834342,"",1.6788021936833248,4.4999905606096426,"",-16.255209926981657,"",-12.480009439390358,"",17.094790073018345,20.869990560609644,0.11479007301834443,3.8899905606096432]
[56.400000000000531,0.98436569812481112,28.819074928569623,4979.9361476568301,{"$f":"VLOOKUP(A569-$B$2,'Ref. Coeff. Horiz.'!A:X,24)","v":180},{"$f":"VLOOKUP(A569-$B$2,'Ref. Coeff. Vertical'!A:X,24)","v":0},{"$f":"VLOOKUP(A569-$B$2,'Ref. Coeff. Horiz.'!A:X,23)","v":1},{"$f":"VLOOKUP(A569-$B$2,'Ref. Coeff. Vertical'!A:X,23)","v":1},5159.9361476568301,4979.9361476568301,null,null,null,null,null,null,11.494092519177096,11.5,{"$f":"'Antenna Data'!B567","v":-17},1.0009649725334979,8.3776035008585308E-3,"",1.731493321893282,4.768416417617301,"",-16.991622396499142,"",-12.231583582382699,"",16.378377603500859,21.1384164176173,-0.62162239649914142,4.1384164176173019]
[56.500000000000533,0.98611102737680545,28.852449443524197,4985.703263840981,{"$f":"VLOOKUP(A570-$B$2,'Ref. Coeff. Horiz.'!A:X,24)","v":180},{"$f":"VLOOKUP(A570-$B$2,'Ref. Coeff. Vertical'!A:X,24)","v":0},{"$f":"VLOOKUP(A570-$B$2,'Ref. Coeff. Horiz.'!A:X,23)","v":1},{"$f":"VLOOKUP(A570-$B$2,'Ref. Coeff. Vertical'!A:X,23)","v":1},5165.703263840981,4985.703263840981,null,null,null,null,null,null,11.450620208685233,11.5,{"$f":"'Antenna Data'!B568","v":-17.010000000000002},0.91259249332684622,-0.79446215812528698,"",1.7796558490684329,5.0067205259396941,"",-17.80446215812529,"",-12.003279474060307,"",15.575537841874715,21.376720525939696,-1.4344621581252888,4.3667205259396944]
[56.600000000000534,0.98785635662879989,28.885736068914046,4991.4551927083467,{"$f":"VLOOKUP(A571-$B$2,'Ref. Coeff. Horiz.'!A:X,24)","v":180},{"$f":"VLOOKUP(A571-$B$2,'Ref. Coeff. Vertical'!A:X,24)","v":0},{"$f":"VLOOKUP(A571-$B$2,'Ref. Coeff. Horiz.'!A:X,23)","v":1},{"$f":"VLOOKUP(A571-$B$2,'Ref. Coeff. Vertical'!A:X,23)","v":1},5171.4551927083467,4991.4551927083467,null,null,null,null,null,null,11.407248221542716,11.4,{"$f":"'Antenna Data'!B569","v":-17.02},0.82215067203054615,-1.7009716775448198,"",1.8232027513361524,5.2166993510506749,"",-18.720971677544821,"",-11.803300648949325,"",14.669028322455182,21.586699351050676,-2.3509716775448197,4.5666993510506764]
[56.700000000000536,0.98960168588079422,28.91893470334233,4997.1919167375545,{"$f":"VLOOKUP(A572-$B$2,'Ref. Coeff. Horiz.'!A:X,24)","v":180},{"$f":"VLOOKUP(A572-$B$2,'Ref. Coeff. Vertical'!A:X,24)","v":0},{"$f":"VLOOKUP(A572-$B$2,'Ref. Coeff. Horiz.'!A:X,23)","v":1},{"$f":"VLOOKUP(A572-$B$2,'Ref. Coeff. Vertical'!A:X,23)","v":1},5177.1919167375545,4997.1919167375545,null,null,null,null,null,null,11.363975947541903,11.4,{"$f":"'Antenna Data'!B570","v":-17.040000000000003},0.72988491978947923,-2.7349121849948195,"",1.8620601504419509,5.3998741191910185,"",-19.774912184994822,"",-11.640125880808984,"",13.635087815005182,21.769874119191019,-3.4049121849948207,4.7298741191910167]
[56.800000000000537,0.99134701513278856,28.952045245680253,5002.9134184535469,{"$f":"VLOOKUP(A573-$B$2,'Ref. Coeff. Horiz.'!A:X,24)","v":180},{"$f":"VLOOKUP(A573-$B$2,'Ref. Coeff. Vertical'!A:X,24)","v":0},{"$f":"VLOOKUP(A573-$B$2,'Ref. Coeff. Horiz.'!A:X,23)","v":1},{"$f":"VLOOKUP(A573-$B$2,'Ref. Coeff. Vertical'!A:X,23)","v":1},5182.9134184535469,5002.9134184535469,null,null,null,null,null,null,11.320802780489888,11.3,{"$f":"'Antenna Data'!B571","v":-17.07},0.63604217475491176,-3.9302817230046165,"",1.8961672795228419,5.5575329614026536,"",-21.000281723004615,"",-11.512467038597347,"",12.439718276995384,21.927532961402655,-4.6302817230046145,4.8575329614026543]
[56.900000000000539,0.99309234438478289,28.985067595067363,5008.6196804276397,{"$f":"VLOOKUP(A574-$B$2,'Ref. Coeff. Horiz.'!A:X,24)","v":180},{"$f":"VLOOKUP(A574-$B$2,'Ref. Coeff. Vertical'!A:X,24)","v":0},{"$f":"VLOOKUP(A574-$B$2,'Ref. Coeff. Horiz.'!A:X,23)","v":1},{"$f":"VLOOKUP(A574-$B$2,'Ref. Coeff. Vertical'!A:X,23)","v":1},5188.6196804276397,5008.6196804276397,null,null,null,null,null,null,11.277728118172172,11.3,{"$f":"'Antenna Data'!B572","v":-17.09},0.54087021065833196,-5.3381387480480651,"",1.9254764125333821,5.6907640559619219,"",-22.428138748048063,"",-11.399235944038079,"",11.031861251951936,22.060764055961922,-6.0581387480480622,4.9707640559619222]
[57.00000000000054,0.99483767363677722,29.018001650911849,5014.3106852775672,{"$f":"VLOOKUP(A575-$B$2,'Ref. Coeff. Horiz.'!A:X,24)","v":180},{"$f":"VLOOKUP(A575-$B$2,'Ref. Coeff. Vertical'!A:X,24)","v":0},{"$f":"VLOOKUP(A575-$B$2,'Ref. Coeff. Horiz.'!A:X,23)","v":1},{"$f":"VLOOKUP(A575-$B$2,'Ref. Coeff. Vertical'!A:X,23)","v":1},5194.3106852775672,5014.3106852775672,null,null,null,null,null,null,11.234751362316704,11.2,{"$f":"'Antenna Data'!B573","v":-17.12},0.4446169583923974,-7.0402795328852683,"",1.9499527584815683,5.8004817966934468,"",-24.160279532885269,"",-11.319518203306554,"",9.3297204671147327,22.170481796693448,-7.7902795328852683,5.0504817966934468]
[57.100000000000541,0.99658300288877166,29.050847312890877,5019.986415667543,{"$f":"VLOOKUP(A576-$B$2,'Ref. Coeff. Horiz.'!A:X,24)","v":180},{"$f":"VLOOKUP(A576-$B$2,'Ref. Coeff. Vertical'!A:X,24)","v":0},{"$f":"VLOOKUP(A576-$B$2,'Ref. Coeff. Horiz.'!A:X,23)","v":1},{"$f":"VLOOKUP(A576-$B$2,'Ref. Coeff. Vertical'!A:X,23)","v":1},5199.986415667543,5019.986415667543,null,null,null,null,null,null,11.191871918558281,11.2,{"$f":"'Antenna Data'!B574","v":-17.150000000000002},0.34752984227107531,-9.1801579350203806,"",1.9695743217078785,5.8874474703428179,"",-26.330157935020381,"",-11.262552529657185,"",7.1898420649796204,22.257447470342818,-9.9601579350203799,5.1074474703428159]
[57.200000000000543,0.99832833214076599,29.083604480950854,5025.6468543083074,{"$f":"VLOOKUP(A577-$B$2,'Ref. Coeff. Horiz.'!A:X,24)","v":180},{"$f":"VLOOKUP(A577-$B$2,'Ref. Coeff. Vertical'!A:X,24)","v":0},{"$f":"VLOOKUP(A577-$B$2,'Ref. Coeff. Horiz.'!A:X,23)","v":1},{"$f":"VLOOKUP(A577-$B$2,'Ref. Coeff. Vertical'!A:X,23)","v":1},5205.6468543083074,5025.6468543083074,null,null,null,null,null,null,11.149089196403366,11.1,{"$f":"'Antenna Data'!B575","v":-17.190000000000001},0.24985513254605549,-12.046234496288177,"",1.9843317295100613,5.9522855363305958,"",-29.236234496288176,"",-11.237714463669406,"",4.3237655037118241,22.322285536330597,-12.866234496288175,5.1322855363305955]
[57.300000000000544,1.0000736613927603,29.116273055307772,5031.2919839571823,{"$f":"VLOOKUP(A578-$B$2,'Ref. Coeff. Horiz.'!A:X,24)","v":180},{"$f":"VLOOKUP(A578-$B$2,'Ref. Coeff. Vertical'!A:X,24)","v":0},{"$f":"VLOOKUP(A578-$B$2,'Ref. Coeff. Horiz.'!A:X,23)","v":1},{"$f":"VLOOKUP(A578-$B$2,'Ref. Coeff. Vertical'!A:X,23)","v":1},5211.2919839571823,5031.2919839571823,null,null,null,null,null,null,11.106402609195197,11.1,{"$f":"'Antenna Data'!B576","v":-17.220000000000002},0.15183731565922082,-16.372429655328929,"",1.9942280284795419,5.9954963177105807,"",-33.592429655328928,"",-11.224503682289422,"Max",-2.4296553289282485E-3,22.36549631771058,-17.222429655328927,5.1454963177105792]
[57.400000000000546,1.0018189906447548,29.148852936447483,5036.9217874181249,{"$f":"VLOOKUP(A579-$B$2,'Ref. Coeff. Horiz.'!A:X,24)","v":180},{"$f":"VLOOKUP(A579-$B$2,'Ref. Coeff. Vertical'!A:X,24)","v":0},{"$f":"VLOOKUP(A579-$B$2,'Ref. Coeff. Horiz.'!A:X,23)","v":1},{"$f":"VLOOKUP(A579-$B$2,'Ref. Coeff. Vertical'!A:X,23)","v":1},5216.9217874181249,5036.9217874181249,null,null,null,null,null,null,11.063811574079306,11.1,{"$f":"'Antenna Data'!B577","v":-17.260000000000002},5.371848361103887E-2,-25.397525105715442,"",1.9992784509713828,6.017465700258021,"",-42.657525105715443,"",-11.24253429974198,"",-9.0275251057154406,22.387465700258023,-26.287525105715442,5.1274657002580213]
[57.500000000000547,1.003564319896749,29.181344025126023,5042.5362475417769,{"$f":"VLOOKUP(A580-$B$2,'Ref. Coeff. Horiz.'!A:X,24)","v":180},{"$f":"VLOOKUP(A580-$B$2,'Ref. Coeff. Vertical'!A:X,24)","v":0},{"$f":"VLOOKUP(A580-$B$2,'Ref. Coeff. Horiz.'!A:X,23)","v":1},{"$f":"VLOOKUP(A580-$B$2,'Ref. Coeff. Vertical'!A:X,23)","v":1},5222.5362475417769,5042.5362475417769,null,null,null,null,null,null,11.021315511969402,11,{"$f":"'Antenna Data'!B578","v":-17.310000000000002},4.4262256274656638E-2,-27.079329032460056,"",1.9995101531798927,6.018472275005271,"Max",-44.389329032460054,"",-11.291527724994731,"",-10.709329032460055,22.38847227500527,-28.019329032460053,5.0784722750052698]
[57.600000000000549,1.0053096491487434,29.213746222369899,5048.1353472255178,{"$f":"VLOOKUP(A581-$B$2,'Ref. Coeff. Horiz.'!A:X,24)","v":180},{"$f":"VLOOKUP(A581-$B$2,'Ref. Coeff. Vertical'!A:X,24)","v":0},{"$f":"VLOOKUP(A581-$B$2,'Ref. Coeff. Horiz.'!A:X,23)","v":1},{"$f":"VLOOKUP(A581-$B$2,'Ref. Coeff. Vertical'!A:X,23)","v":1},5228.1353472255178,5048.1353472255178,null,null,null,null,null,null,10.978913847513528,11,{"$f":"'Antenna Data'!B579","v":-17.350000000000001},0.14186935001069867,-16.962228420521111,"",1.994961926335322,5.9986922326331786,"",-34.312228420521109,"",-11.351307767366823,"",-0.59222842052110991,22.36869223263318,-17.942228420521108,5.0186922326331782]
[{"$f":"A581+0.1","v":57.70000000000055},{"$f":"A582*(PI()/180)","v":1.0070549784007377},{"$f":"(2*$B$1*SIN(B582-$C$2)*COS($C$2))","v":29.2460594294764},{"$f":"(C582/$O$1)*360","v":5053.7190694135215},{"$f":"VLOOKUP(A582-$B$2,'Ref. Coeff. Horiz.'!A:X,24)","v":180},{"$f":"VLOOKUP(A582-$B$2,'Ref. Coeff. Vertical'!A:X,24)","v":0},{"$f":"VLOOKUP(A582-$B$2,'Ref. Coeff. Horiz.'!A:X,23)","v":1},{"$f":"VLOOKUP(A582-$B$2,'Ref. Coeff. Vertical'!A:X,23)","v":1},{"$f":"D582+E582","v":5233.7190694135215},{"$f":"D582+F582","v":5053.7190694135215},null,null,null,null,null,null,{"$f":"(((COS($C$2))/(TAN(B582-$C$2)))-(SIN($C$2)))*$B$1","v":10.936606009060684},{"$f":"ROUND(Q582,1)","v":10.9},{"$f":"'Antenna Data'!B580","v":-17.400000000000002},{"$f":"SQRT((1+(2*G582*COS(I582*PI()/180)))+(G582^2))","v":0.23887134295503629},{"$f":"IF(T582=0,-99,10*LOG(T582^2))","v":-12.436718975953093},{"$f":"IF(AND((U583<U582),(U582>U581)),\"Max\",\"\")","v":""},{"$f":"SQRT((1+(2*H582*COS(J582*PI()/180)))+(H582^2))","v":1.9856838825741756},{"$f":"IF(W582=0,-99,10*LOG(W582^2))","v":5.9582022146968248},{"$f":"IF(AND((X583<X582),(X582>X581)),\"Max\",\"\")","v":""},{"$f":"U582+S582","v":-29.836718975953097},{"$f":"IF(AND((Z583<Z582),(Z582>Z581)),\"Max\",\"\")","v":""},{"$f":"X582+S582","v":-11.441797785303176},{"$f":"IF(AND((AB583<AB582),(AB582>AB581)),\"Max\",\"\")","v":""},{"$f":"U582+$AD$2","v":3.9332810240469076},{"$f":"X582+$AD$2","v":22.328202214696827},{"$f":"Z582+$AD$2","v":-13.466718975953096},{"$f":"AB582+$AD$2","v":4.9282022146968245}]
[57.800000000000551,1.0088003076527321,29.278283548013892,5059.2873970968003,{"$f":"VLOOKUP(A583-$B$2,'Ref. Coeff. Horiz.'!A:X,24)","v":180},{"$f":"VLOOKUP(A583-$B$2,'Ref. Coeff. Vertical'!A:X,24)","v":0},{"$f":"VLOOKUP(A583-$B$2,'Ref. Coeff. Horiz.'!A:X,23)","v":1},{"$f":"VLOOKUP(A583-$B$2,'Ref. Coeff. Vertical'!A:X,23)","v":1},5239.2873970968003,5059.2873970968003,null,null,null,null,null,null,10.894391428627658,10.9,{"$f":"'Antenna Data'!B581","v":-17.46},0.3350414021909166,-9.498030448395177,"",1.9717371170665619,5.8969802382921177,"",-26.958030448395178,"",-11.563019761707883,"",6.871969551604824,22.26698023829212,-10.588030448395177,4.8069802382921178]
[57.900000000000553,1.0105456369047265,29.310418479822122,5064.8403133132624,{"$f":"VLOOKUP(A584-$B$2,'Ref. Coeff. Horiz.'!A:X,24)","v":180},{"$f":"VLOOKUP(A584-$B$2,'Ref. Coeff. Vertical'!A:X,24)","v":0},{"$f":"VLOOKUP(A584-$B$2,'Ref. Coeff. Horiz.'!A:X,23)","v":1},{"$f":"VLOOKUP(A584-$B$2,'Ref. Coeff. Vertical'!A:X,23)","v":1},5244.8403133132624,5064.8403133132624,null,null,null,null,null,null,10.852269541866313,10.9,{"$f":"'Antenna Data'!B582","v":-17.510000000000002},0.43015781440631573,-7.327443662741123,"",1.9531933480086361,5.8149047307542876,"",-24.837443662741123,"",-11.695095269245714,"",9.042556337258878,22.18490473075429,-8.4674436627411218,4.674904730754287]
[58.000000000000554,1.0122909661567208,29.342464127012516,5070.3778011477625,{"$f":"VLOOKUP(A585-$B$2,'Ref. Coeff. Horiz.'!A:X,24)","v":180},{"$f":"VLOOKUP(A585-$B$2,'Ref. Coeff. Vertical'!A:X,24)","v":0},{"$f":"VLOOKUP(A585-$B$2,'Ref. Coeff. Horiz.'!A:X,23)","v":1},{"$f":"VLOOKUP(A585-$B$2,'Ref. Coeff. Vertical'!A:X,23)","v":1},5250.3778011477625,5070.3778011477625,null,null,null,null,null,null,10.810239788031135,10.8,{"$f":"'Antenna Data'!B583","v":-17.57},0.52400445849941302,-5.6133003559951202,"",1.9301345361069406,5.7117516335492695,"",-23.183300355995122,"",-11.858248366450731,"",10.756699644004881,22.081751633549271,-6.8133003559951213,4.5117516335492702]
[58.100000000000556,1.0140362954087152,29.374420391968474,5075.8998437321525,{"$f":"VLOOKUP(A586-$B$2,'Ref. Coeff. Horiz.'!A:X,24)","v":180},{"$f":"VLOOKUP(A586-$B$2,'Ref. Coeff. Vertical'!A:X,24)","v":0},{"$f":"VLOOKUP(A586-$B$2,'Ref. Coeff. Horiz.'!A:X,23)","v":1},{"$f":"VLOOKUP(A586-$B$2,'Ref. Coeff. Vertical'!A:X,23)","v":1},5255.8998437321525,5075.8998437321525,null,null,null,null,null,null,10.76830160994712,10.8,{"$f":"'Antenna Data'!B584","v":-17.64},0.61637125223685296,-4.2031525024484031,"",1.9026524851942777,5.5871894541839904,"",-21.843152502448405,"",-12.05281054581601,"",12.166847497551597,21.95718945418399,-5.4731525024484036,4.3171894541839908]
[58.200000000000557,1.0157816246607094,29.406287177345668,5081.4064242453314,{"$f":"VLOOKUP(A587-$B$2,'Ref. Coeff. Horiz.'!A:X,24)","v":180},{"$f":"VLOOKUP(A587-$B$2,'Ref. Coeff. Vertical'!A:X,24)","v":0},{"$f":"VLOOKUP(A587-$B$2,'Ref. Coeff. Horiz.'!A:X,23)","v":1},{"$f":"VLOOKUP(A587-$B$2,'Ref. Coeff. Vertical'!A:X,23)","v":1},5261.4064242453314,5081.4064242453314,null,null,null,null,null,null,10.726454453978027,10.7,{"$f":"'Antenna Data'!B585","v":-17.700000000000003},0.7070545723919528,-3.0109412976396133,"",1.8708484256239517,5.4407720559146666,"",-20.710941297639614,"",-12.259227944085335,"",13.359058702360388,21.810772055914668,-4.3409412976396133,4.1107720559146657]
[58.300000000000558,1.0175269539127039,29.438064386072352,5086.8975259133022,{"$f":"VLOOKUP(A588-$B$2,'Ref. Coeff. Horiz.'!A:X,24)","v":180},{"$f":"VLOOKUP(A588-$B$2,'Ref. Coeff. Vertical'!A:X,24)","v":0},{"$f":"VLOOKUP(A588-$B$2,'Ref. Coeff. Horiz.'!A:X,23)","v":1},{"$f":"VLOOKUP(A588-$B$2,'Ref. Coeff. Vertical'!A:X,23)","v":1},5266.8975259133022,5086.8975259133022,null,null,null,null,null,null,10.684697769994886,10.7,{"$f":"'Antenna Data'!B586","v":-17.77},0.79585764788559554,-1.9832921192779192,"",1.8348325820907998,5.2719288704961089,"",-19.753292119277919,"",-12.498071129503892,"",14.386707880722081,21.641928870496109,-3.3832921192779182,3.8719288704961095]
[58.40000000000056,1.0192722831646983,29.469751921349626,5092.3731320092156,{"$f":"VLOOKUP(A589-$B$2,'Ref. Coeff. Horiz.'!A:X,24)","v":180},{"$f":"VLOOKUP(A589-$B$2,'Ref. Coeff. Vertical'!A:X,24)","v":0},{"$f":"VLOOKUP(A589-$B$2,'Ref. Coeff. Horiz.'!A:X,23)","v":1},{"$f":"VLOOKUP(A589-$B$2,'Ref. Coeff. Vertical'!A:X,23)","v":1},5272.3731320092156,5092.3731320092156,null,null,null,null,null,null,10.643031011344899,10.6,{"$f":"'Antenna Data'!B587","v":-17.850000000000001},0.88259092554938423,-1.0848108421972928,"",1.7947237275240622,5.079952090640826,"",-18.934810842197294,"",-12.770047909359175,"",15.285189157802709,21.449952090640828,-2.5648108421972928,3.5999520906408264]
[58.500000000000561,1.0210176124166925,29.501349686651768,5097.8332258534247,{"$f":"VLOOKUP(A590-$B$2,'Ref. Coeff. Horiz.'!A:X,24)","v":180},{"$f":"VLOOKUP(A590-$B$2,'Ref. Coeff. Vertical'!A:X,24)","v":0},{"$f":"VLOOKUP(A590-$B$2,'Ref. Coeff. Horiz.'!A:X,23)","v":1},{"$f":"VLOOKUP(A590-$B$2,'Ref. Coeff. Vertical'!A:X,23)","v":1},5277.8332258534247,5097.8332258534247,null,null,null,null,null,null,10.601453634820592,10.6,{"$f":"'Antenna Data'!B588","v":-17.920000000000002},0.96707240822389473,-0.29082014988503452,"",1.7506487246880849,4.8639802348136731,"",-18.210820149885038,"",-13.056019765186328,"",16.079179850114965,21.233980234813675,-1.8408201498850367,3.3139802348136733]
[58.600000000000563,1.022762941668687,29.532857585726507,5103.2777908135404,{"$f":"VLOOKUP(A591-$B$2,'Ref. Coeff. Horiz.'!A:X,24)","v":180},{"$f":"VLOOKUP(A591-$B$2,'Ref. Coeff. Vertical'!A:X,24)","v":0},{"$f":"VLOOKUP(A591-$B$2,'Ref. Coeff. Horiz.'!A:X,23)","v":1},{"$f":"VLOOKUP(A591-$B$2,'Ref. Coeff. Vertical'!A:X,23)","v":1},5283.2777908135404,5103.2777908135404,null,null,null,null,null,null,10.5599651006293,10.6,{"$f":"'Antenna Data'!B589","v":-18},1.0491279649960263,0.41656927010999684,"",1.7027420571135556,4.6229772615795071,"",-17.583430729890004,"",-13.377022738420493,"",16.786569270109997,20.992977261579508,-1.2134307298900033,2.9929772615795081]
[58.700000000000564,1.0245082709206812,29.56427552259531,5108.7068103044694,{"$f":"VLOOKUP(A592-$B$2,'Ref. Coeff. Horiz.'!A:X,24)","v":180},{"$f":"VLOOKUP(A592-$B$2,'Ref. Coeff. Vertical'!A:X,24)","v":0},{"$f":"VLOOKUP(A592-$B$2,'Ref. Coeff. Horiz.'!A:X,23)","v":1},{"$f":"VLOOKUP(A592-$B$2,'Ref. Coeff. Vertical'!A:X,23)","v":1},5288.7068103044694,5108.7068103044694,null,null,null,null,null,null,10.518564872362981,10.5,{"$f":"'Antenna Data'!B590","v":-18.09},1.128591613468235,1.050736374324603,"",1.6511453509637322,4.3557061211364569,"",-17.039263625675396,"",-13.734293878863543,"",17.420736374324605,20.725706121136458,-0.66926362567539499,2.6357061211364581]
[58.800000000000566,1.0262536001726756,29.595603401553706,5114.1202677884803,{"$f":"VLOOKUP(A593-$B$2,'Ref. Coeff. Horiz.'!A:X,24)","v":180},{"$f":"VLOOKUP(A593-$B$2,'Ref. Coeff. Vertical'!A:X,24)","v":0},{"$f":"VLOOKUP(A593-$B$2,'Ref. Coeff. Horiz.'!A:X,23)","v":1},{"$f":"VLOOKUP(A593-$B$2,'Ref. Coeff. Vertical'!A:X,23)","v":1},5294.1202677884803,5114.1202677884803,null,null,null,null,null,null,10.47725241696828,10.5,{"$f":"'Antenna Data'!B591","v":-18.18},1.2053057740396147,1.6219447412415198,"",1.5960068894170762,4.0606952343964924,"",-16.558055258758479,"",-14.119304765603507,"",17.991944741241522,20.430695234396495,-0.18805525875847806,2.2506952343964937]
[58.900000000000567,1.0279989294246701,29.626841127171534,5119.5181467752409,{"$f":"VLOOKUP(A594-$B$2,'Ref. Coeff. Horiz.'!A:X,24)","v":180},{"$f":"VLOOKUP(A594-$B$2,'Ref. Coeff. Vertical'!A:X,24)","v":0},{"$f":"VLOOKUP(A594-$B$2,'Ref. Coeff. Horiz.'!A:X,23)","v":1},{"$f":"VLOOKUP(A594-$B$2,'Ref. Coeff. Vertical'!A:X,23)","v":1},5299.5181467752409,5119.5181467752409,null,null,null,null,null,null,10.436027204716959,10.4,{"$f":"'Antenna Data'!B592","v":-18.27},1.2791214962601636,2.138235950548137,"",1.5374811211215555,3.7361958347302786,"",-16.131764049451863,"",-14.533804165269721,"",18.508235950548137,20.106195834730279,0.23823595054813751,1.8361958347302796]
[59.000000000000568,1.0297442586766643,29.657988604293262,5124.9004308218755,{"$f":"VLOOKUP(A595-$B$2,'Ref. Coeff. Horiz.'!A:X,24)","v":180},{"$f":"VLOOKUP(A595-$B$2,'Ref. Coeff. Vertical'!A:X,24)","v":0},{"$f":"VLOOKUP(A595-$B$2,'Ref. Coeff. Horiz.'!A:X,23)","v":1},{"$f":"VLOOKUP(A595-$B$2,'Ref. Coeff. Vertical'!A:X,23)","v":1},5304.9004308218755,5124.9004308218755,null,null,null,null,null,null,10.394888709176563,10.4,{"$f":"'Antenna Data'!B593","v":-18.36},1.3498986574021299,2.6060233079282891,"",1.4757281642443278,3.380127317202537,"",-15.75397669207171,"",-14.979872682797463,"",18.976023307928291,19.750127317202537,0.61602330792829108,1.3901273172025377]
[59.10000000000057,1.0314895879286587,29.689045738038281,5130.2671035330141,{"$f":"VLOOKUP(A596-$B$2,'Ref. Coeff. Horiz.'!A:X,24)","v":180},{"$f":"VLOOKUP(A596-$B$2,'Ref. Coeff. Vertical'!A:X,24)","v":0},{"$f":"VLOOKUP(A596-$B$2,'Ref. Coeff. Horiz.'!A:X,23)","v":1},{"$f":"VLOOKUP(A596-$B$2,'Ref. Coeff. Vertical'!A:X,23)","v":1},5310.2671035330141,5130.2671035330141,null,null,null,null,null,null,10.353836407181394,10.4,{"$f":"'Antenna Data'!B594","v":-18.46},1.4175061334675756,3.0304989347254812,"",1.4109133076067468,2.9900065942269078,"",-15.42950106527452,"",-15.469993405773092,"",19.400498934725483,19.36000659422691,0.94049893472548085,0.90000659422690887]
[59.200000000000571,1.033234917180653,29.720012433801163,5135.6181485608404,{"$f":"VLOOKUP(A597-$B$2,'Ref. Coeff. Horiz.'!A:X,24)","v":180},{"$f":"VLOOKUP(A597-$B$2,'Ref. Coeff. Vertical'!A:X,24)","v":0},{"$f":"VLOOKUP(A597-$B$2,'Ref. Coeff. Horiz.'!A:X,23)","v":1},{"$f":"VLOOKUP(A597-$B$2,'Ref. Coeff. Vertical'!A:X,23)","v":1},5315.6181485608404,5135.6181485608404,null,null,null,null,null,null,10.312869778803815,10.3,{"$f":"'Antenna Data'!B595","v":-18.560000000000002},1.4818219429259454,3.4159204311588525,"",1.3432065103561532,2.5628557621367816,"",-15.14407956884115,"",-15.997144237863221,"",19.785920431158853,18.932855762136782,1.2259204311588512,0.37285576213677984]
[59.300000000000573,1.0349802464326474,29.750888597251997,5140.9535496051449,{"$f":"VLOOKUP(A598-$B$2,'Ref. Coeff. Horiz.'!A:X,24)","v":180},{"$f":"VLOOKUP(A598-$B$2,'Ref. Coeff. Vertical'!A:X,24)","v":0},{"$f":"VLOOKUP(A598-$B$2,'Ref. Coeff. Horiz.'!A:X,23)","v":1},{"$f":"VLOOKUP(A598-$B$2,'Ref. Coeff. Vertical'!A:X,23)","v":1},5320.9535496051449,5140.9535496051449,null,null,null,null,null,null,10.271988307325763,10.3,{"$f":"'Antenna Data'!B596","v":-18.670000000000002},1.5427333635456899,3.7658174357519831,"",1.2727819015852564,2.0950798240097019,"",-14.904182564248018,"",-16.5749201759903,"",20.135817435751985,18.465079824009702,1.4658174357519833,-0.20492017599029921]
[59.400000000000574,1.0367255756846419,29.78167413433663,5146.2732904133691,{"$f":"VLOOKUP(A599-$B$2,'Ref. Coeff. Horiz.'!A:X,24)","v":180},{"$f":"VLOOKUP(A599-$B$2,'Ref. Coeff. Vertical'!A:X,24)","v":0},{"$f":"VLOOKUP(A599-$B$2,'Ref. Coeff. Horiz.'!A:X,23)","v":1},{"$f":"VLOOKUP(A599-$B$2,'Ref. Coeff. Vertical'!A:X,23)","v":1},5326.2732904133691,5146.2732904133691,null,null,null,null,null,null,10.231191479210615,10.199999999999999,{"$f":"'Antenna Data'!B597","v":-18.78},1.6001370227503411,4.0831434740734309,"",1.1998172812656438,1.5823022579507078,"",-14.69685652592657,"",-17.197697742049293,"",20.453143474073432,17.952302257950709,1.6731434740734308,-0.82769774204929192]
[59.500000000000576,1.0384709049366361,29.812368951276966,5151.5773547806593,{"$f":"VLOOKUP(A600-$B$2,'Ref. Coeff. Horiz.'!A:X,24)","v":180},{"$f":"VLOOKUP(A600-$B$2,'Ref. Coeff. Vertical'!A:X,24)","v":0},{"$f":"VLOOKUP(A600-$B$2,'Ref. Coeff. Horiz.'!A:X,23)","v":1},{"$f":"VLOOKUP(A600-$B$2,'Ref. Coeff. Vertical'!A:X,23)","v":1},5331.5773547806593,5151.5773547806593,null,null,null,null,null,null,10.190478784075301,10.199999999999999,{"$f":"'Antenna Data'!B598","v":-18.89},1.6539389619931684,4.3703895606946448,"",1.1244936238151555,1.0191399442147995,"",-14.519610439305357,"",-17.870860055785201,"",20.740389560694645,17.389139944214801,1.8503895606946443,-1.5008600557851999]
[59.600000000000577,1.0402162341886305,29.842972954571287,5156.8657265499178,{"$f":"VLOOKUP(A601-$B$2,'Ref. Coeff. Horiz.'!A:X,24)","v":180},{"$f":"VLOOKUP(A601-$B$2,'Ref. Coeff. Vertical'!A:X,24)","v":0},{"$f":"VLOOKUP(A601-$B$2,'Ref. Coeff. Horiz.'!A:X,23)","v":1},{"$f":"VLOOKUP(A601-$B$2,'Ref. Coeff. Vertical'!A:X,23)","v":1},5336.8657265499178,5156.8657265499178,null,null,null,null,null,null,10.149849714662666,10.1,{"$f":"'Antenna Data'!B599","v":-19.010000000000002},1.704054675703534,4.6296705055079022,"",1.0469945855700162,0.39888871546519933,"",-14.380329494492099,"",-18.611111284534804,"",20.999670505507904,16.768888715465199,1.9896705055079025,-2.2411112845348029]
[59.700000000000578,1.0419615634406247,29.873486050994476,5162.138389611845,{"$f":"VLOOKUP(A602-$B$2,'Ref. Coeff. Horiz.'!A:X,24)","v":180},{"$f":"VLOOKUP(A602-$B$2,'Ref. Coeff. Vertical'!A:X,24)","v":0},{"$f":"VLOOKUP(A602-$B$2,'Ref. Coeff. Horiz.'!A:X,23)","v":1},{"$f":"VLOOKUP(A602-$B$2,'Ref. Coeff. Vertical'!A:X,23)","v":1},5342.138389611845,5162.138389611845,null,null,null,null,null,null,10.109303766814174,10.1,{"$f":"'Antenna Data'!B600","v":-19.130000000000003},1.750409125413674,4.8627913753619048,"",0.9675060173810387,-0.28692650432564271,"",-14.267208624638098,"",-19.416926504325644,"",21.232791375361906,16.083073495674359,2.1027913753619032,-3.0469265043256435]
[59.80000000000058,1.0437068926926192,29.903908147598358,5167.3953279049965,{"$f":"VLOOKUP(A603-$B$2,'Ref. Coeff. Horiz.'!A:X,24)","v":180},{"$f":"VLOOKUP(A603-$B$2,'Ref. Coeff. Vertical'!A:X,24)","v":0},{"$f":"VLOOKUP(A603-$B$2,'Ref. Coeff. Horiz.'!A:X,23)","v":1},{"$f":"VLOOKUP(A603-$B$2,'Ref. Coeff. Vertical'!A:X,23)","v":1},5347.3953279049965,5167.3953279049965,null,null,null,null,null,null,10.068840439442784,10.1,{"$f":"'Antenna Data'!B601","v":-19.260000000000002},1.7929367297272223,5.0712992835452813,"",0.88621548349995471,-1.0492133293775094,"",-14.18870071645472,"",-20.30921332937751,"",21.441299283545284,15.320786670622491,2.1812992835452807,-3.9392133293775089]
[59.900000000000581,1.0454522219446136,29.934239151711953,5172.6365254158245,{"$f":"VLOOKUP(A604-$B$2,'Ref. Coeff. Horiz.'!A:X,24)","v":180},{"$f":"VLOOKUP(A604-$B$2,'Ref. Coeff. Vertical'!A:X,24)","v":0},{"$f":"VLOOKUP(A604-$B$2,'Ref. Coeff. Horiz.'!A:X,23)","v":1},{"$f":"VLOOKUP(A604-$B$2,'Ref. Coeff. Vertical'!A:X,23)","v":1},5352.6365254158245,5172.6365254158245,null,null,null,null,null,null,10.028459234506197,10,{"$f":"'Antenna Data'!B602","v":-19.39},1.8315813308377682,5.256524162984995,"",0.80331178786729829,-1.9023172022939745,"",-14.133475837015006,"",-21.292317202293976,"",21.626524162984996,14.467682797706026,2.2365241629849955,-4.922317202293975]
[60.000000000000583,1.0471975511966078,29.964478970941752,5177.8619661787343,{"$f":"VLOOKUP(A605-$B$2,'Ref. Coeff. Horiz.'!A:X,24)","v":180},{"$f":"VLOOKUP(A605-$B$2,'Ref. Coeff. Vertical'!A:X,24)","v":0},{"$f":"VLOOKUP(A605-$B$2,'Ref. Coeff. Horiz.'!A:X,23)","v":1},{"$f":"VLOOKUP(A605-$B$2,'Ref. Coeff. Vertical'!A:X,23)","v":1},5357.8619661787343,5177.8619661787343,null,null,null,null,null,null,9.9881596569802937,10,{"$f":"'Antenna Data'!B603","v":-19.53},1.866296138351262,5.4196111488469931,"",0.71898450885618648,-2.8656093353396583,"",-14.110388851153008,"",-22.39560933533966,"",21.789611148846994,13.504390664660342,2.259611148846993,-6.0256093353396594]
[60.100000000000584,1.0489428804486023,29.994627513172034,5183.071634276127,{"$f":"VLOOKUP(A606-$B$2,'Ref. Coeff. Horiz.'!A:X,24)","v":180},{"$f":"VLOOKUP(A606-$B$2,'Ref. Coeff. Vertical'!A:X,24)","v":0},{"$f":"VLOOKUP(A606-$B$2,'Ref. Coeff. Horiz.'!A:X,23)","v":1},{"$f":"VLOOKUP(A606-$B$2,'Ref. Coeff. Vertical'!A:X,23)","v":1},5363.071634276127,5183.071634276127,null,null,null,null,null,null,9.9479412148328201,9.9,{"$f":"'Antenna Data'!B604","v":-19.670000000000002},1.8970436512052702,5.5615464834503054,"",0.63342354346972862,-3.9661159708778149,"",-14.108453516549696,"Max",-23.636115970877817,"",21.931546483450305,12.403884029122185,2.2615464834503047,-7.2661159708778165]
[60.200000000000585,1.0506882097005965,30.024684686565099,5188.2655138384489,{"$f":"VLOOKUP(A607-$B$2,'Ref. Coeff. Horiz.'!A:X,24)","v":180},{"$f":"VLOOKUP(A607-$B$2,'Ref. Coeff. Vertical'!A:X,24)","v":0},{"$f":"VLOOKUP(A607-$B$2,'Ref. Coeff. Horiz.'!A:X,23)","v":1},{"$f":"VLOOKUP(A607-$B$2,'Ref. Coeff. Vertical'!A:X,23)","v":1},5368.2655138384489,5188.2655138384489,null,null,null,null,null,null,9.9078034189974105,9.9,{"$f":"'Antenna Data'!B605","v":-19.810000000000002},1.9237955585157349,5.6831783548045394,"",0.54681866193018736,-5.2431334433498575,"",-14.126821645195463,"",-25.053133443349861,"",22.05317835480454,11.126866556650143,2.2431783548045381,-8.6831334433498597]
[60.300000000000587,1.052433538952591,30.054650399561595,5193.4435890442428,{"$f":"VLOOKUP(A608-$B$2,'Ref. Coeff. Horiz.'!A:X,24)","v":180},{"$f":"VLOOKUP(A608-$B$2,'Ref. Coeff. Vertical'!A:X,24)","v":0},{"$f":"VLOOKUP(A608-$B$2,'Ref. Coeff. Horiz.'!A:X,23)","v":1},{"$f":"VLOOKUP(A608-$B$2,'Ref. Coeff. Vertical'!A:X,23)","v":1},5373.4435890442428,5193.4435890442428,null,null,null,null,null,null,9.8677457833477682,9.9,{"$f":"'Antenna Data'!B606","v":-19.96},1.9465326202140072,5.7852337214251195,"",0.45935907353921657,-6.7569540151162961,"",-14.174766278574882,"",-26.716954015116297,"",22.15523372142512,9.6130459848837049,2.1952337214251187,-10.346954015116296]
[60.400000000000588,1.0541788682045854,30.084524560880755,5198.605844120194,{"$f":"VLOOKUP(A609-$B$2,'Ref. Coeff. Horiz.'!A:X,24)","v":180},{"$f":"VLOOKUP(A609-$B$2,'Ref. Coeff. Vertical'!A:X,24)","v":0},{"$f":"VLOOKUP(A609-$B$2,'Ref. Coeff. Horiz.'!A:X,23)","v":1},{"$f":"VLOOKUP(A609-$B$2,'Ref. Coeff. Vertical'!A:X,23)","v":1},5378.605844120194,5198.605844120194,null,null,null,null,null,null,9.8277678246721738,9.8000000000000007,{"$f":"'Antenna Data'!B607","v":-20.11},1.9652445283664486,5.8683319157359488,"",0.37123300462881437,-8.6070683920064344,"",-14.241668084264051,"",-28.717068392006432,"",22.238331915735948,7.7629316079935666,2.1283319157359504,-12.347068392006431]
[60.50000000000059,1.0559241974565796,30.114307079520703,5203.7522633411772,{"$f":"VLOOKUP(A610-$B$2,'Ref. Coeff. Horiz.'!A:X,24)","v":180},{"$f":"VLOOKUP(A610-$B$2,'Ref. Coeff. Vertical'!A:X,24)","v":0},{"$f":"VLOOKUP(A610-$B$2,'Ref. Coeff. Horiz.'!A:X,23)","v":1},{"$f":"VLOOKUP(A610-$B$2,'Ref. Coeff. Vertical'!A:X,23)","v":1},5383.7522633411772,5203.7522633411772,null,null,null,null,null,null,9.7878690626481895,9.8000000000000007,{"$f":"'Antenna Data'!B608","v":-20.27},1.9799297500941919,5.9329956265671075,"",0.28262728936171883,-10.975718134461289,"",-14.337004373432892,"",-31.245718134461288,"",22.30299562656711,5.3942818655387121,2.032995626567109,-14.875718134461287]
[60.600000000000591,1.0576695267085741,30.143997864758731,5208.8828310303079,{"$f":"VLOOKUP(A611-$B$2,'Ref. Coeff. Horiz.'!A:X,24)","v":180},{"$f":"VLOOKUP(A611-$B$2,'Ref. Coeff. Vertical'!A:X,24)","v":0},{"$f":"VLOOKUP(A611-$B$2,'Ref. Coeff. Horiz.'!A:X,23)","v":1},{"$f":"VLOOKUP(A611-$B$2,'Ref. Coeff. Vertical'!A:X,23)","v":1},5388.8828310303079,5208.8828310303079,null,null,null,null,null,null,9.7480490198176142,9.6999999999999993,{"$f":"'Antenna Data'!B609","v":-20.43},1.9905953530322849,5.9796597178185742,"",0.19372697408019765,-14.256198098928738,"",-14.450340282181426,"",-34.686198098928742,"",22.349659717818575,2.1138019010712625,1.9196597178185755,-18.316198098928741]
[60.700000000000593,1.0594148559605683,30.173596826151549,5213.9975315589872,{"$f":"VLOOKUP(A612-$B$2,'Ref. Coeff. Horiz.'!A:X,24)","v":180},{"$f":"VLOOKUP(A612-$B$2,'Ref. Coeff. Vertical'!A:X,24)","v":0},{"$f":"VLOOKUP(A612-$B$2,'Ref. Coeff. Horiz.'!A:X,23)","v":1},{"$f":"VLOOKUP(A612-$B$2,'Ref. Coeff. Vertical'!A:X,23)","v":1},5393.9975315589872,5213.9975315589872,null,null,null,null,null,null,9.7083072215617268,9.6999999999999993,{"$f":"'Antenna Data'!B610","v":-20.6},1.9972568142859513,6.0086782313780098,"",0.10471493584169853,-19.599827380556711,"",-14.591321768621992,"",-40.199827380556712,"",22.378678231378011,-3.2298273805567099,1.7786782313780094,-23.829827380556711]
[60.800000000000594,1.0611601852125627,30.203103873535593,5219.0963493469499,{"$f":"VLOOKUP(A613-$B$2,'Ref. Coeff. Horiz.'!A:X,24)","v":180},{"$f":"VLOOKUP(A613-$B$2,'Ref. Coeff. Vertical'!A:X,24)","v":0},{"$f":"VLOOKUP(A613-$B$2,'Ref. Coeff. Horiz.'!A:X,23)","v":1},{"$f":"VLOOKUP(A613-$B$2,'Ref. Coeff. Vertical'!A:X,23)","v":1},5399.0963493469499,5219.0963493469499,null,null,null,null,null,null,9.6686431960766832,9.6999999999999993,{"$f":"'Antenna Data'!B611","v":-20.78},1.9999378138561954,6.0203298380898165,"Max",1.5771515719873376E-2,-36.042531336789509,"",-14.759670161910185,"",-56.82253133678951,"",22.390329838089819,-19.672531336789508,1.6103298380898163,-40.452531336789505]
[60.900000000000595,1.0629055144645572,30.232518917027274,5224.1792688623127,{"$f":"VLOOKUP(A614-$B$2,'Ref. Coeff. Horiz.'!A:X,24)","v":180},{"$f":"VLOOKUP(A614-$B$2,'Ref. Coeff. Vertical'!A:X,24)","v":0},{"$f":"VLOOKUP(A614-$B$2,'Ref. Coeff. Horiz.'!A:X,23)","v":1},{"$f":"VLOOKUP(A614-$B$2,'Ref. Coeff. Vertical'!A:X,23)","v":1},5404.1792688623127,5224.1792688623127,null,null,null,null,null,null,9.6290564743492446,9.6,{"$f":"'Antenna Data'!B612","v":-20.950000000000003},1.9986700135185089,6.0148219340088716,"",7.2925832610421931E-2,-22.742372074828033,"",-14.935178065991131,"",-43.692372074828036,"",22.384821934008873,-6.3723720748280321,1.4348219340088697,-27.322372074828035]
[61.000000000000597,1.0646508437165514,30.261841867023271,5229.2462746216206,{"$f":"VLOOKUP(A615-$B$2,'Ref. Coeff. Horiz.'!A:X,24)","v":180},{"$f":"VLOOKUP(A615-$B$2,'Ref. Coeff. Vertical'!A:X,24)","v":0},{"$f":"VLOOKUP(A615-$B$2,'Ref. Coeff. Horiz.'!A:X,23)","v":1},{"$f":"VLOOKUP(A615-$B$2,'Ref. Coeff. Vertical'!A:X,23)","v":1},5409.2462746216206,5229.2462746216206,null,null,null,null,null,null,9.5895465901326684,9.6,{"$f":"'Antenna Data'!B613","v":-21.14},1.9934928221463863,5.9922935252471365,"",0.16120287854387055,-15.852544148316179,"",-15.147706474752864,"",-36.992544148316178,"",22.362293525247139,0.51745585168382213,1.222293525247137,-20.622544148316177]
[61.100000000000598,1.0663961729685458,30.291072634200791,5234.2973511898963,{"$f":"VLOOKUP(A616-$B$2,'Ref. Coeff. Horiz.'!A:X,24)","v":180},{"$f":"VLOOKUP(A616-$B$2,'Ref. Coeff. Vertical'!A:X,24)","v":0},{"$f":"VLOOKUP(A616-$B$2,'Ref. Coeff. Horiz.'!A:X,23)","v":1},{"$f":"VLOOKUP(A616-$B$2,'Ref. Coeff. Vertical'!A:X,23)","v":1},5414.2973511898963,5234.2973511898963,null,null,null,null,null,null,9.5501130799228431,9.6,{"$f":"'Antenna Data'!B614","v":-21.330000000000002},1.9844531484762871,5.9528169996239502,"",0.24888893407009832,-12.07988824533955,"",-15.377183000376052,"",-33.409888245339552,"",22.322816999623953,4.290111754660451,0.99281699962394931,-17.039888245339551]
[61.2000000000006,1.0681415022205401,30.320211129517855,5239.3324831806849,{"$f":"VLOOKUP(A617-$B$2,'Ref. Coeff. Horiz.'!A:X,24)","v":180},{"$f":"VLOOKUP(A617-$B$2,'Ref. Coeff. Vertical'!A:X,24)","v":0},{"$f":"VLOOKUP(A617-$B$2,'Ref. Coeff. Horiz.'!A:X,23)","v":1},{"$f":"VLOOKUP(A617-$B$2,'Ref. Coeff. Vertical'!A:X,23)","v":1},5419.3324831806849,5239.3324831806849,null,null,null,null,null,null,9.510755482934691,9.5,{"$f":"'Antenna Data'!B615","v":-21.520000000000003},1.9716051423124288,5.8963988440968196,"",0.3358171568088576,-9.4779423928412871,"",-15.623601155903184,"",-30.997942392841288,"",22.26639884409682,6.8920576071587139,0.74639884409681656,-14.627942392841288]
[61.300000000000601,1.0698868314725345,30.349257264213549,5244.3516552561014,{"$f":"VLOOKUP(A618-$B$2,'Ref. Coeff. Horiz.'!A:X,24)","v":180},{"$f":"VLOOKUP(A618-$B$2,'Ref. Coeff. Vertical'!A:X,24)","v":0},{"$f":"VLOOKUP(A618-$B$2,'Ref. Coeff. Horiz.'!A:X,23)","v":1},{"$f":"VLOOKUP(A618-$B$2,'Ref. Coeff. Vertical'!A:X,23)","v":1},5424.3516552561014,5244.3516552561014,null,null,null,null,null,null,9.4714733410787293,9.5,{"$f":"'Antenna Data'!B616","v":-21.72},1.9550099251686393,5.822979331159762,"",0.42182483626750666,-7.4973570677302863,"",-15.897020668840238,"",-29.217357067730283,"",22.192979331159762,8.8726429322697147,0.47297933115976321,-12.847357067730282]
[61.400000000000603,1.0716321607245289,30.378210949808306,5249.3548521268749,{"$f":"VLOOKUP(A619-$B$2,'Ref. Coeff. Horiz.'!A:X,24)","v":180},{"$f":"VLOOKUP(A619-$B$2,'Ref. Coeff. Vertical'!A:X,24)","v":0},{"$f":"VLOOKUP(A619-$B$2,'Ref. Coeff. Horiz.'!A:X,23)","v":1},{"$f":"VLOOKUP(A619-$B$2,'Ref. Coeff. Vertical'!A:X,23)","v":1},5429.3548521268749,5249.3548521268749,null,null,null,null,null,null,9.4322661989379259,9.4,{"$f":"'Antenna Data'!B617","v":-21.93},1.9347353113404275,5.7324311629415972,"",0.50675366308737158,-5.9040620662014955,"",-16.197568837058402,"",-27.834062066201497,"",22.102431162941599,10.465937933798505,0.17243116294159933,-11.464062066201496]
[61.500000000000604,1.0733774899765232,30.407072098104177,5254.3420585524018,{"$f":"VLOOKUP(A620-$B$2,'Ref. Coeff. Horiz.'!A:X,24)","v":180},{"$f":"VLOOKUP(A620-$B$2,'Ref. Coeff. Vertical'!A:X,24)","v":0},{"$f":"VLOOKUP(A620-$B$2,'Ref. Coeff. Horiz.'!A:X,23)","v":1},{"$f":"VLOOKUP(A620-$B$2,'Ref. Coeff. Vertical'!A:X,23)","v":1},5434.3420585524018,5254.3420585524018,null,null,null,null,null,null,9.3931336037447224,9.4,{"$f":"'Antenna Data'!B618","v":-22.14},1.9108555203936011,5.6245570266273868,"",0.59044998110024516,-4.5763377392392286,"",-16.515442973372615,"",-26.716337739239229,"",21.994557026627387,11.793662260760772,-0.14544297337261369,-10.346337739239228]
[61.600000000000605,1.0751228192285176,30.435840621185108,5259.3132593407863,{"$f":"VLOOKUP(A621-$B$2,'Ref. Coeff. Horiz.'!A:X,24)","v":180},{"$f":"VLOOKUP(A621-$B$2,'Ref. Coeff. Vertical'!A:X,24)","v":0},{"$f":"VLOOKUP(A621-$B$2,'Ref. Coeff. Horiz.'!A:X,23)","v":1},{"$f":"VLOOKUP(A621-$B$2,'Ref. Coeff. Vertical'!A:X,23)","v":1},5439.3132593407863,5259.3132593407863,null,null,null,null,null,null,9.3540751053582767,9.4,{"$f":"'Antenna Data'!B619","v":-22.36},1.8834508820466096,5.4990859770159561,"",0.67276502206776745,-3.4427319232112947,"",-16.860914022984044,"",-25.802731923211294,"",21.869085977015956,12.927268076788707,-0.49091402298404319,-9.4327319232112927]
[61.700000000000607,1.0768681484805118,30.464516431417177,5264.268439348888,{"$f":"VLOOKUP(A622-$B$2,'Ref. Coeff. Horiz.'!A:X,24)","v":180},{"$f":"VLOOKUP(A622-$B$2,'Ref. Coeff. Vertical'!A:X,24)","v":0},{"$f":"VLOOKUP(A622-$B$2,'Ref. Coeff. Horiz.'!A:X,23)","v":1},{"$f":"VLOOKUP(A622-$B$2,'Ref. Coeff. Vertical'!A:X,23)","v":1},5444.268439348888,5264.268439348888,null,null,null,null,null,null,9.315090256241966,9.3000000000000007,{"$f":"'Antenna Data'!B620","v":-22.580000000000002},1.8526075344115664,5.3556685192204263,"",0.75355512302781935,-2.4576994654956255,"",-17.224331480779576,"",-25.037699465495628,"",21.725668519220427,13.912300534504375,-0.85433148077957455,-8.6676994654956268]
[61.800000000000608,1.0786134777325063,30.493099441448908,5269.2075834823709,{"$f":"VLOOKUP(A623-$B$2,'Ref. Coeff. Horiz.'!A:X,24)","v":180},{"$f":"VLOOKUP(A623-$B$2,'Ref. Coeff. Vertical'!A:X,24)","v":0},{"$f":"VLOOKUP(A623-$B$2,'Ref. Coeff. Horiz.'!A:X,23)","v":1},{"$f":"VLOOKUP(A623-$B$2,'Ref. Coeff. Vertical'!A:X,23)","v":1},5449.2075834823709,5269.2075834823709,null,null,null,null,null,null,9.276178611441031,9.3000000000000007,{"$f":"'Antenna Data'!B621","v":-22.810000000000002},1.8184171165451308,5.1938702139743809,"",0.83268192622135651,-1.5904172363769373,"",-17.616129786025621,"",-24.400417236376938,"",21.563870213974383,14.779582763623063,-1.2461297860256195,-8.0304172363769375]
[61.90000000000061,1.0803588069845007,30.521589564211478,5274.1306766957432,{"$f":"VLOOKUP(A624-$B$2,'Ref. Coeff. Horiz.'!A:X,24)","v":180},{"$f":"VLOOKUP(A624-$B$2,'Ref. Coeff. Vertical'!A:X,24)","v":0},{"$f":"VLOOKUP(A624-$B$2,'Ref. Coeff. Horiz.'!A:X,23)","v":1},{"$f":"VLOOKUP(A624-$B$2,'Ref. Coeff. Vertical'!A:X,23)","v":1},5454.1306766957432,5274.1306766957432,null,null,null,null,null,null,9.237339728560519,9.1999999999999993,{"$f":"'Antenna Data'!B622","v":-23.05},1.780976456243722,5.0131635662326524,"",0.91001256161964494,-0.81905225457939146,"",-18.036836433767348,"",-23.869052254579394,"",21.383163566232653,15.55094774542061,-1.6668364337673474,-7.499052254579393]
[62.000000000000611,1.0821041362364949,30.549986712919043,5279.0377039924106,{"$f":"VLOOKUP(A625-$B$2,'Ref. Coeff. Horiz.'!A:X,24)","v":180},{"$f":"VLOOKUP(A625-$B$2,'Ref. Coeff. Vertical'!A:X,24)","v":0},{"$f":"VLOOKUP(A625-$B$2,'Ref. Coeff. Horiz.'!A:X,23)","v":1},{"$f":"VLOOKUP(A625-$B$2,'Ref. Coeff. Vertical'!A:X,23)","v":1},5459.0377039924106,5279.0377039924106,null,null,null,null,null,null,9.1985731677433495,9.1999999999999993,{"$f":"'Antenna Data'!B623","v":-23.29},1.7403872539992966,4.8129178801630479,"",0.98541981211906915,-0.12757420741886136,"",-18.47708211983695,"",-23.417574207418859,"",21.18291788016305,16.242425792581141,-2.1070821198369494,-7.0475742074188581]
[62.100000000000612,1.0838494654884894,30.578290801068967,5283.9286504247166,{"$f":"VLOOKUP(A626-$B$2,'Ref. Coeff. Horiz.'!A:X,24)","v":180},{"$f":"VLOOKUP(A626-$B$2,'Ref. Coeff. Vertical'!A:X,24)","v":0},{"$f":"VLOOKUP(A626-$B$2,'Ref. Coeff. Horiz.'!A:X,23)","v":1},{"$f":"VLOOKUP(A626-$B$2,'Ref. Coeff. Vertical'!A:X,23)","v":1},5463.9286504247166,5283.9286504247166,null,null,null,null,null,null,9.159878491648616,9.1999999999999993,{"$f":"'Antenna Data'!B624","v":-23.53},1.696755764011322,4.5923866639629862,"",1.0587822615128775,0.4961331332887598,"",-18.937613336037014,"",-23.033866866711243,"",20.962386663962988,16.866133133288759,-2.567613336037013,-6.663866866711242]
[62.200000000000614,1.0855947947404836,30.606501742442077,5288.8035010939902,{"$f":"VLOOKUP(A627-$B$2,'Ref. Coeff. Horiz.'!A:X,24)","v":180},{"$f":"VLOOKUP(A627-$B$2,'Ref. Coeff. Vertical'!A:X,24)","v":0},{"$f":"VLOOKUP(A627-$B$2,'Ref. Coeff. Horiz.'!A:X,23)","v":1},{"$f":"VLOOKUP(A627-$B$2,'Ref. Coeff. Vertical'!A:X,23)","v":1},5468.8035010939902,5288.8035010939902,null,null,null,null,null,null,9.121255265430138,9.1,{"$f":"'Antenna Data'!B625","v":-23.78},1.6501924731287356,4.3506920375229736,"",1.1299844253923419,1.0614491526280854,"",-19.429307962477026,"",-22.718550847371915,"",20.720692037522973,17.431449152628087,-3.0593079624770247,-6.3485508473719143]
[62.300000000000615,1.087340123992478,30.63461945110296,5293.6622411505914,{"$f":"VLOOKUP(A628-$B$2,'Ref. Coeff. Horiz.'!A:X,24)","v":180},{"$f":"VLOOKUP(A628-$B$2,'Ref. Coeff. Vertical'!A:X,24)","v":0},{"$f":"VLOOKUP(A628-$B$2,'Ref. Coeff. Horiz.'!A:X,23)","v":1},{"$f":"VLOOKUP(A628-$B$2,'Ref. Coeff. Vertical'!A:X,23)","v":1},5473.6622411505914,5293.6622411505914,null,null,null,null,null,null,9.082703056715113,9.1,{"$f":"'Antenna Data'!B626","v":-24.04},1.6008117785713201,4.0868054224795145,"",1.1989168651692745,1.5757813892497259,"",-19.953194577520485,"",-22.464218610750272,"",20.456805422479515,17.945781389249728,-3.5831945775204836,-6.0942186107502714]
[62.400000000000617,1.0890854532444725,30.662643841400204,5298.5048557939544,{"$f":"VLOOKUP(A629-$B$2,'Ref. Coeff. Horiz.'!A:X,24)","v":180},{"$f":"VLOOKUP(A629-$B$2,'Ref. Coeff. Vertical'!A:X,24)","v":0},{"$f":"VLOOKUP(A629-$B$2,'Ref. Coeff. Horiz.'!A:X,23)","v":1},{"$f":"VLOOKUP(A629-$B$2,'Ref. Coeff. Vertical'!A:X,23)","v":1},5478.5048557939544,5298.5048557939544,null,null,null,null,null,null,9.0442214355830775,9,{"$f":"'Antenna Data'!B627","v":-24.3},1.5487316652552268,3.799523559910126,"",1.265476285449777,2.045080221101538,"",-20.500476440089876,"",-22.254919778898461,"",20.169523559910125,18.41508022110154,-4.1304764400898755,-5.8849197788984604]
[62.500000000000618,1.0908307824964667,30.690574827966643,5303.3313302726356,{"$f":"VLOOKUP(A630-$B$2,'Ref. Coeff. Horiz.'!A:X,24)","v":180},{"$f":"VLOOKUP(A630-$B$2,'Ref. Coeff. Vertical'!A:X,24)","v":0},{"$f":"VLOOKUP(A630-$B$2,'Ref. Coeff. Horiz.'!A:X,23)","v":1},{"$f":"VLOOKUP(A630-$B$2,'Ref. Coeff. Vertical'!A:X,23)","v":1},5483.3313302726356,5303.3313302726356,null,null,null,null,null,null,9.0058099745449756,9,{"$f":"'Antenna Data'!B628","v":-24.57},1.4940733835200599,3.4874385797768963,"",1.3295656150250401,2.4741954988671462,"",-21.082561420223104,"",-22.095804501132854,"",19.857438579776897,18.844195498867148,-4.7125614202231034,-5.7258045011328527]
[62.60000000000062,1.0925761117484611,30.718412325719662,5308.1416498843573,{"$f":"VLOOKUP(A631-$B$2,'Ref. Coeff. Horiz.'!A:X,24)","v":180},{"$f":"VLOOKUP(A631-$B$2,'Ref. Coeff. Vertical'!A:X,24)","v":0},{"$f":"VLOOKUP(A631-$B$2,'Ref. Coeff. Horiz.'!A:X,23)","v":1},{"$f":"VLOOKUP(A631-$B$2,'Ref. Coeff. Vertical'!A:X,23)","v":1},5488.1416498843573,5308.1416498843573,null,null,null,null,null,null,8.967468248522465,9,{"$f":"'Antenna Data'!B629","v":-24.840000000000003},1.4369611280272183,3.1489003994052096,"",1.3910940717790214,2.8671299970100153,"",-21.691099600594793,"",-21.972870002989989,"",19.518900399405211,19.237129997010015,-5.3210996005947919,-5.6028700029899881]
[62.700000000000621,1.0943214410004554,30.7461562498614,5312.9357999760496,{"$f":"VLOOKUP(A632-$B$2,'Ref. Coeff. Horiz.'!A:X,24)","v":180},{"$f":"VLOOKUP(A632-$B$2,'Ref. Coeff. Vertical'!A:X,24)","v":0},{"$f":"VLOOKUP(A632-$B$2,'Ref. Coeff. Horiz.'!A:X,23)","v":1},{"$f":"VLOOKUP(A632-$B$2,'Ref. Coeff. Vertical'!A:X,23)","v":1},5492.9357999760496,5312.9357999760496,null,null,null,null,null,null,8.9291958348274232,8.9,{"$f":"'Antenna Data'!B630","v":-25.11},1.3775217185703168,2.7819690968414128,"",1.4499772118440599,3.2272235364491939,"",-22.328030903158588,"",-21.882776463550805,"",19.151969096841412,19.597223536449196,-5.958030903158587,-5.5127764635508036]
[62.800000000000622,1.0960667702524498,30.77380651587907,5317.7137659439031,{"$f":"VLOOKUP(A633-$B$2,'Ref. Coeff. Horiz.'!A:X,24)","v":180},{"$f":"VLOOKUP(A633-$B$2,'Ref. Coeff. Vertical'!A:X,24)","v":0},{"$f":"VLOOKUP(A633-$B$2,'Ref. Coeff. Horiz.'!A:X,23)","v":1},{"$f":"VLOOKUP(A633-$B$2,'Ref. Coeff. Vertical'!A:X,23)","v":1},5497.7137659439031,5317.7137659439031,null,null,null,null,null,null,8.8909923131415916,8.9,{"$f":"'Antenna Data'!B631","v":-25.380000000000003},1.3158842835077205,2.3843539976610741,"",1.5061369633660038,3.5572893407388344,"",-22.99564600233893,"",-21.822710659261169,"",18.754353997661074,19.927289340738835,-6.6256460023389288,-5.452710659261168]
[62.900000000000624,1.0978120995044442,30.801363039545151,5322.4755332334016,{"$f":"VLOOKUP(A634-$B$2,'Ref. Coeff. Horiz.'!A:X,24)","v":180},{"$f":"VLOOKUP(A634-$B$2,'Ref. Coeff. Vertical'!A:X,24)","v":0},{"$f":"VLOOKUP(A634-$B$2,'Ref. Coeff. Horiz.'!A:X,23)","v":1},{"$f":"VLOOKUP(A634-$B$2,'Ref. Coeff. Vertical'!A:X,23)","v":1},5502.4755332334016,5322.4755332334016,null,null,null,null,null,null,8.8528572654964766,8.9,{"$f":"'Antenna Data'!B632","v":-25.66},1.2521799464973642,1.9533348866776095,"",1.5595016452667987,3.8597167454402315,"",-23.706665113322391,"",-21.800283254559769,"",18.32333488667761,20.229716745440232,-7.3366651133223897,-5.4302832545597681]
[63.000000000000625,1.0995574287564385,30.8288257369177,5327.2210873393778,{"$f":"VLOOKUP(A635-$B$2,'Ref. Coeff. Horiz.'!A:X,24)","v":180},{"$f":"VLOOKUP(A635-$B$2,'Ref. Coeff. Vertical'!A:X,24)","v":0},{"$f":"VLOOKUP(A635-$B$2,'Ref. Coeff. Horiz.'!A:X,23)","v":1},{"$f":"VLOOKUP(A635-$B$2,'Ref. Coeff. Vertical'!A:X,23)","v":1},5507.2210873393778,5327.2210873393778,null,null,null,null,null,null,8.8147902762533814,8.8000000000000007,{"$f":"'Antenna Data'!B633","v":-25.93},1.1865415171811196,1.4856587763467719,"",1.6100059714192205,4.1365497361600658,"",-24.444341223653229,"",-21.793450263839933,"Max",17.855658776346772,20.506549736160068,-8.0743412236532279,-5.423450263839932]
[63.100000000000627,1.1013027580084329,30.85619452434058,5331.950413806052,{"$f":"VLOOKUP(A636-$B$2,'Ref. Coeff. Horiz.'!A:X,24)","v":180},{"$f":"VLOOKUP(A636-$B$2,'Ref. Coeff. Vertical'!A:X,24)","v":0},{"$f":"VLOOKUP(A636-$B$2,'Ref. Coeff. Horiz.'!A:X,23)","v":1},{"$f":"VLOOKUP(A636-$B$2,'Ref. Coeff. Vertical'!A:X,23)","v":1},5511.950413806052,5331.950413806052,null,null,null,null,null,null,8.7767909320836335,8.8000000000000007,{"$f":"'Antenna Data'!B634","v":-26.21},1.1191031864348848,0.97740264626349094,"",1.6575910406705592,4.3895478139348612,"",-25.232597353736509,"",-21.82045218606514,"",17.347402646263493,20.759547813934862,-8.8625973537365077,-5.4504521860651387]
[63.200000000000628,1.1030480872604271,30.883469318443712,5336.6634982270725,{"$f":"VLOOKUP(A637-$B$2,'Ref. Coeff. Horiz.'!A:X,24)","v":180},{"$f":"VLOOKUP(A637-$B$2,'Ref. Coeff. Vertical'!A:X,24)","v":0},{"$f":"VLOOKUP(A637-$B$2,'Ref. Coeff. Horiz.'!A:X,23)","v":1},{"$f":"VLOOKUP(A637-$B$2,'Ref. Coeff. Vertical'!A:X,23)","v":1},5516.6634982270725,5336.6634982270725,null,null,null,null,null,null,8.7388588219490195,8.6999999999999993,{"$f":"'Antenna Data'!B635","v":-26.47},1.0500002267670148,0.42378785727785762,"",1.7022043131742988,4.6202337325832703,"",-26.04621214272214,"",-21.849766267416729,"",16.793787857277859,20.99023373258327,-9.6762121427221395,-5.4797662674167285]
[63.30000000000063,1.1047934165124216,30.910650036143352,5341.3603262455708,{"$f":"VLOOKUP(A638-$B$2,'Ref. Coeff. Horiz.'!A:X,24)","v":180},{"$f":"VLOOKUP(A638-$B$2,'Ref. Coeff. Vertical'!A:X,24)","v":0},{"$f":"VLOOKUP(A638-$B$2,'Ref. Coeff. Horiz.'!A:X,23)","v":1},{"$f":"VLOOKUP(A638-$B$2,'Ref. Coeff. Vertical'!A:X,23)","v":1},5521.3603262455708,5341.3603262455708,null,null,null,null,null,null,8.7009935370823488,8.6999999999999993,{"$f":"'Antenna Data'!B636","v":-26.740000000000002},0.97936869841474017,-0.18107561148142459,"",1.7437995735076286,4.8299313421861001,"",-26.921075611481427,"",-21.910068657813902,"",16.188924388518576,21.199931342186101,-10.551075611481426,-5.5400686578139009]
[63.400000000000631,1.106538745764416,30.93773659464231,5346.0408835541903,{"$f":"VLOOKUP(A639-$B$2,'Ref. Coeff. Horiz.'!A:X,24)","v":180},{"$f":"VLOOKUP(A639-$B$2,'Ref. Coeff. Vertical'!A:X,24)","v":0},{"$f":"VLOOKUP(A639-$B$2,'Ref. Coeff. Horiz.'!A:X,23)","v":1},{"$f":"VLOOKUP(A639-$B$2,'Ref. Coeff. Vertical'!A:X,23)","v":1},5526.0408835541903,5346.0408835541903,null,null,null,null,null,null,8.6631946709682559,8.6999999999999993,{"$f":"'Antenna Data'!B637","v":-26.990000000000002},0.9073451616552769,-0.8445494454201824,"",1.7823368810695563,5.019795876868077,"",-27.834549445420183,"",-21.970204123131925,"",15.525450554579818,21.389795876868078,-11.464549445420182,-5.600204123131924]
[63.500000000000632,1.1082840750164102,30.964728911430239,5350.7051558951443,{"$f":"VLOOKUP(A640-$B$2,'Ref. Coeff. Horiz.'!A:X,24)","v":180},{"$f":"VLOOKUP(A640-$B$2,'Ref. Coeff. Vertical'!A:X,24)","v":0},{"$f":"VLOOKUP(A640-$B$2,'Ref. Coeff. Horiz.'!A:X,23)","v":1},{"$f":"VLOOKUP(A640-$B$2,'Ref. Coeff. Vertical'!A:X,23)","v":1},5530.7051558951443,5350.7051558951443,null,null,null,null,null,null,8.6254618193241281,8.6,{"$f":"'Antenna Data'!B638","v":-27.23},0.83406639581391728,-1.5759875199105116,"",1.8177825082704413,5.1908384016086888,"",-28.805987519910513,"",-22.03916159839131,"",14.794012480089489,21.560838401608692,-12.435987519910512,-5.6691615983913088]
[63.600000000000634,1.1100294042684047,30.991626904283855,5355.3531290602496,{"$f":"VLOOKUP(A641-$B$2,'Ref. Coeff. Horiz.'!A:X,24)","v":180},{"$f":"VLOOKUP(A641-$B$2,'Ref. Coeff. Vertical'!A:X,24)","v":0},{"$f":"VLOOKUP(A641-$B$2,'Ref. Coeff. Horiz.'!A:X,23)","v":1},{"$f":"VLOOKUP(A641-$B$2,'Ref. Coeff. Vertical'!A:X,23)","v":1},5535.3531290602496,5355.3531290602496,null,null,null,null,null,null,8.5877945800812121,8.6,{"$f":"'Antenna Data'!B639","v":-27.46},0.75966912541908149,-2.3875104779061047,"",1.8501088670359436,5.3439456919724009,"",-29.847510477906106,"",-22.1160543080276,"",13.982489522093896,21.713945691972402,-13.477510477906105,-5.746054308027599]
[63.700000000000635,1.1117747335203989,31.01843049126721,5359.9847888909735,{"$f":"VLOOKUP(A642-$B$2,'Ref. Coeff. Horiz.'!A:X,24)","v":180},{"$f":"VLOOKUP(A642-$B$2,'Ref. Coeff. Vertical'!A:X,24)","v":0},{"$f":"VLOOKUP(A642-$B$2,'Ref. Coeff. Horiz.'!A:X,23)","v":1},{"$f":"VLOOKUP(A642-$B$2,'Ref. Coeff. Vertical'!A:X,23)","v":1},5539.9847888909735,5359.9847888909735,null,null,null,null,null,null,8.55019255336593,8.6,{"$f":"'Antenna Data'!B640","v":-27.67},0.68428975391909574,-3.2951992555965597,"",1.879294424160658,5.4798965043150503,"",-30.965199255596563,"",-22.190103495684951,"",13.074800744403442,21.849896504315051,-14.595199255596562,-5.8201034956849504]
[63.800000000000637,1.1135200627723933,31.045139590731935,5364.6001212784777,{"$f":"VLOOKUP(A643-$B$2,'Ref. Coeff. Horiz.'!A:X,24)","v":180},{"$f":"VLOOKUP(A643-$B$2,'Ref. Coeff. Vertical'!A:X,24)","v":0},{"$f":"VLOOKUP(A643-$B$2,'Ref. Coeff. Horiz.'!A:X,23)","v":1},{"$f":"VLOOKUP(A643-$B$2,'Ref. Coeff. Vertical'!A:X,23)","v":1},5544.6001212784777,5364.6001212784777,null,null,null,null,null,null,8.5126553414813042,8.5,{"$f":"'Antenna Data'!B641","v":-27.86},0.60806410534375488,-4.3210126537081308,"",1.9053236060555423,5.5993749638931822,"",-32.18101265370813,"",-22.260625036106816,"",12.04898734629187,21.969374963893184,-15.811012653708129,-5.8906250361068153]
[63.900000000000638,1.1152653920243878,31.071754121317472,5369.1991121636593,{"$f":"VLOOKUP(A644-$B$2,'Ref. Coeff. Horiz.'!A:X,24)","v":180},{"$f":"VLOOKUP(A644-$B$2,'Ref. Coeff. Vertical'!A:X,24)","v":0},{"$f":"VLOOKUP(A644-$B$2,'Ref. Coeff. Horiz.'!A:X,23)","v":1},{"$f":"VLOOKUP(A644-$B$2,'Ref. Coeff. Vertical'!A:X,23)","v":1},5549.1991121636593,5369.1991121636593,null,null,null,null,null,null,8.475182548888613,8.5,{"$f":"'Antenna Data'!B642","v":-28.03},0.53112717425938216,-5.4960295608099239,"",1.9281866934410863,5.7029816287421573,"",-33.526029560809924,"",-22.327018371257843,"",10.873970439190078,22.072981628742159,-17.156029560809923,-5.9570183712578419]
[64.000000000000639,1.117010721276382,31.098274001951346,5373.7817475371921,{"$f":"VLOOKUP(A645-$B$2,'Ref. Coeff. Horiz.'!A:X,24)","v":180},{"$f":"VLOOKUP(A645-$B$2,'Ref. Coeff. Vertical'!A:X,24)","v":0},{"$f":"VLOOKUP(A645-$B$2,'Ref. Coeff. Horiz.'!A:X,23)","v":1},{"$f":"VLOOKUP(A645-$B$2,'Ref. Coeff. Vertical'!A:X,23)","v":1},5553.7817475371921,5373.7817475371921,null,null,null,null,null,null,8.4377737821891667,8.4,{"$f":"'Antenna Data'!B643","v":-28.17},0.45361288433374358,-6.866292366448544,"",1.9478797065441262,5.7912426607367689,"",-35.036292366448549,"",-22.378757339263231,"",9.503707633551457,22.161242660736768,-18.666292366448548,-6.0087573392632301]
[{"$f":"A645+0.1","v":64.100000000000634},{"$f":"A646*(PI()/180)","v":1.1187560505283762},{"$f":"(2*$B$1*SIN(B646-$C$2)*COS($C$2))","v":31.124699151849406},{"$f":"(C646/$O$1)*360","v":5378.3480134395768},{"$f":"VLOOKUP(A646-$B$2,'Ref. Coeff. Horiz.'!A:X,24)","v":180},{"$f":"VLOOKUP(A646-$B$2,'Ref. Coeff. Vertical'!A:X,24)","v":0},{"$f":"VLOOKUP(A646-$B$2,'Ref. Coeff. Horiz.'!A:X,23)","v":1},{"$f":"VLOOKUP(A646-$B$2,'Ref. Coeff. Vertical'!A:X,23)","v":1},{"$f":"D646+E646","v":5558.3480134395768},{"$f":"D646+F646","v":5378.3480134395768},null,null,null,null,null,null,{"$f":"(((COS($C$2))/(TAN(B646-$C$2)))-(SIN($C$2)))*$B$1","v":8.4004286501062442},{"$f":"ROUND(Q646,1)","v":8.4},{"$f":"'Antenna Data'!B644","v":-28.270000000000003},{"$f":"SQRT((1+(2*G646*COS(I646*PI()/180)))+(G646^2))","v":0.3756538557946606},{"$f":"IF(T646=0,-99,10*LOG(T646^2))","v":-8.5042429821253371},{"$f":"IF(AND((U647<U646),(U646>U645)),\"Max\",\"\")","v":""},{"$f":"SQRT((1+(2*H646*COS(J646*PI()/180)))+(H646^2))","v":1.9644042813602836},{"$f":"IF(W646=0,-99,10*LOG(W646^2))","v":5.8646174398482174},{"$f":"IF(AND((X647<X646),(X646>X645)),\"Max\",\"\")","v":""},{"$f":"U646+S646","v":-36.774242982125344},{"$f":"IF(AND((Z647<Z646),(Z646>Z645)),\"Max\",\"\")","v":""},{"$f":"X646+S646","v":-22.405382560151786},{"$f":"IF(AND((AB647<AB646),(AB646>AB645)),\"Max\",\"\")","v":""},{"$f":"U646+$AD$2","v":7.8657570178746639},{"$f":"X646+$AD$2","v":22.234617439848218},{"$f":"Z646+$AD$2","v":-20.404242982125343},{"$f":"AB646+$AD$2","v":-6.0353825601517848}]
[64.200000000000628,1.1205013797803705,31.151029490516063,5382.8978959611759,{"$f":"VLOOKUP(A647-$B$2,'Ref. Coeff. Horiz.'!A:X,24)","v":180},{"$f":"VLOOKUP(A647-$B$2,'Ref. Coeff. Vertical'!A:X,24)","v":0},{"$f":"VLOOKUP(A647-$B$2,'Ref. Coeff. Horiz.'!A:X,23)","v":1},{"$f":"VLOOKUP(A647-$B$2,'Ref. Coeff. Vertical'!A:X,23)","v":1},5562.8978959611759,5382.8978959611759,null,null,null,null,null,null,8.3631467634672401,8.4,{"$f":"'Antenna Data'!B645","v":-28.35},0.29738118203431224,-10.533730332772764,"",1.9777675375462813,5.9235048848206961,"",-38.883730332772764,"",-22.426495115179307,"",5.8362696672272367,22.293504884820699,-22.513730332772763,-6.0564951151793061]
[64.300000000000622,1.1222467090323647,31.177264937744532,5387.4313812422552,{"$f":"VLOOKUP(A648-$B$2,'Ref. Coeff. Horiz.'!A:X,24)","v":180},{"$f":"VLOOKUP(A648-$B$2,'Ref. Coeff. Vertical'!A:X,24)","v":0},{"$f":"VLOOKUP(A648-$B$2,'Ref. Coeff. Horiz.'!A:X,23)","v":1},{"$f":"VLOOKUP(A648-$B$2,'Ref. Coeff. Vertical'!A:X,23)","v":1},5567.4313812422552,5387.4313812422552,null,null,null,null,null,null,8.3259277351859122,8.3000000000000007,{"$f":"'Antenna Data'!B646","v":-28.39},0.21892421557954264,-13.194123954487377,"",1.9879819385077135,5.9682486873217897,"",-41.584123954487382,"",-22.421751312678211,"",3.1758760455126236,22.338248687321791,-25.214123954487381,-6.0517513126782099]
[64.400000000000617,1.1239920382843589,31.203405413617098,5391.9484554730343,{"$f":"VLOOKUP(A649-$B$2,'Ref. Coeff. Horiz.'!A:X,24)","v":180},{"$f":"VLOOKUP(A649-$B$2,'Ref. Coeff. Vertical'!A:X,24)","v":0},{"$f":"VLOOKUP(A649-$B$2,'Ref. Coeff. Horiz.'!A:X,23)","v":1},{"$f":"VLOOKUP(A649-$B$2,'Ref. Coeff. Vertical'!A:X,23)","v":1},5571.9484554730343,5391.9484554730343,null,null,null,null,null,null,8.2887711802448276,8.3000000000000007,{"$f":"'Antenna Data'!B647","v":-28.39},0.14041036361784473,-17.052016719347169,"",1.9950651442468488,5.9991416227613827,"",-45.442016719347166,"",-22.390858377238619,"",-0.68201671934716757,22.369141622761383,-29.072016719347165,-6.0208583772386177]
[64.500000000000611,1.1257373675363531,31.229450838505336,5396.4491048937216,{"$f":"VLOOKUP(A650-$B$2,'Ref. Coeff. Horiz.'!A:X,24)","v":180},{"$f":"VLOOKUP(A650-$B$2,'Ref. Coeff. Vertical'!A:X,24)","v":0},{"$f":"VLOOKUP(A650-$B$2,'Ref. Coeff. Horiz.'!A:X,23)","v":1},{"$f":"VLOOKUP(A650-$B$2,'Ref. Coeff. Vertical'!A:X,23)","v":1},5576.4491048937216,5396.4491048937216,null,null,null,null,null,null,8.2516767156779469,8.3000000000000007,{"$f":"'Antenna Data'!B648","v":-28.36},6.1964893238758638E-2,-24.157085884531107,"",1.9990398575330879,6.0164290662954638,"",-52.517085884531106,"",-22.343570933704534,"",-7.7870858845311055,22.386429066295463,-36.147085884531108,-5.9735709337045328]
[64.600000000000605,1.1274826967883476,31.255401133070368,5400.9333157945593,{"$f":"VLOOKUP(A651-$B$2,'Ref. Coeff. Horiz.'!A:X,24)","v":180},{"$f":"VLOOKUP(A651-$B$2,'Ref. Coeff. Vertical'!A:X,24)","v":0},{"$f":"VLOOKUP(A651-$B$2,'Ref. Coeff. Horiz.'!A:X,23)","v":1},{"$f":"VLOOKUP(A651-$B$2,'Ref. Coeff. Vertical'!A:X,23)","v":1},5580.9333157945593,5400.9333157945593,null,null,null,null,null,null,8.2146439605533654,8.1999999999999993,{"$f":"'Antenna Data'!B649","v":-28.3},1.6289253479431894E-2,-35.761976370542335,"",1.999933663955153,6.0203118147194843,"Max",-64.06197637054234,"",-22.279688185280516,"",-19.391976370542334,22.390311814719485,-47.691976370542335,-5.9096881852805154]
[64.7000000000006,1.1292280260403418,31.281256218263088,5405.4010745158612,{"$f":"VLOOKUP(A652-$B$2,'Ref. Coeff. Horiz.'!A:X,24)","v":180},{"$f":"VLOOKUP(A652-$B$2,'Ref. Coeff. Vertical'!A:X,24)","v":0},{"$f":"VLOOKUP(A652-$B$2,'Ref. Coeff. Horiz.'!A:X,23)","v":1},{"$f":"VLOOKUP(A652-$B$2,'Ref. Coeff. Vertical'!A:X,23)","v":1},5585.4010745158612,5405.4010745158612,null,null,null,null,null,null,8.1776725359562246,8.1999999999999993,{"$f":"'Antenna Data'!B650","v":-28.200000000000003},9.4231634435673672E-2,-20.516065520682787,"",1.9977788664092886,6.0109482922820199,"",-48.71606552068279,"",-22.189051707717983,"",-4.1460655206827859,22.380948292282021,-32.346065520682785,-5.819051707717982]
[64.800000000000594,1.130973355292336,31.307016015324432,5409.8523674480612,{"$f":"VLOOKUP(A653-$B$2,'Ref. Coeff. Horiz.'!A:X,24)","v":180},{"$f":"VLOOKUP(A653-$B$2,'Ref. Coeff. Vertical'!A:X,24)","v":0},{"$f":"VLOOKUP(A653-$B$2,'Ref. Coeff. Horiz.'!A:X,23)","v":1},{"$f":"VLOOKUP(A653-$B$2,'Ref. Coeff. Vertical'!A:X,23)","v":1},5589.8523674480612,5409.8523674480612,null,null,null,null,null,null,8.1407620649717298,8.1,{"$f":"'Antenna Data'!B651","v":-28.080000000000002},0.17174447245170568,-15.302344633822775,"",1.9926123145715742,5.9884561995959675,"",-43.382344633822775,"",-22.091543800404033,"",1.0676553661772257,22.35845619959597,-27.012344633822774,-5.7215438004040315]
[64.900000000000588,1.1327186845443302,31.332680445785581,5414.2871810317474,{"$f":"VLOOKUP(A654-$B$2,'Ref. Coeff. Horiz.'!A:X,24)","v":180},{"$f":"VLOOKUP(A654-$B$2,'Ref. Coeff. Vertical'!A:X,24)","v":0},{"$f":"VLOOKUP(A654-$B$2,'Ref. Coeff. Horiz.'!A:X,23)","v":1},{"$f":"VLOOKUP(A654-$B$2,'Ref. Coeff. Vertical'!A:X,23)","v":1},5594.2871810317474,5414.2871810317474,null,null,null,null,null,null,8.1039121726683732,8.1,{"$f":"'Antenna Data'!B652","v":-27.92},0.24871281014936319,-12.086036909486261,"",1.9844752298952004,5.9529136487692362,"",-40.006036909486262,"",-21.967086351230765,"",4.2839630905137405,22.322913648769237,-23.636036909486261,-5.5970863512307645]
[65.000000000000583,1.1344640137963244,31.358249431468238,5418.7055017577113,{"$f":"VLOOKUP(A655-$B$2,'Ref. Coeff. Horiz.'!A:X,24)","v":180},{"$f":"VLOOKUP(A655-$B$2,'Ref. Coeff. Vertical'!A:X,24)","v":0},{"$f":"VLOOKUP(A655-$B$2,'Ref. Coeff. Horiz.'!A:X,23)","v":1},{"$f":"VLOOKUP(A655-$B$2,'Ref. Coeff. Vertical'!A:X,23)","v":1},5598.7055017577113,5418.7055017577113,null,null,null,null,null,null,8.06712248608126,8.1,{"$f":"'Antenna Data'!B653","v":-27.75},0.32502465473947173,-9.7616738874262303,"",1.9734130266650947,5.9043598138020545,"",-37.511673887426227,"",-21.845640186197947,"",6.6083261125737707,22.274359813802057,-21.141673887426226,-5.4756401861979462]
[65.100000000000577,1.1362093430483187,31.383722894484837,5423.1073161669792,{"$f":"VLOOKUP(A656-$B$2,'Ref. Coeff. Horiz.'!A:X,24)","v":180},{"$f":"VLOOKUP(A656-$B$2,'Ref. Coeff. Vertical'!A:X,24)","v":0},{"$f":"VLOOKUP(A656-$B$2,'Ref. Coeff. Horiz.'!A:X,23)","v":1},{"$f":"VLOOKUP(A656-$B$2,'Ref. Coeff. Vertical'!A:X,23)","v":1},5603.1073161669792,5423.1073161669792,null,null,null,null,null,null,8.030392634195616,8,{"$f":"'Antenna Data'!B654","v":-27.560000000000002},0.40057111272570367,-7.9464074631143049,"",1.9594751296328494,5.8427951125288011,"",-35.506407463114307,"",-21.717204887471201,"",8.4235925368856961,22.212795112528802,-19.136407463114306,-5.3472048874712002]
[65.200000000000571,1.1379546723003129,31.409100757238789,5427.4926108508625,{"$f":"VLOOKUP(A657-$B$2,'Ref. Coeff. Horiz.'!A:X,24)","v":180},{"$f":"VLOOKUP(A657-$B$2,'Ref. Coeff. Vertical'!A:X,24)","v":0},{"$f":"VLOOKUP(A657-$B$2,'Ref. Coeff. Horiz.'!A:X,23)","v":1},{"$f":"VLOOKUP(A657-$B$2,'Ref. Coeff. Vertical'!A:X,23)","v":1},5607.4926108508625,5427.4926108508625,null,null,null,null,null,null,7.9937222479303998,8,{"$f":"'Antenna Data'!B655","v":-27.340000000000003},0.47524651455218803,-6.4616211911463326,"",1.9427147887443454,5.7681809243326168,"",-33.801621191146339,"",-21.571819075667385,"",9.9083788088536693,22.138180924332616,-17.431621191146338,-5.2018190756673839]
[65.300000000000566,1.1397000015523071,31.434382942424719,5431.8613724509914,{"$f":"VLOOKUP(A658-$B$2,'Ref. Coeff. Horiz.'!A:X,24)","v":180},{"$f":"VLOOKUP(A658-$B$2,'Ref. Coeff. Vertical'!A:X,24)","v":0},{"$f":"VLOOKUP(A658-$B$2,'Ref. Coeff. Horiz.'!A:X,23)","v":1},{"$f":"VLOOKUP(A658-$B$2,'Ref. Coeff. Vertical'!A:X,23)","v":1},5611.8613724509914,5431.8613724509914,null,null,null,null,null,null,7.9571109601221073,8,{"$f":"'Antenna Data'!B656","v":-27.12},0.54894852924507587,-5.2093674830479948,"",1.9231888914611732,5.6804388359969247,"",-32.329367483047996,"",-21.439561164003077,"",11.160632516952006,22.050438835996925,-15.959367483047995,-5.0695611640030762]
[65.40000000000056,1.1414453308043013,31.459569373028714,5436.2135876593611,{"$f":"VLOOKUP(A659-$B$2,'Ref. Coeff. Horiz.'!A:X,24)","v":180},{"$f":"VLOOKUP(A659-$B$2,'Ref. Coeff. Vertical'!A:X,24)","v":0},{"$f":"VLOOKUP(A659-$B$2,'Ref. Coeff. Horiz.'!A:X,23)","v":1},{"$f":"VLOOKUP(A659-$B$2,'Ref. Coeff. Vertical'!A:X,23)","v":1},5616.2135876593611,5436.2135876593611,null,null,null,null,null,null,7.9205584055086682,7.9,{"$f":"'Antenna Data'!B657","v":-26.89},0.62157826912210357,-4.1300835445459469,"",1.9009577731646725,5.5794493958543185,"",-31.020083544545948,"",-21.310550604145682,"",12.239916455454054,21.94944939585432,-14.650083544545947,-4.940550604145681]
[65.500000000000554,1.1431906600562955,31.484659972328537,5440.5492432183701,{"$f":"VLOOKUP(A660-$B$2,'Ref. Coeff. Horiz.'!A:X,24)","v":180},{"$f":"VLOOKUP(A660-$B$2,'Ref. Coeff. Vertical'!A:X,24)","v":0},{"$f":"VLOOKUP(A660-$B$2,'Ref. Coeff. Horiz.'!A:X,23)","v":1},{"$f":"VLOOKUP(A660-$B$2,'Ref. Coeff. Vertical'!A:X,23)","v":1},5620.5492432183701,5440.5492432183701,null,null,null,null,null,null,7.8840642207135136,7.9,{"$f":"'Antenna Data'!B658","v":-26.64},0.69304038466343021,-3.1848291511848714,"",1.8760850261183661,5.4650503433048438,"",-29.824829151184872,"",-21.174949656695155,"",13.18517084881513,21.835050343304843,-13.454829151184871,-4.8049496566951539]
[65.600000000000549,1.1449359893082898,31.509654663893865,5444.8683259208601,{"$f":"VLOOKUP(A661-$B$2,'Ref. Coeff. Horiz.'!A:X,24)","v":180},{"$f":"VLOOKUP(A661-$B$2,'Ref. Coeff. Vertical'!A:X,24)","v":0},{"$f":"VLOOKUP(A661-$B$2,'Ref. Coeff. Horiz.'!A:X,23)","v":1},{"$f":"VLOOKUP(A661-$B$2,'Ref. Coeff. Vertical'!A:X,23)","v":1},5624.8683259208601,5444.8683259208601,null,null,null,null,null,null,7.8476280442297748,7.8,{"$f":"'Antenna Data'!B659","v":-26.4},0.76324314965826867,-2.3467416987639109,"",1.8486373074510127,5.3370342661962216,"",-28.746741698763909,"",-21.062965733803779,"",14.023258301236091,21.707034266196224,-12.376741698763908,-4.6929657338037778]
[65.700000000000543,1.146681318560284,31.534553371586544,5449.1708226101546,{"$f":"VLOOKUP(A662-$B$2,'Ref. Coeff. Horiz.'!A:X,24)","v":180},{"$f":"VLOOKUP(A662-$B$2,'Ref. Coeff. Vertical'!A:X,24)","v":0},{"$f":"VLOOKUP(A662-$B$2,'Ref. Coeff. Horiz.'!A:X,23)","v":1},{"$f":"VLOOKUP(A662-$B$2,'Ref. Coeff. Vertical'!A:X,23)","v":1},5629.1708226101546,5449.1708226101546,null,null,null,null,null,null,7.8112495164046143,7.8,{"$f":"'Antenna Data'!B660","v":-26.15},0.83209853675945233,-1.5965048338736767,"",1.8186841466078723,5.1951456217738192,"",-27.746504833873676,"",-20.95485437822618,"",14.773495166126324,21.565145621773819,-11.376504833873675,-4.5848543782261793]
[65.800000000000537,1.1484266478122782,31.559356019560781,5453.4567201801028,{"$f":"VLOOKUP(A663-$B$2,'Ref. Coeff. Horiz.'!A:X,24)","v":180},{"$f":"VLOOKUP(A663-$B$2,'Ref. Coeff. Vertical'!A:X,24)","v":0},{"$f":"VLOOKUP(A663-$B$2,'Ref. Coeff. Horiz.'!A:X,23)","v":1},{"$f":"VLOOKUP(A663-$B$2,'Ref. Coeff. Vertical'!A:X,23)","v":1},5633.4567201801028,5453.4567201801028,null,null,null,null,null,null,7.7749282794236958,7.8,{"$f":"'Antenna Data'!B661","v":-25.9},0.89952228359720976,-0.91976147075028658,"",1.7862977527030779,5.0390770370524791,"",-26.819761470750286,"",-20.860922962947519,"",15.450238529249715,21.40907703705248,-10.449761470750285,-4.4909229629475185]
[65.900000000000531,1.1501719770642724,31.584062532263413,5457.7260055751176,{"$f":"VLOOKUP(A664-$B$2,'Ref. Coeff. Horiz.'!A:X,24)","v":180},{"$f":"VLOOKUP(A664-$B$2,'Ref. Coeff. Vertical'!A:X,24)","v":0},{"$f":"VLOOKUP(A664-$B$2,'Ref. Coeff. Horiz.'!A:X,23)","v":1},{"$f":"VLOOKUP(A664-$B$2,'Ref. Coeff. Vertical'!A:X,23)","v":1},5637.7260055751176,5457.7260055751176,null,null,null,null,null,null,7.7386639772957846,7.7,{"$f":"'Antenna Data'!B662","v":-25.65},0.96543394961870321,-0.3055486644624934,"",1.7515528221905374,4.868464780433154,"",-25.955548664462491,"",-20.781535219566845,"",16.064451335537509,21.238464780433155,-9.5855486644624897,-4.4115352195668436]
[66.000000000000526,1.1519173063162667,31.60867283443412,5461.9786657902159,{"$f":"VLOOKUP(A665-$B$2,'Ref. Coeff. Horiz.'!A:X,24)","v":180},{"$f":"VLOOKUP(A665-$B$2,'Ref. Coeff. Vertical'!A:X,24)","v":0},{"$f":"VLOOKUP(A665-$B$2,'Ref. Coeff. Horiz.'!A:X,23)","v":1},{"$f":"VLOOKUP(A665-$B$2,'Ref. Coeff. Vertical'!A:X,23)","v":1},5641.9786657902159,5461.9786657902159,null,null,null,null,null,null,7.7024562558374861,7.7,{"$f":"'Antenna Data'!B663","v":-25.4},1.0297569638362833,0.25469475198050318,"",1.7145263472547412,4.6828832667612055,"",-25.145305248019497,"",-20.717116733238793,"",16.624694751980503,21.052883266761206,-8.775305248019496,-4.3471167332387921]
[66.10000000000052,1.1536626355682609,31.633186851105652,5466.2146878710564,{"$f":"VLOOKUP(A666-$B$2,'Ref. Coeff. Horiz.'!A:X,24)","v":180},{"$f":"VLOOKUP(A666-$B$2,'Ref. Coeff. Vertical'!A:X,24)","v":0},{"$f":"VLOOKUP(A666-$B$2,'Ref. Coeff. Horiz.'!A:X,23)","v":1},{"$f":"VLOOKUP(A666-$B$2,'Ref. Coeff. Vertical'!A:X,23)","v":1},5646.2146878710564,5466.2146878710564,null,null,null,null,null,null,7.666304762658112,7.7,{"$f":"'Antenna Data'!B664","v":-25.15},1.0924186636818702,0.76778222673229979,"",1.6752974253067792,4.4818384209219717,"",-24.382217773267698,"",-20.668161579078028,"",17.137782226732302,20.851838420921972,-8.0122177732676967,-4.2981615790780268]
[66.200000000000514,1.1554079648202551,31.657604507604063,5470.434058913982,{"$f":"VLOOKUP(A667-$B$2,'Ref. Coeff. Horiz.'!A:X,24)","v":180},{"$f":"VLOOKUP(A667-$B$2,'Ref. Coeff. Vertical'!A:X,24)","v":0},{"$f":"VLOOKUP(A667-$B$2,'Ref. Coeff. Horiz.'!A:X,23)","v":1},{"$f":"VLOOKUP(A667-$B$2,'Ref. Coeff. Vertical'!A:X,23)","v":1},5650.434058913982,5470.434058913982,null,null,null,null,null,null,7.6302091471446669,7.6,{"$f":"'Antenna Data'!B665","v":-24.91},1.1533503251780384,1.2392248481102572,"",1.6339470699541401,4.2647596779650971,"",-23.670775151889742,"",-20.645240322034901,"",17.609224848110259,20.6347596779651,-7.3007751518897415,-4.2752403220349002]
[66.300000000000509,1.1571532940722493,31.681925729548936,5474.6367660660562,{"$f":"VLOOKUP(A668-$B$2,'Ref. Coeff. Horiz.'!A:X,24)","v":180},{"$f":"VLOOKUP(A668-$B$2,'Ref. Coeff. Vertical'!A:X,24)","v":0},{"$f":"VLOOKUP(A668-$B$2,'Ref. Coeff. Horiz.'!A:X,23)","v":1},{"$f":"VLOOKUP(A668-$B$2,'Ref. Coeff. Vertical'!A:X,23)","v":1},5654.6367660660562,5474.6367660660562,null,null,null,null,null,null,7.594169060446986,7.6,{"$f":"'Antenna Data'!B666","v":-24.67},1.2124871846489482,1.6735431406916625,"",1.5905580237960832,4.0309903372085829,"",-22.996456859308338,"",-20.63900966279142,"Max",18.043543140691664,20.400990337208583,-6.6264568593083375,-4.2690096627914187]
[66.400000000000503,1.1588986233242435,31.706150442853613,5478.8227965251035,{"$f":"VLOOKUP(A669-$B$2,'Ref. Coeff. Horiz.'!A:X,24)","v":180},{"$f":"VLOOKUP(A669-$B$2,'Ref. Coeff. Vertical'!A:X,24)","v":0},{"$f":"VLOOKUP(A669-$B$2,'Ref. Coeff. Horiz.'!A:X,23)","v":1},{"$f":"VLOOKUP(A669-$B$2,'Ref. Coeff. Vertical'!A:X,23)","v":1},5658.8227965251035,5478.8227965251035,null,null,null,null,null,null,7.5581841554629703,7.6,{"$f":"'Antenna Data'!B667","v":-24.43},1.2697684522055988,2.0744906538023171,"",1.5452145733791811,3.7797759090559002,"",-22.355509346197682,"",-20.6502240909441,"",18.444490653802319,20.149775909055901,-5.9855093461976807,-4.2802240909440989]
[66.500000000000497,1.1606439525762378,31.730278573725414,5482.9921375397516,{"$f":"VLOOKUP(A670-$B$2,'Ref. Coeff. Horiz.'!A:X,24)","v":180},{"$f":"VLOOKUP(A670-$B$2,'Ref. Coeff. Vertical'!A:X,24)","v":0},{"$f":"VLOOKUP(A670-$B$2,'Ref. Coeff. Horiz.'!A:X,23)","v":1},{"$f":"VLOOKUP(A670-$B$2,'Ref. Coeff. Vertical'!A:X,23)","v":1},5662.9921375397516,5482.9921375397516,null,null,null,null,null,null,7.5222540868239749,7.5,{"$f":"'Antenna Data'!B668","v":-24.200000000000003},1.325137317250201,2.4452176867249311,"",1.4980023666306228,3.5102499897497048,"",-21.754782313275072,"",-20.689750010250297,"",18.815217686724932,19.880249989749707,-5.3847823132750712,-4.3197500102502957]
[66.600000000000492,1.162389281828232,31.754310048665864,5487.144776409461,{"$f":"VLOOKUP(A671-$B$2,'Ref. Coeff. Horiz.'!A:X,24)","v":180},{"$f":"VLOOKUP(A671-$B$2,'Ref. Coeff. Vertical'!A:X,24)","v":0},{"$f":"VLOOKUP(A671-$B$2,'Ref. Coeff. Horiz.'!A:X,23)","v":1},{"$f":"VLOOKUP(A671-$B$2,'Ref. Coeff. Vertical'!A:X,23)","v":1},5667.144776409461,5487.144776409461,null,null,null,null,null,null,7.4863785108802938,7.5,{"$f":"'Antenna Data'!B669","v":-23.98},1.3785409462534317,2.7883934061926969,"",1.4490082330693292,3.2214170616170157,"",-21.191606593807304,"",-20.758582938382986,"",19.158393406192697,19.591417061617015,-4.8216065938073029,-4.3885829383829851]
[66.700000000000486,1.1641346110802262,31.778244794470933,5491.2807004845763,{"$f":"VLOOKUP(A672-$B$2,'Ref. Coeff. Horiz.'!A:X,24)","v":180},{"$f":"VLOOKUP(A672-$B$2,'Ref. Coeff. Vertical'!A:X,24)","v":0},{"$f":"VLOOKUP(A672-$B$2,'Ref. Coeff. Horiz.'!A:X,23)","v":1},{"$f":"VLOOKUP(A672-$B$2,'Ref. Coeff. Vertical'!A:X,23)","v":1},5671.2807004845763,5491.2807004845763,null,null,null,null,null,null,7.4505570856867962,7.5,{"$f":"'Antenna Data'!B670","v":-23.76},1.4299304730674161,3.1062984290601654,"",1.3983200070774939,2.9121314311139557,"",-20.653701570939837,"",-20.847868568886046,"",19.476298429060165,19.282131431113957,-4.2837015709398365,-4.4778685688860449]
[66.80000000000048,1.1658799403322204,31.802082738231228,5495.3998971663559,{"$f":"VLOOKUP(A673-$B$2,'Ref. Coeff. Horiz.'!A:X,24)","v":180},{"$f":"VLOOKUP(A673-$B$2,'Ref. Coeff. Vertical'!A:X,24)","v":0},{"$f":"VLOOKUP(A673-$B$2,'Ref. Coeff. Horiz.'!A:X,23)","v":1},{"$f":"VLOOKUP(A673-$B$2,'Ref. Coeff. Vertical'!A:X,23)","v":1},5675.3998971663559,5495.3998971663559,null,null,null,null,null,null,7.4147894709886577,7.4,{"$f":"'Antenna Data'!B671","v":-23.55},1.4792609820434097,3.4008960433230371,"",1.3460263544982964,2.5810712646407827,"",-20.149103956676964,"",-20.968928735359217,"",19.770896043323038,18.951071264640785,-3.7791039566769626,-4.5989287353592161]
[66.900000000000475,1.1676252695842146,31.825823807332231,5499.5023539070089,{"$f":"VLOOKUP(A674-$B$2,'Ref. Coeff. Horiz.'!A:X,24)","v":180},{"$f":"VLOOKUP(A674-$B$2,'Ref. Coeff. Vertical'!A:X,24)","v":0},{"$f":"VLOOKUP(A674-$B$2,'Ref. Coeff. Horiz.'!A:X,23)","v":1},{"$f":"VLOOKUP(A674-$B$2,'Ref. Coeff. Vertical'!A:X,23)","v":1},5679.5023539070089,5499.5023539070089,null,null,null,null,null,null,7.3790753282072226,7.4,{"$f":"'Antenna Data'!B672","v":-23.34},1.52649148423073,3.6738877172475721,"",1.2922166028073889,2.2267063338556605,"",-19.66611228275243,"",-21.11329366614434,"",20.043887717247571,18.596706333855661,-3.2961122827524285,-4.7432936661443392]
[67.000000000000469,1.1693705988362091,31.849467929454551,5503.5880582097461,{"$f":"VLOOKUP(A675-$B$2,'Ref. Coeff. Horiz.'!A:X,24)","v":180},{"$f":"VLOOKUP(A675-$B$2,'Ref. Coeff. Vertical'!A:X,24)","v":0},{"$f":"VLOOKUP(A675-$B$2,'Ref. Coeff. Horiz.'!A:X,23)","v":1},{"$f":"VLOOKUP(A675-$B$2,'Ref. Coeff. Vertical'!A:X,23)","v":1},5683.5880582097461,5503.5880582097461,null,null,null,null,null,null,7.3434143204259934,7.3,{"$f":"'Antenna Data'!B673","v":-23.14},1.571584886938179,3.9267568758048847,"",1.2369805750890019,1.847257594879973,"",-19.213243124195117,"",-21.292742405120027,"",20.296756875804885,18.217257594879975,-2.8432431241951157,-4.9227424051200259]
[67.100000000000463,1.1711159280882033,31.873015032574063,5507.6569976287974,{"$f":"VLOOKUP(A676-$B$2,'Ref. Coeff. Horiz.'!A:X,24)","v":180},{"$f":"VLOOKUP(A676-$B$2,'Ref. Coeff. Vertical'!A:X,24)","v":0},{"$f":"VLOOKUP(A676-$B$2,'Ref. Coeff. Horiz.'!A:X,23)","v":1},{"$f":"VLOOKUP(A676-$B$2,'Ref. Coeff. Vertical'!A:X,23)","v":1},5687.6569976287974,5507.6569976287974,null,null,null,null,null,null,7.3078061123767322,7.3,{"$f":"'Antenna Data'!B674","v":-22.94},1.6145079569434533,4.1608037947207057,"",1.1804084280308473,1.4406460334039697,"",-18.779196205279295,"",-21.499353966596033,"",20.530803794720708,17.81064603340397,-2.4091962052792937,-5.1293539665960317]
[67.200000000000458,1.1728612573401975,31.896465044962227,5511.7091597694725,{"$f":"VLOOKUP(A677-$B$2,'Ref. Coeff. Horiz.'!A:X,24)","v":180},{"$f":"VLOOKUP(A677-$B$2,'Ref. Coeff. Vertical'!A:X,24)","v":0},{"$f":"VLOOKUP(A677-$B$2,'Ref. Coeff. Horiz.'!A:X,23)","v":1},{"$f":"VLOOKUP(A677-$B$2,'Ref. Coeff. Vertical'!A:X,23)","v":1},5691.7091597694725,5511.7091597694725,null,null,null,null,null,null,7.2722503704256516,7.3,{"$f":"'Antenna Data'!B675","v":-22.75},1.655231277641015,4.3771736853256087,"",1.1225904941335016,1.0044272076491108,"",-18.372826314674391,"",-21.745572792350888,"",20.74717368532561,17.374427207649113,-2.0028263146743903,-5.3755727923508871]
[67.300000000000452,1.1746065865921917,31.919817895186231,5515.7445322881804,{"$f":"VLOOKUP(A678-$B$2,'Ref. Coeff. Horiz.'!A:X,24)","v":180},{"$f":"VLOOKUP(A678-$B$2,'Ref. Coeff. Vertical'!A:X,24)","v":0},{"$f":"VLOOKUP(A678-$B$2,'Ref. Coeff. Horiz.'!A:X,23)","v":1},{"$f":"VLOOKUP(A678-$B$2,'Ref. Coeff. Vertical'!A:X,23)","v":1},5695.7445322881804,5515.7445322881804,null,null,null,null,null,null,7.2367467625597666,7.2,{"$f":"'Antenna Data'!B676","v":-22.57},1.6937292004197366,4.5768794992962718,"",1.0636171283152251,0.53570645045441323,"",-17.993120500703728,"",-22.034293549545588,"",20.946879499296273,16.905706450454414,-1.6231205007037275,-5.6642935495455866]
[67.400000000000446,1.176351915844186,31.943073512109244,5519.763102892477,{"$f":"VLOOKUP(A679-$B$2,'Ref. Coeff. Horiz.'!A:X,24)","v":180},{"$f":"VLOOKUP(A679-$B$2,'Ref. Coeff. Vertical'!A:X,24)","v":0},{"$f":"VLOOKUP(A679-$B$2,'Ref. Coeff. Horiz.'!A:X,23)","v":1},{"$f":"VLOOKUP(A679-$B$2,'Ref. Coeff. Vertical'!A:X,23)","v":1},5699.763102892477,5519.763102892477,null,null,null,null,null,null,7.2012949583733317,7.2,{"$f":"'Antenna Data'!B677","v":-22.39},1.7299797905654568,4.7608205955566092,"",1.0035785590750255,3.102748539685235E-2,"",-17.629179404443391,"",-22.358972514603149,"",21.13082059555661,16.401027485396853,-1.2591794044433904,-5.9889725146031481]
[67.500000000000441,1.1780972450961802,31.966231824890627,5523.7648593411004,{"$f":"VLOOKUP(A680-$B$2,'Ref. Coeff. Horiz.'!A:X,24)","v":180},{"$f":"VLOOKUP(A680-$B$2,'Ref. Coeff. Vertical'!A:X,24)","v":0},{"$f":"VLOOKUP(A680-$B$2,'Ref. Coeff. Horiz.'!A:X,23)","v":1},{"$f":"VLOOKUP(A680-$B$2,'Ref. Coeff. Vertical'!A:X,23)","v":1},5703.7648593411004,5523.7648593411004,null,null,null,null,null,null,7.1658946290543879,7.2,{"$f":"'Antenna Data'!B678","v":-22.22},1.7639647679835062,4.9297981326603022,"",0.94256474436129711,-0.51377617197945602,"",-17.290201867339697,"",-22.733776171979454,"",21.299798132660303,15.856223828020545,-0.92020186733969567,-6.3637761719794526]
[67.600000000000435,1.1798425743481744,31.989292762986135,5527.7497894440039,{"$f":"VLOOKUP(A681-$B$2,'Ref. Coeff. Horiz.'!A:X,24)","v":180},{"$f":"VLOOKUP(A681-$B$2,'Ref. Coeff. Vertical'!A:X,24)","v":0},{"$f":"VLOOKUP(A681-$B$2,'Ref. Coeff. Horiz.'!A:X,23)","v":1},{"$f":"VLOOKUP(A681-$B$2,'Ref. Coeff. Vertical'!A:X,23)","v":1},5707.7497894440039,5527.7497894440039,null,null,null,null,null,null,7.1305454473714374,7.1,{"$f":"'Antenna Data'!B679","v":-22.05},1.795669443037244,5.0845278462064432,"",0.88066523227746396,-1.1037829760105817,"",-16.965472153793556,"",-23.153782976010582,"",21.454527846206446,15.266217023989419,-0.59547215379355478,-6.7837829760105812]
[67.700000000000429,1.1815879036001686,32.012256256148163,5531.7178810624018,{"$f":"VLOOKUP(A682-$B$2,'Ref. Coeff. Horiz.'!A:X,24)","v":180},{"$f":"VLOOKUP(A682-$B$2,'Ref. Coeff. Vertical'!A:X,24)","v":0},{"$f":"VLOOKUP(A682-$B$2,'Ref. Coeff. Horiz.'!A:X,23)","v":1},{"$f":"VLOOKUP(A682-$B$2,'Ref. Coeff. Vertical'!A:X,23)","v":1},5711.7178810624018,5531.7178810624018,null,null,null,null,null,null,7.0952470876602147,7.1,{"$f":"'Antenna Data'!B680","v":-21.89},1.8250826477982423,5.2256507201786162,"",0.81796902673985183,-1.7452628207213055,"",-16.664349279821383,"",-23.635262820721305,"",21.595650720178618,14.624737179278696,-0.29434927982138248,-7.2652628207213041]
[67.800000000000423,1.1833332328521629,32.035122234425913,5535.6691221087967,{"$f":"VLOOKUP(A683-$B$2,'Ref. Coeff. Horiz.'!A:X,24)","v":180},{"$f":"VLOOKUP(A683-$B$2,'Ref. Coeff. Vertical'!A:X,24)","v":0},{"$f":"VLOOKUP(A683-$B$2,'Ref. Coeff. Horiz.'!A:X,23)","v":1},{"$f":"VLOOKUP(A683-$B$2,'Ref. Coeff. Vertical'!A:X,23)","v":1},5715.6691221087967,5535.6691221087967,null,null,null,null,null,null,7.0599992258105706,7.1,{"$f":"'Antenna Data'!B681","v":-21.740000000000002},1.8521966630026365,5.3537419484556228,"",0.75456445818889573,-2.4460730994765343,"",-16.386258051544381,"",-24.186073099476538,"",21.723741948455626,13.923926900523467,-1.6258051544379981E-2,-7.8160730994765366]
[67.900000000000418,1.1850785621041571,32.057890628165673,5539.6035005470276,{"$f":"VLOOKUP(A684-$B$2,'Ref. Coeff. Horiz.'!A:X,24)","v":180},{"$f":"VLOOKUP(A684-$B$2,'Ref. Coeff. Vertical'!A:X,24)","v":0},{"$f":"VLOOKUP(A684-$B$2,'Ref. Coeff. Horiz.'!A:X,23)","v":1},{"$f":"VLOOKUP(A684-$B$2,'Ref. Coeff. Vertical'!A:X,23)","v":1},5719.6035005470276,5539.6035005470276,null,null,null,null,null,null,7.024801539253466,7,{"$f":"'Antenna Data'!B682","v":-21.59},1.8770071410066931,5.4693184976469862,"",0.69053905943826566,-3.2162350218303128,"",-16.120681502353015,"",-24.806235021830311,"",21.839318497646985,13.153764978169688,0.24931849764698555,-8.4362350218303099]
[68.000000000000412,1.1868238913561513,32.08056136801094,5543.5210043922898,{"$f":"VLOOKUP(A685-$B$2,'Ref. Coeff. Horiz.'!A:X,24)","v":180},{"$f":"VLOOKUP(A685-$B$2,'Ref. Coeff. Vertical'!A:X,24)","v":0},{"$f":"VLOOKUP(A685-$B$2,'Ref. Coeff. Horiz.'!A:X,23)","v":1},{"$f":"VLOOKUP(A685-$B$2,'Ref. Coeff. Vertical'!A:X,23)","v":1},5723.5210043922898,5543.5210043922898,null,null,null,null,null,null,6.9896537069480686,7,{"$f":"'Antenna Data'!B683","v":-21.44},1.8995130250320624,5.5728455174900358,"",0.62597944673411376,-4.0687985216220062,"",-15.867154482509966,"",-25.508798521622008,"",21.942845517490035,12.301201478377994,0.50284551749003548,-9.1387985216220073]
[68.100000000000406,1.1885692206081455,32.103134384902724,5547.4216217111898,{"$f":"VLOOKUP(A686-$B$2,'Ref. Coeff. Horiz.'!A:X,24)","v":180},{"$f":"VLOOKUP(A686-$B$2,'Ref. Coeff. Vertical'!A:X,24)","v":0},{"$f":"VLOOKUP(A686-$B$2,'Ref. Coeff. Horiz.'!A:X,23)","v":1},{"$f":"VLOOKUP(A686-$B$2,'Ref. Coeff. Vertical'!A:X,23)","v":1},5727.4216217111898,5547.4216217111898,null,null,null,null,null,null,6.9545554093689566,7,{"$f":"'Antenna Data'!B684","v":-21.3},1.9197164649887497,5.6647417950725014,"",0.56097120608022477,-5.0211885988125635,"",-15.635258204927499,"",-26.321188598812565,"",22.034741795072502,11.348811401187437,0.7347417950725017,-9.9511885988125641]
[68.200000000000401,1.1903145498601397,32.1256096100797,5551.3053406217714,{"$f":"VLOOKUP(A687-$B$2,'Ref. Coeff. Horiz.'!A:X,24)","v":180},{"$f":"VLOOKUP(A687-$B$2,'Ref. Coeff. Vertical'!A:X,24)","v":0},{"$f":"VLOOKUP(A687-$B$2,'Ref. Coeff. Horiz.'!A:X,23)","v":1},{"$f":"VLOOKUP(A687-$B$2,'Ref. Coeff. Vertical'!A:X,23)","v":1},5731.3053406217714,5551.3053406217714,null,null,null,null,null,null,6.9195063284934264,6.9,{"$f":"'Antenna Data'!B685","v":-21.17},1.9376227301597604,5.7453844103339478,"",0.49559878487363745,-6.0973953422601213,"",-15.424615589666054,"",-27.267395342260123,"",22.115384410333949,10.27260465773988,0.94538441033394705,-10.897395342260122]
[68.300000000000395,1.192059879112134,32.147986975078432,5555.1721492935521,{"$f":"VLOOKUP(A688-$B$2,'Ref. Coeff. Horiz.'!A:X,24)","v":180},{"$f":"VLOOKUP(A688-$B$2,'Ref. Coeff. Vertical'!A:X,24)","v":0},{"$f":"VLOOKUP(A688-$B$2,'Ref. Coeff. Horiz.'!A:X,23)","v":1},{"$f":"VLOOKUP(A688-$B$2,'Ref. Coeff. Vertical'!A:X,23)","v":1},5735.1721492935521,5555.1721492935521,null,null,null,null,null,null,6.8845061477889002,6.9,{"$f":"'Antenna Data'!B686","v":-21.04},1.9532401190279998,5.8151127199167298,"",0.42994538888036476,-7.3317340890648088,"",-15.224887280083269,"",-28.371734089064809,"",22.185112719916731,9.0382659109351913,1.1451127199167317,-12.001734089064808]
[68.400000000000389,1.1938052083641282,32.170266411733586,5559.0220359475634,{"$f":"VLOOKUP(A689-$B$2,'Ref. Coeff. Horiz.'!A:X,24)","v":180},{"$f":"VLOOKUP(A689-$B$2,'Ref. Coeff. Vertical'!A:X,24)","v":0},{"$f":"VLOOKUP(A689-$B$2,'Ref. Coeff. Horiz.'!A:X,23)","v":1},{"$f":"VLOOKUP(A689-$B$2,'Ref. Coeff. Vertical'!A:X,23)","v":1},5739.0220359475634,5559.0220359475634,null,null,null,null,null,null,6.849554552200444,6.8,{"$f":"'Antenna Data'!B687","v":-20.91},1.9665798665211616,5.8742317724550617,"",0.36409288456876288,-8.7757561671446958,"",-15.035768227544938,"",-29.685756167144696,"",22.244231772455063,7.5942438328553052,1.3342317724550625,-13.315756167144695]
[68.500000000000384,1.1955505376161224,32.192447852178134,5562.8549888563812,{"$f":"VLOOKUP(A690-$B$2,'Ref. Coeff. Horiz.'!A:X,24)","v":180},{"$f":"VLOOKUP(A690-$B$2,'Ref. Coeff. Vertical'!A:X,24)","v":0},{"$f":"VLOOKUP(A690-$B$2,'Ref. Coeff. Horiz.'!A:X,23)","v":1},{"$f":"VLOOKUP(A690-$B$2,'Ref. Coeff. Vertical'!A:X,23)","v":1},5742.8549888563812,5562.8549888563812,null,null,null,null,null,null,6.8146512281383709,6.8,{"$f":"'Antenna Data'!B688","v":-20.79},1.9776560489454948,5.9230152393193158,"",0.29812170680662736,-10.512128020231284,"",-14.866984760680683,"",-31.302128020231283,"",22.293015239319317,5.8578719797687171,1.5030152393193177,-14.932128020231282]
[68.600000000000378,1.1972958668681166,32.214531228843562,5566.6709963441672,{"$f":"VLOOKUP(A691-$B$2,'Ref. Coeff. Horiz.'!A:X,24)","v":180},{"$f":"VLOOKUP(A691-$B$2,'Ref. Coeff. Vertical'!A:X,24)","v":0},{"$f":"VLOOKUP(A691-$B$2,'Ref. Coeff. Horiz.'!A:X,23)","v":1},{"$f":"VLOOKUP(A691-$B$2,'Ref. Coeff. Vertical'!A:X,23)","v":1},5746.6709963441672,5566.6709963441672,null,null,null,null,null,null,6.7797958634659654,6.8,{"$f":"'Antenna Data'!B689","v":-20.68},1.986485486874034,5.9617079295487843,"",0.23211077191470533,-12.686094082345615,"",-14.718292070451216,"",-33.366094082345612,"",22.331707929548784,3.6839059176543856,1.6517079295487846,-16.996094082345611]
[68.700000000000372,1.1990411961201108,32.236516474460075,5570.4700467867006,{"$f":"VLOOKUP(A692-$B$2,'Ref. Coeff. Horiz.'!A:X,24)","v":180},{"$f":"VLOOKUP(A692-$B$2,'Ref. Coeff. Vertical'!A:X,24)","v":0},{"$f":"VLOOKUP(A692-$B$2,'Ref. Coeff. Horiz.'!A:X,23)","v":1},{"$f":"VLOOKUP(A692-$B$2,'Ref. Coeff. Vertical'!A:X,23)","v":1},5750.4700467867006,5570.4700467867006,null,null,null,null,null,null,6.7449881474872857,6.7,{"$f":"'Antenna Data'!B690","v":-20.57},1.9930876462490004,5.990527945362965,"",0.16613739606007144,-15.590652013879399,"",-14.579472054637035,"",-36.1606520138794,"",22.360527945362968,0.77934798612060163,1.7905279453629657,-19.790652013879399]
[68.800000000000367,1.2007865253721051,32.258403522056803,5574.2521286114152,{"$f":"VLOOKUP(A693-$B$2,'Ref. Coeff. Horiz.'!A:X,24)","v":180},{"$f":"VLOOKUP(A693-$B$2,'Ref. Coeff. Vertical'!A:X,24)","v":0},{"$f":"VLOOKUP(A693-$B$2,'Ref. Coeff. Horiz.'!A:X,23)","v":1},{"$f":"VLOOKUP(A693-$B$2,'Ref. Coeff. Vertical'!A:X,23)","v":1},5754.2521286114152,5574.2521286114152,null,null,null,null,null,null,6.7102277709350728,6.7,{"$f":"'Antenna Data'!B691","v":-20.46},1.9974845379520574,6.0096685245957717,"",0.10027721896052277,-19.97595438116252,"",-14.45033147540423,"",-40.435954381162517,"",22.379668524595772,-3.605954381162519,1.919668524595771,-24.065954381162516]
[68.900000000000361,1.2025318546240993,32.280192304962,5578.0172302974333,{"$f":"VLOOKUP(A694-$B$2,'Ref. Coeff. Horiz.'!A:X,24)","v":180},{"$f":"VLOOKUP(A694-$B$2,'Ref. Coeff. Vertical'!A:X,24)","v":0},{"$f":"VLOOKUP(A694-$B$2,'Ref. Coeff. Horiz.'!A:X,23)","v":1},{"$f":"VLOOKUP(A694-$B$2,'Ref. Coeff. Vertical'!A:X,23)","v":1},5758.0172302974333,5578.0172302974333,null,null,null,null,null,null,6.6755144259587604,6.7,{"$f":"'Antenna Data'!B692","v":-20.36},1.9997006160895401,6.0192996081517531,"",3.4604132861744533E-2,-29.217440583761629,"",-14.340700391848246,"",-49.577440583761629,"",22.389299608151752,-12.847440583761628,2.0292996081517547,-33.207440583761624]
[69.000000000000355,1.2042771838760935,32.301882756803259,5581.765340375603,{"$f":"VLOOKUP(A695-$B$2,'Ref. Coeff. Horiz.'!A:X,24)","v":180},{"$f":"VLOOKUP(A695-$B$2,'Ref. Coeff. Vertical'!A:X,24)","v":0},{"$f":"VLOOKUP(A695-$B$2,'Ref. Coeff. Horiz.'!A:X,23)","v":1},{"$f":"VLOOKUP(A695-$B$2,'Ref. Coeff. Vertical'!A:X,23)","v":1},5761.765340375603,5581.765340375603,null,null,null,null,null,null,6.6408478061125731,6.6,{"$f":"'Antenna Data'!B693","v":-20.27},1.9997626752330957,6.0195691637559614,"Max",3.0809783260705412E-2,-30.226227136556826,"",-14.250430836244039,"",-50.496227136556826,"",22.389569163755962,-13.856227136556825,2.1195691637559619,-34.126227136556821]
[69.10000000000035,1.2060225131280877,32.323474811507694,5585.4964474285289,{"$f":"VLOOKUP(A696-$B$2,'Ref. Coeff. Horiz.'!A:X,24)","v":180},{"$f":"VLOOKUP(A696-$B$2,'Ref. Coeff. Vertical'!A:X,24)","v":0},{"$f":"VLOOKUP(A696-$B$2,'Ref. Coeff. Horiz.'!A:X,23)","v":1},{"$f":"VLOOKUP(A696-$B$2,'Ref. Coeff. Vertical'!A:X,23)","v":1},5765.4964474285289,5585.4964474285289,null,null,null,null,null,null,6.606227606343718,6.6,{"$f":"'Antenna Data'!B694","v":-20.18},1.9976997468490769,6.010604291557792,"",9.5894324332222017E-2,-20.364141930442958,"",-14.169395708442208,"",-40.544141930442962,"",22.380604291557795,-3.9941419304429573,2.2006042915577932,-24.174141930442961]
[69.200000000000344,1.2077678423800819,32.344968403302175,5589.2105400906157,{"$f":"VLOOKUP(A697-$B$2,'Ref. Coeff. Horiz.'!A:X,24)","v":180},{"$f":"VLOOKUP(A697-$B$2,'Ref. Coeff. Vertical'!A:X,24)","v":0},{"$f":"VLOOKUP(A697-$B$2,'Ref. Coeff. Horiz.'!A:X,23)","v":1},{"$f":"VLOOKUP(A697-$B$2,'Ref. Coeff. Vertical'!A:X,23)","v":1},5769.2105400906157,5589.2105400906157,null,null,null,null,null,null,6.571653522980677,6.6,{"$f":"'Antenna Data'!B695","v":-20.09},1.9935429951427583,5.9925121323172972,"",0.16058121470842859,-15.886105224191132,"",-14.097487867682702,"",-35.97610522419113,"",22.362512132317299,0.48389477580886897,2.2725121323172992,-19.606105224191129]
[69.300000000000338,1.2095131716320764,32.366363466713487,5592.9076070480905,{"$f":"VLOOKUP(A698-$B$2,'Ref. Coeff. Horiz.'!A:X,24)","v":180},{"$f":"VLOOKUP(A698-$B$2,'Ref. Coeff. Vertical'!A:X,24)","v":0},{"$f":"VLOOKUP(A698-$B$2,'Ref. Coeff. Horiz.'!A:X,23)","v":1},{"$f":"VLOOKUP(A698-$B$2,'Ref. Coeff. Vertical'!A:X,23)","v":1},5772.9076070480905,5592.9076070480905,null,null,null,null,null,null,6.5371252537215829,6.5,{"$f":"'Antenna Data'!B696","v":-20},1.9873256125359768,5.9653805947600445,"",0.22480415867709286,-12.963913179336416,"",-14.034619405239955,"",-32.963913179336416,"",22.335380594760046,3.4060868206635853,2.3353805947600463,-16.593913179336415]
[69.400000000000333,1.2112585008840706,32.387659936568546,5596.5876370390442,{"$f":"VLOOKUP(A699-$B$2,'Ref. Coeff. Horiz.'!A:X,24)","v":180},{"$f":"VLOOKUP(A699-$B$2,'Ref. Coeff. Vertical'!A:X,24)","v":0},{"$f":"VLOOKUP(A699-$B$2,'Ref. Coeff. Horiz.'!A:X,23)","v":1},{"$f":"VLOOKUP(A699-$B$2,'Ref. Coeff. Vertical'!A:X,23)","v":1},5776.5876370390442,5596.5876370390442,null,null,null,null,null,null,6.5026424976227117,6.5,{"$f":"'Antenna Data'!B697","v":-19.93},1.9790827149890506,5.9292789150790934,"",0.2884988860144273,-10.797117189071145,"",-14.000721084920906,"",-30.727117189071144,"",22.299278915079093,5.5728828109288564,2.3692789150790947,-14.357117189071143]
[69.500000000000327,1.2130038301360648,32.408857747994631,5600.2506188534717,{"$f":"VLOOKUP(A700-$B$2,'Ref. Coeff. Horiz.'!A:X,24)","v":180},{"$f":"VLOOKUP(A700-$B$2,'Ref. Coeff. Vertical'!A:X,24)","v":0},{"$f":"VLOOKUP(A700-$B$2,'Ref. Coeff. Horiz.'!A:X,23)","v":1},{"$f":"VLOOKUP(A700-$B$2,'Ref. Coeff. Vertical'!A:X,23)","v":1},5780.2506188534717,5600.2506188534717,null,null,null,null,null,null,6.4682049550870069,6.5,{"$f":"'Antenna Data'!B698","v":-19.850000000000001},1.9688512373700615,5.8842580583640212,"",0.35160319268512807,-9.0789438005638186,"",-13.965741941635979,"",-28.928943800563822,"",22.254258058364023,7.2910561994361824,2.4042580583640216,-12.558943800563821]
[69.600000000000321,1.2147491593880591,32.429956836419514,5603.8965413332917,{"$f":"VLOOKUP(A701-$B$2,'Ref. Coeff. Horiz.'!A:X,24)","v":180},{"$f":"VLOOKUP(A701-$B$2,'Ref. Coeff. Vertical'!A:X,24)","v":0},{"$f":"VLOOKUP(A701-$B$2,'Ref. Coeff. Horiz.'!A:X,23)","v":1},{"$f":"VLOOKUP(A701-$B$2,'Ref. Coeff. Vertical'!A:X,23)","v":1},5783.8965413332917,5603.8965413332917,null,null,null,null,null,null,6.4338123278527668,6.4,{"$f":"'Antenna Data'!B699","v":-19.78},1.9566698290665889,5.8303509688390331,"",0.41405697678042547,-7.6587978636329428,"",-13.949649031160968,"",-27.438797863632942,"",22.200350968839032,8.7112021363670582,2.420350968839033,-11.068797863632941]
[69.700000000000315,1.2164944886400533,32.450957137571727,5607.5253933723934,{"$f":"VLOOKUP(A702-$B$2,'Ref. Coeff. Horiz.'!A:X,24)","v":180},{"$f":"VLOOKUP(A702-$B$2,'Ref. Coeff. Vertical'!A:X,24)","v":0},{"$f":"VLOOKUP(A702-$B$2,'Ref. Coeff. Horiz.'!A:X,23)","v":1},{"$f":"VLOOKUP(A702-$B$2,'Ref. Coeff. Vertical'!A:X,23)","v":1},5787.5253933723934,5607.5253933723934,null,null,null,null,null,null,6.3994643189823668,6.4,{"$f":"'Antenna Data'!B700","v":-19.71},1.9425787500268048,5.7675726731023023,"",0.47580226979735957,-6.4514698101567642,"",-13.942427326897699,"Max",-26.161469810156767,"",22.137572673102305,9.9185301898432368,2.4275726731023024,-9.7914698101567659]
[69.80000000000031,1.2182398178920475,32.471858587480703,5611.1371639166655,{"$f":"VLOOKUP(A703-$B$2,'Ref. Coeff. Horiz.'!A:X,24)","v":180},{"$f":"VLOOKUP(A703-$B$2,'Ref. Coeff. Vertical'!A:X,24)","v":0},{"$f":"VLOOKUP(A703-$B$2,'Ref. Coeff. Horiz.'!A:X,23)","v":1},{"$f":"VLOOKUP(A703-$B$2,'Ref. Coeff. Vertical'!A:X,23)","v":1},5791.1371639166655,5611.1371639166655,null,null,null,null,null,null,6.365160632851091,6.4,{"$f":"'Antenna Data'!B701","v":-19.650000000000002},1.9266197674088879,5.6959202379955549,"",0.53678326336548998,-5.4040206742674366,"",-13.954079762004447,"",-25.054020674267438,"",22.065920237995556,10.965979325732565,2.4159202379955538,-8.6840206742674368]
[69.900000000000304,1.2199851471440417,32.492661122477003,5614.7318419640251,{"$f":"VLOOKUP(A704-$B$2,'Ref. Coeff. Horiz.'!A:X,24)","v":180},{"$f":"VLOOKUP(A704-$B$2,'Ref. Coeff. Vertical'!A:X,24)","v":0},{"$f":"VLOOKUP(A704-$B$2,'Ref. Coeff. Horiz.'!A:X,23)","v":1},{"$f":"VLOOKUP(A704-$B$2,'Ref. Coeff. Vertical'!A:X,23)","v":1},5794.7318419640251,5614.7318419640251,null,null,null,null,null,null,6.330900975136057,6.3,{"$f":"'Antenna Data'!B702","v":-19.59},1.9088360530093003,5.6153725822161125,"",0.59694633153397658,-4.481294247307563,"",-13.974627417783887,"",-24.071294247307563,"",21.985372582216115,11.888705752692438,2.3953725822161136,-7.7012942473075618]
[70.000000000000298,1.2217304763960359,32.513364679192492,5618.3094165644616,{"$f":"VLOOKUP(A705-$B$2,'Ref. Coeff. Horiz.'!A:X,24)","v":180},{"$f":"VLOOKUP(A705-$B$2,'Ref. Coeff. Vertical'!A:X,24)","v":0},{"$f":"VLOOKUP(A705-$B$2,'Ref. Coeff. Horiz.'!A:X,23)","v":1},{"$f":"VLOOKUP(A705-$B$2,'Ref. Coeff. Vertical'!A:X,23)","v":1},5798.3094165644616,5618.3094165644616,null,null,null,null,null,null,6.2966850528051994,6.3,{"$f":"'Antenna Data'!B703","v":-19.54},1.8892720816321735,5.5258901382404702,"",0.6562400487361808,-3.658745384077291,"",-14.014109861759529,"",-23.198745384077291,"",21.895890138240471,12.71125461592271,2.355890138240472,-6.8287453840772905]
[70.100000000000293,1.2234758056480302,32.533969194560555,5621.8698768200638,{"$f":"VLOOKUP(A706-$B$2,'Ref. Coeff. Horiz.'!A:X,24)","v":180},{"$f":"VLOOKUP(A706-$B$2,'Ref. Coeff. Vertical'!A:X,24)","v":0},{"$f":"VLOOKUP(A706-$B$2,'Ref. Coeff. Horiz.'!A:X,23)","v":1},{"$f":"VLOOKUP(A706-$B$2,'Ref. Coeff. Vertical'!A:X,23)","v":1},5801.8698768200638,5621.8698768200638,null,null,null,null,null,null,6.262512574106367,6.3,{"$f":"'Antenna Data'!B704","v":-19.48},1.8679735305540677,5.4274143584837002,"",0.71461520355318997,-2.9185549670091868,"",-14.0525856415163,"",-22.398554967009186,"",21.797414358483699,13.451445032990815,2.3174143584837008,-6.0285549670091854]
[70.200000000000287,1.2252211349000244,32.55447460581626,5625.4132118850493,{"$f":"VLOOKUP(A707-$B$2,'Ref. Coeff. Horiz.'!A:X,24)","v":180},{"$f":"VLOOKUP(A707-$B$2,'Ref. Coeff. Vertical'!A:X,24)","v":0},{"$f":"VLOOKUP(A707-$B$2,'Ref. Coeff. Horiz.'!A:X,23)","v":1},{"$f":"VLOOKUP(A707-$B$2,'Ref. Coeff. Vertical'!A:X,23)","v":1},5805.4132118850493,5625.4132118850493,null,null,null,null,null,null,6.2283832485564909,6.2,{"$f":"'Antenna Data'!B705","v":-19.440000000000001},1.8449871802298601,5.319867056787503,"",0.7720248084015594,-2.2473748746637523,"",-14.120132943212498,"",-21.687374874663753,"",21.689867056787506,14.122625125336249,2.2498670567875028,-5.3173748746637521]
[70.300000000000281,1.2269664641520186,32.574880850496569,5628.9394109658069,{"$f":"VLOOKUP(A708-$B$2,'Ref. Coeff. Horiz.'!A:X,24)","v":180},{"$f":"VLOOKUP(A708-$B$2,'Ref. Coeff. Vertical'!A:X,24)","v":0},{"$f":"VLOOKUP(A708-$B$2,'Ref. Coeff. Horiz.'!A:X,23)","v":1},{"$f":"VLOOKUP(A708-$B$2,'Ref. Coeff. Vertical'!A:X,23)","v":1},5808.9394109658069,5628.9394109658069,null,null,null,null,null,null,6.1942967869308356,6.2,{"$f":"'Antenna Data'!B706","v":-19.39},1.8203608163771154,5.2031495732247022,"",0.82842410527388499,-1.634945452087333,"",-14.186850426775298,"",-21.024945452087334,"",21.573149573224704,14.735054547912668,2.1831495732247035,-4.6549454520873326]
[70.400000000000276,1.2287117934040128,32.595187866440526,5632.4484633209222,{"$f":"VLOOKUP(A709-$B$2,'Ref. Coeff. Horiz.'!A:X,24)","v":180},{"$f":"VLOOKUP(A709-$B$2,'Ref. Coeff. Vertical'!A:X,24)","v":0},{"$f":"VLOOKUP(A709-$B$2,'Ref. Coeff. Horiz.'!A:X,23)","v":1},{"$f":"VLOOKUP(A709-$B$2,'Ref. Coeff. Vertical'!A:X,23)","v":1},5812.4484633209222,5632.4484633209222,null,null,null,null,null,null,6.1602529012523295,6.2,{"$f":"'Antenna Data'!B707","v":-19.350000000000001},1.7941431335686533,5.0771417467298416,"",0.88377056766361628,-1.0732093180706621,"",-14.27285825327016,"",-20.423209318070665,"",21.447141746729841,15.296790681929339,2.0971417467298412,-4.0532093180706639]
[{"$f":"A709+0.1","v":70.50000000000027},{"$f":"A710*(PI()/180)","v":1.230457122656007},{"$f":"(2*$B$1*SIN(B710-$C$2)*COS($C$2))","v":32.615395591789429},{"$f":"(C710/$O$1)*360","v":5635.9403582612131},{"$f":"VLOOKUP(A710-$B$2,'Ref. Coeff. Horiz.'!A:X,24)","v":180},{"$f":"VLOOKUP(A710-$B$2,'Ref. Coeff. Vertical'!A:X,24)","v":0},{"$f":"VLOOKUP(A710-$B$2,'Ref. Coeff. Horiz.'!A:X,23)","v":1},{"$f":"VLOOKUP(A710-$B$2,'Ref. Coeff. Vertical'!A:X,23)","v":1},{"$f":"D710+E710","v":5815.9403582612131},{"$f":"D710+F710","v":5635.9403582612131},null,null,null,null,null,null,{"$f":"(((COS($C$2))/(TAN(B710-$C$2)))-(SIN($C$2)))*$B$1","v":6.1262513047809852},{"$f":"ROUND(Q710,1)","v":6.1},{"$f":"'Antenna Data'!B708","v":-19.32},{"$f":"SQRT((1+(2*G710*COS(I710*PI()/180)))+(G710^2))","v":1.7663836404542155},{"$f":"IF(T710=0,-99,10*LOG(T710^2))","v":4.9417006760844329},{"$f":"IF(AND((U711<U710),(U710>U709)),\"Max\",\"\")","v":""},{"$f":"SQRT((1+(2*H710*COS(J710*PI()/180)))+(H710^2))","v":0.9380238988083851},{"$f":"IF(W710=0,-99,10*LOG(W710^2))","v":-0.55572193202668785},{"$f":"IF(AND((X711<X710),(X710>X709)),\"Max\",\"\")","v":""},{"$f":"U710+S710","v":-14.378299323915567},{"$f":"IF(AND((Z711<Z710),(Z710>Z709)),\"Max\",\"\")","v":""},{"$f":"X710+S710","v":-19.875721932026689},{"$f":"IF(AND((AB711<AB710),(AB710>AB709)),\"Max\",\"\")","v":""},{"$f":"U710+$AD$2","v":21.311700676084435},{"$f":"X710+$AD$2","v":15.814278067973314},{"$f":"Z710+$AD$2","v":1.9917006760844345},{"$f":"AB710+$AD$2","v":-3.5057219320266881}]
[70.600000000000264,1.2322024519080013,32.635503964987045,5639.4150851497607,{"$f":"VLOOKUP(A711-$B$2,'Ref. Coeff. Horiz.'!A:X,24)","v":180},{"$f":"VLOOKUP(A711-$B$2,'Ref. Coeff. Vertical'!A:X,24)","v":0},{"$f":"VLOOKUP(A711-$B$2,'Ref. Coeff. Horiz.'!A:X,23)","v":1},{"$f":"VLOOKUP(A711-$B$2,'Ref. Coeff. Vertical'!A:X,23)","v":1},5819.4150851497607,5639.4150851497607,null,null,null,null,null,null,6.0922917120033961,6.1,{"$f":"'Antenna Data'!B709","v":-19.29},1.7371325667246886,4.7966592451671994,"",0.99114602638788274,-7.7247116500490723E-2,"",-14.493340754832801,"",-19.36724711650049,"",21.1666592451672,16.29275288349951,1.8766592451672004,-2.997247116500489]
[70.700000000000259,1.2339477811599955,32.655512924779792,5642.8726334019475,{"$f":"VLOOKUP(A712-$B$2,'Ref. Coeff. Horiz.'!A:X,24)","v":180},{"$f":"VLOOKUP(A712-$B$2,'Ref. Coeff. Vertical'!A:X,24)","v":0},{"$f":"VLOOKUP(A712-$B$2,'Ref. Coeff. Horiz.'!A:X,23)","v":1},{"$f":"VLOOKUP(A712-$B$2,'Ref. Coeff. Vertical'!A:X,23)","v":1},5822.8726334019475,5642.8726334019475,null,null,null,null,null,null,6.058373838622308,6.1,{"$f":"'Antenna Data'!B710","v":-19.260000000000002},1.7064407719237875,4.6418243829340948,"",1.0431010938140979,0.36652801623937575,"",-14.618175617065907,"",-18.893471983760627,"",21.011824382934094,16.736528016239376,1.7518243829340943,-2.5234719837606256]
[70.800000000000253,1.2356931104119897,32.675422410216896,5646.3129924854793,{"$f":"VLOOKUP(A713-$B$2,'Ref. Coeff. Horiz.'!A:X,24)","v":180},{"$f":"VLOOKUP(A713-$B$2,'Ref. Coeff. Vertical'!A:X,24)","v":0},{"$f":"VLOOKUP(A713-$B$2,'Ref. Coeff. Horiz.'!A:X,23)","v":1},{"$f":"VLOOKUP(A713-$B$2,'Ref. Coeff. Vertical'!A:X,23)","v":1},5826.3129924854793,5646.3129924854793,null,null,null,null,null,null,6.0244974015462773,6,{"$f":"'Antenna Data'!B711","v":-19.23},1.6743596562049243,4.476975022108725,"",1.093855448253275,0.77919868539994619,"",-14.753024977891275,"",-18.450801314600053,"",20.846975022108726,17.149198685399949,1.6169750221087256,-2.0808013146000519]
[70.900000000000247,1.2374384396639839,32.695232360650614,5649.736151920426,{"$f":"VLOOKUP(A714-$B$2,'Ref. Coeff. Horiz.'!A:X,24)","v":180},{"$f":"VLOOKUP(A714-$B$2,'Ref. Coeff. Vertical'!A:X,24)","v":0},{"$f":"VLOOKUP(A714-$B$2,'Ref. Coeff. Horiz.'!A:X,23)","v":1},{"$f":"VLOOKUP(A714-$B$2,'Ref. Coeff. Vertical'!A:X,23)","v":1},5829.736151920426,5649.736151920426,null,null,null,null,null,null,5.9906621188794027,6,{"$f":"'Antenna Data'!B712","v":-19.21},1.6409410731224812,4.3018597127469391,"",1.1433776255199708,1.1637937871559891,"",-14.908140287253062,"",-18.046206212844012,"",20.67185971274694,17.533793787155989,1.4618597127469393,-1.6762062128440114]
[71.000000000000242,1.2391837689159781,32.714942715736413,5653.1421012792516,{"$f":"VLOOKUP(A715-$B$2,'Ref. Coeff. Horiz.'!A:X,24)","v":180},{"$f":"VLOOKUP(A715-$B$2,'Ref. Coeff. Vertical'!A:X,24)","v":0},{"$f":"VLOOKUP(A715-$B$2,'Ref. Coeff. Horiz.'!A:X,23)","v":1},{"$f":"VLOOKUP(A715-$B$2,'Ref. Coeff. Vertical'!A:X,23)","v":1},5833.1421012792516,5653.1421012792516,null,null,null,null,null,null,5.9568677099111289,6,{"$f":"'Antenna Data'!B713","v":-19.190000000000001},1.6062372445398689,4.1161938373462164,"",1.1916383319837285,1.5228892984005529,"",-15.073806162653785,"",-17.667110701599448,"",20.486193837346217,17.892889298400554,1.2961938373462161,-1.297110701599447]
[71.100000000000236,1.2409290981679724,32.734553415433112,5656.5308301868417,{"$f":"VLOOKUP(A716-$B$2,'Ref. Coeff. Horiz.'!A:X,24)","v":180},{"$f":"VLOOKUP(A716-$B$2,'Ref. Coeff. Vertical'!A:X,24)","v":0},{"$f":"VLOOKUP(A716-$B$2,'Ref. Coeff. Horiz.'!A:X,23)","v":1},{"$f":"VLOOKUP(A716-$B$2,'Ref. Coeff. Vertical'!A:X,23)","v":1},5836.5308301868417,5656.5308301868417,null,null,null,null,null,null,5.9231138951061393,5.9,{"$f":"'Antenna Data'!B714","v":-19.18},1.5703006777287745,3.919656362526045,"",1.2386104236298838,1.8586946106112323,"",-15.260343637473955,"",-17.321305389388769,"",20.289656362526046,18.228694610611232,1.1096563625260458,-0.95130538938876796]
[71.20000000000023,1.2426744274199666,32.754064400003138,5659.9023283205415,{"$f":"VLOOKUP(A717-$B$2,'Ref. Coeff. Horiz.'!A:X,24)","v":180},{"$f":"VLOOKUP(A717-$B$2,'Ref. Coeff. Vertical'!A:X,24)","v":0},{"$f":"VLOOKUP(A717-$B$2,'Ref. Coeff. Horiz.'!A:X,23)","v":1},{"$f":"VLOOKUP(A717-$B$2,'Ref. Coeff. Vertical'!A:X,23)","v":1},5839.9023283205415,5659.9023283205415,null,null,null,null,null,null,5.8894003960943131,5.9,{"$f":"'Antenna Data'!B715","v":-19.170000000000002},1.5331840847268268,3.7118860479208573,"",1.2842688824153545,2.1731191962164993,"",-15.458113952079145,"",-16.996880803783501,"",20.081886047920857,18.543119196216502,0.9118860479208557,-0.62688080378350008]
[71.300000000000225,1.2444197566719608,32.773475610012639,5663.256585410184,{"$f":"VLOOKUP(A718-$B$2,'Ref. Coeff. Horiz.'!A:X,24)","v":180},{"$f":"VLOOKUP(A718-$B$2,'Ref. Coeff. Vertical'!A:X,24)","v":0},{"$f":"VLOOKUP(A718-$B$2,'Ref. Coeff. Horiz.'!A:X,23)","v":1},{"$f":"VLOOKUP(A718-$B$2,'Ref. Coeff. Vertical'!A:X,23)","v":1},5843.256585410184,5663.256585410184,null,null,null,null,null,null,5.8557269356607584,5.9,{"$f":"'Antenna Data'!B716","v":-19.16},1.4949403040140434,3.4924770150160951,"",1.3285907900608045,2.4678247507658169,"",-15.667522984983904,"",-16.692175249234182,"",19.862477015016097,18.837824750765819,0.70247701501609683,-0.32217524923418139]
[71.400000000000219,1.246165085923955,32.792786986331706,5666.5935912381183,{"$f":"VLOOKUP(A719-$B$2,'Ref. Coeff. Horiz.'!A:X,24)","v":180},{"$f":"VLOOKUP(A719-$B$2,'Ref. Coeff. Vertical'!A:X,24)","v":0},{"$f":"VLOOKUP(A719-$B$2,'Ref. Coeff. Horiz.'!A:X,23)","v":1},{"$f":"VLOOKUP(A719-$B$2,'Ref. Coeff. Vertical'!A:X,23)","v":1},5846.5935912381183,5666.5935912381183,null,null,null,null,null,null,5.8220932377359293,5.8,{"$f":"'Antenna Data'!B717","v":-19.16},1.4556222245612189,3.2609735561819493,"",1.3715552994186921,2.7442664502324958,"",-15.899026443818052,"",-16.415733549767506,"",19.630973556181949,19.114266450232495,0.47097355618194925,-4.5733549767504655E-2]
[71.500000000000213,1.2479104151759493,32.811998470134533,5669.9133356392467,{"$f":"VLOOKUP(A720-$B$2,'Ref. Coeff. Horiz.'!A:X,24)","v":180},{"$f":"VLOOKUP(A720-$B$2,'Ref. Coeff. Vertical'!A:X,24)","v":0},{"$f":"VLOOKUP(A720-$B$2,'Ref. Coeff. Horiz.'!A:X,23)","v":1},{"$f":"VLOOKUP(A720-$B$2,'Ref. Coeff. Vertical'!A:X,23)","v":1},5849.9133356392467,5669.9133356392467,null,null,null,null,null,null,5.7884990273857966,5.8,{"$f":"'Antenna Data'!B718","v":-19.16},1.4152827122963911,3.0168640357413814,"",1.4131436035573184,3.0037259413390642,"",-16.143135964258619,"",-16.156274058660937,"",19.386864035741382,19.373725941339064,0.22686403574138225,0.21372594133906375]
[71.600000000000207,1.2496557444279435,32.831110002899621,5673.2158085010542,{"$f":"VLOOKUP(A721-$B$2,'Ref. Coeff. Horiz.'!A:X,24)","v":180},{"$f":"VLOOKUP(A721-$B$2,'Ref. Coeff. Vertical'!A:X,24)","v":0},{"$f":"VLOOKUP(A721-$B$2,'Ref. Coeff. Horiz.'!A:X,23)","v":1},{"$f":"VLOOKUP(A721-$B$2,'Ref. Coeff. Vertical'!A:X,23)","v":1},5853.2158085010542,5673.2158085010542,null,null,null,null,null,null,5.7549440308021103,5.8,{"$f":"'Antenna Data'!B719","v":-19.16},1.3739745390299354,2.7595736987027211,"",1.4533389026987127,3.2473379763915569,"",-16.40042630129728,"",-15.912662023608444,"",19.129573698702721,19.617337976391557,-3.0426301297278968E-2,0.45733797639155682]
[71.700000000000202,1.2514010736799379,32.850121526409914,5676.5009997636325,{"$f":"VLOOKUP(A722-$B$2,'Ref. Coeff. Horiz.'!A:X,24)","v":180},{"$f":"VLOOKUP(A722-$B$2,'Ref. Coeff. Vertical'!A:X,24)","v":0},{"$f":"VLOOKUP(A722-$B$2,'Ref. Coeff. Horiz.'!A:X,23)","v":1},{"$f":"VLOOKUP(A722-$B$2,'Ref. Coeff. Vertical'!A:X,23)","v":1},5856.5009997636325,5676.5009997636325,null,null,null,null,null,null,5.7214279752927188,5.7,{"$f":"'Antenna Data'!B720","v":-19.170000000000002},1.3317503138711613,2.4884561562557579,"",1.492126369147083,3.4761121074947128,"",-16.681543843744244,"",-15.693887892505289,"",18.858456156255759,19.846112107494715,-0.31154384374424282,0.67611210749471162]
[71.800000000000196,1.2531464029319321,32.869032982753012,5679.7688994197206,{"$f":"VLOOKUP(A723-$B$2,'Ref. Coeff. Horiz.'!A:X,24)","v":180},{"$f":"VLOOKUP(A723-$B$2,'Ref. Coeff. Vertical'!A:X,24)","v":0},{"$f":"VLOOKUP(A723-$B$2,'Ref. Coeff. Horiz.'!A:X,23)","v":1},{"$f":"VLOOKUP(A723-$B$2,'Ref. Coeff. Vertical'!A:X,23)","v":1},5859.7688994197206,5679.7688994197206,null,null,null,null,null,null,5.6879505892719804,5.7,{"$f":"'Antenna Data'!B721","v":-19.18},1.2886624171641072,2.2027832568518173,"",1.52949311034367,3.6909505006020451,"",-16.977216743148183,"",-15.489049499397954,"",18.572783256851817,20.060950500602047,-0.6072167431481823,0.88095050060204727]
[71.90000000000019,1.2548917321839264,32.887844314321356,5683.0194975147297,{"$f":"VLOOKUP(A724-$B$2,'Ref. Coeff. Horiz.'!A:X,24)","v":180},{"$f":"VLOOKUP(A724-$B$2,'Ref. Coeff. Vertical'!A:X,24)","v":0},{"$f":"VLOOKUP(A724-$B$2,'Ref. Coeff. Horiz.'!A:X,23)","v":1},{"$f":"VLOOKUP(A724-$B$2,'Ref. Coeff. Vertical'!A:X,23)","v":1},5863.0194975147297,5683.0194975147297,null,null,null,null,null,null,5.6545116022512074,5.7,{"$f":"'Antenna Data'!B722","v":-19.200000000000003},1.2447629369638136,1.9017329728651879,"",1.5654281301807549,3.8926626733940446,"",-17.298267027134816,"",-15.307337326605959,"",18.271732972865188,20.262662673394047,-0.92826702713481524,1.0626626733940423]
[72.000000000000185,1.2566370614359206,32.906555463812353,5686.2527841467745,{"$f":"VLOOKUP(A725-$B$2,'Ref. Coeff. Horiz.'!A:X,24)","v":180},{"$f":"VLOOKUP(A725-$B$2,'Ref. Coeff. Vertical'!A:X,24)","v":0},{"$f":"VLOOKUP(A725-$B$2,'Ref. Coeff. Horiz.'!A:X,23)","v":1},{"$f":"VLOOKUP(A725-$B$2,'Ref. Coeff. Vertical'!A:X,23)","v":1},5866.2527841467745,5686.2527841467745,null,null,null,null,null,null,5.6211107448292168,5.6,{"$f":"'Antenna Data'!B723","v":-19.21},1.2001036080688312,1.5843748287889872,"",1.5999222887066176,4.0819777730494291,"",-17.625625171211013,"",-15.128022226950572,"",17.954374828788989,20.451977773049428,-1.2556251712110118,1.2419777730494292]
[72.100000000000179,1.2583823906879148,32.925166374228596,5689.4687494667014,{"$f":"VLOOKUP(A726-$B$2,'Ref. Coeff. Horiz.'!A:X,24)","v":180},{"$f":"VLOOKUP(A726-$B$2,'Ref. Coeff. Vertical'!A:X,24)","v":0},{"$f":"VLOOKUP(A726-$B$2,'Ref. Coeff. Horiz.'!A:X,23)","v":1},{"$f":"VLOOKUP(A726-$B$2,'Ref. Coeff. Vertical'!A:X,23)","v":1},5869.4687494667014,5689.4687494667014,null,null,null,null,null,null,5.5877477486829292,5.6,{"$f":"'Antenna Data'!B724","v":-19.23},1.154735753619953,1.2496522581654474,"",1.6329682603503739,4.2595548706225115,"",-17.980347741834553,"",-14.970445129377488,"",17.619652258165448,20.629554870622513,-1.610347741834552,1.3995548706225129]
[72.200000000000173,1.260127719939909,32.943676988878032,5692.6673836781238,{"$f":"VLOOKUP(A727-$B$2,'Ref. Coeff. Horiz.'!A:X,24)","v":180},{"$f":"VLOOKUP(A727-$B$2,'Ref. Coeff. Vertical'!A:X,24)","v":0},{"$f":"VLOOKUP(A727-$B$2,'Ref. Coeff. Horiz.'!A:X,23)","v":1},{"$f":"VLOOKUP(A727-$B$2,'Ref. Coeff. Vertical'!A:X,23)","v":1},5872.6673836781238,5692.6673836781238,null,null,null,null,null,null,5.5544223465580407,5.6,{"$f":"'Antenna Data'!B725","v":-19.260000000000002},1.108710229270107,0.89636108938519876,"",1.6645604907938532,4.4259916442919884,"",-18.363638910614803,"",-14.834008355708013,"",17.2663610893852,20.795991644291988,-1.993638910614802,1.5359916442919879]
[72.300000000000168,1.2618730491919032,32.962087251374115,5695.8486770374466,{"$f":"VLOOKUP(A728-$B$2,'Ref. Coeff. Horiz.'!A:X,24)","v":180},{"$f":"VLOOKUP(A728-$B$2,'Ref. Coeff. Vertical'!A:X,24)","v":0},{"$f":"VLOOKUP(A728-$B$2,'Ref. Coeff. Horiz.'!A:X,23)","v":1},{"$f":"VLOOKUP(A728-$B$2,'Ref. Coeff. Vertical'!A:X,23)","v":1},5875.8486770374466,5695.8486770374466,null,null,null,null,null,null,5.5211342722597649,5.5,{"$f":"'Antenna Data'!B726","v":-19.29},1.0620773699248882,0.52312310529552419,"",1.6946951526140108,4.5818317446517751,"",-18.766876894704474,"",-14.708168255348223,"",16.893123105295526,20.951831744651777,-2.396876894704473,1.6618317446517779]
[72.400000000000162,1.2636183784438975,32.980397105635994,5699.0126198538992,{"$f":"VLOOKUP(A729-$B$2,'Ref. Coeff. Horiz.'!A:X,24)","v":180},{"$f":"VLOOKUP(A729-$B$2,'Ref. Coeff. Vertical'!A:X,24)","v":0},{"$f":"VLOOKUP(A729-$B$2,'Ref. Coeff. Horiz.'!A:X,23)","v":1},{"$f":"VLOOKUP(A729-$B$2,'Ref. Coeff. Vertical'!A:X,23)","v":1},5879.0126198538992,5699.0126198538992,null,null,null,null,null,null,5.4878832606436312,5.5,{"$f":"'Antenna Data'!B727","v":-19.32},1.0148869390491086,0.12835326898427579,"",1.7233700998182313,4.7275710747720616,"",-19.191646731015723,"",-14.592428925227939,"",16.498353268984278,21.097571074772063,-2.8216467310157221,1.7775710747720623]
[72.500000000000156,1.2653637076958917,32.99860649588868,5702.1592024895635,{"$f":"VLOOKUP(A730-$B$2,'Ref. Coeff. Horiz.'!A:X,24)","v":180},{"$f":"VLOOKUP(A730-$B$2,'Ref. Coeff. Vertical'!A:X,24)","v":0},{"$f":"VLOOKUP(A730-$B$2,'Ref. Coeff. Horiz.'!A:X,23)","v":1},{"$f":"VLOOKUP(A730-$B$2,'Ref. Coeff. Vertical'!A:X,23)","v":1},5882.1592024895635,5702.1592024895635,null,null,null,null,null,null,5.4546690476063624,5.5,{"$f":"'Antenna Data'!B728","v":-19.36},0.96718808052894467,-0.28978128579937057,"",1.7505848213904911,4.8636631711370208,"",-19.649781285799371,"",-14.496336828862979,"",16.08021871420063,21.233663171137021,-3.2797812857993698,1.8736631711370215]
[72.600000000000151,1.2671090369478859,33.016715366663213,5705.2884153594032,{"$f":"VLOOKUP(A731-$B$2,'Ref. Coeff. Horiz.'!A:X,24)","v":180},{"$f":"VLOOKUP(A731-$B$2,'Ref. Coeff. Vertical'!A:X,24)","v":0},{"$f":"VLOOKUP(A731-$B$2,'Ref. Coeff. Horiz.'!A:X,23)","v":1},{"$f":"VLOOKUP(A731-$B$2,'Ref. Coeff. Vertical'!A:X,23)","v":1},5885.2884153594032,5705.2884153594032,null,null,null,null,null,null,5.4214913700768061,5.4,{"$f":"'Antenna Data'!B729","v":-19.400000000000002},0.91902927307587201,-0.73341310344541477,"",1.7763403939644147,4.9905238353304835,"",-20.133413103445417,"",-14.409476164669519,"",15.636586896554586,21.360523835330483,-3.7634131034454157,1.9605238353304824]
[72.700000000000145,1.2688543661998801,33.034723662796814,5708.4002489312888,{"$f":"VLOOKUP(A732-$B$2,'Ref. Coeff. Horiz.'!A:X,24)","v":180},{"$f":"VLOOKUP(A732-$B$2,'Ref. Coeff. Vertical'!A:X,24)","v":0},{"$f":"VLOOKUP(A732-$B$2,'Ref. Coeff. Horiz.'!A:X,23)","v":1},{"$f":"VLOOKUP(A732-$B$2,'Ref. Coeff. Vertical'!A:X,23)","v":1},5888.4002489312888,5708.4002489312888,null,null,null,null,null,null,5.3883499660069347,5.4,{"$f":"'Antenna Data'!B730","v":-19.440000000000001},0.87045828715411189,-1.2050407136289902,"",1.8006394337358949,5.1085351379445756,"",-20.64504071362899,"",-14.331464862055427,"",15.16495928637101,21.478535137944576,-4.2750407136289894,2.0385351379445744]
[72.800000000000139,1.2705996954518743,33.052631329433119,5711.4946937260429,{"$f":"VLOOKUP(A733-$B$2,'Ref. Coeff. Horiz.'!A:X,24)","v":180},{"$f":"VLOOKUP(A733-$B$2,'Ref. Coeff. Vertical'!A:X,24)","v":0},{"$f":"VLOOKUP(A733-$B$2,'Ref. Coeff. Horiz.'!A:X,23)","v":1},{"$f":"VLOOKUP(A733-$B$2,'Ref. Coeff. Vertical'!A:X,23)","v":1},5891.4946937260429,5711.4946937260429,null,null,null,null,null,null,5.3552445743629065,5.4,{"$f":"'Antenna Data'!B731","v":-19.490000000000002},0.82152214440847449,-1.7076145103169904,"",1.8234860477246646,5.218048893776154,"",-21.197614510316992,"",-14.271951106223849,"",14.662385489683011,21.588048893776154,-4.827614510316991,2.0980488937761521]
[72.900000000000134,1.2723450247038686,33.070438312022247,5714.571740317444,{"$f":"VLOOKUP(A734-$B$2,'Ref. Coeff. Horiz.'!A:X,24)","v":180},{"$f":"VLOOKUP(A734-$B$2,'Ref. Coeff. Vertical'!A:X,24)","v":0},{"$f":"VLOOKUP(A734-$B$2,'Ref. Coeff. Horiz.'!A:X,23)","v":1},{"$f":"VLOOKUP(A734-$B$2,'Ref. Coeff. Vertical'!A:X,23)","v":1},5894.571740317444,5714.571740317444,null,null,null,null,null,null,5.3221749351161973,5.3,{"$f":"'Antenna Data'!B732","v":-19.54},0.77226707956773288,-2.2446495600447665,"",1.8448857844907092,5.3193896895671795,"",-21.784649560044766,"",-14.22061031043282,"",14.125350439955234,21.689389689567179,-5.4146495600447651,2.1493896895671813]
[73.000000000000128,1.2740903539558628,33.088144556321048,5717.631379332277,{"$f":"VLOOKUP(A735-$B$2,'Ref. Coeff. Horiz.'!A:X,24)","v":180},{"$f":"VLOOKUP(A735-$B$2,'Ref. Coeff. Vertical'!A:X,24)","v":0},{"$f":"VLOOKUP(A735-$B$2,'Ref. Coeff. Horiz.'!A:X,23)","v":1},{"$f":"VLOOKUP(A735-$B$2,'Ref. Coeff. Vertical'!A:X,23)","v":1},5897.631379332277,5717.631379332277,null,null,null,null,null,null,5.289140789234783,5.3,{"$f":"'Antenna Data'!B733","v":-19.59},0.72273850479252189,-2.8203761417417974,"",1.8648455844091447,5.412857531307786,"",-22.410376141741796,"",-14.177142468692214,"",13.549623858258204,21.782857531307787,-6.0403761417417954,2.1928575313077872]
[73.100000000000122,1.275835683207857,33.105750008393237,5720.6736014503513,{"$f":"VLOOKUP(A736-$B$2,'Ref. Coeff. Horiz.'!A:X,24)","v":180},{"$f":"VLOOKUP(A736-$B$2,'Ref. Coeff. Vertical'!A:X,24)","v":0},{"$f":"VLOOKUP(A736-$B$2,'Ref. Coeff. Horiz.'!A:X,23)","v":1},{"$f":"VLOOKUP(A736-$B$2,'Ref. Coeff. Vertical'!A:X,23)","v":1},5900.6736014503513,5720.6736014503513,null,null,null,null,null,null,5.2561418786743914,5.3,{"$f":"'Antenna Data'!B734","v":-19.650000000000002},0.67298097643561383,-3.4399442413988885,"",1.8833737296022262,5.4987301666523711,"",-23.089944241398889,"",-14.15126983334763,"",12.930055758601112,21.868730166652373,-6.7199442413988884,2.2187301666523709]
[73.200000000000117,1.2775810124598512,33.12325461460955,5723.6983974045297,{"$f":"VLOOKUP(A737-$B$2,'Ref. Coeff. Horiz.'!A:X,24)","v":180},{"$f":"VLOOKUP(A737-$B$2,'Ref. Coeff. Vertical'!A:X,24)","v":0},{"$f":"VLOOKUP(A737-$B$2,'Ref. Coeff. Horiz.'!A:X,23)","v":1},{"$f":"VLOOKUP(A737-$B$2,'Ref. Coeff. Vertical'!A:X,23)","v":1},5903.6983974045297,5723.6983974045297,null,null,null,null,null,null,5.2231779463698107,5.2,{"$f":"'Antenna Data'!B735","v":-19.71},0.62303816417832336,-4.1097069966911857,"",1.9004797936251039,5.5772651287296426,"",-23.819706996691188,"",-14.132734871270358,"",12.260293003308815,21.947265128729644,-7.4497069966911873,2.2372651287296428]
[73.300000000000111,1.2793263417118454,33.140658321647919,5726.7057579807597,{"$f":"VLOOKUP(A738-$B$2,'Ref. Coeff. Horiz.'!A:X,24)","v":180},{"$f":"VLOOKUP(A738-$B$2,'Ref. Coeff. Vertical'!A:X,24)","v":0},{"$f":"VLOOKUP(A738-$B$2,'Ref. Coeff. Horiz.'!A:X,23)","v":1},{"$f":"VLOOKUP(A738-$B$2,'Ref. Coeff. Vertical'!A:X,23)","v":1},5906.7057579807597,5726.7057579807597,null,null,null,null,null,null,5.1902487362262653,5.2,{"$f":"'Antenna Data'!B736","v":-19.78},0.57295282250394231,-4.8376227358607116,"",1.9161745909975851,5.6487015400740335,"",-24.617622735860714,"",-14.131298459925969,"Max",11.532377264139289,22.018701540074034,-8.2476227358607126,2.2387015400740324]
[73.400000000000105,1.2810716709638397,33.157961076493628,5729.6956740180985,{"$f":"VLOOKUP(A739-$B$2,'Ref. Coeff. Horiz.'!A:X,24)","v":180},{"$f":"VLOOKUP(A739-$B$2,'Ref. Coeff. Vertical'!A:X,24)","v":0},{"$f":"VLOOKUP(A739-$B$2,'Ref. Coeff. Horiz.'!A:X,23)","v":1},{"$f":"VLOOKUP(A739-$B$2,'Ref. Coeff. Vertical'!A:X,23)","v":1},5909.6956740180985,5729.6956740180985,null,null,null,null,null,null,5.1573539931108359,5.2,{"$f":"'Antenna Data'!B737","v":-19.850000000000001},0.52276676446659198,-5.6338406202836664,"",1.9304701266710023,5.713261709231694,"",-25.483840620283669,"",-14.136738290768307,"",10.736159379716334,22.083261709231696,-9.1138406202836677,2.2332617092316944]
[73.500000000000099,1.2828170002158339,33.175162826439497,5732.6681364087444,{"$f":"VLOOKUP(A740-$B$2,'Ref. Coeff. Horiz.'!A:X,24)","v":180},{"$f":"VLOOKUP(A740-$B$2,'Ref. Coeff. Vertical'!A:X,24)","v":0},{"$f":"VLOOKUP(A740-$B$2,'Ref. Coeff. Horiz.'!A:X,23)","v":1},{"$f":"VLOOKUP(A740-$B$2,'Ref. Coeff. Vertical'!A:X,23)","v":1},5912.6681364087444,5732.6681364087444,null,null,null,null,null,null,5.1244934628439571,5.0999999999999996,{"$f":"'Antenna Data'!B738","v":-19.920000000000002},0.47252083771112102,-6.5115806953309434,"",1.9433795455156919,5.7711525475160723,"",-26.431580695330943,"",-14.148847452483929,"",9.8584193046690576,22.141152547516072,-10.061580695330942,2.2211525475160716]
[73.600000000000094,1.2845623294678281,33.192263519086005,5735.623136098061,{"$f":"VLOOKUP(A741-$B$2,'Ref. Coeff. Horiz.'!A:X,24)","v":180},{"$f":"VLOOKUP(A741-$B$2,'Ref. Coeff. Vertical'!A:X,24)","v":0},{"$f":"VLOOKUP(A741-$B$2,'Ref. Coeff. Horiz.'!A:X,23)","v":1},{"$f":"VLOOKUP(A741-$B$2,'Ref. Coeff. Vertical'!A:X,23)","v":1},5915.623136098061,5735.623136098061,null,null,null,null,null,null,5.091666892190962,5.0999999999999996,{"$f":"'Antenna Data'!B739","v":-20},0.42225490269827082,-7.488505984816066,"",1.9549170819109649,5.8225668291931063,"",-27.488505984816065,"",-14.177433170806893,"",8.8814940151839359,22.192566829193108,-11.118505984816064,2.1925668291931082]
[73.700000000000088,1.2863076587198223,33.209263102341481,5738.5606640846081,{"$f":"VLOOKUP(A742-$B$2,'Ref. Coeff. Horiz.'!A:X,24)","v":180},{"$f":"VLOOKUP(A742-$B$2,'Ref. Coeff. Vertical'!A:X,24)","v":0},{"$f":"VLOOKUP(A742-$B$2,'Ref. Coeff. Horiz.'!A:X,23)","v":1},{"$f":"VLOOKUP(A742-$B$2,'Ref. Coeff. Vertical'!A:X,23)","v":1},5918.5606640846081,5738.5606640846081,null,null,null,null,null,null,5.0588740288536878,5.0999999999999996,{"$f":"'Antenna Data'!B740","v":-20.080000000000002},0.37200781308561937,-8.5889587752470895,"",1.9650980095158745,5.8676843148949001,"",-28.668958775247091,"",-14.212315685105102,"",7.7810412247529115,22.237684314894899,-12.29895877524709,2.1576843148948992]
[73.800000000000082,1.2880529879718166,33.226161524422245,5741.480711420164,{"$f":"VLOOKUP(A743-$B$2,'Ref. Coeff. Horiz.'!A:X,24)","v":180},{"$f":"VLOOKUP(A743-$B$2,'Ref. Coeff. Vertical'!A:X,24)","v":0},{"$f":"VLOOKUP(A743-$B$2,'Ref. Coeff. Horiz.'!A:X,23)","v":1},{"$f":"VLOOKUP(A743-$B$2,'Ref. Coeff. Vertical'!A:X,23)","v":1},5921.480711420164,5741.480711420164,null,null,null,null,null,null,5.0261146214621304,5,{"$f":"'Antenna Data'!B741","v":-20.170000000000002},0.32181739821477506,-9.8478096121716181,"",1.973938591295654,5.906672755159958,"",-30.017809612171618,"",-14.263327244840044,"",6.5221903878283829,22.276672755159957,-13.647809612171617,2.1066727551599573]
[73.900000000000077,1.2897983172238108,33.242958733852767,5744.3832692097576,{"$f":"VLOOKUP(A744-$B$2,'Ref. Coeff. Horiz.'!A:X,24)","v":180},{"$f":"VLOOKUP(A744-$B$2,'Ref. Coeff. Vertical'!A:X,24)","v":0},{"$f":"VLOOKUP(A744-$B$2,'Ref. Coeff. Horiz.'!A:X,23)","v":1},{"$f":"VLOOKUP(A744-$B$2,'Ref. Coeff. Vertical'!A:X,23)","v":1},5924.3832692097576,5744.3832692097576,null,null,null,null,null,null,4.9933884195661742,5,{"$f":"'Antenna Data'!B742","v":-20.260000000000002},0.2717204476519009,-11.317553571852164,"",1.9814560298749646,5.9396887885689678,"",-31.577553571852164,"",-14.320311211431033,"",5.052446428147837,22.30968878856897,-15.207553571852163,2.0496887885689681]
[74.000000000000071,1.291543646475805,33.259654679465839,5747.2683286116962,{"$f":"VLOOKUP(A745-$B$2,'Ref. Coeff. Horiz.'!A:X,24)","v":180},{"$f":"VLOOKUP(A745-$B$2,'Ref. Coeff. Vertical'!A:X,24)","v":0},{"$f":"VLOOKUP(A745-$B$2,'Ref. Coeff. Horiz.'!A:X,23)","v":1},{"$f":"VLOOKUP(A745-$B$2,'Ref. Coeff. Vertical'!A:X,23)","v":1},5927.2683286116962,5747.2683286116962,null,null,null,null,null,null,4.9606951736273563,5,{"$f":"'Antenna Data'!B743","v":-20.350000000000001},0.2217526977283921,-13.082621761250291,"",1.9876684182856503,5.9668787469048032,"",-33.432621761250289,"",-14.383121253095197,"",3.2873782387497101,22.336878746904805,-17.062621761250288,1.9868787469048037]
[74.100000000000065,1.2932889757277994,33.276249310402726,5750.1358808375908,{"$f":"VLOOKUP(A746-$B$2,'Ref. Coeff. Horiz.'!A:X,24)","v":180},{"$f":"VLOOKUP(A746-$B$2,'Ref. Coeff. Vertical'!A:X,24)","v":0},{"$f":"VLOOKUP(A746-$B$2,'Ref. Coeff. Horiz.'!A:X,23)","v":1},{"$f":"VLOOKUP(A746-$B$2,'Ref. Coeff. Vertical'!A:X,23)","v":1},5930.1358808375908,5750.1358808375908,null,null,null,null,null,null,4.9280346350106994,4.9000000000000004,{"$f":"'Antenna Data'!B744","v":-20.450000000000003},0.17194882002666304,-15.292016002267371,"",1.9925946911731554,5.9883793780439163,"",-35.742016002267377,"",-14.461620621956087,"",1.0779839977326304,22.358379378043917,-19.372016002267376,1.9083793780439144]
[74.20000000000006,1.2950343049797937,33.292742576113284,5752.9859171523749,{"$f":"VLOOKUP(A747-$B$2,'Ref. Coeff. Horiz.'!A:X,24)","v":180},{"$f":"VLOOKUP(A747-$B$2,'Ref. Coeff. Vertical'!A:X,24)","v":0},{"$f":"VLOOKUP(A747-$B$2,'Ref. Coeff. Horiz.'!A:X,23)","v":1},{"$f":"VLOOKUP(A747-$B$2,'Ref. Coeff. Vertical'!A:X,23)","v":1},5932.9859171523749,5752.9859171523749,null,null,null,null,null,null,4.8954065559766029,4.9000000000000004,{"$f":"'Antenna Data'!B745","v":-20.55},0.12234241175443875,-18.248459248822442,"",1.9962545765222699,6.0043184958283682,"",-38.798459248822439,"",-14.545681504171633,"",-1.8784592488224412,22.374318495828369,-22.428459248822438,1.8243184958283685]
[74.300000000000054,1.2967796342317879,33.309134426356174,5755.8184288743469,{"$f":"VLOOKUP(A748-$B$2,'Ref. Coeff. Horiz.'!A:X,24)","v":180},{"$f":"VLOOKUP(A748-$B$2,'Ref. Coeff. Vertical'!A:X,24)","v":0},{"$f":"VLOOKUP(A748-$B$2,'Ref. Coeff. Horiz.'!A:X,23)","v":1},{"$f":"VLOOKUP(A748-$B$2,'Ref. Coeff. Vertical'!A:X,23)","v":1},5935.8184288743469,5755.8184288743469,null,null,null,null,null,null,4.8628106896727648,4.9000000000000004,{"$f":"'Antenna Data'!B746","v":-20.66},7.2965987950430064E-2,-22.737590657211108,"",1.9986685479594704,6.0148155649291093,"",-43.397590657211111,"",-14.645184435070892,"",-6.3675906572111067,22.384815564929109,-27.02759065721111,1.7248155649291093]
[74.400000000000048,1.2985249634837821,33.325424811198985,5758.6334073751841,{"$f":"VLOOKUP(A749-$B$2,'Ref. Coeff. Horiz.'!A:X,24)","v":180},{"$f":"VLOOKUP(A749-$B$2,'Ref. Coeff. Vertical'!A:X,24)","v":0},{"$f":"VLOOKUP(A749-$B$2,'Ref. Coeff. Horiz.'!A:X,23)","v":1},{"$f":"VLOOKUP(A749-$B$2,'Ref. Coeff. Vertical'!A:X,23)","v":1},5938.6334073751841,5758.6334073751841,null,null,null,null,null,null,4.8302467901261803,4.8,{"$f":"'Antenna Data'!B747","v":-20.770000000000003},2.38509754636127E-2,-32.449877087361088,"",1.9998577776855619,6.0199822276535544,"Max",-53.219877087361091,"",-14.75001777234645,"",-16.079877087361087,22.389982227653555,-36.849877087361094,1.6199822276535514]
[74.500000000000043,1.3002702927357763,33.341613681018366,5761.4308440799732,{"$f":"VLOOKUP(A750-$B$2,'Ref. Coeff. Horiz.'!A:X,24)","v":180},{"$f":"VLOOKUP(A750-$B$2,'Ref. Coeff. Vertical'!A:X,24)","v":0},{"$f":"VLOOKUP(A750-$B$2,'Ref. Coeff. Horiz.'!A:X,23)","v":1},{"$f":"VLOOKUP(A750-$B$2,'Ref. Coeff. Vertical'!A:X,23)","v":1},5941.4308440799732,5761.4308440799732,null,null,null,null,null,null,4.7977146122351906,4.8,{"$f":"'Antenna Data'!B748","v":-20.89},2.4972291353333127E-2,-32.050832135389427,"",1.9998440900891659,6.0199227787467908,"",-52.940832135389428,"",-14.87007722125321,"",-15.680832135389426,22.389922778746794,-36.570832135389423,1.4999227787467913]
[74.600000000000037,1.3020156219877705,33.35770098650022,5764.2107304672372,{"$f":"VLOOKUP(A751-$B$2,'Ref. Coeff. Horiz.'!A:X,24)","v":180},{"$f":"VLOOKUP(A751-$B$2,'Ref. Coeff. Vertical'!A:X,24)","v":0},{"$f":"VLOOKUP(A751-$B$2,'Ref. Coeff. Horiz.'!A:X,23)","v":1},{"$f":"VLOOKUP(A751-$B$2,'Ref. Coeff. Vertical'!A:X,23)","v":1},5944.2107304672372,5764.2107304672372,null,null,null,null,null,null,4.7652139117615748,4.8,{"$f":"'Antenna Data'!B749","v":-21.01},7.3474573295333245E-2,-22.677258548392544,"",1.9986499160881246,6.0147345934580008,"",-43.687258548392549,"",-14.995265406542,"",-6.307258548392543,22.384734593458003,-27.317258548392548,1.3747345934580011]
[74.700000000000031,1.3037609512397648,33.373686678639821,5766.9730580689602,{"$f":"VLOOKUP(A752-$B$2,'Ref. Coeff. Horiz.'!A:X,24)","v":180},{"$f":"VLOOKUP(A752-$B$2,'Ref. Coeff. Vertical'!A:X,24)","v":0},{"$f":"VLOOKUP(A752-$B$2,'Ref. Coeff. Horiz.'!A:X,23)","v":1},{"$f":"VLOOKUP(A752-$B$2,'Ref. Coeff. Vertical'!A:X,23)","v":1},5946.9730580689602,5766.9730580689602,null,null,null,null,null,null,4.7327444453226937,4.7,{"$f":"'Antenna Data'!B750","v":-21.130000000000003},0.12162772736107566,-18.299348161261562,"",1.9962982482427272,6.0045085134741507,"",-39.429348161261565,"",-15.125491486525853,"",-1.9293481612615615,22.374508513474151,-23.059348161261564,1.2445085134741483]
[74.800000000000026,1.305506280491759,33.389570708741978,5769.7178184706136,{"$f":"VLOOKUP(A753-$B$2,'Ref. Coeff. Horiz.'!A:X,24)","v":180},{"$f":"VLOOKUP(A753-$B$2,'Ref. Coeff. Vertical'!A:X,24)","v":0},{"$f":"VLOOKUP(A753-$B$2,'Ref. Coeff. Horiz.'!A:X,23)","v":1},{"$f":"VLOOKUP(A753-$B$2,'Ref. Coeff. Vertical'!A:X,23)","v":1},5949.7178184706136,5769.7178184706136,null,null,null,null,null,null,4.7003059703836971,4.7,{"$f":"'Antenna Data'!B751","v":-21.270000000000003},0.16940470627405543,-15.421490571905391,"",1.9928125966814345,5.9893291947435001,"",-36.691490571905391,"",-15.280670805256502,"",0.94850942809461003,22.359329194743502,-20.32149057190539,1.0893291947434989]
[74.90000000000002,1.3072516097437532,33.405353028421196,5772.4450033111825,{"$f":"VLOOKUP(A754-$B$2,'Ref. Coeff. Horiz.'!A:X,24)","v":180},{"$f":"VLOOKUP(A754-$B$2,'Ref. Coeff. Vertical'!A:X,24)","v":0},{"$f":"VLOOKUP(A754-$B$2,'Ref. Coeff. Horiz.'!A:X,23)","v":1},{"$f":"VLOOKUP(A754-$B$2,'Ref. Coeff. Vertical'!A:X,23)","v":1},5952.4450033111825,5772.4450033111825,null,null,null,null,null,null,4.6678982452497664,4.7,{"$f":"'Antenna Data'!B752","v":-21.400000000000002},0.21677955652892408,-13.279633529878774,"",1.9882169458766628,5.9692754207084011,"",-34.679633529878778,"",-15.430724579291601,"",3.0903664701212268,22.339275420708404,-18.309633529878777,0.93927542070839998]
[75.000000000000014,1.3089969389957474,33.421033589601763,5775.1546042831851,{"$f":"VLOOKUP(A755-$B$2,'Ref. Coeff. Horiz.'!A:X,24)","v":180},{"$f":"VLOOKUP(A755-$B$2,'Ref. Coeff. Vertical'!A:X,24)","v":0},{"$f":"VLOOKUP(A755-$B$2,'Ref. Coeff. Horiz.'!A:X,23)","v":1},{"$f":"VLOOKUP(A755-$B$2,'Ref. Coeff. Vertical'!A:X,23)","v":1},5955.1546042831851,5775.1546042831851,null,null,null,null,null,null,4.6355210290584186,4.5999999999999996,{"$f":"'Antenna Data'!B753","v":-21.54},0.26372741502315422,-11.576894440580407,"",1.9825357123051313,5.9444203840285157,"",-33.11689444058041,"",-15.595579615971484,"",4.7931055594195939,22.314420384028516,-16.746894440580409,0.77442038402851665]
[75.100000000000009,1.3107422682477416,33.436612344517997,5777.8466131327095,{"$f":"VLOOKUP(A756-$B$2,'Ref. Coeff. Horiz.'!A:X,24)","v":180},{"$f":"VLOOKUP(A756-$B$2,'Ref. Coeff. Vertical'!A:X,24)","v":0},{"$f":"VLOOKUP(A756-$B$2,'Ref. Coeff. Horiz.'!A:X,23)","v":1},{"$f":"VLOOKUP(A756-$B$2,'Ref. Coeff. Vertical'!A:X,23)","v":1},5957.8466131327095,5777.8466131327095,null,null,null,null,null,null,4.6031740817718516,4.5999999999999996,{"$f":"'Antenna Data'!B754","v":-21.69},0.31022450433475196,-10.166478013294833,"",1.975793703024241,5.91483193949193,"",-31.856478013294833,"",-15.775168060508072,"",6.2035219867051676,22.28483193949193,-15.486478013294832,0.59483193949192881]
[75.2,1.3124875974997359,33.452089245714298,5780.5210216594296,{"$f":"VLOOKUP(A757-$B$2,'Ref. Coeff. Horiz.'!A:X,24)","v":180},{"$f":"VLOOKUP(A757-$B$2,'Ref. Coeff. Vertical'!A:X,24)","v":0},{"$f":"VLOOKUP(A757-$B$2,'Ref. Coeff. Horiz.'!A:X,23)","v":1},{"$f":"VLOOKUP(A757-$B$2,'Ref. Coeff. Vertical'!A:X,23)","v":1},5960.5210216594296,5780.5210216594296,null,null,null,null,null,null,4.570857164169345,4.5999999999999996,{"$f":"'Antenna Data'!B755","v":-21.84},0.3562481267056361,-8.9649482134115015,"",1.9680160751931672,5.8805728304753089,"",-30.8049482134115,"",-15.959427169524691,"",7.4050517865884995,22.25057283047531,-14.434948213411499,0.41057283047531001]
[75.3,1.3142329267517301,33.467464246045338,5783.1778217166338,{"$f":"VLOOKUP(A758-$B$2,'Ref. Coeff. Horiz.'!A:X,24)","v":180},{"$f":"VLOOKUP(A758-$B$2,'Ref. Coeff. Vertical'!A:X,24)","v":0},{"$f":"VLOOKUP(A758-$B$2,'Ref. Coeff. Horiz.'!A:X,23)","v":1},{"$f":"VLOOKUP(A758-$B$2,'Ref. Coeff. Vertical'!A:X,23)","v":1},5963.1778217166338,5783.1778217166338,null,null,null,null,null,null,4.5385700378397065,4.5,{"$f":"'Antenna Data'!B756","v":-22},0.40177665679048946,-7.9203059869758183,"",1.9592282965643,5.8417008910161705,"",-29.920305986975819,"",-16.158299108983829,"",8.4496940130241818,22.211700891016172,-13.550305986975818,0.21170089101617151]
[75.399999999999991,1.3159782560037243,33.482737298676206,5785.8170052112482,{"$f":"VLOOKUP(A759-$B$2,'Ref. Coeff. Horiz.'!A:X,24)","v":180},{"$f":"VLOOKUP(A759-$B$2,'Ref. Coeff. Vertical'!A:X,24)","v":0},{"$f":"VLOOKUP(A759-$B$2,'Ref. Coeff. Horiz.'!A:X,23)","v":1},{"$f":"VLOOKUP(A759-$B$2,'Ref. Coeff. Vertical'!A:X,23)","v":1},5965.8170052112482,5785.8170052112482,null,null,null,null,null,null,4.5063124651737638,4.5,{"$f":"'Antenna Data'!B757","v":-22.16},0.44678953323068443,-6.9979401897947042,"",1.9494561069681713,5.7982692252980774,"",-29.157940189794704,"",-16.361730774701922,"",9.3720598102052968,22.168269225298079,-12.787940189794703,8.2692252980791636E-3]
[75.499999999999986,1.3177235852557185,33.49790835708253,5788.4385641038607,{"$f":"VLOOKUP(A760-$B$2,'Ref. Coeff. Horiz.'!A:X,24)","v":180},{"$f":"VLOOKUP(A760-$B$2,'Ref. Coeff. Vertical'!A:X,24)","v":0},{"$f":"VLOOKUP(A760-$B$2,'Ref. Coeff. Horiz.'!A:X,23)","v":1},{"$f":"VLOOKUP(A760-$B$2,'Ref. Coeff. Vertical'!A:X,23)","v":1},5968.4385641038607,5788.4385641038607,null,null,null,null,null,null,4.4740842093569073,4.5,{"$f":"'Antenna Data'!B758","v":-22.330000000000002},0.49126724911195996,-6.1736437526814019,"",1.9387254808120611,5.750326366113601,"",-28.503643752681405,"",-16.579673633886401,"",10.196356247318599,22.120326366113602,-12.133643752681404,-0.20967363388639981]
[75.59999999999998,1.3194689145077128,33.512977375050632,5791.0424904087486,{"$f":"VLOOKUP(A761-$B$2,'Ref. Coeff. Horiz.'!A:X,24)","v":180},{"$f":"VLOOKUP(A761-$B$2,'Ref. Coeff. Vertical'!A:X,24)","v":0},{"$f":"VLOOKUP(A761-$B$2,'Ref. Coeff. Horiz.'!A:X,23)","v":1},{"$f":"VLOOKUP(A761-$B$2,'Ref. Coeff. Vertical'!A:X,23)","v":1},5971.0424904087486,5791.0424904087486,null,null,null,null,null,null,4.4418850343616807,4.4000000000000004,{"$f":"'Antenna Data'!B759","v":-22.51},0.53519134136407243,-5.4298184290282432,"",1.9270625906101086,5.6979164136605807,"",-27.939818429028243,"",-16.812083586339419,"",10.940181570971758,22.067916413660583,-11.569818429028242,-0.44208358633941813]
[75.699999999999974,1.321214243759707,33.527944306677682,5793.6287761939029,{"$f":"VLOOKUP(A762-$B$2,'Ref. Coeff. Horiz.'!A:X,24)","v":180},{"$f":"VLOOKUP(A762-$B$2,'Ref. Coeff. Vertical'!A:X,24)","v":0},{"$f":"VLOOKUP(A762-$B$2,'Ref. Coeff. Horiz.'!A:X,23)","v":1},{"$f":"VLOOKUP(A762-$B$2,'Ref. Coeff. Vertical'!A:X,23)","v":1},5973.6287761939029,5793.6287761939029,null,null,null,null,null,null,4.409714704940412,4.4000000000000004,{"$f":"'Antenna Data'!B760","v":-22.69},0.57854437916005885,-4.7532664287966595,"",1.9144937715600669,5.6410791558366373,"",-27.443266428796662,"",-17.048920844163362,"",11.616733571203341,22.01107915583664,-11.073266428796661,-0.67892084416336118]
[75.799999999999969,1.3229595730117012,33.542809106371806,5796.1974135810478,{"$f":"VLOOKUP(A763-$B$2,'Ref. Coeff. Horiz.'!A:X,24)","v":180},{"$f":"VLOOKUP(A763-$B$2,'Ref. Coeff. Vertical'!A:X,24)","v":0},{"$f":"VLOOKUP(A763-$B$2,'Ref. Coeff. Horiz.'!A:X,23)","v":1},{"$f":"VLOOKUP(A763-$B$2,'Ref. Coeff. Vertical'!A:X,23)","v":1},5976.1974135810478,5796.1974135810478,null,null,null,null,null,null,4.3775729866178974,4.4000000000000004,{"$f":"'Antenna Data'!B761","v":-22.880000000000003},0.62130995137206135,-4.1338338068182532,"",1.9010454871796381,5.5798501710255461,"",-27.013833806818255,"",-17.300149828974455,"",12.236166193181749,21.949850171025545,-10.643833806818254,-0.93014982897445364]
[75.899999999999963,1.3247049022636954,33.557571728852238,5798.7483947456667,{"$f":"VLOOKUP(A764-$B$2,'Ref. Coeff. Horiz.'!A:X,24)","v":180},{"$f":"VLOOKUP(A764-$B$2,'Ref. Coeff. Vertical'!A:X,24)","v":0},{"$f":"VLOOKUP(A764-$B$2,'Ref. Coeff. Horiz.'!A:X,23)","v":1},{"$f":"VLOOKUP(A764-$B$2,'Ref. Coeff. Vertical'!A:X,23)","v":1},5978.7483947456667,5798.7483947456667,null,null,null,null,null,null,4.3454596456841239,4.3,{"$f":"'Antenna Data'!B762","v":-23.07},0.66347265313937365,-3.5635394615802825,"",1.8867442960126279,5.5142609142096433,"",-26.633539461580284,"",-17.555739085790357,"",12.806460538419719,21.884260914209644,-10.263539461580283,-1.185739085790356]
[75.999999999999957,1.3264502315156896,33.572232129149469,5801.2817119170277,{"$f":"VLOOKUP(A765-$B$2,'Ref. Coeff. Horiz.'!A:X,24)","v":180},{"$f":"VLOOKUP(A765-$B$2,'Ref. Coeff. Vertical'!A:X,24)","v":0},{"$f":"VLOOKUP(A765-$B$2,'Ref. Coeff. Horiz.'!A:X,23)","v":1},{"$f":"VLOOKUP(A765-$B$2,'Ref. Coeff. Vertical'!A:X,23)","v":1},5981.2817119170277,5801.2817119170277,null,null,null,null,null,null,4.3133744491870418,4.3,{"$f":"'Antenna Data'!B763","v":-23.270000000000003},0.70501807160455476,-3.0359950134330727,"",1.8716168194133598,5.444338787098614,"",-26.305995013433076,"",-17.825661212901387,"",13.334004986566928,21.814338787098613,-9.9359950134330752,-1.4556612129013864]
[76.099999999999952,1.3281955607676839,33.586790262605398,5803.7973573782128,{"$f":"VLOOKUP(A766-$B$2,'Ref. Coeff. Horiz.'!A:X,24)","v":180},{"$f":"VLOOKUP(A766-$B$2,'Ref. Coeff. Vertical'!A:X,24)","v":0},{"$f":"VLOOKUP(A766-$B$2,'Ref. Coeff. Horiz.'!A:X,23)","v":1},{"$f":"VLOOKUP(A766-$B$2,'Ref. Coeff. Vertical'!A:X,23)","v":1},5983.7973573782128,5803.7973573782128,null,null,null,null,null,null,4.2813171649253796,4.3,{"$f":"'Antenna Data'!B764","v":-23.48},0.74593277087103205,-2.5460062536413415,"",1.8556897104151464,5.370107192826918,"",-26.026006253641341,"",-18.109892807173082,"",13.82399374635866,21.740107192826919,-9.6560062536413405,-1.7398928071730815]
[76.199999999999946,1.3299408900196781,33.601246084873402,5806.2953234661227,{"$f":"VLOOKUP(A767-$B$2,'Ref. Coeff. Horiz.'!A:X,24)","v":180},{"$f":"VLOOKUP(A767-$B$2,'Ref. Coeff. Vertical'!A:X,24)","v":0},{"$f":"VLOOKUP(A767-$B$2,'Ref. Coeff. Horiz.'!A:X,23)","v":1},{"$f":"VLOOKUP(A767-$B$2,'Ref. Coeff. Vertical'!A:X,23)","v":1},5986.2953234661227,5806.2953234661227,null,null,null,null,null,null,4.2492875614415038,4.2,{"$f":"'Antenna Data'!B765","v":-23.700000000000003},0.78620427623546696,-2.0892919668585055,"",1.8389896236871621,5.2915855756465815,"",-25.789291966858507,"",-18.40841442435342,"",14.280708033141496,21.661585575646583,-9.4192919668585056,-2.0384144243534195]
[76.29999999999994,1.3316862192716723,33.61559955191855,5808.7756025715244,{"$f":"VLOOKUP(A768-$B$2,'Ref. Coeff. Horiz.'!A:X,24)","v":180},{"$f":"VLOOKUP(A768-$B$2,'Ref. Coeff. Vertical'!A:X,24)","v":0},{"$f":"VLOOKUP(A768-$B$2,'Ref. Coeff. Horiz.'!A:X,23)","v":1},{"$f":"VLOOKUP(A768-$B$2,'Ref. Coeff. Vertical'!A:X,23)","v":1},5988.7756025715244,5808.7756025715244,null,null,null,null,null,null,4.2172854080143169,4.2,{"$f":"'Antenna Data'!B766","v":-23.92},0.82582105774789805,-1.6622809434643049,"",1.8215431865811387,5.2087894459154516,"",-25.582280943464305,"",-18.711210554084552,"",14.707719056535696,21.578789445915454,-9.2122809434643038,-2.3412105540845509]
[76.399999999999935,1.3334315485236667,33.629850620017692,5811.2381871390562,{"$f":"VLOOKUP(A769-$B$2,'Ref. Coeff. Horiz.'!A:X,24)","v":180},{"$f":"VLOOKUP(A769-$B$2,'Ref. Coeff. Vertical'!A:X,24)","v":0},{"$f":"VLOOKUP(A769-$B$2,'Ref. Coeff. Horiz.'!A:X,23)","v":1},{"$f":"VLOOKUP(A769-$B$2,'Ref. Coeff. Vertical'!A:X,23)","v":1},5991.2381871390562,5811.2381871390562,null,null,null,null,null,null,4.1853104746522041,4.2,{"$f":"'Antenna Data'!B767","v":-24.150000000000002},0.86477251314909354,-1.261962458277782,"",1.8033769712685717,5.1217303905682101,"",-25.411962458277785,"",-19.028269609431792,"",15.108037541722219,21.491730390568211,-9.0419624582777836,-2.658269609431791]
[76.499999999999929,1.335176877775661,33.643999245759602,5813.6830696672587,{"$f":"VLOOKUP(A770-$B$2,'Ref. Coeff. Horiz.'!A:X,24)","v":180},{"$f":"VLOOKUP(A770-$B$2,'Ref. Coeff. Vertical'!A:X,24)","v":0},{"$f":"VLOOKUP(A770-$B$2,'Ref. Coeff. Horiz.'!A:X,23)","v":1},{"$f":"VLOOKUP(A770-$B$2,'Ref. Coeff. Vertical'!A:X,23)","v":1},5993.6830696672587,5813.6830696672587,null,null,null,null,null,null,4.153362532086029,4.2,{"$f":"'Antenna Data'!B768","v":-24.39},0.90304895023649379,-0.8857741578181656,"",1.7845174679662767,5.0304160691368569,"",-25.275774157818166,"",-19.359583930863145,"",15.484225842181836,21.40041606913686,-8.9057741578181648,-2.9895839308631444]
[76.599999999999923,1.3369222070276552,33.65804538604511,5816.1102427085953,{"$f":"VLOOKUP(A771-$B$2,'Ref. Coeff. Horiz.'!A:X,24)","v":180},{"$f":"VLOOKUP(A771-$B$2,'Ref. Coeff. Vertical'!A:X,24)","v":0},{"$f":"VLOOKUP(A771-$B$2,'Ref. Coeff. Horiz.'!A:X,23)","v":1},{"$f":"VLOOKUP(A771-$B$2,'Ref. Coeff. Vertical'!A:X,23)","v":1},5996.1102427085953,5816.1102427085953,null,null,null,null,null,null,4.1214413517621464,4.0999999999999996,{"$f":"'Antenna Data'!B769","v":-24.64},0.94064156870632065,-0.53151665764463274,"",1.7649910592469635,4.9348501952752128,"",-25.171516657644634,"",-19.705149804724787,"",15.838483342355369,21.304850195275215,-8.8015166576446333,-3.3351498047247858]
[76.699999999999918,1.3386675362796494,33.671988998087244,5818.5196988694752,{"$f":"VLOOKUP(A772-$B$2,'Ref. Coeff. Horiz.'!A:X,24)","v":180},{"$f":"VLOOKUP(A772-$B$2,'Ref. Coeff. Vertical'!A:X,24)","v":0},{"$f":"VLOOKUP(A772-$B$2,'Ref. Coeff. Horiz.'!A:X,23)","v":1},{"$f":"VLOOKUP(A772-$B$2,'Ref. Coeff. Vertical'!A:X,23)","v":1},5998.5196988694752,5818.5196988694752,null,null,null,null,null,null,4.0895467058354846,4.0999999999999996,{"$f":"'Antenna Data'!B770","v":-24.89},0.97754244151972736,-0.19728755909846604,"",1.744823995429813,4.8350325036263255,"",-25.087287559098467,"",-20.054967496373674,"",16.172712440901535,21.205032503626327,-8.717287559098466,-3.6849674963736732]
[76.799999999999912,1.3404128655316436,33.685830039411336,5820.911430810278,{"$f":"VLOOKUP(A773-$B$2,'Ref. Coeff. Horiz.'!A:X,24)","v":180},{"$f":"VLOOKUP(A773-$B$2,'Ref. Coeff. Vertical'!A:X,24)","v":0},{"$f":"VLOOKUP(A773-$B$2,'Ref. Coeff. Horiz.'!A:X,23)","v":1},{"$f":"VLOOKUP(A773-$B$2,'Ref. Coeff. Vertical'!A:X,23)","v":1},6000.911430810278,5820.911430810278,null,null,null,null,null,null,4.0576783671626524,4.0999999999999996,{"$f":"'Antenna Data'!B771","v":-25.16},1.013744495839159,0.11857018417373966,"",1.7240423710442241,4.7309587017526988,"",-25.041429815826259,"",-20.429041298247302,"",16.488570184173742,21.100958701752699,-8.6714298158262579,-4.0590412982473012]
[{"$f":"A773+0.1","v":76.899999999999906},{"$f":"A774*(PI()/180)","v":1.3421581947836378},{"$f":"(2*$B$1*SIN(B774-$C$2)*COS($C$2))","v":33.699568467855173},{"$f":"(C774/$O$1)*360","v":5823.2854312453737},{"$f":"VLOOKUP(A774-$B$2,'Ref. Coeff. Horiz.'!A:X,24)","v":180},{"$f":"VLOOKUP(A774-$B$2,'Ref. Coeff. Vertical'!A:X,24)","v":0},{"$f":"VLOOKUP(A774-$B$2,'Ref. Coeff. Horiz.'!A:X,23)","v":1},{"$f":"VLOOKUP(A774-$B$2,'Ref. Coeff. Vertical'!A:X,23)","v":1},{"$f":"D774+E774","v":6003.2854312453737},{"$f":"D774+F774","v":5823.2854312453737},null,null,null,null,null,null,{"$f":"(((COS($C$2))/(TAN(B774-$C$2)))-(SIN($C$2)))*$B$1","v":4.0258361092950921},{"$f":"ROUND(Q774,1)","v":4},{"$f":"'Antenna Data'!B772","v":-25.43},{"$f":"SQRT((1+(2*G774*COS(I774*PI()/180)))+(G774^2))","v":1.0492414935795371},{"$f":"IF(T774=0,-99,10*LOG(T774^2))","v":0.41750913963018299},{"$f":"IF(AND((U775<U774),(U774>U773)),\"Max\",\"\")","v":""},{"$f":"SQRT((1+(2*H774*COS(J774*PI()/180)))+(H774^2))","v":1.7026721023588005},{"$f":"IF(W774=0,-99,10*LOG(W774^2))","v":4.6226204067294994},{"$f":"IF(AND((X775<X774),(X774>X773)),\"Max\",\"\")","v":""},{"$f":"U774+S774","v":-25.012490860369816},{"$f":"IF(AND((Z775<Z774),(Z774>Z773)),\"Max\",\"\")","v":""},{"$f":"X774+S774","v":-20.8073795932705},{"$f":"IF(AND((AB775<AB774),(AB774>AB773)),\"Max\",\"\")","v":""},{"$f":"U774+$AD$2","v":16.787509139630185},{"$f":"X774+$AD$2","v":20.9926204067295},{"$f":"Z774+$AD$2","v":-8.642490860369815},{"$f":"AB774+$AD$2","v":-4.4373795932704994}]
[76.999999999999901,1.3439035240356321,33.713204241569123,5825.6416929431443,{"$f":"VLOOKUP(A775-$B$2,'Ref. Coeff. Horiz.'!A:X,24)","v":180},{"$f":"VLOOKUP(A775-$B$2,'Ref. Coeff. Vertical'!A:X,24)","v":0},{"$f":"VLOOKUP(A775-$B$2,'Ref. Coeff. Horiz.'!A:X,23)","v":1},{"$f":"VLOOKUP(A775-$B$2,'Ref. Coeff. Vertical'!A:X,23)","v":1},6005.6416929431443,5825.6416929431443,null,null,null,null,null,null,3.9940197064722733,4,{"$f":"'Antenna Data'!B773","v":-25.71},1.0840280116180965,0.7008100930139618,"",1.6807389059658695,4.5100050658717574,"",-25.009189906986037,"Max",-21.199994934128242,"",17.070810093013964,20.880005065871757,-8.6391899069860365,-4.8299949341282407]
[77.099999999999895,1.3456488532876263,33.726737319016259,5827.9802087260086,{"$f":"VLOOKUP(A776-$B$2,'Ref. Coeff. Horiz.'!A:X,24)","v":180},{"$f":"VLOOKUP(A776-$B$2,'Ref. Coeff. Vertical'!A:X,24)","v":0},{"$f":"VLOOKUP(A776-$B$2,'Ref. Coeff. Horiz.'!A:X,23)","v":1},{"$f":"VLOOKUP(A776-$B$2,'Ref. Coeff. Vertical'!A:X,23)","v":1},6007.9802087260086,5827.9802087260086,null,null,null,null,null,null,3.9622289336149201,4,{"$f":"'Antenna Data'!B774","v":-26},1.1180994217047953,0.96960845701889664,"",1.658268278410759,4.3930958609331476,"",-25.030391542981103,"",-21.606904139066852,"",17.339608457018898,20.763095860933149,-8.6603915429811025,-5.2369041390668514]
[77.199999999999889,1.3473941825396205,33.740167658972474,5830.300971470444,{"$f":"VLOOKUP(A777-$B$2,'Ref. Coeff. Horiz.'!A:X,24)","v":180},{"$f":"VLOOKUP(A777-$B$2,'Ref. Coeff. Vertical'!A:X,24)","v":0},{"$f":"VLOOKUP(A777-$B$2,'Ref. Coeff. Horiz.'!A:X,23)","v":1},{"$f":"VLOOKUP(A777-$B$2,'Ref. Coeff. Vertical'!A:X,23)","v":1},6010.300971470444,5830.300971470444,null,null,null,null,null,null,3.930463566318287,3.9,{"$f":"'Antenna Data'!B775","v":-26.3},1.1514518701147152,1.2249157894623393,"",1.6352854768539136,4.2718715949702606,"",-25.075084210537661,"",-22.02812840502974,"",17.594915789462341,20.641871594970262,-8.7050842105376596,-5.6581284050297391]
[77.299999999999883,1.3491395117916147,33.753495220526624,5832.6039741069999,{"$f":"VLOOKUP(A778-$B$2,'Ref. Coeff. Horiz.'!A:X,24)","v":180},{"$f":"VLOOKUP(A778-$B$2,'Ref. Coeff. Vertical'!A:X,24)","v":0},{"$f":"VLOOKUP(A778-$B$2,'Ref. Coeff. Horiz.'!A:X,23)","v":1},{"$f":"VLOOKUP(A778-$B$2,'Ref. Coeff. Vertical'!A:X,23)","v":1},6012.6039741069999,5832.6039741069999,null,null,null,null,null,null,3.8987233808454613,3.9,{"$f":"'Antenna Data'!B776","v":-26.62},1.184082257081035,1.4676374692838465,"",1.6118155007524468,4.1463065609088465,"",-25.152362530716154,"",-22.473693439091154,"",17.837637469283848,20.516306560908848,-8.7823625307161528,-6.1036934390911526]
[77.399999999999878,1.350884841043609,33.766719963080646,5834.8892096203344,{"$f":"VLOOKUP(A779-$B$2,'Ref. Coeff. Horiz.'!A:X,24)","v":180},{"$f":"VLOOKUP(A779-$B$2,'Ref. Coeff. Vertical'!A:X,24)","v":0},{"$f":"VLOOKUP(A779-$B$2,'Ref. Coeff. Horiz.'!A:X,23)","v":1},{"$f":"VLOOKUP(A779-$B$2,'Ref. Coeff. Vertical'!A:X,23)","v":1},6014.8892096203344,5834.8892096203344,null,null,null,null,null,null,3.8670081541207186,3.9,{"$f":"'Antenna Data'!B777","v":-26.94},1.21598821604799,1.6985873255413899,"",1.5878830745468566,4.0163703906796,"",-25.241412674458612,"",-22.9236296093204,"",18.06858732554139,20.386370390679602,-8.871412674458611,-6.5536296093203994]
[77.499999999999872,1.3526301702956032,33.779841846349683,5837.1566710492243,{"$f":"VLOOKUP(A780-$B$2,'Ref. Coeff. Horiz.'!A:X,24)","v":180},{"$f":"VLOOKUP(A780-$B$2,'Ref. Coeff. Vertical'!A:X,24)","v":0},{"$f":"VLOOKUP(A780-$B$2,'Ref. Coeff. Horiz.'!A:X,23)","v":1},{"$f":"VLOOKUP(A780-$B$2,'Ref. Coeff. Vertical'!A:X,23)","v":1},6017.1566710492243,5837.1566710492243,null,null,null,null,null,null,3.8353176637229014,3.8,{"$f":"'Antenna Data'!B778","v":-27.270000000000003},1.2471680927793993,1.9184998289412856,"",1.5635126313378482,3.8820278836054865,"",-25.351500171058717,"",-23.387972116394515,"",18.288499828941287,20.252027883605486,-8.9815001710587161,-7.0179721163945139]
[77.599999999999866,1.3543754995475974,33.792860830362194,5839.4063514865866,{"$f":"VLOOKUP(A781-$B$2,'Ref. Coeff. Horiz.'!A:X,24)","v":180},{"$f":"VLOOKUP(A781-$B$2,'Ref. Coeff. Vertical'!A:X,24)","v":0},{"$f":"VLOOKUP(A781-$B$2,'Ref. Coeff. Horiz.'!A:X,23)","v":1},{"$f":"VLOOKUP(A781-$B$2,'Ref. Coeff. Vertical'!A:X,23)","v":1},6019.4063514865866,5839.4063514865866,null,null,null,null,null,null,3.8036516878788449,3.8,{"$f":"'Antenna Data'!B779","v":-27.61},1.277620924358871,2.1280403177616343,"",1.5387282975367649,3.7432388125129585,"",-25.481959682238365,"",-23.86676118748704,"",18.498040317761635,20.113238812512961,-9.1119596822383642,-7.4967611874870386]
[77.699999999999861,1.3561208287995916,33.805776875460104,5841.6382440795051,{"$f":"VLOOKUP(A782-$B$2,'Ref. Coeff. Horiz.'!A:X,24)","v":180},{"$f":"VLOOKUP(A782-$B$2,'Ref. Coeff. Vertical'!A:X,24)","v":0},{"$f":"VLOOKUP(A782-$B$2,'Ref. Coeff. Horiz.'!A:X,23)","v":1},{"$f":"VLOOKUP(A782-$B$2,'Ref. Coeff. Vertical'!A:X,23)","v":1},6021.6382440795051,5841.6382440795051,null,null,null,null,null,null,3.7720100054568388,3.8,{"$f":"'Antenna Data'!B780","v":-27.96},1.3073464181156957,2.3278136267704443,"",1.5135538784727947,3.5999577058115313,"",-25.632186373229558,"",-24.360042294188471,"",18.697813626770447,19.969957705811531,-9.2621863732295573,-7.9900422941884699]
[77.799999999999855,1.3578661580515858,33.8185899422989,5843.8523420292504,{"$f":"VLOOKUP(A783-$B$2,'Ref. Coeff. Horiz.'!A:X,24)","v":180},{"$f":"VLOOKUP(A783-$B$2,'Ref. Coeff. Vertical'!A:X,24)","v":0},{"$f":"VLOOKUP(A783-$B$2,'Ref. Coeff. Horiz.'!A:X,23)","v":1},{"$f":"VLOOKUP(A783-$B$2,'Ref. Coeff. Vertical'!A:X,23)","v":1},6023.8523420292504,5843.8523420292504,null,null,null,null,null,null,3.7403923959601157,3.7,{"$f":"'Antenna Data'!B781","v":-28.32},1.3363449305087947,2.5183714095264476,"",1.4880128449389793,3.4521336035257129,"",-25.801628590473552,"",-24.867866396474287,"",18.888371409526449,19.822133603525714,-9.4316285904735508,-8.4978663964742864]
[77.899999999999849,1.3596114873035801,33.831299991847757,5846.0486385912918,{"$f":"VLOOKUP(A784-$B$2,'Ref. Coeff. Horiz.'!A:X,24)","v":180},{"$f":"VLOOKUP(A784-$B$2,'Ref. Coeff. Vertical'!A:X,24)","v":0},{"$f":"VLOOKUP(A784-$B$2,'Ref. Coeff. Horiz.'!A:X,23)","v":1},{"$f":"VLOOKUP(A784-$B$2,'Ref. Coeff. Vertical'!A:X,23)","v":1},6026.0486385912918,5846.0486385912918,null,null,null,null,null,null,3.7087986395203929,3.7,{"$f":"'Antenna Data'!B782","v":-28.69},1.3646174460000644,2.7002183846512602,"",1.4621283206586937,3.2997097849737052,"",-25.98978161534874,"",-25.390290215026297,"",19.070218384651263,19.669709784973705,-9.6197816153487388,-9.0202902150262965]
[77.999999999999844,1.3613568165555743,33.843906985389658,5848.2271270753317,{"$f":"VLOOKUP(A785-$B$2,'Ref. Coeff. Horiz.'!A:X,24)","v":180},{"$f":"VLOOKUP(A785-$B$2,'Ref. Coeff. Vertical'!A:X,24)","v":0},{"$f":"VLOOKUP(A785-$B$2,'Ref. Coeff. Horiz.'!A:X,23)","v":1},{"$f":"VLOOKUP(A785-$B$2,'Ref. Coeff. Vertical'!A:X,23)","v":1},6028.2271270753317,5848.2271270753317,null,null,null,null,null,null,3.6772285168914332,3.7,{"$f":"'Antenna Data'!B783","v":-29.060000000000002},1.3921655559475308,2.8738176905357395,"",1.4359230706529,3.142623465453021,"",-26.186182309464265,"",-25.917376534546982,"",19.243817690535742,19.512623465453022,-9.8161823094642635,-9.5473765345469808]
[78.099999999999838,1.3631021458075685,33.856410884521516,5850.3878008453175,{"$f":"VLOOKUP(A786-$B$2,'Ref. Coeff. Horiz.'!A:X,24)","v":180},{"$f":"VLOOKUP(A786-$B$2,'Ref. Coeff. Vertical'!A:X,24)","v":0},{"$f":"VLOOKUP(A786-$B$2,'Ref. Coeff. Horiz.'!A:X,23)","v":1},{"$f":"VLOOKUP(A786-$B$2,'Ref. Coeff. Vertical'!A:X,23)","v":1},6030.3878008453175,5850.3878008453175,null,null,null,null,null,null,3.6456818094426517,3.6,{"$f":"'Antenna Data'!B784","v":-29.450000000000003},1.4189914375462263,3.0395954970614616,"",1.4094194904890811,2.9808054589242916,"",-26.41040450293854,"",-26.469194541075712,"",19.409595497061463,19.350805458924292,-10.040404502938539,-10.099194541075711]
[78.199999999999832,1.3648474750595627,33.868811651154282,5852.5306533194598,{"$f":"VLOOKUP(A787-$B$2,'Ref. Coeff. Horiz.'!A:X,24)","v":180},{"$f":"VLOOKUP(A787-$B$2,'Ref. Coeff. Vertical'!A:X,24)","v":0},{"$f":"VLOOKUP(A787-$B$2,'Ref. Coeff. Horiz.'!A:X,23)","v":1},{"$f":"VLOOKUP(A787-$B$2,'Ref. Coeff. Vertical'!A:X,23)","v":1},6032.5306533194598,5852.5306533194598,null,null,null,null,null,null,3.6141582991527508,3.6,{"$f":"'Antenna Data'!B785","v":-29.830000000000002},1.4450978328444148,3.1979449948094256,"",1.3826395963910212,2.8141798032483054,"",-26.632055005190576,"",-27.015820196751697,"",19.567944994809427,19.184179803248306,-10.262055005190575,-10.645820196751696]
[78.299999999999827,1.3665928043115569,33.881109247513081,5854.6556779702596,{"$f":"VLOOKUP(A788-$B$2,'Ref. Coeff. Horiz.'!A:X,24)","v":180},{"$f":"VLOOKUP(A788-$B$2,'Ref. Coeff. Vertical'!A:X,24)","v":0},{"$f":"VLOOKUP(A788-$B$2,'Ref. Coeff. Horiz.'!A:X,23)","v":1},{"$f":"VLOOKUP(A788-$B$2,'Ref. Coeff. Vertical'!A:X,23)","v":1},6034.6556779702596,5854.6556779702596,null,null,null,null,null,null,3.5826577686033962,3.6,{"$f":"'Antenna Data'!B786","v":-30.22},1.4704880278612866,3.3492298600314929,"",1.3556050161889244,2.6426633440436005,"",-26.870770139968506,"",-27.577336655956397,"",19.719229860031493,19.012663344043602,-10.500770139968505,-11.207336655956396]
[78.399999999999821,1.3683381335635512,33.893303636137283,5856.7628683245221,{"$f":"VLOOKUP(A789-$B$2,'Ref. Coeff. Horiz.'!A:X,24)","v":180},{"$f":"VLOOKUP(A789-$B$2,'Ref. Coeff. Vertical'!A:X,24)","v":0},{"$f":"VLOOKUP(A789-$B$2,'Ref. Coeff. Horiz.'!A:X,23)","v":1},{"$f":"VLOOKUP(A789-$B$2,'Ref. Coeff. Vertical'!A:X,23)","v":1},6036.7628683245221,5856.7628683245221,null,null,null,null,null,null,3.5511800009729186,3.6,{"$f":"'Antenna Data'!B787","v":-30.61},1.4951658318302132,3.4937872760143889,"",1.3283369810885615,2.4661652726628005,"",-27.116212723985612,"",-28.1438347273372,"",19.863787276014389,18.8361652726628,-10.746212723985611,-11.773834727337199]
[78.499999999999815,1.3700834628155454,33.90539477988068,5858.852217963381,{"$f":"VLOOKUP(A790-$B$2,'Ref. Coeff. Horiz.'!A:X,24)","v":180},{"$f":"VLOOKUP(A790-$B$2,'Ref. Coeff. Vertical'!A:X,24)","v":0},{"$f":"VLOOKUP(A790-$B$2,'Ref. Coeff. Horiz.'!A:X,23)","v":1},{"$f":"VLOOKUP(A790-$B$2,'Ref. Coeff. Vertical'!A:X,23)","v":1},6038.852217963381,5858.852217963381,null,null,null,null,null,null,3.5197247800300588,3.5,{"$f":"'Antenna Data'!B788","v":-30.990000000000002},1.5191355565914344,3.6319305773602228,"",1.3008563182379564,2.2845866131320793,"",-27.35806942263978,"",-28.705413386867924,"",20.001930577360223,18.654586613132082,-10.988069422639779,-12.335413386867923]
[78.59999999999981,1.3718287920675396,33.917382641911551,5860.9237205223153,{"$f":"VLOOKUP(A791-$B$2,'Ref. Coeff. Horiz.'!A:X,24)","v":180},{"$f":"VLOOKUP(A791-$B$2,'Ref. Coeff. Vertical'!A:X,24)","v":0},{"$f":"VLOOKUP(A791-$B$2,'Ref. Coeff. Horiz.'!A:X,23)","v":1},{"$f":"VLOOKUP(A791-$B$2,'Ref. Coeff. Vertical'!A:X,23)","v":1},6040.9237205223153,5860.9237205223153,null,null,null,null,null,null,3.4882918901277371,3.5,{"$f":"'Antenna Data'!B789","v":-31.36},1.5424019961559408,3.7639515723440575,"",1.27318344407009,2.0978196521406156,"",-27.596048427655941,"",-29.262180347859385,"",20.13395157234406,18.467819652140616,-11.22604842765594,-12.892180347859384]
[78.699999999999804,1.3735741213195338,33.929267185712789,5862.9773696911698,{"$f":"VLOOKUP(A792-$B$2,'Ref. Coeff. Horiz.'!A:X,24)","v":180},{"$f":"VLOOKUP(A792-$B$2,'Ref. Coeff. Vertical'!A:X,24)","v":0},{"$f":"VLOOKUP(A792-$B$2,'Ref. Coeff. Horiz.'!A:X,23)","v":1},{"$f":"VLOOKUP(A792-$B$2,'Ref. Coeff. Vertical'!A:X,23)","v":1},6042.9773696911698,5862.9773696911698,null,null,null,null,null,null,3.4568811161968602,3.5,{"$f":"'Antenna Data'!B790","v":-31.71},1.5649704064614554,3.8901225893169804,"",1.2453383583989941,1.9057473052777913,"",-27.81987741068302,"",-29.804252694722209,"",20.260122589316982,18.275747305277793,-11.449877410683019,-13.434252694722208]
[78.799999999999798,1.3753194505715283,33.941048375082005,5865.0131592141706,{"$f":"VLOOKUP(A793-$B$2,'Ref. Coeff. Horiz.'!A:X,24)","v":180},{"$f":"VLOOKUP(A793-$B$2,'Ref. Coeff. Vertical'!A:X,24)","v":0},{"$f":"VLOOKUP(A793-$B$2,'Ref. Coeff. Horiz.'!A:X,23)","v":1},{"$f":"VLOOKUP(A793-$B$2,'Ref. Coeff. Vertical'!A:X,23)","v":1},6045.0131592141706,5865.0131592141706,null,null,null,null,null,null,3.4254922437401567,3.4,{"$f":"'Antenna Data'!B791","v":-32.03},1.5868464853400905,4.0106982856387763,"",1.2173406392476105,1.7082424116920867,"",-28.019301714361227,"",-30.321757588307914,"",20.380698285638779,18.078242411692088,-11.649301714361226,-13.951757588307913]
[78.899999999999793,1.3770647798235225,33.952726174131662,5867.031082889951,{"$f":"VLOOKUP(A794-$B$2,'Ref. Coeff. Horiz.'!A:X,24)","v":180},{"$f":"VLOOKUP(A794-$B$2,'Ref. Coeff. Vertical'!A:X,24)","v":0},{"$f":"VLOOKUP(A794-$B$2,'Ref. Coeff. Horiz.'!A:X,23)","v":1},{"$f":"VLOOKUP(A794-$B$2,'Ref. Coeff. Vertical'!A:X,23)","v":1},6047.031082889951,5867.031082889951,null,null,null,null,null,null,3.3941250588260612,3.4,{"$f":"'Antenna Data'!B792","v":-32.32},1.6080363527163053,4.1259172515028268,"",1.1892094383845297,1.5051669481294616,"",-28.194082748497173,"",-30.81483305187054,"",20.495917251502828,17.875166948129461,-11.824082748497172,-14.444833051870539]
[78.999999999999787,1.3788101090755167,33.964300547289149,5869.0311345715645,{"$f":"VLOOKUP(A795-$B$2,'Ref. Coeff. Horiz.'!A:X,24)","v":180},{"$f":"VLOOKUP(A795-$B$2,'Ref. Coeff. Vertical'!A:X,24)","v":0},{"$f":"VLOOKUP(A795-$B$2,'Ref. Coeff. Horiz.'!A:X,23)","v":1},{"$f":"VLOOKUP(A795-$B$2,'Ref. Coeff. Vertical'!A:X,23)","v":1},6049.0311345715645,5869.0311345715645,null,null,null,null,null,null,3.3627793480825954,3.4,{"$f":"'Antenna Data'!B793","v":-32.57},1.6285465310518297,4.2360034359772927,"",1.160963477547434,1.2963711518928585,"",-28.333996564022708,"",-31.27362884810714,"",20.606003435977293,17.666371151892861,-11.963996564022708,-14.90362884810714]
[79.099999999999781,1.3805554383275109,33.975771459296929,5871.013308166509,{"$f":"VLOOKUP(A796-$B$2,'Ref. Coeff. Horiz.'!A:X,24)","v":180},{"$f":"VLOOKUP(A796-$B$2,'Ref. Coeff. Vertical'!A:X,24)","v":0},{"$f":"VLOOKUP(A796-$B$2,'Ref. Coeff. Horiz.'!A:X,23)","v":1},{"$f":"VLOOKUP(A796-$B$2,'Ref. Coeff. Vertical'!A:X,23)","v":1},6051.013308166509,5871.013308166509,null,null,null,null,null,null,3.3314548986913159,3.3,{"$f":"'Antenna Data'!B794","v":-32.769999999999996},1.64838392605434,4.3411674184349174,"",1.1326210453305698,1.081692540583673,"",-28.428832581565079,"",-31.688307459416322,"",20.711167418434918,17.451692540583675,-12.058832581565078,-15.318307459416321]
[79.199999999999775,1.3823007675795052,33.987138875212601,5872.9775976367373,{"$f":"VLOOKUP(A797-$B$2,'Ref. Coeff. Horiz.'!A:X,24)","v":180},{"$f":"VLOOKUP(A797-$B$2,'Ref. Coeff. Vertical'!A:X,24)","v":0},{"$f":"VLOOKUP(A797-$B$2,'Ref. Coeff. Horiz.'!A:X,23)","v":1},{"$f":"VLOOKUP(A797-$B$2,'Ref. Coeff. Vertical'!A:X,23)","v":1},6052.9775976367373,5872.9775976367373,null,null,null,null,null,null,3.3001514983812745,3.3,{"$f":"'Antenna Data'!B795","v":-32.909999999999997},1.6675558076640951,4.4416075450850006,"",1.1041999947137087,0.86095481449921341,"",-28.468392454914998,"",-32.049045185500781,"",20.811607545085003,17.230954814499214,-12.098392454914997,-15.67904518550078]
[79.29999999999977,1.3840460968314994,33.998402760409064,5874.9239969986866,{"$f":"VLOOKUP(A798-$B$2,'Ref. Coeff. Horiz.'!A:X,24)","v":180},{"$f":"VLOOKUP(A798-$B$2,'Ref. Coeff. Vertical'!A:X,24)","v":0},{"$f":"VLOOKUP(A798-$B$2,'Ref. Coeff. Horiz.'!A:X,23)","v":1},{"$f":"VLOOKUP(A798-$B$2,'Ref. Coeff. Vertical'!A:X,23)","v":1},6054.9239969986866,5874.9239969986866,null,null,null,null,null,null,3.2688689354230114,3.3,{"$f":"'Antenna Data'!B796","v":-32.980000000000004},1.6860697913330536,4.537510947453141,"",1.0757177412100571,0.63396662519593483,"",-28.442489052546861,"",-32.346033374804072,"",20.90751094745314,17.003966625195936,-12.07248905254686,-15.976033374804071]
[79.399999999999764,1.3857914260834936,34.009563080574551,5876.8525003232826,{"$f":"VLOOKUP(A799-$B$2,'Ref. Coeff. Horiz.'!A:X,24)","v":180},{"$f":"VLOOKUP(A799-$B$2,'Ref. Coeff. Vertical'!A:X,24)","v":0},{"$f":"VLOOKUP(A799-$B$2,'Ref. Coeff. Horiz.'!A:X,23)","v":1},{"$f":"VLOOKUP(A799-$B$2,'Ref. Coeff. Vertical'!A:X,23)","v":1},6056.8525003232826,5876.8525003232826,null,null,null,null,null,null,3.2376069986225851,3.2,{"$f":"'Antenna Data'!B797","v":-32.99},1.7039338196086415,4.6290544572411854,"",1.0471912616107486,0.4005201909061924,"",-28.360945542758817,"",-32.58947980909381,"",20.999054457241186,16.770520190906193,-11.990945542758816,-16.219479809093809]
[79.499999999999758,1.3875367553354878,34.020619801712805,5878.7631017359727,{"$f":"VLOOKUP(A800-$B$2,'Ref. Coeff. Horiz.'!A:X,24)","v":180},{"$f":"VLOOKUP(A800-$B$2,'Ref. Coeff. Vertical'!A:X,24)","v":0},{"$f":"VLOOKUP(A800-$B$2,'Ref. Coeff. Horiz.'!A:X,23)","v":1},{"$f":"VLOOKUP(A800-$B$2,'Ref. Coeff. Vertical'!A:X,23)","v":1},6058.7631017359727,5878.7631017359727,null,null,null,null,null,null,3.2063654773156198,3.2,{"$f":"'Antenna Data'!B798","v":-32.93},1.7211561440343062,4.7164054299840794,"",1.0186370933030759,0.16038973610671359,"",-28.213594570015921,"",-32.769610263893284,"",21.08640542998408,16.530389736106713,-11.84359457001592,-16.399610263893283]
[79.599999999999753,1.389282084587482,34.031572890143124,5880.6557954167311,{"$f":"VLOOKUP(A801-$B$2,'Ref. Coeff. Horiz.'!A:X,24)","v":180},{"$f":"VLOOKUP(A801-$B$2,'Ref. Coeff. Vertical'!A:X,24)","v":0},{"$f":"VLOOKUP(A801-$B$2,'Ref. Coeff. Horiz.'!A:X,23)","v":1},{"$f":"VLOOKUP(A801-$B$2,'Ref. Coeff. Vertical'!A:X,23)","v":1},6060.6557954167311,5880.6557954167311,null,null,null,null,null,null,3.1751441613613967,3.2,{"$f":"'Antenna Data'!B799","v":-32.799999999999997},1.7377453073773534,4.7997224882127361,"",0.99007133414112847,-8.6670271528011045E-2,"",-28.00027751178726,"",-32.886670271528011,"",21.169722488212738,16.28332972847199,-11.630277511787259,-16.51667027152801]
[79.699999999999747,1.3910274138394763,34.042422312500513,5882.5305756000889,{"$f":"VLOOKUP(A802-$B$2,'Ref. Coeff. Horiz.'!A:X,24)","v":180},{"$f":"VLOOKUP(A802-$B$2,'Ref. Coeff. Vertical'!A:X,24)","v":0},{"$f":"VLOOKUP(A802-$B$2,'Ref. Coeff. Horiz.'!A:X,23)","v":1},{"$f":"VLOOKUP(A802-$B$2,'Ref. Coeff. Vertical'!A:X,23)","v":1},6062.5305756000889,5882.5305756000889,null,null,null,null,null,null,3.1439428411369614,3.1,{"$f":"'Antenna Data'!B800","v":-32.620000000000005},1.7537101261938906,4.8791561933916956,"",0.96150964284556917,-0.34092711850231239,"",-27.740843806608311,"",-32.960927118502319,"",21.249156193391698,16.02907288149769,-11.37084380660831,-16.590927118502318]
[79.799999999999741,1.3927727430914705,34.053168035735744,5884.3874365751362,{"$f":"VLOOKUP(A803-$B$2,'Ref. Coeff. Horiz.'!A:X,24)","v":180},{"$f":"VLOOKUP(A803-$B$2,'Ref. Coeff. Vertical'!A:X,24)","v":0},{"$f":"VLOOKUP(A803-$B$2,'Ref. Coeff. Horiz.'!A:X,23)","v":1},{"$f":"VLOOKUP(A803-$B$2,'Ref. Coeff. Vertical'!A:X,23)","v":1},6064.3874365751362,5884.3874365751362,null,null,null,null,null,null,3.1127613075312701,3.1,{"$f":"'Antenna Data'!B801","v":-32.39},1.7690596737395001,4.9548496546746996,"",0.93296723991180497,-0.60267211489462202,"",-27.435150345325301,"",-32.992672114894624,"",21.324849654674701,15.767327885105379,-11.0651503453253,-16.622672114894623]
[79.899999999999736,1.3945180723434647,34.06381002711548,5886.2263726855545,{"$f":"VLOOKUP(A804-$B$2,'Ref. Coeff. Horiz.'!A:X,24)","v":180},{"$f":"VLOOKUP(A804-$B$2,'Ref. Coeff. Vertical'!A:X,24)","v":0},{"$f":"VLOOKUP(A804-$B$2,'Ref. Coeff. Horiz.'!A:X,23)","v":1},{"$f":"VLOOKUP(A804-$B$2,'Ref. Coeff. Vertical'!A:X,23)","v":1},6066.2263726855545,5886.2263726855545,null,null,null,null,null,null,3.0815993519393552,3.1,{"$f":"'Antenna Data'!B802","v":-32.120000000000005},1.7838032632337684,5.0269390814803669,"",0.90445890900392212,-0.87222318079806727,"",-27.093060918519637,"",-32.992223180798071,"",21.396939081480369,15.497776819201933,-10.723060918519636,-16.62222318079807]
[79.99999999999973,1.3962634015954589,34.074348254222372,5888.0473783296247,{"$f":"VLOOKUP(A805-$B$2,'Ref. Coeff. Horiz.'!A:X,24)","v":180},{"$f":"VLOOKUP(A805-$B$2,'Ref. Coeff. Vertical'!A:X,24)","v":0},{"$f":"VLOOKUP(A805-$B$2,'Ref. Coeff. Horiz.'!A:X,23)","v":1},{"$f":"VLOOKUP(A805-$B$2,'Ref. Coeff. Vertical'!A:X,23)","v":1},6068.0473783296247,5888.0473783296247,null,null,null,null,null,null,3.0504567662565285,3.1,{"$f":"'Antenna Data'!B803","v":-31.82},1.7979504314851829,5.0955542859952896,"",0.87599899881349741,-1.1499278038078355,"",-26.724445714004709,"",-32.969927803807835,"",21.465554285995289,15.220072196192165,-10.354445714004708,-16.599927803807834]
[80.099999999999724,1.3980087308474531,34.084782684955151,5889.8504479602498,{"$f":"VLOOKUP(A806-$B$2,'Ref. Coeff. Horiz.'!A:X,24)","v":180},{"$f":"VLOOKUP(A806-$B$2,'Ref. Coeff. Vertical'!A:X,24)","v":0},{"$f":"VLOOKUP(A806-$B$2,'Ref. Coeff. Horiz.'!A:X,23)","v":1},{"$f":"VLOOKUP(A806-$B$2,'Ref. Coeff. Vertical'!A:X,23)","v":1},6069.8504479602498,5889.8504479602498,null,null,null,null,null,null,3.0193333428726028,3,{"$f":"'Antenna Data'!B804","v":-31.5},1.8115109228830111,5.1608191409525581,"",0.84760142536191296,-1.4361664326582482,"",-26.339180859047442,"",-32.936166432658247,"",21.530819140952559,14.933833567341752,-9.9691808590474409,-16.566166432658246]
[80.199999999999719,1.3997540600994474,34.095113287528733,5891.6355760849647,{"$f":"VLOOKUP(A807-$B$2,'Ref. Coeff. Horiz.'!A:X,24)","v":180},{"$f":"VLOOKUP(A807-$B$2,'Ref. Coeff. Vertical'!A:X,24)","v":0},{"$f":"VLOOKUP(A807-$B$2,'Ref. Coeff. Horiz.'!A:X,23)","v":1},{"$f":"VLOOKUP(A807-$B$2,'Ref. Coeff. Vertical'!A:X,23)","v":1},6071.6355760849647,5891.6355760849647,null,null,null,null,null,null,2.9882288746661447,3,{"$f":"'Antenna Data'!B805","v":-31.16},1.8244946737608332,5.2228519973714587,"",0.81927967472549557,-1.7313563858843348,"",-25.93714800262854,"",-32.891356385884336,"",21.592851997371461,14.638643614115667,-9.5671480026285387,-16.521356385884335]
[80.299999999999713,1.4014993893514416,34.105340030474309,5893.4027572659597,{"$f":"VLOOKUP(A808-$B$2,'Ref. Coeff. Horiz.'!A:X,24)","v":180},{"$f":"VLOOKUP(A808-$B$2,'Ref. Coeff. Vertical'!A:X,24)","v":0},{"$f":"VLOOKUP(A808-$B$2,'Ref. Coeff. Horiz.'!A:X,23)","v":1},{"$f":"VLOOKUP(A808-$B$2,'Ref. Coeff. Vertical'!A:X,23)","v":1},6073.4027572659597,5893.4027572659597,null,null,null,null,null,null,2.957143154998759,3,{"$f":"'Antenna Data'!B806","v":-30.810000000000002},1.8369117971367377,5.2817660663833763,"",0.79104680616248302,-2.0359563715968916,"",-25.528233933616626,"",-32.845956371596891,"",21.651766066383377,14.334043628403109,-9.158233933616625,-16.47595637159689]
[80.399999999999707,1.4032447186034358,34.115462882639441,5895.151986120095,{"$f":"VLOOKUP(A809-$B$2,'Ref. Coeff. Horiz.'!A:X,24)","v":180},{"$f":"VLOOKUP(A809-$B$2,'Ref. Coeff. Vertical'!A:X,24)","v":0},{"$f":"VLOOKUP(A809-$B$2,'Ref. Coeff. Horiz.'!A:X,23)","v":1},{"$f":"VLOOKUP(A809-$B$2,'Ref. Coeff. Vertical'!A:X,23)","v":1},6075.151986120095,5895.151986120095,null,null,null,null,null,null,2.9260759777093885,2.9,{"$f":"'Antenna Data'!B807","v":-30.450000000000003},1.8487725678333597,5.3376697687743082,"",0.76291545562196517,-2.3504717360854306,"",-25.112330231225695,"",-32.800471736085434,"",21.707669768774309,14.01952826391457,-8.7423302312256936,-16.430471736085433]
[80.499999999999702,1.40499004785543,34.125481813188181,5896.8832573189175,{"$f":"VLOOKUP(A810-$B$2,'Ref. Coeff. Horiz.'!A:X,24)","v":180},{"$f":"VLOOKUP(A810-$B$2,'Ref. Coeff. Vertical'!A:X,24)","v":0},{"$f":"VLOOKUP(A810-$B$2,'Ref. Coeff. Horiz.'!A:X,23)","v":1},{"$f":"VLOOKUP(A810-$B$2,'Ref. Coeff. Vertical'!A:X,23)","v":1},6076.8832573189175,5896.8832573189175,null,null,null,null,null,null,2.8950271371086522,2.9,{"$f":"'Antenna Data'!B808","v":-30.090000000000003},1.8600874079810634,5.3906670554542604,"",0.7348978396146596,-2.6754605863521155,"",-24.699332944545745,"",-32.76546058635212,"",21.760667055454263,13.694539413647885,-8.3293329445457438,-16.395460586352119]
[80.599999999999696,1.4067353771074242,34.135396791601117,5898.5965655886721,{"$f":"VLOOKUP(A811-$B$2,'Ref. Coeff. Horiz.'!A:X,24)","v":180},{"$f":"VLOOKUP(A811-$B$2,'Ref. Coeff. Vertical'!A:X,24)","v":0},{"$f":"VLOOKUP(A811-$B$2,'Ref. Coeff. Horiz.'!A:X,23)","v":1},{"$f":"VLOOKUP(A811-$B$2,'Ref. Coeff. Vertical'!A:X,23)","v":1},6078.5965655886721,5898.5965655886721,null,null,null,null,null,null,2.8639964279732011,2.9,{"$f":"'Antenna Data'!B809","v":-29.740000000000002},1.8708668729061906,5.440857701691999,"",0.70700575942648158,-3.0115409665810549,"",-24.299142298308002,"",-32.751540966581054,"",21.810857701692001,13.358459033418946,-7.9291422983080011,-16.381540966581053]
[80.69999999999969,1.4084807063594185,34.145207787675503,5900.2919057103263,{"$f":"VLOOKUP(A812-$B$2,'Ref. Coeff. Horiz.'!A:X,24)","v":180},{"$f":"VLOOKUP(A812-$B$2,'Ref. Coeff. Vertical'!A:X,24)","v":0},{"$f":"VLOOKUP(A812-$B$2,'Ref. Coeff. Horiz.'!A:X,23)","v":1},{"$f":"VLOOKUP(A812-$B$2,'Ref. Coeff. Vertical'!A:X,23)","v":1},6080.2919057103263,5900.2919057103263,null,null,null,null,null,null,2.8329836455401001,2.8,{"$f":"'Antenna Data'!B810","v":-29.39},1.8811216374061852,5.4883375776351784,"",0.6792506056547003,-3.3593993134130034,"",-23.901662422364822,"",-32.749399313413001,"Max",21.858337577635179,13.010600686586997,-7.5316624223648212,-16.379399313413]
[80.799999999999685,1.4102260356114127,34.154914771525355,5901.969272519581,{"$f":"VLOOKUP(A813-$B$2,'Ref. Coeff. Horiz.'!A:X,24)","v":180},{"$f":"VLOOKUP(A813-$B$2,'Ref. Coeff. Vertical'!A:X,24)","v":0},{"$f":"VLOOKUP(A813-$B$2,'Ref. Coeff. Horiz.'!A:X,23)","v":1},{"$f":"VLOOKUP(A813-$B$2,'Ref. Coeff. Vertical'!A:X,23)","v":1},6081.969272519581,5901.969272519581,null,null,null,null,null,null,2.8019885855012432,2.8,{"$f":"'Antenna Data'!B811","v":-29.05},1.8908624824122029,5.5331988973529631,"",0.65164336304911918,-3.7198004729566803,"",-23.516801102647037,"",-32.769800472956682,"",21.903198897352965,12.65019952704332,-7.1468011026470357,-16.399800472956681]
[80.899999999999679,1.4119713648634069,34.164517713581503,5903.6286609068839,{"$f":"VLOOKUP(A814-$B$2,'Ref. Coeff. Horiz.'!A:X,24)","v":180},{"$f":"VLOOKUP(A814-$B$2,'Ref. Coeff. Vertical'!A:X,24)","v":0},{"$f":"VLOOKUP(A814-$B$2,'Ref. Coeff. Horiz.'!A:X,23)","v":1},{"$f":"VLOOKUP(A814-$B$2,'Ref. Coeff. Vertical'!A:X,23)","v":1},6083.6286609068839,5903.6286609068839,null,null,null,null,null,null,2.7710110439977806,2.8,{"$f":"'Antenna Data'!B812","v":-28.72},1.9001002820396162,5.5755304483949342,"",0.62419461563919121,-4.0935996383824316,"",-23.144469551605063,"",-32.813599638382428,"",21.945530448394933,12.276400361617569,-6.7744695516050619,-16.443599638382427]
[80.999999999999673,1.4137166941154011,34.174016584591733,5905.2700658174508,{"$f":"VLOOKUP(A815-$B$2,'Ref. Coeff. Horiz.'!A:X,24)","v":180},{"$f":"VLOOKUP(A815-$B$2,'Ref. Coeff. Vertical'!A:X,24)","v":0},{"$f":"VLOOKUP(A815-$B$2,'Ref. Coeff. Horiz.'!A:X,23)","v":1},{"$f":"VLOOKUP(A815-$B$2,'Ref. Coeff. Vertical'!A:X,23)","v":1},6085.2700658174508,5905.2700658174508,null,null,null,null,null,null,2.7400508176145815,2.7,{"$f":"'Antenna Data'!B813","v":-28.39},1.9088459910261033,5.615417803644287,"",0.59691455212917799,-4.4817566670194182,"",-22.774582196355713,"",-32.871756667019419,"",21.985417803644289,11.888243332980583,-6.4045821963557117,-16.501756667019418]
[81.099999999999667,1.4154620233673953,34.183411355620834,5906.8934822512801,{"$f":"VLOOKUP(A816-$B$2,'Ref. Coeff. Horiz.'!A:X,24)","v":180},{"$f":"VLOOKUP(A816-$B$2,'Ref. Coeff. Vertical'!A:X,24)","v":0},{"$f":"VLOOKUP(A816-$B$2,'Ref. Coeff. Horiz.'!A:X,23)","v":1},{"$f":"VLOOKUP(A816-$B$2,'Ref. Coeff. Vertical'!A:X,23)","v":1},6086.8934822512801,5906.8934822512801,null,null,null,null,null,null,2.7091077033747157,2.7,{"$f":"'Antenna Data'!B814","v":-28.080000000000002},1.9171106325562435,5.6529435170533571,"",0.56981297154398636,-4.8853533691876718,"",-22.427056482946647,"",-32.965353369187675,"",22.022943517053356,11.484646630812328,-6.0570564829466456,-16.595353369187674]
[81.199999999999662,1.4172073526193898,34.192701998050694,5908.498905263159,{"$f":"VLOOKUP(A817-$B$2,'Ref. Coeff. Horiz.'!A:X,24)","v":180},{"$f":"VLOOKUP(A817-$B$2,'Ref. Coeff. Vertical'!A:X,24)","v":0},{"$f":"VLOOKUP(A817-$B$2,'Ref. Coeff. Horiz.'!A:X,23)","v":1},{"$f":"VLOOKUP(A817-$B$2,'Ref. Coeff. Vertical'!A:X,23)","v":1},6088.498905263159,5908.498905263159,null,null,null,null,null,null,2.6781814987339563,2.7,{"$f":"'Antenna Data'!B815","v":-27.770000000000003},1.9249052864712966,5.6881873046843214,"",0.5428992891088178,-5.3056145404844814,"",-22.081812695315683,"",-33.075614540484487,"",22.058187304684324,11.06438545951552,-5.7118126953156825,-16.705614540484486]
[81.299999999999656,1.418952681871384,34.201888483580419,5910.0863299626963,{"$f":"VLOOKUP(A818-$B$2,'Ref. Coeff. Horiz.'!A:X,24)","v":180},{"$f":"VLOOKUP(A818-$B$2,'Ref. Coeff. Vertical'!A:X,24)","v":0},{"$f":"VLOOKUP(A818-$B$2,'Ref. Coeff. Horiz.'!A:X,23)","v":1},{"$f":"VLOOKUP(A818-$B$2,'Ref. Coeff. Vertical'!A:X,23)","v":1},6090.0863299626963,5910.0863299626963,null,null,null,null,null,null,2.6472720015753248,2.6,{"$f":"'Antenna Data'!B816","v":-27.47},1.9322410778622572,5.7212262123306381,"",0.51618254234495931,-5.7439337537453614,"",-21.748773787669361,"",-33.213933753745359,"",22.091226212330639,10.62606624625464,-5.3787737876693598,-16.843933753745358]
[81.39999999999965,1.4206980111233782,34.210970784226369,5911.6557515143168,{"$f":"VLOOKUP(A819-$B$2,'Ref. Coeff. Horiz.'!A:X,24)","v":180},{"$f":"VLOOKUP(A819-$B$2,'Ref. Coeff. Vertical'!A:X,24)","v":0},{"$f":"VLOOKUP(A819-$B$2,'Ref. Coeff. Horiz.'!A:X,23)","v":1},{"$f":"VLOOKUP(A819-$B$2,'Ref. Coeff. Vertical'!A:X,23)","v":1},6091.6557515143168,5911.6557515143168,null,null,null,null,null,null,2.6163790102036226,2.6,{"$f":"'Antenna Data'!B817","v":-27.19},1.9391291660435301,5.7521347708636679,"",0.48967139736697585,-6.2019052640701275,"",-21.437865229136335,"",-33.391905264070132,"",22.122134770863667,10.168094735929873,-5.0678652291363342,-17.021905264070131]
[81.499999999999645,1.4224433403753725,34.219948872322291,5913.2071651372917,{"$f":"VLOOKUP(A820-$B$2,'Ref. Coeff. Horiz.'!A:X,24)","v":180},{"$f":"VLOOKUP(A820-$B$2,'Ref. Coeff. Vertical'!A:X,24)","v":0},{"$f":"VLOOKUP(A820-$B$2,'Ref. Coeff. Horiz.'!A:X,23)","v":1},{"$f":"VLOOKUP(A820-$B$2,'Ref. Coeff. Vertical'!A:X,23)","v":1},6093.2071651372917,5913.2071651372917,null,null,null,null,null,null,2.5855023233400196,2.6,{"$f":"'Antenna Data'!B818","v":-26.91},1.9455807339045288,5.7809851403357673,"",0.4633741553642346,-6.681363851823221,"",-21.129014859664231,"",-33.591363851823218,"",22.15098514033577,9.68863614817678,-4.7590148596642301,-17.221363851823217]
[81.599999999999639,1.4241886696273667,34.228822720519368,5914.7405661057455,{"$f":"VLOOKUP(A821-$B$2,'Ref. Coeff. Horiz.'!A:X,24)","v":180},{"$f":"VLOOKUP(A821-$B$2,'Ref. Coeff. Vertical'!A:X,24)","v":0},{"$f":"VLOOKUP(A821-$B$2,'Ref. Coeff. Horiz.'!A:X,23)","v":1},{"$f":"VLOOKUP(A821-$B$2,'Ref. Coeff. Vertical'!A:X,23)","v":1},6094.7405661057455,5914.7405661057455,null,null,null,null,null,null,2.5546417401166539,2.6,{"$f":"'Antenna Data'!B819","v":-26.65},1.9516069776357707,5.8078472437676263,"",0.43729875925205597,-7.1844350975460323,"",-20.842152756232373,"",-33.834435097546034,"",22.177847243767626,9.1855649024539687,-4.4721527562323722,-17.464435097546033]
[81.699999999999633,1.4259339988793609,34.237592301786314,5916.2559497486745,{"$f":"VLOOKUP(A822-$B$2,'Ref. Coeff. Horiz.'!A:X,24)","v":180},{"$f":"VLOOKUP(A822-$B$2,'Ref. Coeff. Vertical'!A:X,24)","v":0},{"$f":"VLOOKUP(A822-$B$2,'Ref. Coeff. Horiz.'!A:X,23)","v":1},{"$f":"VLOOKUP(A822-$B$2,'Ref. Coeff. Vertical'!A:X,23)","v":1},6096.2559497486745,5916.2559497486745,null,null,null,null,null,null,2.5237970600712489,2.5,{"$f":"'Antenna Data'!B820","v":-26.39},1.9572190968257199,5.8327888914572856,"",0.41145280047741123,-7.713599547692743,"",-20.557211108542717,"",-34.103599547692745,"",22.202788891457288,8.656400452307258,-4.1872111085427157,-17.733599547692744]
[81.799999999999628,1.4276793281313551,34.246257589409467,5917.7533114499556,{"$f":"VLOOKUP(A823-$B$2,'Ref. Coeff. Horiz.'!A:X,24)","v":180},{"$f":"VLOOKUP(A823-$B$2,'Ref. Coeff. Vertical'!A:X,24)","v":0},{"$f":"VLOOKUP(A823-$B$2,'Ref. Coeff. Horiz.'!A:X,23)","v":1},{"$f":"VLOOKUP(A823-$B$2,'Ref. Coeff. Vertical'!A:X,23)","v":1},6097.7533114499556,5917.7533114499556,null,null,null,null,null,null,2.4929680831417582,2.5,{"$f":"'Antenna Data'!B821","v":-26.14},1.9624282849242842,5.8558758965675981,"",0.38584352596505517,-8.2717756468442492,"",-20.284124103432404,"",-34.411775646844248,"",22.225875896567601,8.0982243531557518,-3.9141241034324032,-18.041775646844247]
[81.899999999999622,1.4294246573833493,34.254818556992859,5919.2326466483655,{"$f":"VLOOKUP(A824-$B$2,'Ref. Coeff. Horiz.'!A:X,24)","v":180},{"$f":"VLOOKUP(A824-$B$2,'Ref. Coeff. Vertical'!A:X,24)","v":0},{"$f":"VLOOKUP(A824-$B$2,'Ref. Coeff. Horiz.'!A:X,23)","v":1},{"$f":"VLOOKUP(A824-$B$2,'Ref. Coeff. Vertical'!A:X,23)","v":1},6099.2326466483655,5919.2326466483655,null,null,null,null,null,null,2.4621546096610292,2.5,{"$f":"'Antenna Data'!B822","v":-25.9},1.967245720068445,5.8771721826764844,"",0.36047784518940623,-8.8624284334627781,"",-20.022827817323513,"",-34.762428433462773,"",22.247172182676486,7.5075715665372229,-3.6528278173235122,-18.392428433462772]
[81.999999999999616,1.4311699866353436,34.263275178458301,5920.6939508375945,{"$f":"VLOOKUP(A825-$B$2,'Ref. Coeff. Horiz.'!A:X,24)","v":180},{"$f":"VLOOKUP(A825-$B$2,'Ref. Coeff. Vertical'!A:X,24)","v":0},{"$f":"VLOOKUP(A825-$B$2,'Ref. Coeff. Horiz.'!A:X,23)","v":1},{"$f":"VLOOKUP(A825-$B$2,'Ref. Coeff. Vertical'!A:X,23)","v":1},6100.6939508375945,5920.6939508375945,null,null,null,null,null,null,2.4313564403514905,2.4,{"$f":"'Antenna Data'!B823","v":-25.67},1.9716825562652851,5.8967398839105183,"",0.33536233735944959,-9.4897142427914662,"",-19.773260116089482,"",-35.159714242791466,"",22.266739883910518,6.8802857572085347,-3.4032601160894806,-18.789714242791465]
[82.099999999999611,1.4329153158873378,34.271627428045456,5922.1372195662543,{"$f":"VLOOKUP(A826-$B$2,'Ref. Coeff. Horiz.'!A:X,24)","v":180},{"$f":"VLOOKUP(A826-$B$2,'Ref. Coeff. Vertical'!A:X,24)","v":0},{"$f":"VLOOKUP(A826-$B$2,'Ref. Coeff. Horiz.'!A:X,23)","v":1},{"$f":"VLOOKUP(A826-$B$2,'Ref. Coeff. Vertical'!A:X,23)","v":1},6102.1372195662543,5922.1372195662543,null,null,null,null,null,null,2.4005733763198567,2.4,{"$f":"'Antenna Data'!B824","v":-25.450000000000003},1.9757499149271591,5.9146394382238165,"",0.31050325870324436,-10.158676751653928,"",-19.535360561776187,"",-35.608676751653931,"",22.284639438223817,6.2113232483460727,-3.1653605617761862,-19.23867675165393]
[82.199999999999605,1.434660645139332,34.27987528031192,5923.5624484378995,{"$f":"VLOOKUP(A827-$B$2,'Ref. Coeff. Horiz.'!A:X,24)","v":180},{"$f":"VLOOKUP(A827-$B$2,'Ref. Coeff. Vertical'!A:X,24)","v":0},{"$f":"VLOOKUP(A827-$B$2,'Ref. Coeff. Horiz.'!A:X,23)","v":1},{"$f":"VLOOKUP(A827-$B$2,'Ref. Coeff. Vertical'!A:X,23)","v":1},6103.5624484378995,5923.5624484378995,null,null,null,null,null,null,2.3698052190518601,2.4,{"$f":"'Antenna Data'!B825","v":-25.240000000000002},1.979458876753738,5.9309296743338571,"",0.2859065498389981,-10.875517905337533,"",-19.309070325666145,"",-36.115517905337533,"",22.300929674333858,5.4944820946624677,-2.9390703256661439,-19.745517905337532]
[82.299999999999599,1.4364059743913262,34.288018710133301,5924.9696331110345,{"$f":"VLOOKUP(A828-$B$2,'Ref. Coeff. Horiz.'!A:X,24)","v":180},{"$f":"VLOOKUP(A828-$B$2,'Ref. Coeff. Vertical'!A:X,24)","v":0},{"$f":"VLOOKUP(A828-$B$2,'Ref. Coeff. Horiz.'!A:X,23)","v":1},{"$f":"VLOOKUP(A828-$B$2,'Ref. Coeff. Vertical'!A:X,23)","v":1},6104.9696331110345,5924.9696331110345,null,null,null,null,null,null,2.3390517704069933,2.2999999999999998,{"$f":"'Antenna Data'!B826","v":-25.04},1.9828204739551218,5.9456678927783191,"",0.26157784322146876,-11.647980908345158,"",-19.094332107221682,"",-36.687980908345153,"",22.315667892778322,4.7220190916548432,-2.7243321072216808,-20.317980908345152]
[82.399999999999594,1.4381513036433204,34.296057692703315,5926.3587692991323,{"$f":"VLOOKUP(A829-$B$2,'Ref. Coeff. Horiz.'!A:X,24)","v":180},{"$f":"VLOOKUP(A829-$B$2,'Ref. Coeff. Vertical'!A:X,24)","v":0},{"$f":"VLOOKUP(A829-$B$2,'Ref. Coeff. Horiz.'!A:X,23)","v":1},{"$f":"VLOOKUP(A829-$B$2,'Ref. Coeff. Vertical'!A:X,23)","v":1},6106.3587692991323,5926.3587692991323,null,null,null,null,null,null,2.308312832613284,2.2999999999999998,{"$f":"'Antenna Data'!B827","v":-24.840000000000003},1.9858456828101954,5.9589099415164899,"",0.2375224706509057,-12.485905959261242,"",-18.881090058483515,"",-37.325905959261249,"",22.328909941516493,3.8840940407387592,-2.5110900584835143,-20.955905959261248]
[82.499999999999588,1.4398966328953147,34.303992203533809,5927.7298527706425,{"$f":"VLOOKUP(A830-$B$2,'Ref. Coeff. Horiz.'!A:X,24)","v":180},{"$f":"VLOOKUP(A830-$B$2,'Ref. Coeff. Vertical'!A:X,24)","v":0},{"$f":"VLOOKUP(A830-$B$2,'Ref. Coeff. Horiz.'!A:X,23)","v":1},{"$f":"VLOOKUP(A830-$B$2,'Ref. Coeff. Vertical'!A:X,23)","v":1},6107.7298527706425,5927.7298527706425,null,null,null,null,null,null,2.2775882082620758,2.2999999999999998,{"$f":"'Antenna Data'!B828","v":-24.65},1.988545416553992,5.970710286460533,"",0.21374547083414713,-13.402061579956236,"",-18.679289713539465,"",-38.052061579956231,"",22.340710286460535,2.9679384200437653,-2.3092897135394637,-21.68206157995623]
[82.599999999999582,1.4416419621473089,34.3118222184549,5929.0828793490055,{"$f":"VLOOKUP(A831-$B$2,'Ref. Coeff. Horiz.'!A:X,24)","v":180},{"$f":"VLOOKUP(A831-$B$2,'Ref. Coeff. Vertical'!A:X,24)","v":0},{"$f":"VLOOKUP(A831-$B$2,'Ref. Coeff. Horiz.'!A:X,23)","v":1},{"$f":"VLOOKUP(A831-$B$2,'Ref. Coeff. Vertical'!A:X,23)","v":1},6109.0828793490055,5929.0828793490055,null,null,null,null,null,null,2.246877700302842,2.2000000000000002,{"$f":"'Antenna Data'!B829","v":-24.47},1.990930518587755,5.9811220772888065,"",0.19025159698643351,-14.413433780820871,"",-18.488877922711193,"",-38.883433780820866,"",22.351122077288807,1.9565662191791304,-2.1188779227111922,-22.513433780820865]
[82.699999999999577,1.4433872913993031,34.319547713614995,5930.4178449126703,{"$f":"VLOOKUP(A832-$B$2,'Ref. Coeff. Horiz.'!A:X,24)","v":180},{"$f":"VLOOKUP(A832-$B$2,'Ref. Coeff. Vertical'!A:X,24)","v":0},{"$f":"VLOOKUP(A832-$B$2,'Ref. Coeff. Horiz.'!A:X,23)","v":1},{"$f":"VLOOKUP(A832-$B$2,'Ref. Coeff. Vertical'!A:X,23)","v":1},6110.4178449126703,5930.4178449126703,null,null,null,null,null,null,2.2161811120380097,2.2000000000000002,{"$f":"'Antenna Data'!B830","v":-24.3},1.993011756005187,5.9901972088629787,"",0.1670453244635044,-15.54331351193478,"",-18.309802791137024,"",-39.843313511934781,"",22.360197208862978,0.82668648806522071,-1.9398027911370228,-23.47331351193478]
[82.799999999999571,1.4451326206512973,34.327168665480905,5931.7347453951006,{"$f":"VLOOKUP(A833-$B$2,'Ref. Coeff. Horiz.'!A:X,24)","v":180},{"$f":"VLOOKUP(A833-$B$2,'Ref. Coeff. Vertical'!A:X,24)","v":0},{"$f":"VLOOKUP(A833-$B$2,'Ref. Coeff. Horiz.'!A:X,23)","v":1},{"$f":"VLOOKUP(A833-$B$2,'Ref. Coeff. Vertical'!A:X,23)","v":1},6111.7347453951006,5931.7347453951006,null,null,null,null,null,null,2.1854982471178044,2.2000000000000002,{"$f":"'Antenna Data'!B831","v":-24.130000000000003},1.9947998134280804,5.9979863785427217,"",0.14413085841449844,-16.824860535782783,"",-18.132013621457283,"",-40.954860535782785,"",22.367986378542724,-0.45486053578278174,-1.7620136214572817,-24.584860535782784]
[82.899999999999565,1.4468779499032915,34.334685050837876,5933.0335767847846,{"$f":"VLOOKUP(A834-$B$2,'Ref. Coeff. Horiz.'!A:X,24)","v":180},{"$f":"VLOOKUP(A834-$B$2,'Ref. Coeff. Vertical'!A:X,24)","v":0},{"$f":"VLOOKUP(A834-$B$2,'Ref. Coeff. Horiz.'!A:X,23)","v":1},{"$f":"VLOOKUP(A834-$B$2,'Ref. Coeff. Vertical'!A:X,23)","v":1},6113.0335767847846,5933.0335767847846,null,null,null,null,null,null,2.1548289095351176,2.2000000000000002,{"$f":"'Antenna Data'!B832","v":-23.97},1.9963052871445579,6.0045391396677772,"",0.12151214144554179,-18.307606507262982,"",-17.965460860332222,"",-42.277606507262981,"",22.374539139667778,-1.9376065072629807,-1.5954608603322207,-25.90760650726298]
[82.999999999999559,1.4486232791552858,34.342096846789708,5934.3143351252611,{"$f":"VLOOKUP(A835-$B$2,'Ref. Coeff. Horiz.'!A:X,24)","v":180},{"$f":"VLOOKUP(A835-$B$2,'Ref. Coeff. Vertical'!A:X,24)","v":0},{"$f":"VLOOKUP(A835-$B$2,'Ref. Coeff. Horiz.'!A:X,23)","v":1},{"$f":"VLOOKUP(A835-$B$2,'Ref. Coeff. Vertical'!A:X,23)","v":1},6114.3143351252611,5934.3143351252611,null,null,null,null,null,null,2.1241729036203862,2.1,{"$f":"'Antenna Data'!B833","v":-23.82},1.9975386795429335,6.0099039514544428,"",9.9192861284843045E-2,-20.070391640819508,"",-17.810096048545557,"",-43.890391640819509,"",22.379903951454445,-3.7003916408195074,-1.4400960485455556,-27.520391640819508]
[83.099999999999554,1.45036860840728,34.349404030758784,5935.577016515118,{"$f":"VLOOKUP(A836-$B$2,'Ref. Coeff. Horiz.'!A:X,24)","v":180},{"$f":"VLOOKUP(A836-$B$2,'Ref. Coeff. Vertical'!A:X,24)","v":0},{"$f":"VLOOKUP(A836-$B$2,'Ref. Coeff. Horiz.'!A:X,23)","v":1},{"$f":"VLOOKUP(A836-$B$2,'Ref. Coeff. Vertical'!A:X,23)","v":1},6115.577016515118,5935.577016515118,null,null,null,null,null,null,2.0935300340364953,2.1,{"$f":"'Antenna Data'!B834","v":-23.67},1.9985103938339934,6.014128225532791,"",7.7176458441012522E-2,-22.250303093891976,"",-17.655871774467212,"",-45.920303093891974,"",22.384128225532791,-5.8803030938919747,-1.2858717744672106,-29.550303093891973]
[83.199999999999548,1.4521139376592742,34.356606580486151,5936.8216171080057,{"$f":"VLOOKUP(A837-$B$2,'Ref. Coeff. Horiz.'!A:X,24)","v":180},{"$f":"VLOOKUP(A837-$B$2,'Ref. Coeff. Vertical'!A:X,24)","v":0},{"$f":"VLOOKUP(A837-$B$2,'Ref. Coeff. Horiz.'!A:X,23)","v":1},{"$f":"VLOOKUP(A837-$B$2,'Ref. Coeff. Vertical'!A:X,23)","v":1},6116.8216171080057,5936.8216171080057,null,null,null,null,null,null,2.0629001057736951,2.1,{"$f":"'Antenna Data'!B835","v":-23.53},1.9992307290546019,6.0172583693335024,"",5.5466133845862263E-2,-25.119442093609234,"",-17.512741630666497,"",-48.649442093609238,"",22.387258369333502,-8.7494420936092325,-1.1427416306664959,-32.279442093609234]
[{"$f":"A837+0.1","v":83.299999999999542},{"$f":"A838*(PI()/180)","v":1.4538592669112684},{"$f":"(2*$B$1*SIN(B838-$C$2)*COS($C$2))","v":34.363704474031586},{"$f":"(C838/$O$1)*360","v":5938.0481331126584},{"$f":"VLOOKUP(A838-$B$2,'Ref. Coeff. Horiz.'!A:X,24)","v":180},{"$f":"VLOOKUP(A838-$B$2,'Ref. Coeff. Vertical'!A:X,24)","v":0},{"$f":"VLOOKUP(A838-$B$2,'Ref. Coeff. Horiz.'!A:X,23)","v":1},{"$f":"VLOOKUP(A838-$B$2,'Ref. Coeff. Vertical'!A:X,23)","v":1},{"$f":"D838+E838","v":6118.0481331126584},{"$f":"D838+F838","v":5938.0481331126584},null,null,null,null,null,null,{"$f":"(((COS($C$2))/(TAN(B838-$C$2)))-(SIN($C$2)))*$B$1","v":2.0322829241445386},{"$f":"ROUND(Q838,1)","v":2},{"$f":"'Antenna Data'!B836","v":-23.39},{"$f":"SQRT((1+(2*G838*COS(I838*PI()/180)))+(G838^2))","v":1.9997098753452827},{"$f":"IF(T838=0,-99,10*LOG(T838^2))","v":6.0193398265157763},{"$f":"IF(AND((U839<U838),(U838>U837)),\"Max\",\"\")","v":""},{"$f":"SQRT((1+(2*H838*COS(J838*PI()/180)))+(H838^2))","v":3.4064856473383802E-2},{"$f":"IF(W838=0,-99,10*LOG(W838^2))","v":-29.353868730968252},{"$f":"IF(AND((X839<X838),(X838>X837)),\"Max\",\"\")","v":""},{"$f":"U838+S838","v":-17.370660173484225},{"$f":"IF(AND((Z839<Z838),(Z838>Z837)),\"Max\",\"\")","v":""},{"$f":"X838+S838","v":-52.743868730968252},{"$f":"IF(AND((AB839<AB838),(AB838>AB837)),\"Max\",\"\")","v":""},{"$f":"U838+$AD$2","v":22.389339826515776},{"$f":"X838+$AD$2","v":-12.983868730968251},{"$f":"Z838+$AD$2","v":-1.0006601734842242},{"$f":"AB838+$AD$2","v":-36.373868730968255}]
[83.399999999999537,1.4556045961632627,34.370697689773685,5939.2565607928927,{"$f":"VLOOKUP(A839-$B$2,'Ref. Coeff. Horiz.'!A:X,24)","v":180},{"$f":"VLOOKUP(A839-$B$2,'Ref. Coeff. Vertical'!A:X,24)","v":0},{"$f":"VLOOKUP(A839-$B$2,'Ref. Coeff. Horiz.'!A:X,23)","v":1},{"$f":"VLOOKUP(A839-$B$2,'Ref. Coeff. Vertical'!A:X,23)","v":1},6119.2565607928927,5939.2565607928927,null,null,null,null,null,null,2.0016782947788339,2,{"$f":"'Antenna Data'!B837","v":-23.270000000000003},1.9999579094944153,6.0204171146129362,"",1.2975370928368469E-2,-37.737604361550005,"",-17.249582885387067,"",-61.007604361550008,"",22.390417114612937,-21.367604361550004,-0.87958288538706597,-44.637604361550004]
[83.499999999999531,1.4573499254152571,34.377586206409894,5940.4468964676298,{"$f":"VLOOKUP(A840-$B$2,'Ref. Coeff. Horiz.'!A:X,24)","v":180},{"$f":"VLOOKUP(A840-$B$2,'Ref. Coeff. Vertical'!A:X,24)","v":0},{"$f":"VLOOKUP(A840-$B$2,'Ref. Coeff. Horiz.'!A:X,23)","v":1},{"$f":"VLOOKUP(A840-$B$2,'Ref. Coeff. Vertical'!A:X,23)","v":1},6120.4468964676298,5940.4468964676298,null,null,null,null,null,null,1.9710860236186092,2,{"$f":"'Antenna Data'!B838","v":-23.14},1.9999847907416433,6.0205338600586868,"Max",7.7997950040869174E-3,-42.158336227636006,"",-17.119466139941313,"",-65.298336227636014,"",22.390533860058689,-25.788336227636005,-0.74946613994131184,-48.928336227636009]
[83.599999999999525,1.4590952546672513,34.384370002956608,5941.6191365109016,{"$f":"VLOOKUP(A841-$B$2,'Ref. Coeff. Horiz.'!A:X,24)","v":180},{"$f":"VLOOKUP(A841-$B$2,'Ref. Coeff. Vertical'!A:X,24)","v":0},{"$f":"VLOOKUP(A841-$B$2,'Ref. Coeff. Horiz.'!A:X,23)","v":1},{"$f":"VLOOKUP(A841-$B$2,'Ref. Coeff. Vertical'!A:X,23)","v":1},6121.6191365109016,5941.6191365109016,null,null,null,null,null,null,1.9405059169131174,1.9,{"$f":"'Antenna Data'!B839","v":-23.020000000000003},1.9998003568330296,6.0197328307444788,"",2.8258322853426256E-2,-30.977072346647031,"",-17.000267169255523,"",-53.99707234664703,"",22.389732830744478,-14.60707234664703,-0.63026716925552151,-37.627072346647026]
[83.69999999999952,1.4608405839192455,34.391049058749189,5942.7732773518601,{"$f":"VLOOKUP(A842-$B$2,'Ref. Coeff. Horiz.'!A:X,24)","v":180},{"$f":"VLOOKUP(A842-$B$2,'Ref. Coeff. Vertical'!A:X,24)","v":0},{"$f":"VLOOKUP(A842-$B$2,'Ref. Coeff. Horiz.'!A:X,23)","v":1},{"$f":"VLOOKUP(A842-$B$2,'Ref. Coeff. Vertical'!A:X,23)","v":1},6122.7732773518601,5942.7732773518601,null,null,null,null,null,null,1.9099377812138134,1.9,{"$f":"'Antenna Data'!B840","v":-22.91},1.9994143203204655,6.0180559662470738,"",4.8398096010594999E-2,-26.30343446477994,"",-16.891944033752928,"",-49.213434464779937,"",22.388055966247073,-9.9334344647799391,-0.52194403375292708,-32.843434464779932]
[83.799999999999514,1.4625859131712398,34.397623353442086,5943.9093154747916,{"$f":"VLOOKUP(A843-$B$2,'Ref. Coeff. Horiz.'!A:X,24)","v":180},{"$f":"VLOOKUP(A843-$B$2,'Ref. Coeff. Vertical'!A:X,24)","v":0},{"$f":"VLOOKUP(A843-$B$2,'Ref. Coeff. Horiz.'!A:X,23)","v":1},{"$f":"VLOOKUP(A843-$B$2,'Ref. Coeff. Vertical'!A:X,23)","v":1},6123.9093154747916,5943.9093154747916,null,null,null,null,null,null,1.8793814233693908,1.9,{"$f":"'Antenna Data'!B841","v":-22.810000000000002},1.9988362650978293,6.015544405855227,"",6.8217192332738152E-2,-23.322123183031959,"",-16.794455594144775,"",-46.132123183031965,"",22.385544405855228,-6.9521231830319579,-0.4244555941447743,-29.762123183031964]
[83.899999999999508,1.464331242423234,34.404092867008849,5945.0272474191279,{"$f":"VLOOKUP(A844-$B$2,'Ref. Coeff. Horiz.'!A:X,24)","v":180},{"$f":"VLOOKUP(A844-$B$2,'Ref. Coeff. Vertical'!A:X,24)","v":0},{"$f":"VLOOKUP(A844-$B$2,'Ref. Coeff. Horiz.'!A:X,23)","v":1},{"$f":"VLOOKUP(A844-$B$2,'Ref. Coeff. Vertical'!A:X,23)","v":1},6125.0272474191279,5945.0272474191279,null,null,null,null,null,null,1.8488366505208109,1.8,{"$f":"'Antenna Data'!B842","v":-22.700000000000003},1.9980756431663729,6.0122385145149568,"",8.7713876811411462E-2,-21.138633869081684,"",-16.687761485485048,"",-43.83863386908169,"",22.38223851451496,-4.7686338690816825,-0.31776148548504679,-27.468633869081689]
[83.999999999999503,1.4660765716752282,34.410457579742229,5946.1270697794562,{"$f":"VLOOKUP(A845-$B$2,'Ref. Coeff. Horiz.'!A:X,24)","v":180},{"$f":"VLOOKUP(A845-$B$2,'Ref. Coeff. Vertical'!A:X,24)","v":0},{"$f":"VLOOKUP(A845-$B$2,'Ref. Coeff. Horiz.'!A:X,23)","v":1},{"$f":"VLOOKUP(A845-$B$2,'Ref. Coeff. Vertical'!A:X,23)","v":1},6126.1270697794562,5946.1270697794562,null,null,null,null,null,null,1.8183032700963542,1.8,{"$f":"'Antenna Data'!B843","v":-22.61},1.9971417716218354,6.0081779068045025,"",0.10688659431004037,-19.421535209623929,"",-16.601822093195498,"",-42.031535209623925,"",22.378177906804503,-3.0515352096239283,-0.23182209319549685,-25.661535209623924]
[84.099999999999497,1.4678219009272224,34.416717472254199,5947.2087792055254,{"$f":"VLOOKUP(A846-$B$2,'Ref. Coeff. Horiz.'!A:X,24)","v":180},{"$f":"VLOOKUP(A846-$B$2,'Ref. Coeff. Vertical'!A:X,24)","v":0},{"$f":"VLOOKUP(A846-$B$2,'Ref. Coeff. Horiz.'!A:X,23)","v":1},{"$f":"VLOOKUP(A846-$B$2,'Ref. Coeff. Vertical'!A:X,23)","v":1},6127.2087792055254,5947.2087792055254,null,null,null,null,null,null,1.7877810898066859,1.8,{"$f":"'Antenna Data'!B844","v":-22.51},1.9960438298557892,6.0034014690422852,"",0.12573396237545373,-18.010947957810913,"",-16.506598530957717,"",-40.520947957810918,"",22.373401469042285,-1.6409479578109121,-0.13659853095771624,-24.150947957810917]
[84.199999999999491,1.4695672301792166,34.422872525476045,5948.2723724022608,{"$f":"VLOOKUP(A847-$B$2,'Ref. Coeff. Horiz.'!A:X,24)","v":180},{"$f":"VLOOKUP(A847-$B$2,'Ref. Coeff. Vertical'!A:X,24)","v":0},{"$f":"VLOOKUP(A847-$B$2,'Ref. Coeff. Horiz.'!A:X,23)","v":1},{"$f":"VLOOKUP(A847-$B$2,'Ref. Coeff. Vertical'!A:X,23)","v":1},6128.2723724022608,5948.2723724022608,null,null,null,null,null,null,1.7572699176399362,1.8,{"$f":"'Antenna Data'!B845","v":-22.43},1.9947908569637409,5.9979473796241711,"",0.1442547641288266,-16.81739670026343,"",-16.432052620375828,"",-39.24739670026343,"",22.367947379624173,-0.44739670026342893,-6.2052620375826706E-2,-22.877396700263429]
[84.299999999999486,1.4713125594312109,34.428922720658399,5949.3178461297712,{"$f":"VLOOKUP(A848-$B$2,'Ref. Coeff. Horiz.'!A:X,24)","v":180},{"$f":"VLOOKUP(A848-$B$2,'Ref. Coeff. Vertical'!A:X,24)","v":0},{"$f":"VLOOKUP(A848-$B$2,'Ref. Coeff. Horiz.'!A:X,23)","v":1},{"$f":"VLOOKUP(A848-$B$2,'Ref. Coeff. Vertical'!A:X,23)","v":1},6129.3178461297712,5949.3178461297712,null,null,null,null,null,null,1.7267695618567958,1.7,{"$f":"'Antenna Data'!B846","v":-22.35},1.9933917493525626,5.9918531276800593,"",0.16244794124004433,-15.785715765020036,"",-16.358146872319942,"",-38.135715765020038,"",22.36185312768006,0.58428423497996462,1.1853127680058861E-2,-21.765715765020037]
[84.39999999999948,1.4730578886832051,34.434868039371331,5950.3451972033663,{"$f":"VLOOKUP(A849-$B$2,'Ref. Coeff. Horiz.'!A:X,24)","v":180},{"$f":"VLOOKUP(A849-$B$2,'Ref. Coeff. Vertical'!A:X,24)","v":0},{"$f":"VLOOKUP(A849-$B$2,'Ref. Coeff. Horiz.'!A:X,23)","v":1},{"$f":"VLOOKUP(A849-$B$2,'Ref. Coeff. Vertical'!A:X,23)","v":1},6130.3451972033663,5950.3451972033663,null,null,null,null,null,null,1.6962798309856248,1.7,{"$f":"'Antenna Data'!B847","v":-22.270000000000003},1.9918552585398399,5.9851555301338895,"",0.18031258699045632,-14.879479112840118,"",-16.284844469866115,"",-37.149479112840119,"",22.355155530133892,1.4905208871598834,8.5155530133885549E-2,-20.779479112840118]
[84.499999999999474,1.4748032179351993,34.440708463504357,5951.3544224935522,{"$f":"VLOOKUP(A850-$B$2,'Ref. Coeff. Horiz.'!A:X,24)","v":180},{"$f":"VLOOKUP(A850-$B$2,'Ref. Coeff. Vertical'!A:X,24)","v":0},{"$f":"VLOOKUP(A850-$B$2,'Ref. Coeff. Horiz.'!A:X,23)","v":1},{"$f":"VLOOKUP(A850-$B$2,'Ref. Coeff. Vertical'!A:X,23)","v":1},6131.3544224935522,5951.3544224935522,null,null,null,null,null,null,1.6658005338175788,1.7,{"$f":"'Antenna Data'!B848","v":-22.19},1.9901899891378547,5.9778907472462866,"",0.19784793942688453,-14.073369370450221,"",-16.212109252753713,"",-36.263369370450221,"",22.347890747246289,2.2966306295497798,0.15789074724628804,-19.89336937045022]
[84.599999999999469,1.4765485471871935,34.44644397526654,5952.3455189260576,{"$f":"VLOOKUP(A851-$B$2,'Ref. Coeff. Horiz.'!A:X,24)","v":180},{"$f":"VLOOKUP(A851-$B$2,'Ref. Coeff. Vertical'!A:X,24)","v":0},{"$f":"VLOOKUP(A851-$B$2,'Ref. Coeff. Horiz.'!A:X,23)","v":1},{"$f":"VLOOKUP(A851-$B$2,'Ref. Coeff. Vertical'!A:X,23)","v":1},6132.3455189260576,5952.3455189260576,null,null,null,null,null,null,1.6353314794017419,1.6,{"$f":"'Antenna Data'!B849","v":-22.130000000000003},1.9884043970148391,5.9700942967137038,"",0.21505337461210194,-13.349074762368398,"",-16.159905703286299,"",-35.479074762368398,"",22.340094296713705,3.0209252376316034,0.21009429671370228,-19.109074762368397]
[84.699999999999463,1.4782938764391877,34.452074557186513,5953.3184834818294,{"$f":"VLOOKUP(A852-$B$2,'Ref. Coeff. Horiz.'!A:X,24)","v":180},{"$f":"VLOOKUP(A852-$B$2,'Ref. Coeff. Vertical'!A:X,24)","v":0},{"$f":"VLOOKUP(A852-$B$2,'Ref. Coeff. Horiz.'!A:X,23)","v":1},{"$f":"VLOOKUP(A852-$B$2,'Ref. Coeff. Vertical'!A:X,23)","v":1},6133.3184834818294,5953.3184834818294,null,null,null,null,null,null,1.6048724770402836,1.6,{"$f":"'Antenna Data'!B850","v":-22.060000000000002},1.9865067876263656,5.9618010663943553,"",0.23192839997374809,-12.692921362151948,"",-16.098198933605648,"",-34.752921362151952,"",22.331801066394355,3.6770786378480533,0.27180106639435309,-18.382921362151951]
[84.799999999999457,1.480039205691182,34.457600192112544,5954.2733131970472,{"$f":"VLOOKUP(A853-$B$2,'Ref. Coeff. Horiz.'!A:X,24)","v":180},{"$f":"VLOOKUP(A853-$B$2,'Ref. Coeff. Vertical'!A:X,24)","v":0},{"$f":"VLOOKUP(A853-$B$2,'Ref. Coeff. Horiz.'!A:X,23)","v":1},{"$f":"VLOOKUP(A853-$B$2,'Ref. Coeff. Vertical'!A:X,23)","v":1},6134.2733131970472,5954.2733131970472,null,null,null,null,null,null,1.5744233362836195,1.6,{"$f":"'Antenna Data'!B851","v":-22},1.9845053145096887,5.9530453257267464,"",0.24847264775584363,-12.09442824183278,"",-16.046954674273252,"",-34.09442824183278,"",22.323045325726746,4.2755717581672208,0.32304532572674916,-17.724428241832779]
[84.899999999999451,1.4817845349431762,34.463020863212598,5955.210005163136,{"$f":"VLOOKUP(A854-$B$2,'Ref. Coeff. Horiz.'!A:X,24)","v":180},{"$f":"VLOOKUP(A854-$B$2,'Ref. Coeff. Vertical'!A:X,24)","v":0},{"$f":"VLOOKUP(A854-$B$2,'Ref. Coeff. Horiz.'!A:X,23)","v":1},{"$f":"VLOOKUP(A854-$B$2,'Ref. Coeff. Vertical'!A:X,23)","v":1},6135.210005163136,5955.210005163136,null,null,null,null,null,null,1.5439838669255908,1.5,{"$f":"'Antenna Data'!B852","v":-21.950000000000003},1.9824079779339951,5.9438607359034794,"",0.26468586857565141,-11.545384896182622,"",-16.006139264096525,"",-33.495384896182628,"",22.313860735903482,4.8246151038173792,0.36386073590347578,-17.125384896182627]
[84.999999999999446,1.4835298641951704,34.468336553974368,5956.1285565267708,{"$f":"VLOOKUP(A855-$B$2,'Ref. Coeff. Horiz.'!A:X,24)","v":180},{"$f":"VLOOKUP(A855-$B$2,'Ref. Coeff. Vertical'!A:X,24)","v":0},{"$f":"VLOOKUP(A855-$B$2,'Ref. Coeff. Horiz.'!A:X,23)","v":1},{"$f":"VLOOKUP(A855-$B$2,'Ref. Coeff. Vertical'!A:X,23)","v":1},6136.1285565267708,5956.1285565267708,null,null,null,null,null,null,1.5135538789986549,1.5,{"$f":"'Antenna Data'!B853","v":-21.900000000000002},1.980222623699587,5.9342803588596507,"",0.2805679250882438,-11.039239592268563,"",-15.965719641140351,"",-32.939239592268564,"",22.30428035885965,5.3307604077314377,0.40428035885964952,-16.569239592268563]
[85.09999999999944,1.4852751934471646,34.473547248205335,5957.0289644898821,{"$f":"VLOOKUP(A856-$B$2,'Ref. Coeff. Horiz.'!A:X,24)","v":180},{"$f":"VLOOKUP(A856-$B$2,'Ref. Coeff. Vertical'!A:X,24)","v":0},{"$f":"VLOOKUP(A856-$B$2,'Ref. Coeff. Horiz.'!A:X,23)","v":1},{"$f":"VLOOKUP(A856-$B$2,'Ref. Coeff. Vertical'!A:X,23)","v":1},6137.0289644898821,5957.0289644898821,null,null,null,null,null,null,1.4831331827690875,1.5,{"$f":"'Antenna Data'!B854","v":-21.85},1.9779569420791474,5.9243366651325733,"",0.29611878576156953,-10.570680802312399,"",-15.925663334867428,"",-32.420680802312404,"",22.294336665132576,5.799319197687602,0.44433666513257286,-16.050680802312403]
[85.199999999999434,1.4870205226991589,34.478652930032823,5957.9112263096713,{"$f":"VLOOKUP(A857-$B$2,'Ref. Coeff. Horiz.'!A:X,24)","v":180},{"$f":"VLOOKUP(A857-$B$2,'Ref. Coeff. Vertical'!A:X,24)","v":0},{"$f":"VLOOKUP(A857-$B$2,'Ref. Coeff. Horiz.'!A:X,23)","v":1},{"$f":"VLOOKUP(A857-$B$2,'Ref. Coeff. Vertical'!A:X,23)","v":1},6137.9112263096713,5957.9112263096713,null,null,null,null,null,null,1.4527215887321983,1.5,{"$f":"'Antenna Data'!B855","v":-21.810000000000002},1.9756184668942438,5.9140615406465038,"",0.31133851876442542,-10.135342902637918,"",-15.895938459353498,"",-31.945342902637918,"",22.284061540646505,6.2346570973620832,0.47406154064650252,-15.575342902637917]
[85.299999999999429,1.4887658519511531,34.483653583904044,5958.7753392986178,{"$f":"VLOOKUP(A858-$B$2,'Ref. Coeff. Horiz.'!A:X,24)","v":180},{"$f":"VLOOKUP(A858-$B$2,'Ref. Coeff. Vertical'!A:X,24)","v":0},{"$f":"VLOOKUP(A858-$B$2,'Ref. Coeff. Horiz.'!A:X,23)","v":1},{"$f":"VLOOKUP(A858-$B$2,'Ref. Coeff. Vertical'!A:X,23)","v":1},6138.7753392986178,5958.7753392986178,null,null,null,null,null,null,1.4223189076075595,1.4,{"$f":"'Antenna Data'!B856","v":-21.770000000000003},1.9732145747204484,5.9034862924743763,"",0.32622728596915124,-9.7295943392292035,"",-15.866513707525627,"",-31.499594339229205,"",22.273486292474377,6.6404056607707975,0.50348629247437415,-15.129594339229204]
[85.399999999999423,1.4905111812031473,34.488549194586128,5959.6213008244831,{"$f":"VLOOKUP(A859-$B$2,'Ref. Coeff. Horiz.'!A:X,24)","v":180},{"$f":"VLOOKUP(A859-$B$2,'Ref. Coeff. Vertical'!A:X,24)","v":0},{"$f":"VLOOKUP(A859-$B$2,'Ref. Coeff. Horiz.'!A:X,23)","v":1},{"$f":"VLOOKUP(A859-$B$2,'Ref. Coeff. Vertical'!A:X,23)","v":1},6139.6213008244831,5959.6213008244831,null,null,null,null,null,null,1.3919249503342446,1.4,{"$f":"'Antenna Data'!B857","v":-21.73},1.970752484214497,5.8926416536261801,"",0.34078533707072223,-9.3503819967845736,"",-15.83735834637382,"",-31.080381996784574,"",22.262641653626183,7.0196180032154274,0.53264165362618066,-14.710381996784573]
[85.499999999999417,1.4922565104551415,34.493339747166203,5960.4491083103203,{"$f":"VLOOKUP(A860-$B$2,'Ref. Coeff. Horiz.'!A:X,24)","v":180},{"$f":"VLOOKUP(A860-$B$2,'Ref. Coeff. Vertical'!A:X,24)","v":0},{"$f":"VLOOKUP(A860-$B$2,'Ref. Coeff. Horiz.'!A:X,23)","v":1},{"$f":"VLOOKUP(A860-$B$2,'Ref. Coeff. Vertical'!A:X,23)","v":1},6140.4491083103203,5960.4491083103203,null,null,null,null,null,null,1.3615395280660778,1.4,{"$f":"'Antenna Data'!B858","v":-21.700000000000003},1.9682392555569785,5.8815577869116362,"",0.35501300382451983,-8.9951147763178376,"",-15.818442213088368,"",-30.69511477631784,"",22.251557786911636,7.3748852236821634,0.55155778691163349,-14.325114776317839]
[85.599999999999412,1.4940018397071357,34.498025227051414,5961.2587592344835,{"$f":"VLOOKUP(A861-$B$2,'Ref. Coeff. Horiz.'!A:X,24)","v":180},{"$f":"VLOOKUP(A861-$B$2,'Ref. Coeff. Vertical'!A:X,24)","v":0},{"$f":"VLOOKUP(A861-$B$2,'Ref. Coeff. Horiz.'!A:X,23)","v":1},{"$f":"VLOOKUP(A861-$B$2,'Ref. Coeff. Vertical'!A:X,23)","v":1},6141.2587592344835,5961.2587592344835,null,null,null,null,null,null,1.331162452166899,1.3,{"$f":"'Antenna Data'!B859","v":-21.67},1.9656817900042882,5.8702642879237201,"",0.36891069440385521,-8.661575095341373,"",-15.799735712076281,"",-30.331575095341375,"",22.240264287923722,7.708424904658628,0.5702642879237203,-13.961575095341374]
[85.699999999999406,1.49574716895913,34.502605619968982,5962.0502511306395,{"$f":"VLOOKUP(A862-$B$2,'Ref. Coeff. Horiz.'!A:X,24)","v":180},{"$f":"VLOOKUP(A862-$B$2,'Ref. Coeff. Vertical'!A:X,24)","v":0},{"$f":"VLOOKUP(A862-$B$2,'Ref. Coeff. Horiz.'!A:X,23)","v":1},{"$f":"VLOOKUP(A862-$B$2,'Ref. Coeff. Vertical'!A:X,23)","v":1},6142.0502511306395,5962.0502511306395,null,null,null,null,null,null,1.3007935342058334,1.3,{"$f":"'Antenna Data'!B860","v":-21.650000000000002},1.9630868295434891,5.85879018718731,"",0.38247888787865053,-8.3478506418857634,"",-15.791209812812692,"",-29.997850641885766,"",22.228790187187311,8.0221493581142376,0.5787901871873089,-13.627850641885765]
[85.7999999999994,1.4974924982111242,34.507080911966227,5962.8235815877633,{"$f":"VLOOKUP(A863-$B$2,'Ref. Coeff. Horiz.'!A:X,24)","v":180},{"$f":"VLOOKUP(A863-$B$2,'Ref. Coeff. Vertical'!A:X,24)","v":0},{"$f":"VLOOKUP(A863-$B$2,'Ref. Coeff. Horiz.'!A:X,23)","v":1},{"$f":"VLOOKUP(A863-$B$2,'Ref. Coeff. Vertical'!A:X,23)","v":1},6142.8235815877633,5962.8235815877633,null,null,null,null,null,null,1.2704325859525785,1.3,{"$f":"'Antenna Data'!B861","v":-21.630000000000003},1.9604609566441697,5.8471639515173006,"",0.39571812881625129,-8.0522810636957551,"",-15.782836048482702,"",-29.682281063695758,"",22.2171639515173,8.3177189363042459,0.58716395151729905,-13.312281063695757]
[85.899999999999395,1.4992378274631186,34.511451089410635,5963.5787482501573,{"$f":"VLOOKUP(A864-$B$2,'Ref. Coeff. Horiz.'!A:X,24)","v":180},{"$f":"VLOOKUP(A864-$B$2,'Ref. Coeff. Vertical'!A:X,24)","v":0},{"$f":"VLOOKUP(A864-$B$2,'Ref. Coeff. Horiz.'!A:X,23)","v":1},{"$f":"VLOOKUP(A864-$B$2,'Ref. Coeff. Vertical'!A:X,23)","v":1},6143.5787482501573,5963.5787482501573,null,null,null,null,null,null,1.2400794193726921,1.2,{"$f":"'Antenna Data'!B862","v":-21.61},1.9578105941010773,5.8354134846275327,"",0.40862902200600459,-7.7734158353508462,"",-15.774586515372466,"Max",-29.383415835350846,"",22.205413484627535,8.5965841646491548,0.59541348462753518,-13.013415835350845]
[85.999999999999389,1.5009831567151128,34.515716138989895,5964.3157488174538,{"$f":"VLOOKUP(A865-$B$2,'Ref. Coeff. Horiz.'!A:X,24)","v":180},{"$f":"VLOOKUP(A865-$B$2,'Ref. Coeff. Vertical'!A:X,24)","v":0},{"$f":"VLOOKUP(A865-$B$2,'Ref. Coeff. Horiz.'!A:X,23)","v":1},{"$f":"VLOOKUP(A865-$B$2,'Ref. Coeff. Vertical'!A:X,23)","v":1},6144.3157488174538,5964.3157488174538,null,null,null,null,null,null,1.2097338466229144,1.2,{"$f":"'Antenna Data'!B863","v":-21.6},1.9551420049618906,5.8235661270329331,"",0.42121222730779789,-7.5099806046584128,"",-15.776433872967068,"",-29.109980604658414,"",22.193566127032934,8.8600193953415882,0.59356612703293266,-12.739980604658413]
[86.099999999999383,1.5027284859671071,34.519876047711918,5965.0345810446197,{"$f":"VLOOKUP(A866-$B$2,'Ref. Coeff. Horiz.'!A:X,24)","v":180},{"$f":"VLOOKUP(A866-$B$2,'Ref. Coeff. Vertical'!A:X,24)","v":0},{"$f":"VLOOKUP(A866-$B$2,'Ref. Coeff. Horiz.'!A:X,23)","v":1},{"$f":"VLOOKUP(A866-$B$2,'Ref. Coeff. Vertical'!A:X,23)","v":1},6145.0345810446197,5965.0345810446197,null,null,null,null,null,null,1.1793956800464582,1.2,{"$f":"'Antenna Data'!B864","v":-21.59},1.9524612925342417,5.8116486552846407,"",0.43346845462559686,-7.2608500505154749,"",-15.778351344715359,"",-28.850850050515476,"",22.18164865528464,9.1091499494845252,0.59164865528464183,-12.480850050515475]
[86.199999999999378,1.5044738152191013,34.523930802904907,5965.7352427419682,{"$f":"VLOOKUP(A867-$B$2,'Ref. Coeff. Horiz.'!A:X,24)","v":180},{"$f":"VLOOKUP(A867-$B$2,'Ref. Coeff. Vertical'!A:X,24)","v":0},{"$f":"VLOOKUP(A867-$B$2,'Ref. Coeff. Horiz.'!A:X,23)","v":1},{"$f":"VLOOKUP(A867-$B$2,'Ref. Coeff. Vertical'!A:X,23)","v":1},6145.7352427419682,5965.7352427419682,null,null,null,null,null,null,1.1490647321683491,1.1000000000000001,{"$f":"'Antenna Data'!B865","v":-21.59},1.9497744004664974,5.7996872805783912,"",0.44539845900666042,-7.0250257975017485,"",-15.790312719421609,"",-28.615025797501747,"",22.169687280578394,9.3449742024982534,0.57968728057839236,-12.245025797501746]
[86.299999999999372,1.5062191444710955,34.527880392217369,5966.4177317751619,{"$f":"VLOOKUP(A868-$B$2,'Ref. Coeff. Horiz.'!A:X,24)","v":180},{"$f":"VLOOKUP(A868-$B$2,'Ref. Coeff. Vertical'!A:X,24)","v":0},{"$f":"VLOOKUP(A868-$B$2,'Ref. Coeff. Horiz.'!A:X,23)","v":1},{"$f":"VLOOKUP(A868-$B$2,'Ref. Coeff. Vertical'!A:X,23)","v":1},6146.4177317751619,5966.4177317751619,null,null,null,null,null,null,1.1187408156907557,1.1000000000000001,{"$f":"'Antenna Data'!B866","v":-21.59},1.9470871128967577,5.7877076467748845,"",0.45700303586667035,-6.8016182981319471,"",-15.802292353225116,"",-28.391618298131945,"",22.157707646774885,9.5683817018680539,0.56770764677488472,-12.021618298131944]
[86.399999999999366,1.5079644737230897,34.531724803618175,5967.0820460652212,{"$f":"VLOOKUP(A869-$B$2,'Ref. Coeff. Horiz.'!A:X,24)","v":180},{"$f":"VLOOKUP(A869-$B$2,'Ref. Coeff. Vertical'!A:X,24)","v":0},{"$f":"VLOOKUP(A869-$B$2,'Ref. Coeff. Horiz.'!A:X,23)","v":1},{"$f":"VLOOKUP(A869-$B$2,'Ref. Coeff. Vertical'!A:X,23)","v":1},6147.0820460652212,5967.0820460652212,null,null,null,null,null,null,1.0884237434883324,1.1000000000000001,{"$f":"'Antenna Data'!B867","v":-21.59},1.9444050546648219,5.7757348278709788,"",0.46828301634149389,-6.5898318579362192,"",-15.814265172129021,"",-28.179831857936218,"",22.145734827870982,9.7801681420637827,0.55573482787097994,-11.809831857936217]
[86.499999999999361,1.5097098029750839,34.535464025396571,5967.7281835885278,{"$f":"VLOOKUP(A870-$B$2,'Ref. Coeff. Horiz.'!A:X,24)","v":180},{"$f":"VLOOKUP(A870-$B$2,'Ref. Coeff. Vertical'!A:X,24)","v":0},{"$f":"VLOOKUP(A870-$B$2,'Ref. Coeff. Horiz.'!A:X,23)","v":1},{"$f":"VLOOKUP(A870-$B$2,'Ref. Coeff. Vertical'!A:X,23)","v":1},6147.7281835885278,5967.7281835885278,null,null,null,null,null,null,1.0581133286035718,1.1000000000000001,{"$f":"'Antenna Data'!B868","v":-21.6},1.9417336915818475,5.7637933249593507,"",0.47923926276539036,-6.3889521719809697,"",-15.83620667504065,"",-27.988952171980969,"",22.133793324959353,9.9810478280190313,0.53379332495935117,-11.618952171980968]
[86.599999999999355,1.5114551322270782,34.539098046162259,5968.3561423768379,{"$f":"VLOOKUP(A871-$B$2,'Ref. Coeff. Horiz.'!A:X,24)","v":180},{"$f":"VLOOKUP(A871-$B$2,'Ref. Coeff. Vertical'!A:X,24)","v":0},{"$f":"VLOOKUP(A871-$B$2,'Ref. Coeff. Horiz.'!A:X,23)","v":1},{"$f":"VLOOKUP(A871-$B$2,'Ref. Coeff. Vertical'!A:X,23)","v":1},6148.3561423768379,5968.3561423768379,null,null,null,null,null,null,1.0278093842421661,1,{"$f":"'Antenna Data'!B869","v":-21.61},1.9390783307526973,5.7519070627143325,"",0.48987266427647291,-6.1983358846889614,"",-15.858092937285667,"",-27.808335884688962,"",22.121907062714335,10.171664115311039,0.51190706271433406,-11.438335884688961]
[86.699999999999349,1.5132004614790724,34.542626854845359,5968.9659205172775,{"$f":"VLOOKUP(A872-$B$2,'Ref. Coeff. Horiz.'!A:X,24)","v":180},{"$f":"VLOOKUP(A872-$B$2,'Ref. Coeff. Vertical'!A:X,24)","v":0},{"$f":"VLOOKUP(A872-$B$2,'Ref. Coeff. Horiz.'!A:X,23)","v":1},{"$f":"VLOOKUP(A872-$B$2,'Ref. Coeff. Vertical'!A:X,23)","v":1},6148.9659205172775,5968.9659205172775,null,null,null,null,null,null,0.99751172376837538,1,{"$f":"'Antenna Data'!B870","v":-21.62},1.9364441209460597,5.7400993854410345,"",0.50018413254867056,-6.0174017921286289,"",-15.879900614558967,"",-27.637401792128628,"",22.110099385441035,10.352598207871372,0.49009938544103449,-11.267401792128627]
[86.799999999999343,1.5149457907310666,34.546050440696519,5969.5575161523584,{"$f":"VLOOKUP(A873-$B$2,'Ref. Coeff. Horiz.'!A:X,24)","v":180},{"$f":"VLOOKUP(A873-$B$2,'Ref. Coeff. Vertical'!A:X,24)","v":0},{"$f":"VLOOKUP(A873-$B$2,'Ref. Coeff. Horiz.'!A:X,23)","v":1},{"$f":"VLOOKUP(A873-$B$2,'Ref. Coeff. Vertical'!A:X,23)","v":1},6149.5575161523584,5969.5575161523584,null,null,null,null,null,null,0.96722016070040662,1,{"$f":"'Antenna Data'!B871","v":-21.64},1.9338360530075227,5.7283930527242752,"",0.51017459765092377,-5.84562338707177,"",-15.911606947275725,"",-27.485623387071769,"",22.098393052724276,10.524376612928231,0.45839305272427566,-11.115623387071768]
[86.899999999999338,1.5166911199830608,34.549368793286909,5970.1309274799778,{"$f":"VLOOKUP(A874-$B$2,'Ref. Coeff. Horiz.'!A:X,24)","v":180},{"$f":"VLOOKUP(A874-$B$2,'Ref. Coeff. Vertical'!A:X,24)","v":0},{"$f":"VLOOKUP(A874-$B$2,'Ref. Coeff. Horiz.'!A:X,23)","v":1},{"$f":"VLOOKUP(A874-$B$2,'Ref. Coeff. Vertical'!A:X,23)","v":1},6150.1309274799778,5970.1309274799778,null,null,null,null,null,null,0.93693450870579853,0.9,{"$f":"'Antenna Data'!B872","v":-21.66},1.9312589603110135,5.7168102347138809,"",0.51984500403333644,-5.6825225091167555,"",-15.943189765286119,"",-27.342522509116755,"",22.08681023471388,10.687477490883246,0.4268102347138818,-10.972522509116754]
[86.999999999999332,1.5184364492350551,34.552581902508237,5970.6861527534229,{"$f":"VLOOKUP(A875-$B$2,'Ref. Coeff. Horiz.'!A:X,24)","v":180},{"$f":"VLOOKUP(A875-$B$2,'Ref. Coeff. Vertical'!A:X,24)","v":0},{"$f":"VLOOKUP(A875-$B$2,'Ref. Coeff. Horiz.'!A:X,23)","v":1},{"$f":"VLOOKUP(A875-$B$2,'Ref. Coeff. Vertical'!A:X,23)","v":1},6150.6861527534229,5970.6861527534229,null,null,null,null,null,null,0.90665458159681545,0.9,{"$f":"'Antenna Data'!B873","v":-21.69},1.9287175192440409,5.7053725070820693,"",0.52919630663972272,-5.5276639099320573,"",-15.984627492917932,"",-27.217663909932057,"",22.075372507082072,10.842336090067944,0.38537250708206905,-10.847663909932056]
[87.099999999999326,1.5201817784870493,34.555689758572825,5971.2231902813837,{"$f":"VLOOKUP(A876-$B$2,'Ref. Coeff. Horiz.'!A:X,24)","v":180},{"$f":"VLOOKUP(A876-$B$2,'Ref. Coeff. Vertical'!A:X,24)","v":0},{"$f":"VLOOKUP(A876-$B$2,'Ref. Coeff. Horiz.'!A:X,23)","v":1},{"$f":"VLOOKUP(A876-$B$2,'Ref. Coeff. Vertical'!A:X,23)","v":1},6151.2231902813837,5971.2231902813837,null,null,null,null,null,null,0.87638019332584882,0.9,{"$f":"'Antenna Data'!B874","v":-21.71},1.9262162497224196,5.6941008456887454,"",0.53822946714696784,-5.3806505807577834,"",-16.015899154311256,"",-27.090650580757785,"",22.064100845688746,10.989349419242217,0.35410084568874467,-10.720650580757784]
[87.199999999999321,1.5219271077390435,34.558692352013601,5971.7420384279503,{"$f":"VLOOKUP(A877-$B$2,'Ref. Coeff. Horiz.'!A:X,24)","v":180},{"$f":"VLOOKUP(A877-$B$2,'Ref. Coeff. Vertical'!A:X,24)","v":0},{"$f":"VLOOKUP(A877-$B$2,'Ref. Coeff. Horiz.'!A:X,23)","v":1},{"$f":"VLOOKUP(A877-$B$2,'Ref. Coeff. Vertical'!A:X,23)","v":1},6151.7420384279503,5971.7420384279503,null,null,null,null,null,null,0.84611115798082492,0.8,{"$f":"'Antenna Data'!B875","v":-21.75},1.9237595157302729,5.6830156209900826,"",0.5469454503305029,-5.2411197183700082,"",-16.066984379009916,"",-26.991119718370008,"",22.053015620990084,11.128880281629993,0.3030156209900845,-10.621119718370007]
[87.299999999999315,1.5236724369910377,34.561589673684146,5972.2426956126201,{"$f":"VLOOKUP(A878-$B$2,'Ref. Coeff. Horiz.'!A:X,24)","v":180},{"$f":"VLOOKUP(A878-$B$2,'Ref. Coeff. Vertical'!A:X,24)","v":0},{"$f":"VLOOKUP(A878-$B$2,'Ref. Coeff. Horiz.'!A:X,23)","v":1},{"$f":"VLOOKUP(A878-$B$2,'Ref. Coeff. Vertical'!A:X,23)","v":1},6152.2426956126201,5972.2426956126201,null,null,null,null,null,null,0.81584728978062027,0.8,{"$f":"'Antenna Data'!B876","v":-21.78},1.9213515258812077,5.6721365922252591,"",0.55534522055560231,-5.1087392286159163,"",-16.107863407774744,"",-26.888739228615918,"",22.042136592225262,11.261260771384084,0.2621365922252572,-10.518739228615917]
[87.399999999999309,1.5254177662430319,34.56438171475871,5972.725160310305,{"$f":"VLOOKUP(A879-$B$2,'Ref. Coeff. Horiz.'!A:X,24)","v":180},{"$f":"VLOOKUP(A879-$B$2,'Ref. Coeff. Vertical'!A:X,24)","v":0},{"$f":"VLOOKUP(A879-$B$2,'Ref. Coeff. Horiz.'!A:X,23)","v":1},{"$f":"VLOOKUP(A879-$B$2,'Ref. Coeff. Vertical'!A:X,23)","v":1},6152.725160310305,5972.725160310305,null,null,null,null,null,null,0.78558840307048527,0.8,{"$f":"'Antenna Data'!B877","v":-21.82},1.9189963339966927,5.6614829014157593,"",0.56342973839447452,-4.9832046848190483,"",-16.158517098584241,"",-26.80320468481905,"",22.03148290141576,11.386795315180953,0.21148290141575998,-10.433204684819049]
[87.499999999999304,1.5271630954950262,34.567068466732259,5973.1894310513335,{"$f":"VLOOKUP(A880-$B$2,'Ref. Coeff. Horiz.'!A:X,24)","v":180},{"$f":"VLOOKUP(A880-$B$2,'Ref. Coeff. Vertical'!A:X,24)","v":0},{"$f":"VLOOKUP(A880-$B$2,'Ref. Coeff. Horiz.'!A:X,23)","v":1},{"$f":"VLOOKUP(A880-$B$2,'Ref. Coeff. Vertical'!A:X,23)","v":1},6153.1894310513335,5973.1894310513335,null,null,null,null,null,null,0.7553343123174705,0.8,{"$f":"'Antenna Data'!B878","v":-21.86},1.9166978396978853,5.6510730672116996,"",0.57119995736820606,-4.8642366729133251,"",-16.208926932788302,"",-26.724236672913324,"",22.021073067211702,11.505763327086676,0.16107306721169934,-10.354236672913324]
[87.599999999999298,1.5289084247470204,34.569649921420485,5973.6355064214586,{"$f":"VLOOKUP(A881-$B$2,'Ref. Coeff. Horiz.'!A:X,24)","v":180},{"$f":"VLOOKUP(A881-$B$2,'Ref. Coeff. Vertical'!A:X,24)","v":0},{"$f":"VLOOKUP(A881-$B$2,'Ref. Coeff. Horiz.'!A:X,23)","v":1},{"$f":"VLOOKUP(A881-$B$2,'Ref. Coeff. Vertical'!A:X,23)","v":1},6153.6355064214586,5973.6355064214586,null,null,null,null,null,null,0.72508483210586483,0.7,{"$f":"'Antenna Data'!B879","v":-21.91},1.9144597890072852,5.6409249786190649,"",0.57865682081366399,-4.7515784668466878,"",-16.269075021380935,"",-26.661578466846688,"",22.010924978619066,11.618421533153313,0.1009249786190658,-10.291578466846687]
[87.699999999999292,1.5306537539990146,34.572126070959818,5974.063385061856,{"$f":"VLOOKUP(A882-$B$2,'Ref. Coeff. Horiz.'!A:X,24)","v":180},{"$f":"VLOOKUP(A882-$B$2,'Ref. Coeff. Vertical'!A:X,24)","v":0},{"$f":"VLOOKUP(A882-$B$2,'Ref. Coeff. Horiz.'!A:X,23)","v":1},{"$f":"VLOOKUP(A882-$B$2,'Ref. Coeff. Vertical'!A:X,23)","v":1},6154.063385061856,5974.063385061856,null,null,null,null,null,null,0.69483977713263401,0.7,{"$f":"'Antenna Data'!B880","v":-21.96},1.9122857749565709,5.6310558886406517,"",0.58580125887431067,-4.6449939872782595,"",-16.328944111359348,"",-26.604993987278259,"",22.001055888640654,11.725006012721742,4.1055888640652682E-2,-10.234993987278258]
[87.799999999999287,1.5323990832510088,34.574496907807479,5974.4730656691327,{"$f":"VLOOKUP(A883-$B$2,'Ref. Coeff. Horiz.'!A:X,24)","v":180},{"$f":"VLOOKUP(A883-$B$2,'Ref. Coeff. Vertical'!A:X,24)","v":0},{"$f":"VLOOKUP(A883-$B$2,'Ref. Coeff. Horiz.'!A:X,23)","v":1},{"$f":"VLOOKUP(A883-$B$2,'Ref. Coeff. Vertical'!A:X,23)","v":1},6154.4730656691327,5974.4730656691327,null,null,null,null,null,null,0.66459896220287007,0.7,{"$f":"'Antenna Data'!B881","v":-22.020000000000003},1.9101792381973834,5.6214824078641517,"",0.5926341856150894,-4.54426600427501,"",-16.398517592135853,"",-26.564266004275012,"",21.991482407864154,11.825733995724992,-2.8517592135852254E-2,-10.194266004275011]
[87.899999999999281,1.534144412503003,34.576762424741489,5974.864546995329,{"$f":"VLOOKUP(A884-$B$2,'Ref. Coeff. Horiz.'!A:X,24)","v":180},{"$f":"VLOOKUP(A884-$B$2,'Ref. Coeff. Vertical'!A:X,24)","v":0},{"$f":"VLOOKUP(A884-$B$2,'Ref. Coeff. Horiz.'!A:X,23)","v":1},{"$f":"VLOOKUP(A884-$B$2,'Ref. Coeff. Vertical'!A:X,23)","v":1},6154.864546995329,5974.864546995329,null,null,null,null,null,null,0.63436220222524253,0.6,{"$f":"'Antenna Data'!B882","v":-22.07},1.9081434676116762,5.6122204980290125,"",0.59915649626027112,-4.44919455103161,"",-16.45777950197099,"",-26.51919455103161,"",21.982220498029015,11.920805448968391,-8.7779501970988605E-2,-10.149194551031609]
[87.999999999999275,1.5358897417549973,34.578922614860701,5975.2378278479291,{"$f":"VLOOKUP(A885-$B$2,'Ref. Coeff. Horiz.'!A:X,24)","v":180},{"$f":"VLOOKUP(A885-$B$2,'Ref. Coeff. Vertical'!A:X,24)","v":0},{"$f":"VLOOKUP(A885-$B$2,'Ref. Coeff. Horiz.'!A:X,23)","v":1},{"$f":"VLOOKUP(A885-$B$2,'Ref. Coeff. Vertical'!A:X,23)","v":1},6155.2378278479291,5975.2378278479291,null,null,null,null,null,null,0.60412931220745691,0.6,{"$f":"'Antenna Data'!B883","v":-22.130000000000003},1.9061816009186532,5.6032854656042916,"",0.60536906455418793,-4.3595955207994965,"",-16.526714534395712,"",-26.489595520799497,"",21.973285465604292,12.010404479200504,-0.15671453439571081,-10.119595520799496]
[88.09999999999927,1.5376350710069915,34.580977471584788,5975.592907089851,{"$f":"VLOOKUP(A886-$B$2,'Ref. Coeff. Horiz.'!A:X,24)","v":180},{"$f":"VLOOKUP(A886-$B$2,'Ref. Coeff. Vertical'!A:X,24)","v":0},{"$f":"VLOOKUP(A886-$B$2,'Ref. Coeff. Horiz.'!A:X,23)","v":1},{"$f":"VLOOKUP(A886-$B$2,'Ref. Coeff. Vertical'!A:X,23)","v":1},6155.592907089851,5975.592907089851,null,null,null,null,null,null,0.57390010725171836,0.6,{"$f":"'Antenna Data'!B884","v":-22.200000000000003},1.9042966252752804,5.5946919554082486,"",0.61127274024382172,-4.2752994235028607,"",-16.605308044591755,"",-26.475299423502864,"",21.964691955408249,12.094700576497139,-0.23530804459175414,-10.105299423502863]
[88.199999999999264,1.5393804002589857,34.5829269886543,5975.9297836394626,{"$f":"VLOOKUP(A887-$B$2,'Ref. Coeff. Horiz.'!A:X,24)","v":180},{"$f":"VLOOKUP(A887-$B$2,'Ref. Coeff. Vertical'!A:X,24)","v":0},{"$f":"VLOOKUP(A887-$B$2,'Ref. Coeff. Horiz.'!A:X,23)","v":1},{"$f":"VLOOKUP(A887-$B$2,'Ref. Coeff. Vertical'!A:X,23)","v":1},6155.9297836394626,5975.9297836394626,null,null,null,null,null,null,0.54367440255019961,0.5,{"$f":"'Antenna Data'!B885","v":-22.270000000000003},1.902491377867497,5.5864539442997421,"",0.61686834668333312,-4.1961502820535346,"",-16.683546055700262,"",-26.466150282053537,"",21.956453944299742,12.173849717946467,-0.31354605570026095,-10.096150282053536]
[88.299999999999258,1.5411257295109801,34.584771160130678,5976.248456470581,{"$f":"VLOOKUP(A888-$B$2,'Ref. Coeff. Horiz.'!A:X,24)","v":180},{"$f":"VLOOKUP(A888-$B$2,'Ref. Coeff. Vertical'!A:X,24)","v":0},{"$f":"VLOOKUP(A888-$B$2,'Ref. Coeff. Horiz.'!A:X,23)","v":1},{"$f":"VLOOKUP(A888-$B$2,'Ref. Coeff. Vertical'!A:X,23)","v":1},6156.248456470581,5976.248456470581,null,null,null,null,null,null,0.51345201338051016,0.5,{"$f":"'Antenna Data'!B886","v":-22.34},1.9007685464895046,5.5785847349712103,"",0.62215667855948642,-4.1220046513536577,"",-16.761415265028788,"",-26.462004651353659,"Max",21.948584734971213,12.247995348646343,-0.39141526502878676,-10.092004651353658]
[88.399999999999253,1.5428710587629744,34.586509980396251,5976.5489246124725,{"$f":"VLOOKUP(A889-$B$2,'Ref. Coeff. Horiz.'!A:X,24)","v":180},{"$f":"VLOOKUP(A889-$B$2,'Ref. Coeff. Vertical'!A:X,24)","v":0},{"$f":"VLOOKUP(A889-$B$2,'Ref. Coeff. Horiz.'!A:X,23)","v":1},{"$f":"VLOOKUP(A889-$B$2,'Ref. Coeff. Vertical'!A:X,23)","v":1},6156.5489246124725,5976.5489246124725,null,null,null,null,null,null,0.48323275510118835,0.5,{"$f":"'Antenna Data'!B887","v":-22.42},1.8991306701085815,5.5710969498718672,"",0.62713849973742597,-4.0527307454470778,"",-16.848903050128136,"",-26.47273074544708,"",21.94109694987187,12.317269254552922,-0.47890305012813528,-10.102730745447079]
[88.499999999999247,1.5446163880149686,34.588143444154269,5976.8311871498581,{"$f":"VLOOKUP(A890-$B$2,'Ref. Coeff. Horiz.'!A:X,24)","v":180},{"$f":"VLOOKUP(A890-$B$2,'Ref. Coeff. Vertical'!A:X,24)","v":0},{"$f":"VLOOKUP(A890-$B$2,'Ref. Coeff. Horiz.'!A:X,23)","v":1},{"$f":"VLOOKUP(A890-$B$2,'Ref. Coeff. Vertical'!A:X,23)","v":1},6156.8311871498581,5976.8311871498581,null,null,null,null,null,null,0.45301644314716044,0.5,{"$f":"'Antenna Data'!B888","v":-22.5},1.8975801394129328,5.5640025252884717,"",0.63181454122676728,-3.9882076603593202,"",-16.935997474711527,"",-26.488207660359322,"",21.934002525288474,12.381792339640681,-0.56599747471152639,-10.118207660359321]
[88.599999999999241,1.5463617172669628,34.589671546428924,5977.0952432229178,{"$f":"VLOOKUP(A891-$B$2,'Ref. Coeff. Horiz.'!A:X,24)","v":180},{"$f":"VLOOKUP(A891-$B$2,'Ref. Coeff. Vertical'!A:X,24)","v":0},{"$f":"VLOOKUP(A891-$B$2,'Ref. Coeff. Horiz.'!A:X,23)","v":1},{"$f":"VLOOKUP(A891-$B$2,'Ref. Coeff. Vertical'!A:X,23)","v":1},6157.0952432229178,5977.0952432229178,null,null,null,null,null,null,0.42280289302524121,0.4,{"$f":"'Antenna Data'!B889","v":-22.580000000000002},1.8961191973403466,5.5573127056106495,"",0.63618549926683787,-3.9283246819439537,"",-17.022687294389353,"",-26.508324681943954,"",21.92731270561065,12.441675318056047,-0.65268729438935225,-10.138324681943953]
[88.699999999999235,1.548107046518957,34.591094282565351,5977.3410920272927,{"$f":"VLOOKUP(A892-$B$2,'Ref. Coeff. Horiz.'!A:X,24)","v":180},{"$f":"VLOOKUP(A892-$B$2,'Ref. Coeff. Vertical'!A:X,24)","v":0},{"$f":"VLOOKUP(A892-$B$2,'Ref. Coeff. Horiz.'!A:X,23)","v":1},{"$f":"VLOOKUP(A892-$B$2,'Ref. Coeff. Vertical'!A:X,23)","v":1},6157.3410920272927,5977.3410920272927,null,null,null,null,null,null,0.39259192030961937,0.4,{"$f":"'Antenna Data'!B890","v":-22.67},1.8947499395855245,5.5510380378064692,"",0.64025203353105142,-3.8729806695323354,"",-17.118961962193531,"",-26.542980669532337,"",21.921038037806468,12.497019330467666,-0.74896196219352973,-10.172980669532336]
[88.79999999999923,1.5498523757709513,34.592411648229643,5977.5687328140812,{"$f":"VLOOKUP(A893-$B$2,'Ref. Coeff. Horiz.'!A:X,24)","v":180},{"$f":"VLOOKUP(A893-$B$2,'Ref. Coeff. Vertical'!A:X,24)","v":0},{"$f":"VLOOKUP(A893-$B$2,'Ref. Coeff. Horiz.'!A:X,23)","v":1},{"$f":"VLOOKUP(A893-$B$2,'Ref. Coeff. Vertical'!A:X,23)","v":1},6157.5687328140812,5977.5687328140812,null,null,null,null,null,null,0.36238334063734995,0.4,{"$f":"'Antenna Data'!B891","v":-22.76},1.8934743150840618,5.5451883661327592,"",0.64401476544947234,-3.8220835074709263,"",-17.214811633867242,"",-26.582083507470927,"",21.91518836613276,12.547916492529074,-0.84481163386724134,-10.212083507470926]
[88.899999999999224,1.5515977050229455,34.593623639408882,5977.7781648898535,{"$f":"VLOOKUP(A894-$B$2,'Ref. Coeff. Horiz.'!A:X,24)","v":180},{"$f":"VLOOKUP(A894-$B$2,'Ref. Coeff. Vertical'!A:X,24)","v":0},{"$f":"VLOOKUP(A894-$B$2,'Ref. Coeff. Horiz.'!A:X,23)","v":1},{"$f":"VLOOKUP(A894-$B$2,'Ref. Coeff. Vertical'!A:X,23)","v":1},6157.7781648898535,5977.7781648898535,null,null,null,null,null,null,0.33217696970385052,0.3,{"$f":"'Antenna Data'!B892","v":-22.86},1.8922941264710722,5.5397728271029099,"",0.64747427664970592,-3.7755496177064414,"",-17.320227172897091,"",-26.635549617706442,"",21.909772827102913,12.594450382293559,-0.95022717289709036,-10.265549617706441]
[88.999999999999218,1.5533430342749397,34.594730252411132,5977.9693876166439,{"$f":"VLOOKUP(A895-$B$2,'Ref. Coeff. Horiz.'!A:X,24)","v":180},{"$f":"VLOOKUP(A895-$B$2,'Ref. Coeff. Vertical'!A:X,24)","v":0},{"$f":"VLOOKUP(A895-$B$2,'Ref. Coeff. Horiz.'!A:X,23)","v":1},{"$f":"VLOOKUP(A895-$B$2,'Ref. Coeff. Vertical'!A:X,23)","v":1},6157.9693876166439,5977.9693876166439,null,null,null,null,null,null,0.30197262325840013,0.3,{"$f":"'Antenna Data'!B893","v":-22.96},1.8912110305129965,5.5347998447355442,"",0.65063110751485032,-3.7333035275364539,"",-17.425200155264456,"",-26.693303527536454,"",21.904799844735546,12.636696472463548,-1.0552001552644548,-10.323303527536453]
[89.099999999999213,1.5550883635269339,34.59573148386545,5978.142400411949,{"$f":"VLOOKUP(A896-$B$2,'Ref. Coeff. Horiz.'!A:X,24)","v":180},{"$f":"VLOOKUP(A896-$B$2,'Ref. Coeff. Vertical'!A:X,24)","v":0},{"$f":"VLOOKUP(A896-$B$2,'Ref. Coeff. Horiz.'!A:X,23)","v":1},{"$f":"VLOOKUP(A896-$B$2,'Ref. Coeff. Vertical'!A:X,23)","v":1},6158.142400411949,5978.142400411949,null,null,null,null,null,null,0.27177011709964083,0.3,{"$f":"'Antenna Data'!B894","v":-23.07},1.8902265385106354,5.5302771261031802,"",0.6534857558586088,-3.6952774874353937,"",-17.539722873896821,"",-26.765277487435394,"",21.90027712610318,12.674722512564607,-1.1697228738968199,-10.395277487435393]
[89.199999999999207,1.5568336927789281,34.596627330721923,5978.2972027487485,{"$f":"VLOOKUP(A897-$B$2,'Ref. Coeff. Horiz.'!A:X,24)","v":180},{"$f":"VLOOKUP(A897-$B$2,'Ref. Coeff. Vertical'!A:X,24)","v":0},{"$f":"VLOOKUP(A897-$B$2,'Ref. Coeff. Horiz.'!A:X,23)","v":1},{"$f":"VLOOKUP(A897-$B$2,'Ref. Coeff. Vertical'!A:X,23)","v":1},6158.2972027487485,5978.2972027487485,null,null,null,null,null,null,0.24156926707108223,0.2,{"$f":"'Antenna Data'!B895","v":-23.17},1.8893420166721302,5.5262116572012125,"",0.65603867571757257,-3.6614111345719849,"",-17.643788342798789,"",-26.831411134571987,"",21.896211657201214,12.708588865428016,-1.2737883427987882,-10.461411134571986]
[89.299999999999201,1.5585790220309224,34.597417790251633,5978.4337941554813,{"$f":"VLOOKUP(A898-$B$2,'Ref. Coeff. Horiz.'!A:X,24)","v":180},{"$f":"VLOOKUP(A898-$B$2,'Ref. Coeff. Vertical'!A:X,24)","v":0},{"$f":"VLOOKUP(A898-$B$2,'Ref. Coeff. Horiz.'!A:X,23)","v":1},{"$f":"VLOOKUP(A898-$B$2,'Ref. Coeff. Vertical'!A:X,23)","v":1},6158.4337941554813,5978.4337941554813,null,null,null,null,null,null,0.21136988905660797,0.2,{"$f":"'Antenna Data'!B896","v":-23.29},1.8885586864546096,5.5226096991553488,"",0.65829027625876047,-3.6316511982754767,"",-17.767390300844649,"",-26.921651198275477,"",21.892609699155351,12.738348801724523,-1.3973903008446484,-10.551651198275476]
[89.399999999999196,1.5603243512829166,34.598102860046716,5978.5521742160718,{"$f":"VLOOKUP(A899-$B$2,'Ref. Coeff. Horiz.'!A:X,24)","v":180},{"$f":"VLOOKUP(A899-$B$2,'Ref. Coeff. Vertical'!A:X,24)","v":0},{"$f":"VLOOKUP(A899-$B$2,'Ref. Coeff. Horiz.'!A:X,23)","v":1},{"$f":"VLOOKUP(A899-$B$2,'Ref. Coeff. Vertical'!A:X,23)","v":1},6158.5521742160718,5978.5521742160718,null,null,null,null,null,null,0.18117179897598473,0.2,{"$f":"'Antenna Data'!B897","v":-23.400000000000002},1.8878776248729052,5.5194767847821868,"",0.66024092080409102,-3.605951244201739,"",-17.880523215217814,"",-27.005951244201739,"",21.88947678478219,12.764048755798262,-1.5105232152178125,-10.635951244201738]
[89.49999999999919,1.5620696805349108,34.598682538020327,5978.6523425699124,{"$f":"VLOOKUP(A900-$B$2,'Ref. Coeff. Horiz.'!A:X,24)","v":180},{"$f":"VLOOKUP(A900-$B$2,'Ref. Coeff. Vertical'!A:X,24)","v":0},{"$f":"VLOOKUP(A900-$B$2,'Ref. Coeff. Horiz.'!A:X,23)","v":1},{"$f":"VLOOKUP(A900-$B$2,'Ref. Coeff. Vertical'!A:X,23)","v":1},6158.6523425699124,5978.6523425699124,null,null,null,null,null,null,0.15097481278037228,0.2,{"$f":"'Antenna Data'!B898","v":-23.53},1.8872997647747876,5.5168177155201947,"",0.66189092596970023,-3.5842714544800836,"",-18.013182284479807,"",-27.114271454480086,"",21.886817715520195,12.785728545519918,-1.6431822844798063,-10.744271454480085]
[89.599999999999184,1.563815009786905,34.599156822406663,5978.7342989118715,{"$f":"VLOOKUP(A901-$B$2,'Ref. Coeff. Horiz.'!A:X,24)","v":180},{"$f":"VLOOKUP(A901-$B$2,'Ref. Coeff. Vertical'!A:X,24)","v":0},{"$f":"VLOOKUP(A901-$B$2,'Ref. Coeff. Horiz.'!A:X,23)","v":1},{"$f":"VLOOKUP(A901-$B$2,'Ref. Coeff. Vertical'!A:X,23)","v":1},6158.7342989118715,5978.7342989118715,null,null,null,null,null,null,0.12077874644783619,0.1,{"$f":"'Antenna Data'!B899","v":-23.650000000000002},1.8868258950812786,5.5146365587420556,"",0.66324056092094352,-3.5665784415110431,"",-18.135363441257947,"",-27.216578441511047,"",21.884636558742056,12.803421558488958,-1.7653634412579464,-10.846578441511046]
[{"$f":"A901+0.1","v":89.699999999999179},{"$f":"A902*(PI()/180)","v":1.5655603390388992},{"$f":"(2*$B$1*SIN(B902-$C$2)*COS($C$2))","v":34.599525711760968},{"$f":"(C902/$O$1)*360","v":5978.7980429922945},{"$f":"VLOOKUP(A902-$B$2,'Ref. Coeff. Horiz.'!A:X,24)","v":180},{"$f":"VLOOKUP(A902-$B$2,'Ref. Coeff. Vertical'!A:X,24)","v":0},{"$f":"VLOOKUP(A902-$B$2,'Ref. Coeff. Horiz.'!A:X,23)","v":1},{"$f":"VLOOKUP(A902-$B$2,'Ref. Coeff. Vertical'!A:X,23)","v":1},{"$f":"D902+E902","v":6158.7980429922945},{"$f":"D902+F902","v":5978.7980429922945},null,null,null,null,null,null,{"$f":"(((COS($C$2))/(TAN(B902-$C$2)))-(SIN($C$2)))*$B$1","v":9.0583415978861159E-2},{"$f":"ROUND(Q902,1)","v":0.1},{"$f":"'Antenna Data'!B900","v":-23.78},{"$f":"SQRT((1+(2*G902*COS(I902*PI()/180)))+(G902^2))","v":1.8864566609914339},{"$f":"IF(T902=0,-99,10*LOG(T902^2))","v":5.5129366454609379},{"$f":"IF(AND((U903<U902),(U902>U901)),\"Max\",\"\")","v":""},{"$f":"SQRT((1+(2*H902*COS(J902*PI()/180)))+(H902^2))","v":0.66429004674241954},{"$f":"IF(W902=0,-99,10*LOG(W902^2))","v":-3.552845093491086},{"$f":"IF(AND((X903<X902),(X902>X901)),\"Max\",\"\")","v":""},{"$f":"U902+S902","v":-18.267063354539061},{"$f":"IF(AND((Z903<Z902),(Z902>Z901)),\"Max\",\"\")","v":""},{"$f":"X902+S902","v":-27.332845093491088},{"$f":"IF(AND((AB903<AB902),(AB902>AB901)),\"Max\",\"\")","v":""},{"$f":"U902+$AD$2","v":21.882936645460937},{"$f":"X902+$AD$2","v":12.817154906508915},{"$f":"Z902+$AD$2","v":-1.8970633545390605},{"$f":"AB902+$AD$2","v":-10.962845093491087}]
[89.799999999999173,1.5673056682908935,34.599789204959542,5978.8435746170089,{"$f":"VLOOKUP(A903-$B$2,'Ref. Coeff. Horiz.'!A:X,24)","v":180},{"$f":"VLOOKUP(A903-$B$2,'Ref. Coeff. Vertical'!A:X,24)","v":0},{"$f":"VLOOKUP(A903-$B$2,'Ref. Coeff. Horiz.'!A:X,23)","v":1},{"$f":"VLOOKUP(A903-$B$2,'Ref. Coeff. Vertical'!A:X,23)","v":1},6158.8435746170089,5978.8435746170089,null,null,null,null,null,null,6.0388637391865965E-2,0.1,{"$f":"'Antenna Data'!B901","v":-23.92},1.8861925641508801,5.5117205684404338,"",0.66503955592274655,-3.5430504500861075,"",-18.408279431559567,"",-27.463050450086108,"",21.881720568440436,12.826949549913893,-2.038279431559566,-11.093050450086107]
[89.899999999999167,1.5690509975428877,34.599947301199755,5978.8708936473167,{"$f":"VLOOKUP(A904-$B$2,'Ref. Coeff. Horiz.'!A:X,24)","v":180},{"$f":"VLOOKUP(A904-$B$2,'Ref. Coeff. Vertical'!A:X,24)","v":0},{"$f":"VLOOKUP(A904-$B$2,'Ref. Coeff. Horiz.'!A:X,23)","v":1},{"$f":"VLOOKUP(A904-$B$2,'Ref. Coeff. Vertical'!A:X,23)","v":1},6158.8708936473167,5978.8708936473167,null,null,null,null,null,null,3.0194226718718957E-2,0,{"$f":"'Antenna Data'!B902","v":-24.060000000000002},1.8860339627834832,5.510990180716032,"",0.66548921195405308,-3.5371796069957426,"",-18.54900981928397,"",-27.597179606995745,"",21.880990180716033,12.832820393004258,-2.1790098192839693,-11.227179606995744]
[89.999999999999162,1.5707963267948819,34.6,5978.88,{"$f":"VLOOKUP(A905-$B$2,'Ref. Coeff. Horiz.'!A:X,24)","v":180},{"$f":"VLOOKUP(A905-$B$2,'Ref. Coeff. Vertical'!A:X,24)","v":0},{"$f":"VLOOKUP(A905-$B$2,'Ref. Coeff. Horiz.'!A:X,23)","v":1},{"$f":"VLOOKUP(A905-$B$2,'Ref. Coeff. Vertical'!A:X,23)","v":1},6158.88,5978.88,null,null,null,null,null,null,2.5459028331689669E-13,0,{"$f":"'Antenna Data'!B903","v":-24.060000000000002},1.8859810717857279,5.5107465945345515,"",0.66563908904597324,-3.5352236484540818,"",-18.54925340546545,"",-27.595223648454084,"",21.880746594534553,12.834776351545919,-2.1792534054654489,-11.225223648454083]

{"sheet":"Ref. Coeff. Vertical","index":5,"n_rows":905,"n_cols":24,"rows_kept":905,"cut":false,"hidden":false,"merged":[[2,16,2,17],[2,18,2,19],[2,20,2,23],[2,0,2,1],[2,2,2,5],[2,8,2,11],[2,12,2,15]]}
[null,null,"Permittivity εr",{"$f":"Home!D5","v":9.9999999999999997E+98},null,"Conductivity σ",{"$f":"Home!D4","v":9.9999999999999997E+98},null,null,null,null,null,"Frequency (MHz)",{"$f":"Home!D6","v":144}]
[]
["Angle α",null,"ε'",null,null,null,null,null,"ε'*SIN(α)",null,null,null,"SQRT [ε'-COS²(α)]",null,null,null,"Numerator",null,"Denominator",null,"Num/Denom"]
["Degree","Radian","Re","Im",null,null,"SIN(α)","-COS²(α)",null,null,"Re","Im",null,null,"Re","Im","Re","Im","Re","Im","Re","Im","ρ","θ"]
[0,{"$f":"A5*PI()/180","v":0},{"$f":"$D$1","v":9.9999999999999997E+98},{"$f":"-(18000*$G$1/$N$1)","v":-1.2500000000000001E+101},{"$f":"(C5^2+D5^2)^0.5","v":1.2500399993600206E+101},{"$f":"(180/PI())*ATAN(D5/C5)","v":-89.541643541999562},{"$f":"SIN(B5)","v":0},{"$f":"-((COS(B5))^2)","v":-1},{"$f":"E5*G5","v":0},{"$f":"F5","v":-89.541643541999562},{"$f":"(((I5^2)/(1+(TAN(J5*(PI()/180)))^2))^0.5)","v":0},{"$f":"K5*TAN(J5*(PI()/180))","v":0},{"$f":"-(((((C5+H5)^2)+(D5)^2)^0.5)^0.5)","v":-3.5355904731176385E+50},{"$f":"((ATAN(D5/(C5+H5)))*(180/PI()))/2","v":-44.770821770999781},{"$f":"-(((M5^2)/(1+(TAN(N5*(PI()/180)))^2))^0.5)","v":-2.5100199196022536E+50},{"$f":"O5*TAN(N5*(PI()/180))","v":2.4900200795977737E+50},{"$f":"K5+O5","v":-2.5100199196022536E+50},{"$f":"L5+P5","v":2.4900200795977737E+50},{"$f":"-O5+K5","v":2.5100199196022536E+50},{"$f":"L5-P5","v":-2.4900200795977737E+50},{"$f":"(Q5*S5+T5*R5)/((S5^2)+(T5^2))","v":-1},{"$f":"(R5*S5-Q5*T5)/((S5^2)+(T5^2))","v":0},{"$f":"((U5^2)+(V5^2))^0.5","v":1},{"$f":"(ACOS(U5/W5))*(180/PI())","v":180}]
[{"$f":"A5+0.1","v":0.1},{"$f":"A6*PI()/180","v":1.7453292519943296E-3},{"$f":"$D$1","v":9.9999999999999997E+98},{"$f":"-(18000*$G$1/$N$1)","v":-1.2500000000000001E+101},{"$f":"(C6^2+D6^2)^0.5","v":1.2500399993600206E+101},{"$f":"(180/PI())*ATAN(D6/C6)","v":-89.541643541999562},{"$f":"SIN(B6)","v":1.7453283658983088E-3},{"$f":"-((COS(B6))^2)","v":-0.9999969538288952},{"$f":"E6*G6","v":2.1817302693905476E+98},{"$f":"F6","v":-89.541643541999562},{"$f":"(((I6^2)/(1+(TAN(J6*(PI()/180)))^2))^0.5)","v":1.745328365898322E+96},{"$f":"K6*TAN(J6*(PI()/180))","v":-2.181660457372886E+98},{"$f":"-(((((C6+H6)^2)+(D6)^2)^0.5)^0.5)","v":-3.5355904731176385E+50},{"$f":"((ATAN(D6/(C6+H6)))*(180/PI()))/2","v":-44.770821770999781},{"$f":"-(((M6^2)/(1+(TAN(N6*(PI()/180)))^2))^0.5)","v":-2.5100199196022536E+50},{"$f":"O6*TAN(N6*(PI()/180))","v":2.4900200795977737E+50},{"$f":"K6+O6","v":1.745328365898322E+96},-2.181660457372886E+98,{"$f":"-O6+K6","v":1.745328365898322E+96},{"$f":"L6-P6","v":-2.181660457372886E+98},1,{"$f":"(R6*S6-Q6*T6)/((S6^2)+(T6^2))","v":0},{"$f":"((U6^2)+(V6^2))^0.5","v":1},{"$f":"(ACOS(U6/W6))*(180/PI())","v":0}]
[{"$f":"A6+0.1","v":0.2},3.4906585039886592E-3,9.9999999999999997E+98,-1.2500000000000001E+101,1.2500399993600206E+101,-89.541643541999562,3.4906514152237321E-3,-0.99998781535269743,4.3634538928523291E+98,-89.541643541999562,3.4906514152237588E+96,-4.3633142690296656E+98,-3.5355904731176385E+50,-44.770821770999781,-2.5100199196022536E+50,2.4900200795977737E+50,3.4906514152237588E+96,-4.3633142690296656E+98,3.4906514152237588E+96,-4.3633142690296656E+98,1,0,1,0]
[0.30000000000000004,5.235987755982989E-3,9.9999999999999997E+98,-1.2500000000000001E+101,1.2500399993600206E+101,-89.541643541999562,5.2359638314195805E-3,-0.99997258468275596,6.5451642244768238E+98,-89.541643541999562,5.2359638314196211E+96,-6.5449547892744779E+98,-3.5355904731176385E+50,-44.770821770999781,-2.5100199196022536E+50,2.4900200795977737E+50,5.2359638314196211E+96,-6.5449547892744779E+98,5.2359638314196211E+96,-6.5449547892744779E+98,1,0,1,0]
[0.4,6.9813170079773184E-3,9.9999999999999997E+98,-1.2500000000000001E+101,1.2500399993600206E+101,-89.541643541999562,6.9812602979615525E-3,-0.99995126200465201,8.7268546183959965E+98,-89.541643541999562,6.9812602979616058E+96,-8.7265753724519412E+98,-3.5355904731176385E+50,-44.770821770999781,-2.5100199196022536E+50,2.4900200795977737E+50,6.9812602979616058E+96,-8.7265753724519412E+98,6.9812602979616058E+96,-8.7265753724519412E+98,1,0,1,0]
[0.5,8.7266462599716477E-3,9.9999999999999997E+98,-1.2500000000000001E+101,1.2500399993600206E+101,-89.541643541999562,8.7265354983739347E-3,-0.99992384757819563,1.090851842880255E+99,-89.541643541999562,8.7265354983740008E+96,-1.0908169372967419E+99,-3.5355904731176385E+50,-44.770821770999781,-2.5100199196022536E+50,2.4900200795977737E+50,8.7265354983740008E+96,-1.0908169372967419E+99,8.7265354983740008E+96,-1.0908169372967419E+99,1,0,1,0]
[0.6,1.0471975511965976E-2,9.9999999999999997E+98,-1.2500000000000001E+101,1.2500399993600206E+101,-89.541643541999562,1.0471784116245792E-2,-0.99989034173742275,1.3090149009970164E+99,-89.541643541999562,1.0471784116245873E+97,-1.3089730145307242E+99,-3.5355904731176385E+50,-44.770821770999781,-2.5100199196022536E+50,2.4900200795977737E+50,1.0471784116245873E+97,-1.3089730145307242E+99,1.0471784116245873E+97,-1.3089730145307242E+99,1,0,1,0]
[0.7,1.2217304763960306E-2,9.9999999999999997E+98,-1.2500000000000001E+101,1.2500399993600206E+101,-89.541643541999562,1.2217000835247169E-2,-0.99985074489059156,1.5271739716273742E+99,-89.541643541999562,1.2217000835247263E+97,-1.5271251044058965E+99,-3.5355904731176385E+50,-44.770821770999781,-2.5100199196022536E+50,2.4900200795977737E+50,1.2217000835247263E+97,-1.5271251044058965E+99,1.2217000835247263E+97,-1.5271251044058965E+99,1,0,1,0]
[0.79999999999999993,1.3962634015954637E-2,9.9999999999999997E+98,-1.2500000000000001E+101,1.2500399993600206E+101,-89.541643541999562,1.3962180339145272E-2,-0.99980505752017723,1.7453283902209648E+99,-89.541643541999562,1.3962180339145379E+97,-1.7452725423931592E+99,-3.5355904731176385E+50,-44.770821770999781,-2.5100199196022536E+50,2.4900200795977737E+50,1.3962180339145379E+97,-1.7452725423931592E+99,1.3962180339145379E+97,-1.7452725423931592E+99,1,0,1,0]
[0.89999999999999991,1.5707963267948963E-2,9.9999999999999997E+98,-1.2500000000000001E+101,1.2500399993600206E+101,-89.541643541999562,1.5707317311820672E-2,-0.9997532801828658,1.9634774922415952E+99,-89.541643541999562,1.570731731182079E+97,-1.963414663977584E+99,-3.5355904731176385E+50,-44.770821770999781,-2.5100199196022536E+50,2.4900200795977737E+50,1.570731731182079E+97,-1.963414663977584E+99,1.570731731182079E+97,-1.963414663977584E+99,1,0,1,0]
[0.99999999999999989,1.7453292519943292E-2,9.9999999999999997E+98,-1.2500000000000001E+101,1.2500399993600206E+101,-89.541643541999562,1.7452406437283508E-2,-0.99969541350954794,2.1816206131692696E+99,-89.541643541999562,1.7452406437283643E+97,-2.1815508046604389E+99,-3.5355904731176385E+50,-44.770821770999781,-2.5100199196022536E+50,2.4900200795977737E+50,1.7452406437283643E+97,-2.1815508046604389E+99,1.7452406437283643E+97,-2.1815508046604389E+99,1,0,1,0]
[1.0999999999999999,1.9198621771937621E-2,9.9999999999999997E+98,-1.2500000000000001E+101,1.2500399993600206E+101,-89.541643541999562,1.9197442399689662E-2,-0.99963145820531052,2.3997570885022097E+99,-89.541643541999562,1.9197442399689807E+97,-2.399680299961208E+99,-3.5355904731176385E+50,-44.770821770999781,-2.5100199196022536E+50,2.4900200795977737E+50,1.9197442399689807E+97,-2.399680299961208E+99,1.9197442399689807E+97,-2.399680299961208E+99,1,0,1,0]
[1.2,2.0943951023931952E-2,9.9999999999999997E+98,-1.2500000000000001E+101,1.2500399993600206E+101,-89.541643541999562,2.0942419883356957E-2,-0.99956141504942919,2.6178862537588812E+99,-89.541643541999562,2.0942419883357116E+97,-2.6178024854196197E+99,-3.5355904731176385E+50,-44.770821770999781,-2.5100199196022536E+50,2.4900200795977737E+50,2.0942419883357116E+97,-2.6178024854196197E+99,2.0942419883357116E+97,-2.6178024854196197E+99,1,0,1,0]
[1.3,2.2689280275926284E-2,9.9999999999999997E+98,-1.2500000000000001E+101,1.2500399993600206E+101,-89.541643541999562,2.2687333572781358E-2,-0.99948528489535737,2.8360074444800182E+99,-89.541643541999562,2.268733357278153E+97,-2.83591669659767E+99,-3.5355904731176385E+50,-44.770821770999781,-2.5100199196022536E+50,2.4900200795977737E+50,2.268733357278153E+97,-2.83591669659767E+99,2.268733357278153E+97,-2.83591669659767E+99,1,0,1,0]
[1.4000000000000001,2.4434609527920613E-2,9.9999999999999997E+98,-1.2500000000000001E+101,1.2500399993600206E+101,-89.541643541999562,2.4432178152653153E-2,-0.99940306867071693,3.0541199962306456E+99,-89.541643541999562,2.4432178152653339E+97,-3.0540222690816445E+99,-3.5355904731176385E+50,-44.770821770999781,-2.5100199196022536E+50,2.4900200795977737E+50,2.4432178152653339E+97,-3.0540222690816445E+99,2.4432178152653339E+97,-3.0540222690816445E+99,1,0,1,0]
[1.5000000000000002,2.6179938779914948E-2,9.9999999999999997E+98,-1.2500000000000001E+101,1.2500399993600206E+101,-89.541643541999562,2.6176948307873156E-2,-0.99931476737728686,3.2722232446021052E+99,-89.541643541999562,2.6176948307873354E+97,-3.272118538484145E+99,-3.5355904731176385E+50,-44.770821770999781,-2.5100199196022536E+50,2.4900200795977737E+50,2.6176948307873354E+97,-3.272118538484145E+99,2.6176948307873354E+97,-3.272118538484145E+99,1,0,1,0]
[1.6000000000000003,2.7925268031909277E-2,9.9999999999999997E+98,-1.2500000000000001E+101,1.2500399993600206E+101,-89.541643541999562,2.7921638723568884E-2,-0.99922038209099051,3.4903165252140773E+99,-89.541643541999562,2.7921638723569095E+97,-3.4902048404461106E+99,-3.5355904731176385E+50,-44.770821770999781,-2.5100199196022536E+50,2.4900200795977737E+50,2.7921638723569095E+97,-3.4902048404461106E+99,2.7921638723569095E+97,-3.4902048404461106E+99,1,0,1,0]
[1.7000000000000004,2.9670597283903605E-2,9.9999999999999997E+98,-1.2500000000000001E+101,1.2500399993600206E+101,-89.541643541999562,2.966624408511076E-2,-0.9991199139618826,3.708399173716607E+99,-89.541643541999562,2.9666244085110987E+97,-3.7082805106388456E+99,-3.5355904731176385E+50,-44.770821770999781,-2.5100199196022536E+50,2.4900200795977737E+50,2.9666244085110987E+97,-3.7082805106388456E+99,2.9666244085110987E+97,-3.7082805106388456E+99,1,0,1,0]
[1.8000000000000005,3.1415926535897941E-2,9.9999999999999997E+98,-1.2500000000000001E+101,1.2500399993600206E+101,-89.541643541999562,3.1410759078128299E-2,-0.99901336421413589,3.926470525792126E+99,-89.541643541999562,3.1410759078128538E+97,-3.926344884766038E+99,-3.5355904731176385E+50,-44.770821770999781,-2.5100199196022536E+50,2.4900200795977737E+50,3.1410759078128538E+97,-3.926344884766038E+99,3.1410759078128538E+97,-3.926344884766038E+99,1,0,1,0]
[1.9000000000000006,3.3161255787892273E-2,9.9999999999999997E+98,-1.2500000000000001E+101,1.2500399993600206E+101,-89.541643541999562,3.3155178388526288E-2,-0.99890073414602509,4.1445299171574771E+99,-89.541643541999562,3.3155178388526542E+97,-4.1443972985657868E+99,-3.5355904731176385E+50,-44.770821770999781,-2.5100199196022536E+50,2.4900200795977737E+50,3.3155178388526542E+97,-4.1443972985657868E+99,3.3155178388526542E+97,-4.1443972985657868E+99,1,0,1,0]
[2.0000000000000004,3.4906585039886598E-2,9.9999999999999997E+98,-1.2500000000000001E+101,1.2500399993600206E+101,-89.541643541999562,3.4899496702500976E-2,-0.99878202512991221,4.362576683565936E+99,-89.541643541999562,3.4899496702501236E+97,-4.3624370878126218E+99,-3.5355904731176385E+50,-44.770821770999781,-2.5100199196022536E+50,2.4900200795977737E+50,3.4899496702501236E+97,-4.3624370878126218E+99,3.4899496702501236E+97,-4.3624370878126218E+99,1,0,1,0]
[2.1000000000000005,3.665191429188093E-2,9.9999999999999997E+98,-1.2500000000000001E+101,1.2500399993600206E+101,-89.541643541999562,3.6643708706556283E-2,-0.99865723861222899,4.5806101608092397E+99,-89.541643541999562,3.6643708706556558E+97,-4.5804635883195353E+99,-3.5355904731176385E+50,-44.770821770999781,-2.5100199196022536E+50,2.4900200795977737E+50,3.6643708706556558E+97,-4.5804635883195353E+99,3.6643708706556558E+97,-4.5804635883195353E+99,1,0,1,0]
[2.2000000000000006,3.8397243543875262E-2,9.9999999999999997E+98,-1.2500000000000001E+101,1.2500399993600206E+101,-89.541643541999562,3.8387809087519952E-2,-0.99852637611346007,4.7986296847196035E+99,-89.541643541999562,3.8387809087520245E+97,-4.7984761359399945E+99,-3.5355904731176385E+50,-44.770821770999781,-2.5100199196022536E+50,2.4900200795977737E+50,3.8387809087520245E+97,-4.7984761359399945E+99,3.8387809087520245E+97,-4.7984761359399945E+99,1,0,1,0]
[2.3000000000000007,4.0142572795869594E-2,9.9999999999999997E+98,-1.2500000000000001E+101,1.2500399993600206E+101,-89.541643541999562,4.0131792532559746E-2,-0.99838943922812351,5.0166345911717463E+99,-89.541643541999562,4.0131792532560051E+97,-5.016474066569969E+99,-3.5355904731176385E+50,-44.770821770999781,-2.5100199196022536E+50,2.4900200795977737E+50,4.0131792532560051E+97,-5.016474066569969E+99,4.0131792532560051E+97,-5.016474066569969E+99,1,0,1,0]
[2.4000000000000008,4.1887902047863926E-2,9.9999999999999997E+98,-1.2500000000000001E+101,1.2500399993600206E+101,-89.541643541999562,4.1875653729199644E-2,-0.99824642962475219,5.2346242160849168E+99,-89.541643541999562,4.1875653729199963E+97,-5.2344567161499566E+99,-3.5355904731176385E+50,-44.770821770999781,-2.5100199196022536E+50,2.4900200795977737E+50,4.1875653729199963E+97,-5.2344567161499566E+99,4.1875653729199963E+97,-5.2344567161499566E+99,1,0,1,0]
[2.5000000000000009,4.3633231299858251E-2,9.9999999999999997E+98,-1.2500000000000001E+101,1.2500399993600206E+101,-89.541643541999562,4.3619387365336014E-2,-0.99809734904587288,5.4525978954249125E+99,-89.541643541999562,4.3619387365336348E+97,-5.4524234206670025E+99,-3.5355904731176385E+50,-44.770821770999781,-2.5100199196022536E+50,2.4900200795977737E+50,4.3619387365336348E+97,-5.4524234206670025E+99,4.3619387365336348E+97,-5.4524234206670025E+99,1,0,1,0]
[2.600000000000001,4.537856055185259E-2,9.9999999999999997E+98,-1.2500000000000001E+101,1.2500399993600206E+101,-89.541643541999562,4.5362988129253802E-2,-0.99794219930798533,5.6705549652061049E+99,-89.541643541999562,4.5362988129254152E+97,-5.6703735161567264E+99,-3.5355904731176385E+50,-44.770821770999781,-2.5100199196022536E+50,2.4900200795977737E+50,4.5362988129254152E+97,-5.6703735161567264E+99,4.5362988129254152E+97,-5.6703735161567264E+99,1,0,1,0]
[2.7000000000000011,4.7123889803846915E-2,9.9999999999999997E+98,-1.2500000000000001E+101,1.2500399993600206E+101,-89.541643541999562,4.7106450709642679E-2,-0.99778098230154011,5.8884947614934579E+99,-89.541643541999562,4.710645070964304E+97,-5.8883063387053361E+99,-3.5355904731176385E+50,-44.770821770999781,-2.5100199196022536E+50,2.4900200795977737E+50,4.710645070964304E+97,-5.8883063387053361E+99,4.710645070964304E+97,-5.8883063387053361E+99,1,0,1,0]
[2.8000000000000012,4.8869219055841247E-2,9.9999999999999997E+98,-1.2500000000000001E+101,1.2500399993600206E+101,-89.541643541999562,4.8849769795613278E-2,-0.99761369999091565,6.1064166204045572E+99,-89.541643541999562,4.8849769795613646E+97,-6.1062212244516604E+99,-3.5355904731176385E+50,-44.770821770999781,-2.5100199196022536E+50,2.4900200795977737E+50,4.8849769795613646E+97,-6.1062212244516604E+99,4.8849769795613646E+97,-6.1062212244516604E+99,1,0,1,0]
[2.9000000000000012,5.0614548307835579E-2,9.9999999999999997E+98,-1.2500000000000001E+101,1.2500399993600206E+101,-89.541643541999562,5.0592940076713333E-2,-0.99744035441439416,6.3243198781116299E+99,-89.541643541999562,5.0592940076713719E+97,-6.3241175095891676E+99,-3.5355904731176385E+50,-44.770821770999781,-2.5100199196022536E+50,2.4900200795977737E+50,5.0592940076713719E+97,-6.3241175095891676E+99,5.0592940076713719E+97,-6.3241175095891676E+99,1,0,1,0]
[3.0000000000000013,5.2359877559829904E-2,9.9999999999999997E+98,-1.2500000000000001E+101,1.2500399993600206E+101,-89.541643541999562,5.2335956242943849E-2,-0.99726094768413653,6.5422038708435593E+99,-89.541643541999562,5.2335956242944249E+97,-6.5419945303679821E+99,-3.5355904731176385E+50,-44.770821770999781,-2.5100199196022536E+50,2.4900200795977737E+50,5.2335956242944249E+97,-6.5419945303679821E+99,5.2335956242944249E+97,-6.5419945303679821E+99,1,0,1,0]
[3.1000000000000014,5.4105206811824243E-2,9.9999999999999997E+98,-1.2500000000000001E+101,1.2500399993600206E+101,-89.541643541999562,5.4078812984775321E-2,-0.9970754819861577,6.7600679348879214E+99,-89.541643541999562,5.4078812984775729E+97,-6.7598516230969153E+99,-3.5355904731176385E+50,-44.770821770999781,-2.5100199196022536E+50,2.4900200795977737E+50,5.4078812984775729E+97,-6.7598516230969153E+99,5.4078812984775729E+97,-6.7598516230969153E+99,1,0,1,0]
[3.2000000000000015,5.5850536063818575E-2,9.9999999999999997E+98,-1.2500000000000001E+101,1.2500399993600206E+101,-89.541643541999562,5.582150499316383E-2,-0.99688395958029818,6.9779114065929901E+99,-89.541643541999562,5.5821504993164252E+97,-6.9776881241454791E+99,-3.5355904731176385E+50,-44.770821770999781,-2.5100199196022536E+50,2.4900200795977737E+50,5.5821504993164252E+97,-6.9776881241454791E+99,5.5821504993164252E+97,-6.9776881241454791E+99,1,0,1,0]
[3.3000000000000016,5.7595865315812907E-2,9.9999999999999997E+98,-1.2500000000000001E+101,1.2500399993600206E+101,-89.541643541999562,5.7564026959567312E-2,-0.99668638280019817,7.1957336223697727E+99,-89.541643541999562,5.756402695956775E+97,-7.1955033699459144E+99,-3.5355904731176385E+50,-44.770821770999781,-2.5100199196022536E+50,2.4900200795977737E+50,5.756402695956775E+97,-7.1955033699459144E+99,5.756402695956775E+97,-7.1955033699459144E+99,1,0,1,0]
[3.4000000000000017,5.9341194567807232E-2,9.9999999999999997E+98,-1.2500000000000001E+101,1.2500399993600206E+101,-89.541643541999562,5.9306373575961649E-2,-0.99648275405326858,7.4135339186940239E+99,-89.541643541999562,5.9306373575962094E+97,-7.4132966969952063E+99,-3.5355904731176385E+50,-44.770821770999781,-2.5100199196022536E+50,2.4900200795977737E+50,5.9306373575962094E+97,-7.4132966969952063E+99,5.9306373575962094E+97,-7.4132966969952063E+99,1,0,1,0]
[3.5000000000000018,6.1086523819801564E-2,9.9999999999999997E+98,-1.2500000000000001E+101,1.2500399993600206E+101,-89.541643541999562,6.1048539534856901E-2,-0.99627307582066094,7.6313116321082708E+99,-89.541643541999562,6.1048539534857362E+97,-7.6310674418571133E+99,-3.5355904731176385E+50,-44.770821770999781,-2.5100199196022536E+50,2.4900200795977737E+50,6.1048539534857362E+97,-7.6310674418571133E+99,6.1048539534857362E+97,-7.6310674418571133E+99,1,0,1,0]
[3.6000000000000019,6.2831853071795896E-2,9.9999999999999997E+98,-1.2500000000000001E+101,1.2500399993600206E+101,-89.541643541999562,6.2790519529313402E-2,-0.99605735065723888,7.8490660992238284E+99,-89.541643541999562,6.2790519529313874E+97,-7.848814941164175E+99,-3.5355904731176385E+50,-44.770821770999781,-2.5100199196022536E+50,2.4900200795977737E+50,6.2790519529313874E+97,-7.848814941164175E+99,6.2790519529313874E+97,-7.848814941164175E+99,1,0,1,0]
[3.700000000000002,6.4577182323790228E-2,9.9999999999999997E+98,-1.2500000000000001E+101,1.2500399993600206E+101,-89.541643541999562,6.4532308252958012E-2,-0.99583558119154525,8.0667966567228289E+99,-89.541643541999562,6.4532308252958506E+97,-8.0665385316197531E+99,-3.5355904731176385E+50,-44.770821770999781,-2.5100199196022536E+50,2.4900200795977737E+50,6.4532308252958506E+97,-8.0665385316197531E+99,6.4532308252958506E+97,-8.0665385316197531E+99,1,0,1,0]
[3.800000000000002,6.632251157578456E-2,9.9999999999999997E+98,-1.2500000000000001E+101,1.2500399993600206E+101,-89.541643541999562,6.6273900400000182E-2,-0.99560777012577084,8.2845026413602292E+99,-89.541643541999562,6.6273900400000684E+97,-8.2842375500000234E+99,-3.5355904731176385E+50,-44.770821770999781,-2.5100199196022536E+50,2.4900200795977737E+50,6.6273900400000684E+97,-8.2842375500000234E+99,6.6273900400000684E+97,-8.2842375500000234E+99,1,0,1,0]
[3.9000000000000021,6.8067840827778892E-2,9.9999999999999997E+98,-1.2500000000000001E+101,1.2500399993600206E+101,-89.541643541999562,6.801529066524821E-2,-0.9953739202357218,8.502183389965849E+99,-89.541643541999562,6.8015290665248729E+97,-8.5019113331560271E+99,-3.5355904731176385E+50,-44.770821770999781,-2.5100199196022536E+50,2.4900200795977737E+50,6.8015290665248729E+97,-8.5019113331560271E+99,6.8015290665248729E+97,-8.5019113331560271E+99,1,0,1,0]
[4.0000000000000018,6.981317007977321E-2,9.9999999999999997E+98,-1.2500000000000001E+101,1.2500399993600206E+101,-89.541643541999562,6.975647374412533E-2,-0.99513403437078507,8.7198382394463724E+99,-89.541643541999562,6.9756473744125857E+97,-8.7195592180156664E+99,-3.5355904731176385E+50,-44.770821770999781,-2.5100199196022536E+50,2.4900200795977737E+50,6.9756473744125857E+97,-8.7195592180156664E+99,6.9756473744125857E+97,-8.7195592180156664E+99,1,0,1,0]
[4.1000000000000014,7.1558499331767542E-2,9.9999999999999997E+98,-1.2500000000000001E+101,1.2500399993600206E+101,-89.541643541999562,7.1497444332685955E-2,-0.99488811545389444,8.9374665267873853E+99,-89.541643541999562,7.1497444332686495E+97,-8.9371805415857449E+99,-3.5355904731176385E+50,-44.770821770999781,-2.5100199196022536E+50,2.4900200795977737E+50,7.1497444332686495E+97,-8.9371805415857449E+99,7.1497444332686495E+97,-8.9371805415857449E+99,1,0,1,0]
[4.2000000000000011,7.330382858376186E-2,9.9999999999999997E+98,-1.2500000000000001E+101,1.2500399993600206E+101,-89.541643541999562,7.3238197127631702E-2,-0.99463616648149411,9.1550675890553798E+99,-89.541643541999562,7.3238197127632265E+97,-9.1547746409539646E+99,-3.5355904731176385E+50,-44.770821770999781,-2.5100199196022536E+50,2.4900200795977737E+50,7.3238197127632265E+97,-9.1547746409539646E+99,7.3238197127632265E+97,-9.1547746409539646E+99,1,0,1,0]
[4.3000000000000007,7.5049157835756178E-2,9.9999999999999997E+98,-1.2500000000000001E+101,1.2500399993600206E+101,-89.541643541999562,7.497872682632771E-2,-0.99437819052350285,9.3726407633997843E+99,-89.541643541999562,7.4978726826328283E+97,-9.3723408532909652E+99,-3.5355904731176385E+50,-44.770821770999781,-2.5100199196022536E+50,2.4900200795977737E+50,7.4978726826328283E+97,-9.3723408532909652E+99,7.4978726826328283E+97,-9.3723408532909652E+99,1,0,1,0]
[4.4000000000000004,7.679448708775051E-2,9.9999999999999997E+98,-1.2500000000000001E+101,1.2500399993600206E+101,-89.541643541999562,7.6719028126818647E-2,-0.99411419072327645,9.5901853870549783E+99,-89.541643541999562,7.6719028126819235E+97,-9.5898785158523322E+99,-3.5355904731176385E+50,-44.770821770999781,-2.5100199196022536E+50,2.4900200795977737E+50,7.6719028126819235E+97,-9.5898785158523322E+99,7.6719028126819235E+97,-9.5898785158523322E+99,1,0,1,0]
[4.5,7.8539816339744828E-2,9.9999999999999997E+98,-1.2500000000000001E+101,1.2500399993600206E+101,-89.541643541999562,7.8459095727844944E-2,-0.99384417029756889,9.8077007973423087E+99,-89.541643541999562,7.8459095727845542E+97,-9.8073869659806188E+99,-3.5355904731176385E+50,-44.770821770999781,-2.5100199196022536E+50,2.4900200795977737E+50,7.8459095727845542E+97,-9.8073869659806188E+99,7.8459095727845542E+97,-9.8073869659806188E+99,1,0,1,0]
[4.5999999999999996,8.0285145591739146E-2,9.9999999999999997E+98,-1.2500000000000001E+101,1.2500399993600206E+101,-89.541643541999562,8.0198924328858903E-2,-0.9935681325364939,1.0025186331672112E+100,-89.541643541999562,8.019892432885952E+97,-1.0024865541107364E+100,-3.5355904731176385E+50,-44.770821770999781,-2.5100199196022536E+50,2.4900200795977737E+50,8.019892432885952E+97,-1.0024865541107364E+100,8.019892432885952E+97,-1.0024865541107364E+100,1,0,1,0]
[4.6999999999999993,8.2030474843733478E-2,9.9999999999999997E+98,-1.2500000000000001E+101,1.2500399993600206E+101,-89.541643541999562,8.1938508630040915E-2,-0.99328608080348468,1.0242641327545738E+100,-89.541643541999562,8.1938508630041532E+97,-1.0242313578755115E+100,-3.5355904731176385E+50,-44.770821770999781,-2.5100199196022536E+50,2.4900200795977737E+50,8.1938508630041532E+97,-1.0242313578755115E+100,8.1938508630041532E+97,-1.0242313578755115E+100,1,0,1,0]
[4.7999999999999989,8.3775804095727796E-2,9.9999999999999997E+98,-1.2500000000000001E+101,1.2500399993600206E+101,-89.541643541999562,8.3677843332315469E-2,-0.99299801853525249,1.0460065122557553E+100,-89.541643541999562,8.3677843332316106E+97,-1.0459730416539434E+100,-3.5355904731176385E+50,-44.770821770999781,-2.5100199196022536E+50,2.4900200795977737E+50,8.3677843332316106E+97,-1.0459730416539434E+100,8.3677843332316106E+97,-1.0459730416539434E+100,1,0,1,0]
[4.8999999999999986,8.5521133347722114E-2,9.9999999999999997E+98,-1.2500000000000001E+101,1.2500399993600206E+101,-89.541643541999562,8.5416923137367429E-2,-0.99270394924174499,1.0677457054396971E+100,-89.541643541999562,8.5416923137368078E+97,-1.067711539217093E+100,-3.5355904731176385E+50,-44.770821770999781,-2.5100199196022536E+50,2.4900200795977737E+50,8.5416923137368078E+97,-1.067711539217093E+100,8.5416923137368078E+97,-1.067711539217093E+100,1,0,1,0]
[4.9999999999999982,8.7266462599716446E-2,9.9999999999999997E+98,-1.2500000000000001E+101,1.2500399993600206E+101,-89.541643541999562,8.7155742747658138E-2,-0.99240387650610407,1.0894816460850471E+100,-89.541643541999562,8.7155742747658808E+97,-1.089446784345727E+100,-3.5355904731176385E+50,-44.770821770999781,-2.5100199196022536E+50,2.4900200795977737E+50,8.7155742747658808E+97,-1.089446784345727E+100,8.7155742747658808E+97,-1.089446784345727E+100,1,0,1,0]
[5.0999999999999979,8.9011791851710778E-2,9.9999999999999997E+98,-1.2500000000000001E+101,1.2500399993600206E+101,-89.541643541999562,8.8894296866441486E-2,-0.99209780398462089,1.11121426798036E+100,-89.541643541999562,8.889429686644216E+97,-1.1111787108305187E+100,-3.5355904731176385E+50,-44.770821770999781,-2.5100199196022536E+50,2.4900200795977737E+50,8.889429686644216E+97,-1.1111787108305187E+100,8.889429686644216E+97,-1.1111787108305187E+100,1,0,1,0]
[5.1999999999999975,9.0757121103705096E-2,9.9999999999999997E+98,-1.2500000000000001E+101,1.2500399993600206E+101,-89.541643541999562,9.0632580197780116E-2,-0.9917857354066929,1.1329435049243006E+100,-89.541643541999562,9.0632580197780796E+97,-1.1329072524722514E+100,-3.5355904731176385E+50,-44.770821770999781,-2.5100199196022536E+50,2.4900200795977737E+50,9.0632580197780796E+97,-1.1329072524722514E+100,9.0632580197780796E+97,-1.1329072524722514E+100,1,0,1,0]
[5.2999999999999972,9.2502450355699414E-2,9.9999999999999997E+98,-1.2500000000000001E+101,1.2500399993600206E+101,-89.541643541999562,9.2370587446561528E-2,-0.99146767457477714,1.1546692907258449E+100,-89.541643541999562,9.2370587446562229E+97,-1.1546323430820192E+100,-3.5355904731176385E+50,-44.770821770999781,-2.5100199196022536E+50,2.4900200795977737E+50,9.2370587446562229E+97,-1.1546323430820192E+100,9.2370587446562229E+97,-1.1546323430820192E+100,1,0,1,0]
[5.3999999999999968,9.4247779607693732E-2,9.9999999999999997E+98,-1.2500000000000001E+101,1.2500399993600206E+101,-89.541643541999562,9.4108313318514256E-2,-0.99114362536434431,1.1763915592044817E+100,-89.541643541999562,9.4108313318514961E+97,-1.1763539164814283E+100,-3.5355904731176385E+50,-44.770821770999781,-2.5100199196022536E+50,2.4900200795977737E+50,9.4108313318514961E+97,-1.1763539164814283E+100,9.4108313318514961E+97,-1.1763539164814283E+100,1,0,1,0]
[5.4999999999999964,9.5993108859688051E-2,9.9999999999999997E+98,-1.2500000000000001E+101,1.2500399993600206E+101,-89.541643541999562,9.5845752520223912E-2,-0.9908135917238321,1.198110244190414E+100,-89.541643541999562,9.5845752520224654E+97,-1.1980719065027992E+100,-3.5355904731176385E+50,-44.770821770999781,-2.5100199196022536E+50,2.4900200795977737E+50,9.5845752520224654E+97,-1.1980719065027992E+100,9.5845752520224654E+97,-1.1980719065027992E+100,1,0,1,0]
[5.5999999999999961,9.7738438111682396E-2,9.9999999999999997E+98,-1.2500000000000001E+101,1.2500399993600206E+101,-89.541643541999562,9.7582899759149411E-2,-0.99047757767459577,1.2198252795247607E+100,-89.541643541999562,9.7582899759150151E+97,-1.2197862469893678E+100,-3.5355904731176385E+50,-44.770821770999781,-2.5100199196022536E+50,2.4900200795977737E+50,9.7582899759150151E+97,-1.2197862469893678E+100,9.7582899759150151E+97,-1.2197862469893678E+100,1,0,1,0]
[5.6999999999999957,9.9483767363676714E-2,9.9999999999999997E+98,-1.2500000000000001E+101,1.2500399993600206E+101,-89.541643541999562,9.9319749743638941E-2,-0.99013558731086104,1.2415365990597583E+100,-89.541643541999562,9.9319749743639691E+97,-1.2414968717954869E+100,-3.5355904731176385E+50,-44.770821770999781,-2.5100199196022536E+50,2.4900200795977737E+50,9.9319749743639691E+97,-1.2414968717954869E+100,9.9319749743639691E+97,-1.2414968717954869E+100,1,0,1,0]
[5.7999999999999954,0.10122909661567103,9.9999999999999997E+98,-1.2500000000000001E+101,1.2500399993600206E+101,-89.541643541999562,0.10105629718294626,-0.98978762479967208,1.2632441366589619E+100,-89.541643541999562,1.0105629718294701E+98,-1.2632037147868282E+100,-3.5355904731176385E+50,-44.770821770999781,-2.5100199196022536E+50,2.4900200795977737E+50,1.0105629718294701E+98,-1.2632037147868282E+100,1.0105629718294701E+98,-1.2632037147868282E+100,1,0,1,0]
[5.899999999999995,0.10297442586766535,9.9999999999999997E+98,-1.2500000000000001E+101,1.2500399993600206E+101,-89.541643541999562,0.10279253678724672,-0.98943369438084261,1.2849478261974478E+100,-89.541643541999562,1.027925367872475E+98,-1.2849067098405841E+100,-3.5355904731176385E+50,-44.770821770999781,-2.5100199196022536E+50,2.4900200795977737E+50,1.027925367872475E+98,-1.2849067098405841E+100,1.027925367872475E+98,-1.2849067098405841E+100,1,0,1,0]
[5.9999999999999947,0.10471975511965967,9.9999999999999997E+98,-1.2500000000000001E+101,1.2500399993600206E+101,-89.541643541999562,0.10452846326765336,-0.98907380036690296,1.3066476015620134E+100,-89.541643541999562,1.0452846326765415E+98,-1.3066057908456672E+100,-3.5355904731176385E+50,-44.770821770999781,-2.5100199196022536E+50,2.4900200795977737E+50,1.0452846326765415E+98,-1.3066057908456672E+100,1.0452846326765415E+98,-1.3066057908456672E+100,1,0,1,0]
[6.0999999999999943,0.10646508437165399,9.9999999999999997E+98,-1.2500000000000001E+101,1.2500399993600206E+101,-89.541643541999562,0.1062640713362331,-0.98870794714304799,1.3283433966513801E+100,-89.541643541999562,1.0626407133623391E+98,-1.3283008917029139E+100,-3.5355904731176385E+50,-44.770821770999781,-2.5100199196022536E+50,2.4900200795977737E+50,1.0626407133623391E+98,-1.3283008917029139E+100,1.0626407133623391E+98,-1.3283008917029139E+100,1,0,1,0]
[6.199999999999994,0.10821041362364833,9.9999999999999997E+98,-1.2500000000000001E+101,1.2500399993600206E+101,-89.541643541999562,0.10799935570602275,-0.98833613916708396,1.3500351453763931E+100,-89.541643541999562,1.0799935570602357E+98,-1.3499919463252845E+100,-3.5355904731176385E+50,-44.770821770999781,-2.5100199196022536E+50,2.4900200795977737E+50,1.0799935570602357E+98,-1.3499919463252845E+100,1.0799935570602357E+98,-1.3499919463252845E+100,1,0,1,0]
[6.2999999999999936,0.10995574287564265,9.9999999999999997E+98,-1.2500000000000001E+101,1.2500399993600206E+101,-89.541643541999562,0.10973431109104516,-0.98795838096937372,1.371722781660224E+100,-89.541643541999562,1.09734311091046E+98,-1.3716788886380647E+100,-3.5355904731176385E+50,-44.770821770999781,-2.5100199196022536E+50,2.4900200795977737E+50,1.09734311091046E+98,-1.3716788886380647E+100,1.09734311091046E+98,-1.3716788886380647E+100,1,0,1,0]
[6.3999999999999932,0.11170107212763697,9.9999999999999997E+98,-1.2500000000000001E+101,1.2500399993600206E+101,-89.541643541999562,0.11146893220632535,-0.98757467715278158,1.3934062394385713E+100,-89.541643541999562,1.1146893220632619E+98,-1.3933616525790669E+100,-3.5355904731176385E+50,-44.770821770999781,-2.5100199196022536E+50,2.4900200795977737E+50,1.1146893220632619E+98,-1.3933616525790669E+100,1.1146893220632619E+98,-1.3933616525790669E+100,{"$f":"(Q69*S69+T69*R69)/((S69^2)+(T69^2))","v":1},0,1,0]
[6.4999999999999929,{"$f":"A70*PI()/180","v":0.11344640137963129},{"$f":"$D$1","v":9.9999999999999997E+98},{"$f":"-(18000*$G$1/$N$1)","v":-1.2500000000000001E+101},{"$f":"(C70^2+D70^2)^0.5","v":1.2500399993600206E+101},{"$f":"(180/PI())*ATAN(D70/C70)","v":-89.541643541999562},{"$f":"SIN(B70)","v":0.11320321376790658},{"$f":"-((COS(B70))^2)","v":-0.98718503239261779},{"$f":"E70*G70","v":1.4150854526598622E+100},{"$f":"F70","v":-89.541643541999562},{"$f":"(((I70^2)/(1+(TAN(J70*(PI()/180)))^2))^0.5)","v":1.1320321376790745E+98},{"$f":"K70*TAN(J70*(PI()/180))","v":-1.4150401720988325E+100},{"$f":"-(((((C70+H70)^2)+(D70)^2)^0.5)^0.5)","v":-3.5355904731176385E+50},{"$f":"((ATAN(D70/(C70+H70)))*(180/PI()))/2","v":-44.770821770999781},{"$f":"-(((M70^2)/(1+(TAN(N70*(PI()/180)))^2))^0.5)","v":-2.5100199196022536E+50},{"$f":"O70*TAN(N70*(PI()/180))","v":2.4900200795977737E+50},{"$f":"K70+O70","v":1.1320321376790745E+98},-1.4150401720988325E+100,{"$f":"-O70+K70","v":1.1320321376790745E+98},{"$f":"L70-P70","v":-1.4150401720988325E+100},1,{"$f":"(R70*S70-Q70*T70)/((S70^2)+(T70^2))","v":0},{"$f":"((U70^2)+(V70^2))^0.5","v":1},{"$f":"(ACOS(U70/W70))*(180/PI())","v":0}]
[{"$f":"A70+0.1","v":6.5999999999999925},0.11519173063162561,9.9999999999999997E+98,-1.2500000000000001E+101,1.2500399993600206E+101,-89.541643541999562,0.11493715049286646,-0.98678945143658015,1.4367603552854537E+100,-89.541643541999562,1.1493715049286733E+98,-1.4367143811608308E+100,-3.5355904731176385E+50,-44.770821770999781,-2.5100199196022536E+50,2.4900200795977737E+50,1.1493715049286733E+98,-1.4367143811608308E+100,1.1493715049286733E+98,-1.4367143811608308E+100,1,0,1,0]
[6.6999999999999922,0.11693705988361995,9.9999999999999997E+98,-1.2500000000000001E+101,1.2500399993600206E+101,-89.541643541999562,0.11667073709933304,-0.98638793910469835,1.458430881289834E+100,-89.541643541999562,1.1667073709933392E+98,-1.4583842137416631E+100,-3.5355904731176385E+50,-44.770821770999781,-2.5100199196022536E+50,2.4900200795977737E+50,1.1667073709933392E+98,-1.4583842137416631E+100,1.1667073709933392E+98,-1.4583842137416631E+100,1,0,1,0]
[6.7999999999999918,0.11868238913561427,9.9999999999999997E+98,-1.2500000000000001E+101,1.2500399993600206E+101,-89.541643541999562,0.11840396830650081,-0.98598050028927309,1.4800969646608218E+100,-89.541643541999562,1.1840396830650171E+98,-1.4800496038312602E+100,-3.5355904731176385E+50,-44.770821770999781,-2.5100199196022536E+50,2.4900200795977737E+50,1.1840396830650171E+98,-1.4800496038312602E+100,1.1840396830650171E+98,-1.4800496038312602E+100,1,0,1,0]
[6.8999999999999915,0.12042771838760859,9.9999999999999997E+98,-1.2500000000000001E+101,1.2500399993600206E+101,-89.541643541999562,0.12013683883464694,-0.98556713995481804,1.5017585393997696E+100,-89.541643541999562,1.2013683883464785E+98,-1.5017104854330868E+100,-3.5355904731176385E+50,-44.770821770999781,-2.5100199196022536E+50,2.4900200795977737E+50,1.2013683883464785E+98,-1.5017104854330868E+100,1.2013683883464785E+98,-1.5017104854330868E+100,1,0,1,0]
[6.9999999999999911,0.12217304763960291,9.9999999999999997E+98,-1.2500000000000001E+101,1.2500399993600206E+101,-89.541643541999562,0.12186934340514732,-0.9851478631379984,1.5234155395217649E+100,-89.541643541999562,1.2186934340514826E+98,-1.5233667925643418E+100,-3.5355904731176385E+50,-44.770821770999781,-2.5100199196022536E+50,2.4900200795977737E+50,1.2186934340514826E+98,-1.5233667925643418E+100,1.2186934340514826E+98,-1.5233667925643418E+100,1,0,1,0]
[7.0999999999999908,0.12391837689159722,9.9999999999999997E+98,-1.2500000000000001E+101,1.2500399993600206E+101,-89.541643541999562,0.12360147674049253,-0.9847226749475696,1.5450678990558288E+100,-89.541643541999562,1.2360147674049347E+98,-1.5450184592561567E+100,-3.5355904731176385E+50,-44.770821770999781,-2.5100199196022536E+50,2.4900200795977737E+50,1.2360147674049347E+98,-1.5450184592561567E+100,1.2360147674049347E+98,-1.5450184592561567E+100,1,0,1,0]
[7.1999999999999904,0.12566370614359157,9.9999999999999997E+98,-1.2500000000000001E+101,1.2500399993600206E+101,-89.541643541999562,0.12533323356430409,-0.98429158056431565,1.56671555204512E+100,-89.541643541999562,1.2533323356430504E+98,-1.5666654195538012E+100,-3.5355904731176385E+50,-44.770821770999781,-2.5100199196022536E+50,2.4900200795977737E+50,1.2533323356430504E+98,-1.5666654195538012E+100,1.2533323356430504E+98,-1.5666654195538012E+100,1,0,1,0]
[7.2999999999999901,0.12740903539558587,9.9999999999999997E+98,-1.2500000000000001E+101,1.2500399993600206E+101,-89.541643541999562,0.1270646086013503,-0.98385458524098568,1.5883584325471319E+100,-89.541643541999562,1.2706460860135125E+98,-1.5883076075168788E+100,-3.5355904731176385E+50,-44.770821770999781,-2.5100199196022536E+50,2.4900200795977737E+50,1.2706460860135125E+98,-1.5883076075168788E+100,1.2706460860135125E+98,-1.5883076075168788E+100,1,0,1,0]
[7.3999999999999897,0.12915436464758021,9.9999999999999997E+98,-1.2500000000000001E+101,1.2500399993600206E+101,-89.541643541999562,0.12879559657756259,-0.98341169430222986,1.6099964746338981E+100,-89.541643541999562,1.2879559657756357E+98,-1.6099449572195326E+100,-3.5355904731176385E+50,-44.770821770999781,-2.5100199196022536E+50,2.4900200795977737E+50,1.2879559657756357E+98,-1.6099449572195326E+100,1.2879559657756357E+98,-1.6099449572195326E+100,1,0,1,0]
[7.4999999999999893,0.13089969389957454,9.9999999999999997E+98,-1.2500000000000001E+101,1.2500399993600206E+101,-89.541643541999562,0.13052619222005141,-0.9829629131445341,1.6316296123921898E+100,-89.541643541999562,1.305261922200524E+98,-1.6315774027506428E+100,-3.5355904731176385E+50,-44.770821770999781,-2.5100199196022536E+50,2.4900200795977737E+50,1.305261922200524E+98,-1.6315774027506428E+100,1.305261922200524E+98,-1.6315774027506428E+100,1,0,1,0]
[7.599999999999989,0.13264502315156884,9.9999999999999997E+98,-1.2500000000000001E+101,1.2500399993600206E+101,-89.541643541999562,0.13225639025712224,-0.98250824723615582,1.6532577799237172E+100,-89.541643541999562,1.3225639025712326E+98,-1.6532048782140283E+100,-3.5355904731176385E+50,-44.770821770999781,-2.5100199196022536E+50,2.4900200795977737E+50,1.3225639025712326E+98,-1.6532048782140283E+100,1.3225639025712326E+98,-1.6532048782140283E+100,1,0,1,0]
[7.6999999999999886,0.13439035240356317,9.9999999999999997E+98,-1.2500000000000001E+101,1.2500399993600206E+101,-89.541643541999562,0.13398618541829185,-0.98204770211705505,1.6748809113453315E+100,-89.541643541999562,1.3398618541829286E+98,-1.6748273177286482E+100,-3.5355904731176385E+50,-44.770821770999781,-2.5100199196022536E+50,2.4900200795977737E+50,1.3398618541829286E+98,-1.6748273177286482E+100,1.3398618541829286E+98,-1.6748273177286482E+100,1,0,1,0]
[7.7999999999999883,0.13613568165555751,9.9999999999999997E+98,-1.2500000000000001E+101,1.2500399993600206E+101,-89.541643541999562,0.13571557243430418,-0.981581283398829,1.6964989407892243E+100,-89.541643541999562,1.3571557243430522E+98,-1.6964446554288026E+100,-3.5355904731176385E+50,-44.770821770999781,-2.5100199196022536E+50,2.4900200795977737E+50,1.3571557243430522E+98,-1.6964446554288026E+100,1.3571557243430522E+98,-1.6964446554288026E+100,1,0,1,0]
[7.8999999999999879,0.13788101090755184,9.9999999999999997E+98,-1.2500000000000001E+101,1.2500399993600206E+101,-89.541643541999562,0.13744454603714645,-0.9811089967646428,1.7181118024031288E+100,-89.541643541999562,1.3744454603714748E+98,-1.7180568254643307E+100,-3.5355904731176385E+50,-44.770821770999781,-2.5100199196022536E+50,2.4900200795977737E+50,1.3744454603714748E+98,-1.7180568254643307E+100,1.3744454603714748E+98,-1.7180568254643307E+100,1,0,1,0]
[7.9999999999999876,0.13962634015954614,9.9999999999999997E+98,-1.2500000000000001E+101,1.2500399993600206E+101,-89.541643541999562,0.13917310096006522,-0.98063084796915956,1.73971943035052E+100,-89.541643541999562,1.3917310096006627E+98,-1.7396637620008154E+100,-3.5355904731176385E+50,-44.770821770999781,-2.5100199196022536E+50,2.4900200795977737E+50,1.3917310096006627E+98,-1.7396637620008154E+100,1.3917310096006627E+98,-1.7396637620008154E+100,1,0,1,0]
[8.0999999999999872,0.14137166941154047,9.9999999999999997E+98,-1.2500000000000001E+101,1.2500399993600206E+101,-89.541643541999562,0.14090123193758244,-0.98014684283847164,1.7613217588108166E+100,-89.541643541999562,1.409012319375835E+98,-1.7612653992197807E+100,-3.5355904731176385E+50,-44.770821770999781,-2.5100199196022536E+50,2.4900200795977737E+50,1.409012319375835E+98,-1.7612653992197807E+100,1.409012319375835E+98,-1.7612653992197807E+100,1,0,1,0]
[8.1999999999999869,0.14311699866353478,9.9999999999999997E+98,-1.2500000000000001E+101,1.2500399993600206E+101,-89.541643541999562,0.14262893370551141,-0.97965698727002881,1.7829187219795789E+100,-89.541643541999562,1.4262893370551248E+98,-1.7828616713188926E+100,-3.5355904731176385E+50,-44.770821770999781,-2.5100199196022536E+50,2.4900200795977737E+50,1.4262893370551248E+98,-1.7828616713188926E+100,1.4262893370551248E+98,-1.7828616713188926E+100,1,0,1,0]
[8.2999999999999865,0.14486232791552911,9.9999999999999997E+98,-1.2500000000000001E+101,1.2500399993600206E+101,-89.541643541999562,0.14435620100097299,-0.97916128723256668,1.8045102540687129E+100,-89.541643541999562,1.4435620100097408E+98,-1.8044525125121626E+100,-3.5355904731176385E+50,-44.770821770999781,-2.5100199196022536E+50,2.4900200795977737E+50,1.4435620100097408E+98,-1.8044525125121626E+100,1.4435620100097408E+98,-1.8044525125121626E+100,1,0,1,0]
[8.3999999999999861,0.14660765716752344,9.9999999999999997E+98,-1.2500000000000001E+101,1.2500399993600206E+101,-89.541643541999562,0.14608302856241137,-0.97865974876603368,1.8260962893066656E+100,-89.541643541999562,1.4608302856241249E+98,-1.8260378570301426E+100,-3.5355904731176385E+50,-44.770821770999781,-2.5100199196022536E+50,2.4900200795977737E+50,1.4608302856241249E+98,-1.8260378570301426E+100,1.4608302856241249E+98,-1.8260378570301426E+100,1,0,1,0]
[8.4999999999999858,0.14835298641951777,9.9999999999999997E+98,-1.2500000000000001E+101,1.2500399993600206E+101,-89.541643541999562,0.14780941112961038,-0.97815237798151777,1.8476767619386317E+100,-89.541643541999562,1.4780941112961148E+98,-1.8476176391201298E+100,-3.5355904731176385E+50,-44.770821770999781,-2.5100199196022536E+50,2.4900200795977737E+50,1.4780941112961148E+98,-1.8476176391201298E+100,1.4780941112961148E+98,-1.8476176391201298E+100,1,0,1,0]
[8.5999999999999854,0.15009831567151208,9.9999999999999997E+98,-1.2500000000000001E+101,1.2500399993600206E+101,-89.541643541999562,0.14953534344370928,-0.97763918106117198,1.869251606226748E+100,-89.541643541999562,1.4953534344371039E+98,-1.8691917930463659E+100,-3.5355904731176385E+50,-44.770821770999781,-2.5100199196022536E+50,2.4900200795977737E+50,1.4953534344371039E+98,-1.8691917930463659E+100,1.4953534344371039E+98,-1.8691917930463659E+100,1,0,1,0]
[8.6999999999999851,0.15184364492350641,9.9999999999999997E+98,-1.2500000000000001E+101,1.2500399993600206E+101,-89.541643541999562,0.15126082024721896,-0.97712016425813852,1.8908207564502978E+100,-89.541643541999562,1.5126082024722011E+98,-1.8907602530902373E+100,-3.5355904731176385E+50,-44.770821770999781,-2.5100199196022536E+50,2.4900200795977737E+50,1.5126082024722011E+98,-1.8907602530902373E+100,1.5126082024722011E+98,-1.8907602530902373E+100,1,0,1,0]
[8.7999999999999847,0.15358897417550071,9.9999999999999997E+98,-1.2500000000000001E+101,1.2500399993600206E+101,-89.541643541999562,0.15298583628403778,-0.97659533389647368,1.9123841469059079E+100,-89.541643541999562,1.5298583628403893E+98,-1.9123229535504722E+100,-3.5355904731176385E+50,-44.770821770999781,-2.5100199196022536E+50,2.4900200795977737E+50,1.5298583628403893E+98,-1.9123229535504722E+100,1.5298583628403893E+98,-1.9123229535504722E+100,1,0,1,0]
[8.8999999999999844,0.15533430342749505,9.9999999999999997E+98,-1.2500000000000001E+101,1.2500399993600206E+101,-89.541643541999562,0.15471038629946782,-0.97606469637106952,1.9339417119077529E+100,-89.541643541999562,1.54710386299469E+98,-1.9338798287433478E+100,-3.5355904731176385E+50,-44.770821770999781,-2.5100199196022536E+50,2.4900200795977737E+50,1.54710386299469E+98,-1.9338798287433478E+100,1.54710386299469E+98,-1.9338798287433478E+100,1,0,1,0]
[8.999999999999984,0.15707963267948938,9.9999999999999997E+98,-1.2500000000000001E+101,1.2500399993600206E+101,-89.541643541999562,0.15643446504023059,-0.97552825814757682,1.9554933857877503E+100,-89.541643541999562,1.564344650402318E+98,-1.9554308130028829E+100,-3.5355904731176385E+50,-44.770821770999781,-2.5100199196022536E+50,2.4900200795977737E+50,1.564344650402318E+98,-1.9554308130028829E+100,1.564344650402318E+98,-1.9554308130028829E+100,1,0,1,0]
[9.0999999999999837,0.15882496193148371,9.9999999999999997E+98,-1.2500000000000001E+101,1.2500399993600206E+101,-89.541643541999562,0.15815806725448325,-0.9749860257623264,1.9770391028957634E+100,-89.541643541999562,1.5815806725448446E+98,-1.9769758406810407E+100,-3.5355904731176385E+50,-44.770821770999781,-2.5100199196022536E+50,2.4900200795977737E+50,1.5815806725448446E+98,-1.9769758406810407E+100,1.5815806725448446E+98,-1.9769758406810407E+100,1,0,1,0]
[9.1999999999999833,0.16057029118347801,9.9999999999999997E+98,-1.2500000000000001E+101,1.2500399993600206E+101,-89.541643541999562,0.15988118769183457,-0.97443800582224849,1.9985787975998023E+100,-89.541643541999562,1.5988118769183579E+98,-1.9985148461479325E+100,-3.5355904731176385E+50,-44.770821770999781,-2.5100199196022536E+50,2.4900200795977737E+50,{"$f":"K97+O97","v":1.5988118769183579E+98},-1.9985148461479325E+100,1.5988118769183579E+98,-1.9985148461479325E+100,1,0,1,0]
[9.2999999999999829,0.16231562043547235,9.9999999999999997E+98,-1.2500000000000001E+101,1.2500399993600206E+101,-89.541643541999562,0.16160382110336083,-0.973884205004793,2.0201124042862206E+100,-89.541643541999562,1.6160382110336206E+98,-2.0200477637920105E+100,-3.5355904731176385E+50,-44.770821770999781,-2.5100199196022536E+50,2.4900200795977737E+50,1.6160382110336206E+98,-2.0200477637920105E+100,1.6160382110336206E+98,-2.0200477637920105E+100,1,0,1,0]
[9.3999999999999826,0.16406094968746668,9.9999999999999997E+98,-1.2500000000000001E+101,1.2500399993600206E+101,-89.541643541999562,0.16332596224162196,-0.97332463005784831,2.0416398573599188E+100,-89.541643541999562,1.6332596224162323E+98,-2.0415745280202751E+100,-3.5355904731176385E+50,-44.770821770999781,-2.5100199196022536E+50,2.4900200795977737E+50,1.6332596224162323E+98,-2.0415745280202751E+100,1.6332596224162323E+98,-2.0415745280202751E+100,1,0,1,0]
[9.4999999999999822,0.16580627893946101,9.9999999999999997E+98,-1.2500000000000001E+101,1.2500399993600206E+101,-89.541643541999562,0.16504760586067735,-0.97275928779965848,2.0631610912445403E+100,-89.541643541999562,1.650476058606786E+98,-2.0630950732584672E+100,-3.5355904731176385E+50,-44.770821770999781,-2.5100199196022536E+50,2.4900200795977737E+50,1.650476058606786E+98,-2.0630950732584672E+100,1.650476058606786E+98,-2.0630950732584672E+100,1,0,1,0]
[9.5999999999999819,0.16755160819145531,9.9999999999999997E+98,-1.2500000000000001E+101,1.2500399993600206E+101,-89.541643541999562,0.16676874671610195,-0.97218818511874061,2.084676040382675E+100,-89.541643541999562,1.667687467161032E+98,-2.0846093339512741E+100,-3.5355904731176385E+50,-44.770821770999781,-2.5100199196022536E+50,2.4900200795977737E+50,1.667687467161032E+98,-2.0846093339512741E+100,1.667687467161032E+98,-2.0846093339512741E+100,1,0,1,0]
[9.6999999999999815,0.16929693744344965,9.9999999999999997E+98,-1.2500000000000001E+101,1.2500399993600206E+101,-89.541643541999562,0.16848937956500229,-0.97161132897380065,2.1061846392360574E+100,-89.541643541999562,1.6848937956500358E+98,-2.1061172445625288E+100,-3.5355904731176385E+50,-44.770821770999781,-2.5100199196022536E+50,2.4900200795977737E+50,1.6848937956500358E+98,-2.1061172445625288E+100,1.6848937956500358E+98,-2.1061172445625288E+100,1,0,1,0]
[9.7999999999999812,0.17104226669544395,9.9999999999999997E+98,-1.2500000000000001E+101,1.2500399993600206E+101,-89.541643541999562,0.1702094991660322,-0.97102872639364857,2.1276868222857633E+100,-89.541643541999562,1.7020949916603349E+98,-2.1276187395754027E+100,-3.5355904731176385E+50,-44.770821770999781,-2.5100199196022536E+50,2.4900200795977737E+50,1.7020949916603349E+98,-2.1276187395754027E+100,1.7020949916603349E+98,-2.1276187395754027E+100,1,0,1,0]
[9.8999999999999808,0.17278759594743828,9.9999999999999997E+98,-1.2500000000000001E+101,1.2500399993600206E+101,-89.541643541999562,0.17192910027940922,-0.97044038447711289,2.1491825240324161E+100,-89.541643541999562,1.7192910027941051E+98,-2.1491137534926152E+100,-3.5355904731176385E+50,-44.770821770999781,-2.5100199196022536E+50,2.4900200795977737E+50,1.7192910027941051E+98,-2.1491137534926152E+100,1.7192910027941051E+98,-2.1491137534926152E+100,1,0,1,0]
[9.9999999999999805,0.17453292519943261,9.9999999999999997E+98,-1.2500000000000001E+101,1.2500399993600206E+101,-89.541643541999562,0.17364817766693,-0.96984631039295432,2.1706716789963791E+100,-89.541643541999562,1.7364817766693129E+98,-2.1706022208366247E+100,-3.5355904731176385E+50,-44.770821770999781,-2.5100199196022536E+50,2.4900200795977737E+50,1.7364817766693129E+98,-2.1706022208366247E+100,1.7364817766693129E+98,-2.1706022208366247E+100,1,0,1,0]
[10.09999999999998,0.17627825445142695,9.9999999999999997E+98,-1.2500000000000001E+101,1.2500399993600206E+101,-89.541643541999562,0.17536672609198678,-0.96924651137977813,2.1921542217179605E+100,-89.541643541999562,1.753667260919881E+98,-2.192084076149835E+100,-3.5355904731176385E+50,-44.770821770999781,-2.5100199196022536E+50,2.4900200795977737E+50,1.753667260919881E+98,-2.192084076149835E+100,1.753667260919881E+98,-2.192084076149835E+100,1,0,1,0]
[10.19999999999998,0.17802358370342128,9.9999999999999997E+98,-1.2500000000000001E+101,1.2500399993600206E+101,-89.541643541999562,0.17708474031958296,-0.96864099474594589,2.2136300867576091E+100,-89.541643541999562,1.770847403195843E+98,-2.2135592539947874E+100,-3.5355904731176385E+50,-44.770821770999781,-2.5100199196022536E+50,2.4900200795977737E+50,1.770847403195843E+98,-2.2135592539947874E+100,1.770847403195843E+98,-2.2135592539947874E+100,1,0,1,0]
[10.299999999999979,0.17976891295541558,9.9999999999999997E+98,-1.2500000000000001E+101,1.2500399993600206E+101,-89.541643541999562,0.17880221511634925,-0.96802976786948669,2.2350992086961149E+100,-89.541643541999562,1.7880221511635062E+98,-2.235027688954366E+100,-3.5355904731176385E+50,-44.770821770999781,-2.5100199196022536E+50,2.4900200795977737E+50,1.7880221511635062E+98,-2.235027688954366E+100,1.7880221511635062E+98,-2.235027688954366E+100,1,0,1,0]
[10.399999999999979,0.18151424220740991,9.9999999999999997E+98,-1.2500000000000001E+101,1.2500399993600206E+101,-89.541643541999562,0.18051914525055962,-0.96741283819800727,2.2565615221348102E+100,-89.541643541999562,1.8051914525056099E+98,-2.2564893156319953E+100,-3.5355904731176385E+50,-44.770821770999781,-2.5100199196022536E+50,2.4900200795977737E+50,1.8051914525056099E+98,-2.2564893156319953E+100,1.8051914525056099E+98,-2.2564893156319953E+100,1,0,1,0]
[10.499999999999979,0.18325957145940422,9.9999999999999997E+98,-1.2500000000000001E+101,1.2500399993600206E+101,-89.541643541999562,0.18223552549214708,-0.96679021324860093,2.2780169616957655E+100,-89.541643541999562,1.8223552549214846E+98,-2.2779440686518389E+100,-3.5355904731176385E+50,-44.770821770999781,-2.5100199196022536E+50,2.4900200795977737E+50,1.8223552549214846E+98,-2.2779440686518389E+100,1.8223552549214846E+98,-2.2779440686518389E+100,1,0,1,0]
[10.599999999999978,0.18500490071139855,9.9999999999999997E+98,-1.2500000000000001E+101,1.2500399993600206E+101,-89.541643541999562,0.18395135061271978,-0.9661619006077562,2.2994654620219915E+100,-89.541643541999562,1.8395135061272117E+98,-2.2993918826589975E+100,-3.5355904731176385E+50,-44.770821770999781,-2.5100199196022536E+50,2.4900200795977737E+50,1.8395135061272117E+98,-2.2993918826589975E+100,1.8395135061272117E+98,-2.2993918826589975E+100,1,0,1,0]
[10.699999999999978,0.18675022996339288,9.9999999999999997E+98,-1.2500000000000001E+101,1.2500399993600206E+101,-89.541643541999562,0.18566661538557683,-0.96552790793126442,2.3209069577776363E+100,-89.541643541999562,1.8566661538557822E+98,-2.3208326923197104E+100,-3.5355904731176385E+50,-44.770821770999781,-2.5100199196022536E+50,2.4900200795977737E+50,1.8566661538557822E+98,-2.3208326923197104E+100,1.8566661538557822E+98,-2.3208326923197104E+100,1,0,1,0]
[10.799999999999978,0.18849555921538719,9.9999999999999997E+98,-1.2500000000000001E+101,1.2500399993600206E+101,-89.541643541999562,0.18738131458572424,-0.96488824294412578,2.3423413836481856E+100,-89.541643541999562,1.8738131458572567E+98,-2.3422664323215535E+100,-3.5355904731176385E+50,-44.770821770999781,-2.5100199196022536E+50,2.4900200795977737E+50,1.8738131458572567E+98,-2.3422664323215535E+100,1.8738131458572567E+98,-2.3422664323215535E+100,1,0,1,0]
[10.899999999999977,0.19024088846738152,9.9999999999999997E+98,-1.2500000000000001E+101,1.2500399993600206E+101,-89.541643541999562,0.18909544298989089,-0.96424291344045698,2.3637686743406604E+100,-89.541643541999562,1.8909544298989232E+98,-2.3636930373736361E+100,-3.5355904731176385E+50,-44.770821770999781,-2.5100199196022536E+50,2.4900200795977737E+50,1.8909544298989232E+98,-2.3636930373736361E+100,1.8909544298989232E+98,-2.3636930373736361E+100,1,0,1,0]
[10.999999999999977,0.19198621771937582,9.9999999999999997E+98,-1.2500000000000001E+101,1.2500399993600206E+101,-89.541643541999562,0.19080899537654439,-0.96359192728339393,2.3851887645838172E+100,-89.541643541999562,1.9080899537654584E+98,-2.3851124422068053E+100,-3.5355904731176385E+50,-44.770821770999781,-2.5100199196022536E+50,2.4900200795977737E+50,1.9080899537654584E+98,-2.3851124422068053E+100,1.9080899537654584E+98,-2.3851124422068053E+100,1,0,1,0]
[11.099999999999977,0.19373154697137018,9.9999999999999997E+98,-1.2500000000000001E+101,1.2500399993600206E+101,-89.541643541999562,0.19252196652590706,-0.96293529240499753,2.4066015891283475E+100,-89.541643541999562,1.9252196652590851E+98,-2.4065245815738383E+100,-3.5355904731176385E+50,-44.770821770999781,-2.5100199196022536E+50,2.4900200795977737E+50,1.9252196652590851E+98,-2.4065245815738383E+100,1.9252196652590851E+98,-2.4065245815738383E+100,1,0,1,0]
[11.199999999999976,0.19547687622336446,9.9999999999999997E+98,-1.2500000000000001E+101,1.2500399993600206E+101,-89.541643541999562,0.19423435121997154,-0.96227301680615673,2.4280070827470722E+100,-89.541643541999562,1.9423435121997301E+98,-2.4279293902496442E+100,-3.5355904731176385E+50,-44.770821770999781,-2.5100199196022536E+50,2.4900200795977737E+50,1.9423435121997301E+98,-2.4279293902496442E+100,1.9423435121997301E+98,-2.4279293902496442E+100,1,0,1,0]
[11.299999999999976,0.19722220547535882,9.9999999999999997E+98,-1.2500000000000001E+101,1.2500399993600206E+101,-89.541643541999562,0.19594614424251727,-0.96160510855649062,2.4494051802351481E+100,-89.541643541999562,1.9594614424251878E+98,-2.4493268030314662E+100,-3.5355904731176385E+50,-44.770821770999781,-2.5100199196022536E+50,2.4900200795977737E+50,1.9594614424251878E+98,-2.4493268030314662E+100,1.9594614424251878E+98,-2.4493268030314662E+100,1,0,1,0]
[11.399999999999975,0.19896753472735315,9.9999999999999997E+98,-1.2500000000000001E+101,1.2500399993600206E+101,-89.541643541999562,0.19765734037912575,-0.96093157579425048,2.4707958164102572E+100,-89.541643541999562,1.9765734037912723E+98,-2.4707167547390719E+100,-3.5355904731176385E+50,-44.770821770999781,-2.5100199196022536E+50,2.4900200795977737E+50,1.9765734037912723E+98,-2.4707167547390719E+100,1.9765734037912723E+98,-2.4707167547390719E+100,1,0,1,0]
[11.499999999999975,0.20071286397934746,9.9999999999999997E+98,-1.2500000000000001E+101,1.2500399993600206E+101,-89.541643541999562,0.19936793441719675,-0.96025242672622035,2.4921789261128125E+100,-89.541643541999562,1.9936793441719825E+98,-2.4920991802149595E+100,-3.5355904731176385E+50,-44.770821770999781,-2.5100199196022536E+50,2.4900200795977737E+50,1.9936793441719825E+98,-2.4920991802149595E+100,1.9936793441719825E+98,-2.4920991802149595E+100,1,0,1,0]
[11.599999999999975,0.20245819323134179,9.9999999999999997E+98,-1.2500000000000001E+101,1.2500399993600206E+101,-89.541643541999562,0.20107792114596423,-0.95956766962761741,2.5135544442061541E+100,-89.541643541999562,2.0107792114596578E+98,-2.5134740143245534E+100,-3.5355904731176385E+50,-44.770821770999781,-2.5100199196022536E+50,2.4900200795977737E+50,2.0107792114596578E+98,-2.5134740143245534E+100,2.0107792114596578E+98,-2.5134740143245534E+100,1,0,1,0]
[11.699999999999974,0.20420352248333609,9.9999999999999997E+98,-1.2500000000000001E+101,1.2500399993600206E+101,-89.541643541999562,0.20278729535651202,-0.95887731284199074,2.5349223055767458E+100,-89.541643541999562,2.0278729535651355E+98,-2.5348411919564005E+100,-3.5355904731176385E+50,-44.770821770999781,-2.5100199196022536E+50,2.4900200795977737E+50,2.0278729535651355E+98,-2.5348411919564005E+100,2.0278729535651355E+98,-2.5348411919564005E+100,1,0,1,0]
[11.799999999999974,0.20594885173533042,9.9999999999999997E+98,-1.2500000000000001E+101,1.2500399993600206E+101,-89.541643541999562,0.20449605184178987,-0.95818136478111993,2.5562824451343777E+100,-89.541643541999562,2.0449605184179145E+98,-2.5562006480223738E+100,-3.5355904731176385E+50,-44.770821770999781,-2.5100199196022536E+50,2.4900200795977737E+50,2.0449605184179145E+98,-2.5562006480223738E+100,2.0449605184179145E+98,-2.5562006480223738E+100,1,0,1,0]
[11.899999999999974,0.20769418098732476,9.9999999999999997E+98,-1.2500000000000001E+101,1.2500399993600206E+101,-89.541643541999562,0.20620418539662919,-0.95747983392491265,2.5776347978123592E+100,-89.541643541999562,2.0620418539663074E+98,-2.5775523174578648E+100,-3.5355904731176385E+50,-44.770821770999781,-2.5100199196022536E+50,2.4900200795977737E+50,2.0620418539663074E+98,-2.5775523174578648E+100,2.0620418539663074E+98,-2.5775523174578648E+100,1,0,1,0]
[11.999999999999973,0.20943951023931906,9.9999999999999997E+98,-1.2500000000000001E+101,1.2500399993600206E+101,-89.541643541999562,0.20791169081775887,-0.9567727288213006,2.5989792985677209E+100,-89.541643541999562,2.0791169081776045E+98,-2.5988961352219862E+100,-3.5355904731176385E+50,-44.770821770999781,-2.5100199196022536E+50,2.4900200795977737E+50,2.0791169081776045E+98,-2.5988961352219862E+100,2.0791169081776045E+98,-2.5988961352219862E+100,1,0,1,0]
[12.099999999999973,0.21118483949131342,9.9999999999999997E+98,-1.2500000000000001E+101,1.2500399993600206E+101,-89.541643541999562,0.20961856290382136,-0.95606005808613659,2.6203158823814127E+100,-89.541643541999562,2.0961856290382293E+98,-2.6202320362977669E+100,-3.5355904731176385E+50,-44.770821770999781,-2.5100199196022536E+50,2.4900200795977737E+50,2.0961856290382293E+98,-2.6202320362977669E+100,2.0961856290382293E+98,-2.6202320362977669E+100,1,0,1,0]
[12.199999999999973,0.2129301687433077,9.9999999999999997E+98,-1.2500000000000001E+101,1.2500399993600206E+101,-89.541643541999562,0.21132479645538815,-0.95534183040308873,2.6416444842584987E+100,-89.541643541999562,2.1132479645538973E+98,-2.6415599556923519E+100,-3.5355904731176385E+50,-44.770821770999781,-2.5100199196022536E+50,2.4900200795977737E+50,2.1132479645538973E+98,-2.6415599556923519E+100,2.1132479645538973E+98,-2.6415599556923519E+100,1,0,1,0]
[12.299999999999972,0.21467549799530206,9.9999999999999997E+98,-1.2500000000000001E+101,1.2500399993600206E+101,-89.541643541999562,0.21303038627497611,-0.95461805452353454,2.6629650392283608E+100,-89.541643541999562,2.1303038627497774E+98,-2.6628798284372016E+100,-3.5355904731176385E+50,-44.770821770999781,-2.5100199196022536E+50,2.4900200795977737E+50,2.1303038627497774E+98,-2.6628798284372016E+100,2.1303038627497774E+98,-2.6628798284372016E+100,1,0,1,0]
[12.399999999999972,0.21642082724729639,9.9999999999999997E+98,-1.2500000000000001E+101,1.2500399993600206E+101,-89.541643541999562,0.21473532716706273,-0.95388873926645457,2.6842774823448889E+100,-89.541643541999562,2.1473532716706436E+98,-2.6841915895882844E+100,-3.5355904731176385E+50,-44.770821770999781,-2.5100199196022536E+50,2.4900200795977737E+50,2.1473532716706436E+98,-2.6841915895882844E+100,2.1473532716706436E+98,-2.6841915895882844E+100,1,0,1,0]
[12.499999999999972,0.21816615649929069,9.9999999999999997E+98,-1.2500000000000001E+101,1.2500399993600206E+101,-89.541643541999562,0.21643961393810238,-0.95315389351832525,2.705581748686686E+100,-89.541643541999562,2.1643961393810402E+98,-2.7054951742262798E+100,-3.5355904731176385E+50,-44.770821770999781,-2.5100199196022536E+50,2.4900200795977737E+50,2.1643961393810402E+98,-2.7054951742262798E+100,2.1643961393810402E+98,-2.7054951742262798E+100,1,0,1,0]
[12.599999999999971,0.21991148575128502,9.9999999999999997E+98,-1.2500000000000001E+101,1.2500399993600206E+101,-89.541643541999562,0.21814324139654206,-0.95241352623301001,2.7268777733572625E+100,-89.541643541999562,2.181432413965437E+98,-2.7267905174567758E+100,-3.5355904731176385E+50,-44.770821770999781,-2.5100199196022536E+50,2.4900200795977737E+50,2.181432413965437E+98,-2.7267905174567758E+100,2.181432413965437E+98,-2.7267905174567758E+100,1,0,1,0]
[12.699999999999971,0.22165681500327933,9.9999999999999997E+98,-1.2500000000000001E+101,1.2500399993600206E+101,-89.541643541999562,0.219846204352837,-0.95166764643165058,2.7481654914852332E+100,-89.541643541999562,2.1984620435283867E+98,-2.7480775544104628E+100,-3.5355904731176385E+50,-44.770821770999781,-2.5100199196022536E+50,2.4900200795977737E+50,2.1984620435283867E+98,-2.7480775544104628E+100,2.1984620435283867E+98,-2.7480775544104628E+100,1,0,1,0]
[12.799999999999971,0.22340214425527366,9.9999999999999997E+98,-1.2500000000000001E+101,1.2500399993600206E+101,-89.541643541999562,0.22154849761946679,-0.95091626320255718,2.7694448382245178E+100,-89.541643541999562,2.2154849761946845E+98,-2.7693562202433347E+100,-3.5355904731176385E+50,-44.770821770999781,-2.5100199196022536E+50,2.4900200795977737E+50,2.2154849761946845E+98,-2.7693562202433347E+100,2.2154849761946845E+98,-2.7693562202433347E+100,{"$f":"(Q133*S133+T133*R133)/((S133^2)+(T133^2))","v":1},0,1,0]
[12.89999999999997,{"$f":"A134*PI()/180","v":0.22514747350726799},{"$f":"$D$1","v":9.9999999999999997E+98},{"$f":"-(18000*$G$1/$N$1)","v":-1.2500000000000001E+101},{"$f":"(C134^2+D134^2)^0.5","v":1.2500399993600206E+101},{"$f":"(180/PI())*ATAN(D134/C134)","v":-89.541643541999562},{"$f":"SIN(B134)","v":0.22325011601095085},{"$f":"-((COS(B134))^2)","v":-0.95015938570109693},{"$f":"E134*G134","v":2.7907157487545351E+100},{"$f":"F134","v":-89.541643541999562},{"$f":"(((I134^2)/(1+(TAN(J134*(PI()/180)))^2))^0.5)","v":2.2325011601095255E+98},{"$f":"K134*TAN(J134*(PI()/180))","v":-2.7906264501368861E+100},{"$f":"-(((((C134+H134)^2)+(D134)^2)^0.5)^0.5)","v":-3.5355904731176385E+50},{"$f":"((ATAN(D134/(C134+H134)))*(180/PI()))/2","v":-44.770821770999781},{"$f":"-(((M134^2)/(1+(TAN(N134*(PI()/180)))^2))^0.5)","v":-2.5100199196022536E+50},{"$f":"O134*TAN(N134*(PI()/180))","v":2.4900200795977737E+50},2.2325011601095255E+98,-2.7906264501368861E+100,{"$f":"-O134+K134","v":2.2325011601095255E+98},{"$f":"L134-P134","v":-2.7906264501368861E+100},1,{"$f":"(R134*S134-Q134*T134)/((S134^2)+(T134^2))","v":0},{"$f":"((U134^2)+(V134^2))^0.5","v":1},{"$f":"(ACOS(U134/W134))*(180/PI())","v":0}]
[{"$f":"A134+0.1","v":12.99999999999997},0.2268928027592623,9.9999999999999997E+98,-1.2500000000000001E+101,1.2500399993600206E+101,-89.541643541999562,0.22495105434386448,-0.94939702314958374,2.8119781582804032E+100,-89.541643541999562,2.2495105434386619E+98,-2.8118881792983062E+100,-3.5355904731176385E+50,-44.770821770999781,-2.5100199196022536E+50,2.4900200795977737E+50,2.2495105434386619E+98,-2.8118881792983062E+100,2.2495105434386619E+98,-2.8118881792983062E+100,1,0,1,0]
[13.099999999999969,0.22863813201125666,9.9999999999999997E+98,-1.2500000000000001E+101,1.2500399993600206E+101,-89.541643541999562,0.22665130743685455,-0.94862918483716452,2.833232002033135E+100,-89.541643541999562,2.2665130743685626E+98,-2.8331413429606819E+100,-3.5355904731176385E+50,-44.770821770999781,-2.5100199196022536E+50,2.4900200795977737E+50,2.2665130743685626E+98,-2.8331413429606819E+100,2.2665130743685626E+98,-2.8331413429606819E+100,1,0,1,0]
[13.199999999999969,0.23038346126325093,9.9999999999999997E+98,-1.2500000000000001E+101,1.2500399993600206E+101,-89.541643541999562,0.22835087011065519,-0.94785588011970667,2.8544772152698354E+100,-89.541643541999562,2.283508701106569E+98,-2.8543858763831899E+100,-3.5355904731176385E+50,-44.770821770999781,-2.5100199196022536E+50,2.4900200795977737E+50,2.283508701106569E+98,-2.8543858763831899E+100,2.283508701106569E+98,-2.8543858763831899E+100,1,0,1,0]
[13.299999999999969,0.23212879051524529,9.9999999999999997E+98,-1.2500000000000001E+101,1.2500399993600206E+101,-89.541643541999562,0.2300497371881039,-0.94707711841968434,2.8757137332739029E+100,-89.541643541999562,2.3004973718810563E+98,-2.8756217148512989E+100,-3.5355904731176385E+50,-44.770821770999781,-2.5100199196022536E+50,2.4900200795977737E+50,2.3004973718810563E+98,-2.8756217148512989E+100,2.3004973718810563E+98,-2.8756217148512989E+100,1,0,1,0]
[13.399999999999968,0.23387411976723962,9.9999999999999997E+98,-1.2500000000000001E+101,1.2500399993600206E+101,-89.541643541999562,0.2317479034941568,-0.94629290922606302,2.896941491355219E+100,-89.541643541999562,2.3174790349415861E+98,-2.8968487936769608E+100,-3.5355904731176385E+50,-44.770821770999781,-2.5100199196022536E+50,2.4900200795977737E+50,2.3174790349415861E+98,-2.8968487936769608E+100,2.3174790349415861E+98,-2.8968487936769608E+100,1,0,1,0]
[13.499999999999968,0.23561944901923393,9.9999999999999997E+98,-1.2500000000000001E+101,1.2500399993600206E+101,-89.541643541999562,0.23344536385590486,-0.94550326209418423,2.918160424850351E+100,-89.541643541999562,2.3344536385590666E+98,-2.9180670481988114E+100,-3.5355904731176385E+50,-44.770821770999781,-2.5100199196022536E+50,2.4900200795977737E+50,2.3344536385590666E+98,-2.9180670481988114E+100,2.3344536385590666E+98,-2.9180670481988114E+100,1,0,1,0]
[13.599999999999968,0.23736477827122826,9.9999999999999997E+98,-1.2500000000000001E+101,1.2500399993600206E+101,-89.541643541999562,0.23514211310258948,-0.94470818664564904,2.9393704691227484E+100,-89.541643541999562,2.3514211310259126E+98,-2.9392764137823686E+100,-3.5355904731176385E+50,-44.770821770999781,-2.5100199196022536E+50,2.4900200795977737E+50,2.3514211310259126E+98,-2.9392764137823686E+100,2.3514211310259126E+98,-2.9392764137823686E+100,1,0,1,0]
[13.699999999999967,0.23911010752322256,9.9999999999999997E+98,-1.2500000000000001E+101,1.2500399993600206E+101,-89.541643541999562,0.23683814606561812,-0.94390769256820084,2.9605715595629376E+100,-89.541643541999562,2.3683814606561994E+98,-2.9604768258202271E+100,-3.5355904731176385E+50,-44.770821770999781,-2.5100199196022536E+50,2.4900200795977737E+50,2.3683814606561994E+98,-2.9604768258202271E+100,2.3683814606561994E+98,-2.9604768258202271E+100,1,0,1,0]
[13.799999999999967,0.2408554367752169,9.9999999999999997E+98,-1.2500000000000001E+101,1.2500399993600206E+101,-89.541643541999562,0.23853345757858033,-0.94310178961560764,2.9817636315887205E+100,-89.541643541999562,2.3853345757858214E+98,-2.9816682197322543E+100,-3.5355904731176385E+50,-44.770821770999781,-2.5100199196022536E+50,2.4900200795977737E+50,2.3853345757858214E+98,-2.9816682197322543E+100,2.3853345757858214E+98,-2.9816682197322543E+100,1,0,1,0]
[13.899999999999967,0.2426007660272112,9.9999999999999997E+98,-1.2500000000000001E+101,1.2500399993600206E+101,-89.541643541999562,0.24022804247726312,-0.94229048760754219,3.0029466206453699E+100,-89.541643541999562,2.4022804247726496E+98,-3.0028505309657895E+100,-3.5355904731176385E+50,-44.770821770999781,-2.5100199196022536E+50,2.4900200795977737E+50,2.4022804247726496E+98,-3.0028505309657895E+100,2.4022804247726496E+98,-3.0028505309657895E+100,1,0,1,0]
[13.999999999999966,0.24434609527920553,9.9999999999999997E+98,-1.2500000000000001E+101,1.2500399993600206E+101,-89.541643541999562,0.24192189559966712,-0.94147379642946372,3.0241204622058285E+100,-89.541643541999562,2.4192189559966896E+98,-3.0240236949958392E+100,-3.5355904731176385E+50,-44.770821770999781,-2.5100199196022536E+50,2.4900200795977737E+50,2.4192189559966896E+98,-3.0240236949958392E+100,2.4192189559966896E+98,-3.0240236949958392E+100,1,0,1,0]
[14.099999999999966,0.24609142453119986,9.9999999999999997E+98,-1.2500000000000001E+101,1.2500399993600206E+101,-89.541643541999562,0.24361501178602193,-0.94065172603249647,3.0452850917709025E+100,-89.541643541999562,2.4361501178602378E+98,-3.0451876473252745E+100,-3.5355904731176385E+50,-44.770821770999781,-2.5100199196022536E+50,2.4900200795977737E+50,2.4361501178602378E+98,-3.0451876473252745E+100,2.4361501178602378E+98,-3.0451876473252745E+100,1,0,1,0]
[14.199999999999966,0.24783675378319417,9.9999999999999997E+98,-1.2500000000000001E+101,1.2500399993600206E+101,-89.541643541999562,0.24530738587880196,-0.93982428643330862,3.0664404448694593E+100,-89.541643541999562,2.453073858788038E+98,-3.0663423234850246E+100,-3.5355904731176385E+50,-44.770821770999781,-2.5100199196022536E+50,2.4900200795977737E+50,2.453073858788038E+98,-3.0663423234850246E+100,2.453073858788038E+98,-3.0663423234850246E+100,1,0,1,0]
[14.299999999999965,0.24958208303518853,9.9999999999999997E+98,-1.2500000000000001E+101,1.2500399993600206E+101,-89.541643541999562,0.24699901272274233,-0.93899148771399066,3.0875864570586255E+100,-89.541643541999562,2.4699901272274421E+98,-3.0874876590342796E+100,-3.5355904731176385E+50,-44.770821770999781,-2.5100199196022536E+50,2.4900200795977737E+50,2.4699901272274421E+98,-3.0874876590342796E+100,2.4699901272274421E+98,-3.0874876590342796E+100,1,0,1,0]
[14.399999999999965,0.25132741228718281,9.9999999999999997E+98,-1.2500000000000001E+101,1.2500399993600206E+101,-89.541643541999562,0.24868988716485416,-0.93815334002193218,3.1087230639239789E+100,-89.541643541999562,2.4868988716485605E+98,-3.1086235895606774E+100,-3.5355904731176385E+50,-44.770821770999781,-2.5100199196022536E+50,2.4900200795977737E+50,2.4868988716485605E+98,-3.1086235895606774E+100,2.4868988716485605E+98,-3.1086235895606774E+100,1,0,1,0]
[14.499999999999964,0.25307274153917714,9.9999999999999997E+98,-1.2500000000000001E+101,1.2500399993600206E+101,-89.541643541999562,0.25038000405444077,-0.93730985356969831,3.1298502010797509E+100,-89.541643541999562,2.5038000405444266E+98,-3.1297500506805097E+100,-3.5355904731176385E+50,-44.770821770999781,-2.5100199196022536E+50,2.4900200795977737E+50,2.5038000405444266E+98,-3.1297500506805097E+100,2.5038000405444266E+98,-3.1297500506805097E+100,1,0,1,0]
[14.599999999999964,0.25481807079117147,9.9999999999999997E+98,-1.2500000000000001E+101,1.2500399993600206E+101,-89.541643541999562,0.252069358243113,-0.93646103863490515,3.1509678041690175E+100,-89.541643541999562,2.520693582431149E+98,-3.1508669780389126E+100,-3.5355904731176385E+50,-44.770821770999781,-2.5100199196022536E+50,2.4900200795977737E+50,2.520693582431149E+98,-3.1508669780389126E+100,2.520693582431149E+98,-3.1508669780389126E+100,1,0,1,0]
[14.699999999999964,0.2565634000431658,9.9999999999999997E+98,-1.2500000000000001E+101,1.2500399993600206E+101,-89.541643541999562,0.253757944584805,-0.93560690556009507,3.1720758088638978E+100,-89.541643541999562,2.5375794458480694E+98,-3.1719743073100629E+100,-3.5355904731176385E+50,-44.770821770999781,-2.5100199196022536E+50,2.4900200795977737E+50,2.5375794458480694E+98,-3.1719743073100629E+100,2.5375794458480694E+98,-3.1719743073100629E+100,1,0,1,0]
[14.799999999999963,0.25830872929516013,9.9999999999999997E+98,-1.2500000000000001E+101,1.2500399993600206E+101,-89.541643541999562,0.25544575793578994,-0.93474746475260995,3.1931741508657484E+100,-89.541643541999562,2.554457579357919E+98,-3.193071974197375E+100,-3.5355904731176385E+50,-44.770821770999781,-2.5100199196022536E+50,2.4900200795977737E+50,2.554457579357919E+98,-3.193071974197375E+100,2.554457579357919E+98,-3.193071974197375E+100,1,0,1,0]
[14.899999999999963,0.26005405854715441,9.9999999999999997E+98,-1.2500000000000001E+101,1.2500399993600206E+101,-89.541643541999562,0.2571327931546955,-0.93388272668446459,3.2142627659053588E+100,-89.541643541999562,2.5713279315469744E+98,-3.214159914433694E+100,-3.5355904731176385E+50,-44.770821770999781,-2.5100199196022536E+50,2.4900200795977737E+50,2.5713279315469744E+98,-3.214159914433694E+100,2.5713279315469744E+98,-3.214159914433694E+100,1,0,1,0]
[14.999999999999963,0.2617993877991488,9.9999999999999997E+98,-1.2500000000000001E+101,1.2500399993600206E+101,-89.541643541999562,0.25881904510252013,-0.93301270189221963,3.2353415897431539E+100,-89.541643541999562,2.5881904510252211E+98,-3.2352380637815021E+100,-3.5355904731176385E+50,-44.770821770999781,-2.5100199196022536E+50,2.4900200795977737E+50,2.5881904510252211E+98,-3.2352380637815021E+100,2.5881904510252211E+98,-3.2352380637815021E+100,1,0,1,0]
[15.099999999999962,0.26354471705114313,9.9999999999999997E+98,-1.2500000000000001E+101,1.2500399993600206E+101,-89.541643541999562,0.26050450864264774,-0.9321374009768526,3.2564105581693784E+100,-89.541643541999562,2.6050450864264971E+98,-3.2563063580330968E+100,-3.5355904731176385E+50,-44.770821770999781,-2.5100199196022536E+50,2.4900200795977737E+50,2.6050450864264971E+98,-3.2563063580330968E+100,2.6050450864264971E+98,-3.2563063580330968E+100,1,0,1,0]
[15.199999999999962,0.26529004630313741,9.9999999999999997E+98,-1.2500000000000001E+101,1.2500399993600206E+101,-89.541643541999562,0.26218917864086405,-0.93125683460362907,3.2774696070043003E+100,-89.541643541999562,2.6218917864086606E+98,-3.2773647330108012E+100,-3.5355904731176385E+50,-44.770821770999781,-2.5100199196022536E+50,2.4900200795977737E+50,2.6218917864086606E+98,-3.2773647330108012E+100,2.6218917864086606E+98,-3.2773647330108012E+100,1,0,1,0]
[15.299999999999962,0.26703537555513174,9.9999999999999997E+98,-1.2500000000000001E+101,1.2500399993600206E+101,-89.541643541999562,0.26387304996537225,-0.93037101350197227,3.2985186720984063E+100,-89.541643541999562,2.6387304996537427E+98,-3.2984131245671535E+100,-3.5355904731176385E+50,-44.770821770999781,-2.5100199196022536E+50,2.4900200795977737E+50,2.6387304996537427E+98,-3.2984131245671535E+100,2.6387304996537427E+98,-3.2984131245671535E+100,1,0,1,0]
[15.399999999999961,0.26878070480712607,9.9999999999999997E+98,-1.2500000000000001E+101,1.2500399993600206E+101,-89.541643541999562,0.26555611748680813,-0.92947994846533255,3.3195576893325917E+100,-89.541643541999562,2.6555611748681015E+98,-3.319451468585102E+100,-3.5355904731176385E+50,-44.770821770999781,-2.5100199196022536E+50,2.4900200795977737E+50,2.6555611748681015E+98,-3.319451468585102E+100,2.6555611748681015E+98,-3.319451468585102E+100,1,0,1,0]
[15.499999999999961,0.2705260340591204,9.9999999999999997E+98,-1.2500000000000001E+101,1.2500399993600206E+101,-89.541643541999562,0.26723837607825623,-0.9285836503510565,3.3405865946183637E+100,-89.541643541999562,2.6723837607825827E+98,-3.3404797009782033E+100,-3.5355904731176385E+50,-44.770821770999781,-2.5100199196022536E+50,2.4900200795977737E+50,2.6723837607825827E+98,-3.3404797009782033E+100,2.6723837607825827E+98,-3.3404797009782033E+100,1,0,1,0]
[15.599999999999961,0.27227136331111473,9.9999999999999997E+98,-1.2500000000000001E+101,1.2500399993600206E+101,-89.541643541999562,0.26891982061526504,-0.92768213008025369,3.3616053238980277E+100,-89.541643541999562,2.689198206152671E+98,-3.3614977576908134E+100,-3.5355904731176385E+50,-44.770821770999781,-2.5100199196022536E+50,2.4900200795977737E+50,{"$f":"K161+O161","v":2.689198206152671E+98},-3.3614977576908134E+100,2.689198206152671E+98,-3.3614977576908134E+100,1,0,1,0]
[15.69999999999996,0.27401669256310901,9.9999999999999997E+98,-1.2500000000000001E+101,1.2500399993600206E+101,-89.541643541999562,0.27060044597586291,-0.92677539863766401,3.3826138131448897E+100,-89.541643541999562,2.7060044597586499E+98,-3.382505574698287E+100,-3.5355904731176385E+50,-44.770821770999781,-2.5100199196022536E+50,2.4900200795977737E+50,2.7060044597586499E+98,-3.382505574698287E+100,2.7060044597586499E+98,-3.382505574698287E+100,1,0,1,0]
[15.79999999999996,0.2757620218151034,9.9999999999999997E+98,-1.2500000000000001E+101,1.2500399993600206E+101,-89.541643541999562,0.27228024704057369,-0.92586346707152412,3.4036119983634497E+100,-89.541643541999562,2.7228024704057574E+98,-3.403503088007171E+100,-3.5355904731176385E+50,-44.770821770999781,-2.5100199196022536E+50,2.4900200795977737E+50,2.7228024704057574E+98,-3.403503088007171E+100,2.7228024704057574E+98,-3.403503088007171E+100,1,0,1,0]
[15.899999999999959,0.27750735106709767,9.9999999999999997E+98,-1.2500000000000001E+101,1.2500399993600206E+101,-89.541643541999562,0.27395921869243178,-0.92494634649343233,3.4245998155895915E+100,-89.541643541999562,2.7395921869243385E+98,-3.4244902336553973E+100,-3.5355904731176385E+50,-44.770821770999781,-2.5100199196022536E+50,2.4900200795977737E+50,2.7395921869243385E+98,-3.4244902336553973E+100,2.7395921869243385E+98,-3.4244902336553973E+100,1,0,1,0]
[15.999999999999959,0.27925268031909201,9.9999999999999997E+98,-1.2500000000000001E+101,1.2500399993600206E+101,-89.541643541999562,0.2756373558169985,-0.92402404807821348,3.4455772008907858E+100,-89.541643541999562,2.7563735581700059E+98,-3.4454669477124814E+100,-3.5355904731176385E+50,-44.770821770999781,-2.5100199196022536E+50,2.4900200795977737E+50,2.7563735581700059E+98,-3.4454669477124814E+100,2.7563735581700059E+98,-3.4454669477124814E+100,1,0,1,0]
[16.099999999999959,0.28099800957108634,9.9999999999999997E+98,-1.2500000000000001E+101,1.2500399993600206E+101,-89.541643541999562,0.27731465330237709,-0.92309658306378239,3.4665440903662778E+100,-89.541643541999562,2.7731465330237919E+98,-3.4664331662797137E+100,-3.5355904731176385E+50,-44.770821770999781,-2.5100199196022536E+50,2.4900200795977737E+50,2.7731465330237919E+98,-3.4664331662797137E+100,2.7731465330237919E+98,-3.4664331662797137E+100,1,0,1,0]
[16.19999999999996,0.28274333882308067,9.9999999999999997E+98,-1.2500000000000001E+101,1.2500399993600206E+101,-89.541643541999562,0.27899110603922855,-0.92216396275100798,3.4875004201472869E+100,-89.541643541999562,2.7899110603923069E+98,-3.4873888254903573E+100,-3.5355904731176385E+50,-44.770821770999781,-2.5100199196022536E+50,2.4900200795977737E+50,2.7899110603923069E+98,-3.4873888254903573E+100,2.7899110603923069E+98,-3.4873888254903573E+100,1,0,1,0]
[16.299999999999962,0.284488668075075,9.9999999999999997E+98,-1.2500000000000001E+101,1.2500399993600206E+101,-89.541643541999562,0.2806667089207871,-0.92122619850357401,3.508446126397198E+100,-89.541643541999562,2.8066670892078924E+98,-3.5083338615098389E+100,-3.5355904731176385E+50,-44.770821770999781,-2.5100199196022536E+50,2.4900200795977737E+50,2.8066670892078924E+98,-3.5083338615098389E+100,2.8066670892078924E+98,-3.5083338615098389E+100,1,0,1,0]
[16.399999999999963,0.28623399732706939,9.9999999999999997E+98,-1.2500000000000001E+101,1.2500399993600206E+101,-89.541643541999562,0.28234145684287582,-0.92028330174784256,3.529381145311758E+100,-89.541643541999562,2.8234145684287799E+98,-3.5292682105359487E+100,-3.5355904731176385E+50,-44.770821770999781,-2.5100199196022536E+50,2.4900200795977737E+50,2.8234145684287799E+98,-3.5292682105359487E+100,2.8234145684287799E+98,-3.5292682105359487E+100,1,0,1,0]
[16.499999999999964,0.28797932657906372,9.9999999999999997E+98,-1.2500000000000001E+101,1.2500399993600206E+101,-89.541643541999562,0.28401534470392198,-0.91933528397271247,3.5503054131192669E+100,-89.541643541999562,2.8401534470392415E+98,-3.5501918087990253E+100,-3.5355904731176385E+50,-44.770821770999781,-2.5100199196022536E+50,2.4900200795977737E+50,2.8401534470392415E+98,-3.5501918087990253E+100,2.8401534470392415E+98,-3.5501918087990253E+100,1,0,1,0]
[16.599999999999966,0.28972465583105811,9.9999999999999997E+98,-1.2500000000000001E+101,1.2500399993600206E+101,-89.541643541999562,0.285688367404973,-0.91838215672948109,3.5712188660807778E+100,-89.541643541999562,2.8568836740497518E+98,-3.5711045925621631E+100,-3.5355904731176385E+50,-44.770821770999781,-2.5100199196022536E+50,2.4900200795977737E+50,2.8568836740497518E+98,-3.5711045925621631E+100,2.8568836740497518E+98,-3.5711045925621631E+100,1,0,1,0]
[16.699999999999967,0.29146998508305244,9.9999999999999997E+98,-1.2500000000000001E+101,1.2500399993600206E+101,-89.541643541999562,0.28736051984971145,-0.91742393163170366,3.5921214404902852E+100,-89.541643541999562,2.8736051984971369E+98,-3.5920064981213942E+100,-3.5355904731176385E+50,-44.770821770999781,-2.5100199196022536E+50,2.4900200795977737E+50,2.8736051984971369E+98,-3.5920064981213942E+100,2.8736051984971369E+98,-3.5920064981213942E+100,1,0,1,0]
[16.799999999999969,0.29321531433504683,9.9999999999999997E+98,-1.2500000000000001E+101,1.2500399993600206E+101,-89.541643541999562,0.28903179694447106,-0.91646062035505016,3.6130130726749224E+100,-89.541643541999562,2.8903179694447327E+98,-3.6128974618058886E+100,-3.5355904731176385E+50,-44.770821770999781,-2.5100199196022536E+50,2.4900200795977737E+50,2.8903179694447327E+98,-3.6128974618058886E+100,2.8903179694447327E+98,-3.6128974618058886E+100,1,0,1,0]
[16.89999999999997,0.29496064358704116,9.9999999999999997E+98,-1.2500000000000001E+101,1.2500399993600206E+101,-89.541643541999562,0.29070219359825195,-0.91549223463716434,3.6338936989951544E+100,-89.541643541999562,2.9070219359825417E+98,-3.6337774199781502E+100,-3.5355904731176385E+50,-44.770821770999781,-2.5100199196022536E+50,2.4900200795977737E+50,2.9070219359825417E+98,-3.6337774199781502E+100,2.9070219359825417E+98,-3.6337774199781502E+100,1,0,1,0]
[16.999999999999972,0.29670597283903555,9.9999999999999997E+98,-1.2500000000000001E+101,1.2500399993600206E+101,-89.541643541999562,0.29237170472273627,-0.91451878627752115,3.6547632558449741E+100,-89.541643541999562,2.923717047227385E+98,-3.654646309034204E+100,-3.5355904731176385E+50,-44.770821770999781,-2.5100199196022536E+50,2.4900200795977737E+50,2.923717047227385E+98,-3.654646309034204E+100,2.923717047227385E+98,-3.654646309034204E+100,1,0,1,0]
[17.099999999999973,0.29845130209102988,9.9999999999999997E+98,-1.2500000000000001E+101,1.2500399993600206E+101,-89.541643541999562,0.2940403252323035,-0.91354028713728108,3.6756216796520892E+100,-89.541643541999562,2.9404032523230577E+98,-3.6755040654037943E+100,-3.5355904731176385E+50,-44.770821770999781,-2.5100199196022536E+50,2.4900200795977737E+50,2.9404032523230577E+98,-3.6755040654037943E+100,2.9404032523230577E+98,-3.6755040654037943E+100,1,0,1,0]
[17.199999999999974,0.30019663134302427,9.9999999999999997E+98,-1.2500000000000001E+101,1.2500399993600206E+101,-89.541643541999562,0.29570805004404632,-0.91255674913914786,3.6964689068781264E+100,-89.541643541999562,2.957080500440486E+98,-3.6963506255505799E+100,-3.5355904731176385E+50,-44.770821770999781,-2.5100199196022536E+50,2.4900200795977737E+50,2.957080500440486E+98,-3.6963506255505799E+100,2.957080500440486E+98,-3.6963506255505799E+100,1,0,1,0]
[17.299999999999976,0.3019419605950186,9.9999999999999997E+98,-1.2500000000000001E+101,1.2500399993600206E+101,-89.541643541999562,0.29737487407778557,-0.91156818426722119,3.717304874018813E+100,-89.541643541999562,2.9737487407778785E+98,-3.7171859259723203E+100,-3.5355904731176385E+50,-44.770821770999781,-2.5100199196022536E+50,2.4900200795977737E+50,2.9737487407778785E+98,-3.7171859259723203E+100,2.9737487407778785E+98,-3.7171859259723203E+100,1,0,1,0]
[17.399999999999977,0.30368728984701293,9.9999999999999997E+98,-1.2500000000000001E+101,1.2500399993600206E+101,-89.541643541999562,0.29904079225608626,-0.91057460456685235,3.7381295176041811E+100,-89.541643541999562,2.9904079225608852E+98,-3.7380099032010785E+100,-3.5355904731176385E+50,-44.770821770999781,-2.5100199196022536E+50,2.4900200795977737E+50,2.9904079225608852E+98,-3.7380099032010785E+100,2.9904079225608852E+98,-3.7380099032010785E+100,1,0,1,0]
[17.499999999999979,0.30543261909900732,9.9999999999999997E+98,-1.2500000000000001E+101,1.2500399993600206E+101,-89.541643541999562,0.30070579950427279,-0.90957602214449618,3.7589427741987564E+100,-89.541643541999562,3.0070579950427511E+98,-3.7588224938034103E+100,-3.5355904731176385E+50,-44.770821770999781,-2.5100199196022536E+50,2.4900200795977737E+50,3.0070579950427511E+98,-3.7588224938034103E+100,3.0070579950427511E+98,-3.7588224938034103E+100,1,0,1,0]
[17.59999999999998,0.30717794835100165,9.9999999999999997E+98,-1.2500000000000001E+101,1.2500399993600206E+101,-89.541643541999562,0.30236989075044418,-0.90857244916756452,3.7797445804017472E+100,-89.541643541999562,3.0236989075044645E+98,-3.7796236343805526E+100,-3.5355904731176385E+50,-44.770821770999781,-2.5100199196022536E+50,2.4900200795977737E+50,3.0236989075044645E+98,-3.7796236343805526E+100,3.0236989075044645E+98,-3.7796236343805526E+100,1,0,1,0]
[17.699999999999982,0.30892327760299604,9.9999999999999997E+98,-1.2500000000000001E+101,1.2500399993600206E+101,-89.541643541999562,0.30403306092548998,-0.90756389786427738,3.8005348728472461E+100,-89.541643541999562,3.0403306092549228E+98,-3.8004132615686248E+100,-3.5355904731176385E+50,-44.770821770999781,-2.5100199196022536E+50,2.4900200795977737E+50,3.0403306092549228E+98,-3.8004132615686248E+100,3.0403306092549228E+98,-3.8004132615686248E+100,1,0,1,0]
[17.799999999999983,0.31066860685499037,9.9999999999999997E+98,-1.2500000000000001E+101,1.2500399993600206E+101,-89.541643541999562,0.30569530496310537,-0.906550380523514,3.8213135882044153E+100,-89.541643541999562,3.0569530496310772E+98,-3.8211913120388179E+100,-3.5355904731176385E+50,-44.770821770999781,-2.5100199196022536E+50,2.4900200795977737E+50,3.0569530496310772E+98,-3.8211913120388179E+100,3.0569530496310772E+98,-3.8211913120388179E+100,1,0,1,0]
[17.899999999999984,0.3124139361069847,9.9999999999999997E+98,-1.2500000000000001E+101,1.2500399993600206E+101,-89.541643541999562,0.30735661779980677,-0.90553190949466345,3.8420806631776854E+100,-89.541643541999562,3.0735661779980909E+98,-3.8419577224975852E+100,-3.5355904731176385E+50,-44.770821770999781,-2.5100199196022536E+50,2.4900200795977737E+50,3.0735661779980909E+98,-3.8419577224975852E+100,3.0735661779980909E+98,-3.8419577224975852E+100,1,0,1,0]
[17.999999999999986,0.31415926535897909,9.9999999999999997E+98,-1.2500000000000001E+101,1.2500399993600206E+101,-89.541643541999562,0.30901699437494717,-0.90450849718747384,3.8628360345069447E+100,-89.541643541999562,3.0901699437494952E+98,-3.8627124296868401E+100,-3.5355904731176385E+50,-44.770821770999781,-2.5100199196022536E+50,2.4900200795977737E+50,3.0901699437494952E+98,-3.8627124296868401E+100,3.0901699437494952E+98,-3.8627124296868401E+100,1,0,1,0]
[18.099999999999987,0.31590459461097342,9.9999999999999997E+98,-1.2500000000000001E+101,1.2500399993600206E+101,-89.541643541999562,0.31067642963073155,-0.90348015607190113,3.8835796389677319E+100,-89.541643541999562,3.1067642963073397E+98,-3.8834553703841456E+100,-3.5355904731176385E+50,-44.770821770999781,-2.5100199196022536E+50,2.4900200795977737E+50,3.1067642963073397E+98,-3.8834553703841456E+100,3.1067642963073397E+98,-3.8834553703841456E+100,1,0,1,0]
[18.199999999999989,0.31764992386296775,9.9999999999999997E+98,-1.2500000000000001E+101,1.2500399993600206E+101,-89.541643541999562,0.31233491851223233,-0.90244689867795713,3.9043114133714302E+100,-89.541643541999562,3.1233491851223472E+98,-3.9041864814029044E+100,-3.5355904731176385E+50,-44.770821770999781,-2.5100199196022536E+50,2.4900200795977737E+50,3.1233491851223472E+98,-3.9041864814029044E+100,3.1233491851223472E+98,-3.9041864814029044E+100,1,0,1,0]
[18.29999999999999,0.31939525311496214,9.9999999999999997E+98,-1.2500000000000001E+101,1.2500399993600206E+101,-89.541643541999562,0.31399245596740477,-0.90140873759555729,3.9250312945654592E+100,-89.541643541999562,3.1399245596740714E+98,-3.9249056995925596E+100,-3.5355904731176385E+50,-44.770821770999781,-2.5100199196022536E+50,2.4900200795977737E+50,3.1399245596740714E+98,-3.9249056995925596E+100,3.1399245596740714E+98,-3.9249056995925596E+100,1,0,1,0]
[18.399999999999991,0.32114058236695647,9.9999999999999997E+98,-1.2500000000000001E+101,1.2500399993600206E+101,-89.541643541999562,0.31564903694710228,-0.90036568547436691,3.9457392194334687E+100,-89.541643541999562,3.1564903694710471E+98,-3.9456129618387792E+100,-3.5355904731176385E+50,-44.770821770999781,-2.5100199196022536E+50,2.4900200795977737E+50,3.1564903694710471E+98,-3.9456129618387792E+100,3.1564903694710471E+98,-3.9456129618387792E+100,1,0,1,0]
[18.499999999999993,0.32288591161895086,9.9999999999999997E+98,-1.2500000000000001E+101,1.2500399993600206E+101,-89.541643541999562,0.31730465640509203,-0.89931775502364641,3.9664351248955279E+100,-89.541643541999562,3.1730465640509443E+98,-3.966308205063651E+100,-3.5355904731176385E+50,-44.770821770999781,-2.5100199196022536E+50,2.4900200795977737E+50,3.1730465640509443E+98,-3.966308205063651E+100,3.1730465640509443E+98,-3.966308205063651E+100,1,0,1,0]
[18.599999999999994,0.32463124087094519,9.9999999999999997E+98,-1.2500000000000001E+101,1.2500399993600206E+101,-89.541643541999562,0.31895930929806987,-0.89826495901209835,3.9871189479083186E+100,-89.541643541999562,3.189593092980723E+98,-3.9869913662258741E+100,-3.5355904731176385E+50,-44.770821770999781,-2.5100199196022536E+50,2.4900200795977737E+50,3.189593092980723E+98,-3.9869913662258741E+100,3.189593092980723E+98,-3.9869913662258741E+100,1,0,1,0]
[18.699999999999996,0.32637657012293952,9.9999999999999997E+98,-1.2500000000000001E+101,1.2500399993600206E+101,-89.541643541999562,0.32061299058567616,-0.89720731026770906,4.0077906254653288E+100,-89.541643541999562,3.206129905856786E+98,-4.0076623823209524E+100,-3.5355904731176385E+50,-44.770821770999781,-2.5100199196022536E+50,2.4900200795977737E+50,3.206129905856786E+98,-4.0076623823209524E+100,3.206129905856786E+98,-4.0076623823209524E+100,1,0,1,0]
[18.799999999999997,0.32812189937493391,9.9999999999999997E+98,-1.2500000000000001E+101,1.2500399993600206E+101,-89.541643541999562,0.32226569523051102,-0.89614482167759535,4.0284500945970462E+100,-89.541643541999562,3.2226569523051346E+98,-4.0283211903813883E+100,-3.5355904731176385E+50,-44.770821770999781,-2.5100199196022536E+50,2.4900200795977737E+50,3.2226569523051346E+98,-4.0283211903813883E+100,3.2226569523051346E+98,-4.0283211903813883E+100,1,0,1,0]
[18.899999999999999,0.32986722862692824,9.9999999999999997E+98,-1.2500000000000001E+101,1.2500399993600206E+101,-89.541643541999562,0.3239174181981494,-0.8950775061878451,4.0490972923711423E+100,-89.541643541999562,3.239174181981519E+98,-4.0489677274768685E+100,-3.5355904731176385E+50,-44.770821770999781,-2.5100199196022536E+50,2.4900200795977737E+50,3.239174181981519E+98,-4.0489677274768685E+100,3.239174181981519E+98,-4.0489677274768685E+100,1,0,1,0]
[19,0.33161255787892258,9.9999999999999997E+98,-1.2500000000000001E+101,1.2500399993600206E+101,-89.541643541999562,0.32556815445715664,-0.89400537680336101,4.0697321558926714E+100,-89.541643541999562,3.2556815445715909E+98,-4.069601930714458E+100,-3.5355904731176385E+50,-44.770821770999781,-2.5100199196022536E+50,2.4900200795977737E+50,3.2556815445715909E+98,-4.069601930714458E+100,3.2556815445715909E+98,-4.069601930714458E+100,1,0,1,0]
[19.100000000000001,0.33335788713091696,9.9999999999999997E+98,-1.2500000000000001E+101,1.2500399993600206E+101,-89.541643541999562,0.32721789897910392,-0.89292844658770099,4.0903546223042634E+100,-89.541643541999562,3.2721789897910639E+98,-4.0902237372387989E+100,-3.5355904731176385E+50,-44.770821770999781,-2.5100199196022536E+50,2.4900200795977737E+50,3.2721789897910639E+98,-4.0902237372387989E+100,3.2721789897910639E+98,-4.0902237372387989E+100,1,0,1,0]
[19.200000000000003,0.3351032163829113,9.9999999999999997E+98,-1.2500000000000001E+101,1.2500399993600206E+101,-89.541643541999562,0.32886664673858323,-0.89184672866291981,4.1109646287863068E+100,-89.541643541999562,3.2886664673858572E+98,-4.1108330842322905E+100,-3.5355904731176385E+50,-44.770821770999781,-2.5100199196022536E+50,2.4900200795977737E+50,3.2886664673858572E+98,-4.1108330842322905E+100,3.2886664673858572E+98,-4.1108330842322905E+100,{"$f":"(Q197*S197+T197*R197)/((S197^2)+(T197^2))","v":1},0,1,0]
[19.300000000000004,{"$f":"A198*PI()/180","v":0.33684854563490568},{"$f":"$D$1","v":9.9999999999999997E+98},{"$f":"-(18000*$G$1/$N$1)","v":-1.2500000000000001E+101},{"$f":"(C198^2+D198^2)^0.5","v":1.2500399993600206E+101},{"$f":"(180/PI())*ATAN(D198/C198)","v":-89.541643541999562},{"$f":"SIN(B198)","v":0.33051439271322308},{"$f":"-((COS(B198))^2)","v":-0.89076023620940936},{"$f":"E198*G198","v":4.13156211255715E+100},{"$f":"F198","v":-89.541643541999562},{"$f":"(((I198^2)/(1+(TAN(J198*(PI()/180)))^2))^0.5)","v":3.3051439271322564E+98},{"$f":"K198*TAN(J198*(PI()/180))","v":-4.1314299089152899E+100},{"$f":"-(((((C198+H198)^2)+(D198)^2)^0.5)^0.5)","v":-3.5355904731176385E+50},{"$f":"((ATAN(D198/(C198+H198)))*(180/PI()))/2","v":-44.770821770999781},{"$f":"-(((M198^2)/(1+(TAN(N198*(PI()/180)))^2))^0.5)","v":-2.5100199196022536E+50},{"$f":"O198*TAN(N198*(PI()/180))","v":2.4900200795977737E+50},3.3051439271322564E+98,-4.1314299089152899E+100,{"$f":"-O198+K198","v":3.3051439271322564E+98},{"$f":"L198-P198","v":-4.1314299089152899E+100},1,{"$f":"(R198*S198-Q198*T198)/((S198^2)+(T198^2))","v":0},{"$f":"((U198^2)+(V198^2))^0.5","v":1},{"$f":"(ACOS(U198/W198))*(180/PI())","v":0}]
[{"$f":"A198+0.1","v":19.400000000000006},0.33859387488690001,9.9999999999999997E+98,-1.2500000000000001E+101,1.2500399993600206E+101,-89.541643541999562,0.33216113188370339,-0.889668982465737,4.1521470108732833E+100,-89.541643541999562,3.3216113188370591E+98,-4.1520141485462925E+100,-3.5355904731176385E+50,-44.770821770999781,-2.5100199196022536E+50,2.4900200795977737E+50,3.3216113188370591E+98,-4.1520141485462925E+100,3.3216113188370591E+98,-4.1520141485462925E+100,1,0,1,0]
[19.500000000000007,0.34033920413889435,9.9999999999999997E+98,-1.2500000000000001E+101,1.2500399993600206E+101,-89.541643541999562,0.33380685923377101,-0.88857298072848534,4.1727192610295358E+100,-89.541643541999562,3.3380685923377352E+98,-4.1725857404221374E+100,-3.5355904731176385E+50,-44.770821770999781,-2.5100199196022536E+50,2.4900200795977737E+50,3.3380685923377352E+98,-4.1725857404221374E+100,3.3380685923377352E+98,-4.1725857404221374E+100,1,0,1,0]
[19.600000000000009,0.34208453339088873,9.9999999999999997E+98,-1.2500000000000001E+101,1.2500399993600206E+101,-89.541643541999562,0.33545156975025514,-0.88747224435208971,4.1932788003592685E+100,-89.541643541999562,3.3545156975025768E+98,-4.1931446218781897E+100,-3.5355904731176385E+50,-44.770821770999781,-2.5100199196022536E+50,2.4900200795977737E+50,3.3545156975025768E+98,-4.1931446218781897E+100,3.3545156975025768E+98,-4.1931446218781897E+100,1,0,1,0]
[19.70000000000001,0.34382986264288307,9.9999999999999997E+98,-1.2500000000000001E+101,1.2500399993600206E+101,-89.541643541999562,0.33709525842308219,-0.88636678674867542,4.2138255662345562E+100,-89.541643541999562,3.3709525842308478E+98,-4.2136907302885285E+100,-3.5355904731176385E+50,-44.770821770999781,-2.5100199196022536E+50,2.4900200795977737E+50,3.3709525842308478E+98,-4.2136907302885285E+100,3.3709525842308478E+98,-4.2136907302885285E+100,1,0,1,0]
[19.800000000000011,0.34557519189487745,9.9999999999999997E+98,-1.2500000000000001E+101,1.2500399993600206E+101,-89.541643541999562,0.33873792024529159,-0.88525662138789463,4.23435949606639E+100,-89.541643541999562,3.3873792024529413E+98,-4.2342240030661448E+100,-3.5355904731176385E+50,-44.770821770999781,-2.5100199196022536E+50,2.4900200795977737E+50,3.3873792024529413E+98,-4.2342240030661448E+100,3.3873792024529413E+98,-4.2342240030661448E+100,1,0,1,0]
[19.900000000000013,0.34732052114687179,9.9999999999999997E+98,-1.2500000000000001E+101,1.2500399993600206E+101,-89.541643541999562,0.34037955021305033,-0.88414176179676163,4.2548805273048552E+100,-89.541643541999562,3.4037955021305294E+98,-4.2547443776631295E+100,-3.5355904731176385E+50,-44.770821770999781,-2.5100199196022536E+50,2.4900200795977737E+50,3.4037955021305294E+98,-4.2547443776631295E+100,3.4037955021305294E+98,-4.2547443776631295E+100,1,0,1,0]
[20.000000000000014,0.34906585039886612,9.9999999999999997E+98,-1.2500000000000001E+101,1.2500399993600206E+101,-89.541643541999562,0.34202014332566893,-0.88302222155948884,4.2753885974393334E+100,-89.541643541999562,3.4202014332567152E+98,-4.2752517915708615E+100,-3.5355904731176385E+50,-44.770821770999781,-2.5100199196022536E+50,2.4900200795977737E+50,3.4202014332567152E+98,-4.2752517915708615E+100,3.4202014332567152E+98,-4.2752517915708615E+100,1,0,1,0]
[20.100000000000016,0.35081117965086051,9.9999999999999997E+98,-1.2500000000000001E+101,1.2500399993600206E+101,-89.541643541999562,0.34365969458561629,-0.88189801431732084,4.2958836439986867E+100,-89.541643541999562,3.4365969458561891E+98,-4.2957461823202038E+100,-3.5355904731176385E+50,-44.770821770999781,-2.5100199196022536E+50,2.4900200795977737E+50,3.4365969458561891E+98,-4.2957461823202038E+100,3.4365969458561891E+98,-4.2957461823202038E+100,1,0,1,0]
[20.200000000000017,0.35255650890285484,9.9999999999999997E+98,-1.2500000000000001E+101,1.2500399993600206E+101,-89.541643541999562,0.34529819899853487,-0.88076915376836817,4.3163656045514482E+100,-89.541643541999562,3.452981989985375E+98,-4.3162274874816863E+100,-3.5355904731176385E+50,-44.770821770999781,-2.5100199196022536E+50,2.4900200795977737E+50,3.452981989985375E+98,-4.3162274874816863E+100,3.452981989985375E+98,-4.3162274874816863E+100,1,0,1,0]
[20.300000000000018,0.35430183815484917,9.9999999999999997E+98,-1.2500000000000001E+101,1.2500399993600206E+101,-89.541643541999562,0.34693565157325612,-0.87963565366744034,4.3368344167060143E+100,-89.541643541999562,3.469356515732588E+98,-4.3366956446657026E+100,-3.5355904731176385E+50,-44.770821770999781,-2.5100199196022536E+50,2.4900200795977737E+50,3.469356515732588E+98,-4.3366956446657026E+100,3.469356515732588E+98,-4.3366956446657026E+100,1,0,1,0]
[20.40000000000002,0.35604716740684356,9.9999999999999997E+98,-1.2500000000000001E+101,1.2500399993600206E+101,-89.541643541999562,0.34857204732181551,-0.87849752782587787,4.3572900181108331E+100,-89.541643541999562,3.4857204732181817E+98,-4.3571505915226942E+100,-3.5355904731176385E+50,-44.770821770999781,-2.5100199196022536E+50,2.4900200795977737E+50,3.4857204732181817E+98,-4.3571505915226942E+100,3.4857204732181817E+98,-4.3571505915226942E+100,1,0,1,0]
[20.500000000000021,0.35779249665883789,9.9999999999999997E+98,-1.2500000000000001E+101,1.2500399993600206E+101,-89.541643541999562,0.35020738125946776,-0.87735479011138573,4.3777323464545956E+100,-89.541643541999562,3.5020738125947038E+98,-4.3775922657433465E+100,-3.5355904731176385E+50,-44.770821770999781,-2.5100199196022536E+50,2.4900200795977737E+50,3.5020738125947038E+98,-4.3775922657433465E+100,3.5020738125947038E+98,-4.3775922657433465E+100,1,0,1,0]
[20.600000000000023,0.35953782591083228,9.9999999999999997E+98,-1.2500000000000001E+101,1.2500399993600206E+101,-89.541643541999562,0.35184164840470217,-0.87620745444786197,4.398161339466425E+100,-89.541643541999562,3.5184164840470486E+98,-4.3980206050587777E+100,-3.5355904731176385E+50,-44.770821770999781,-2.5100199196022536E+50,2.4900200795977737E+50,3.5184164840470486E+98,-4.3980206050587777E+100,3.5184164840470486E+98,-4.3980206050587777E+100,1,0,1,0]
[20.700000000000024,0.36128315516282661,9.9999999999999997E+98,-1.2500000000000001E+101,1.2500399993600206E+101,-89.541643541999562,0.35347484377925747,-0.87505553481522946,4.4185769349160636E+100,-89.541643541999562,3.5347484377926011E+98,-4.4184355472407185E+100,-3.5355904731176385E+50,-44.770821770999781,-2.5100199196022536E+50,2.4900200795977737E+50,3.5347484377926011E+98,-4.4184355472407185E+100,3.5347484377926011E+98,-4.4184355472407185E+100,1,0,1,0]
[20.800000000000026,0.363028484414821,9.9999999999999997E+98,-1.2500000000000001E+101,1.2500399993600206E+101,-89.541643541999562,0.35510696240813744,-0.87389904524926565,4.4389790706140697E+100,-89.541643541999562,3.5510696240814011E+98,-4.438837030101718E+100,-3.5355904731176385E+50,-44.770821770999781,-2.5100199196022536E+50,2.4900200795977737E+50,3.5510696240814011E+98,-4.438837030101718E+100,3.5510696240814011E+98,-4.438837030101718E+100,1,0,1,0]
[20.900000000000027,0.36477381366681533,9.9999999999999997E+98,-1.2500000000000001E+101,1.2500399993600206E+101,-89.541643541999562,0.35673799931962563,-0.87273799984143086,4.4593676844119983E+100,-89.541643541999562,3.5673799931962835E+98,-4.4592249914953205E+100,-3.5355904731176385E+50,-44.770821770999781,-2.5100199196022536E+50,2.4900200795977737E+50,3.5673799931962835E+98,-4.4592249914953205E+100,3.5673799931962835E+98,-4.4592249914953205E+100,1,0,1,0]
[21.000000000000028,0.36651914291880971,9.9999999999999997E+98,-1.2500000000000001E+101,1.2500399993600206E+101,-89.541643541999562,0.35836794954530077,-0.87157241273869668,4.4797427142025967E+100,-89.541643541999562,3.5836794954530346E+98,-4.4795993693162596E+100,-3.5355904731176385E+50,-44.770821770999781,-2.5100199196022536E+50,2.4900200795977737E+50,3.5836794954530346E+98,-4.4795993693162596E+100,3.5836794954530346E+98,-4.4795993693162596E+100,1,0,1,0]
[21.10000000000003,0.36826447217080405,9.9999999999999997E+98,-1.2500000000000001E+101,1.2500399993600206E+101,-89.541643541999562,0.35999680812005169,-0.87040229814337478,4.5001040979199887E+100,-89.541643541999562,3.5999680812005442E+98,-4.4999601015006468E+100,-3.5355904731176385E+50,-44.770821770999781,-2.5100199196022536E+50,2.4900200795977737E+50,3.5999680812005442E+98,-4.4999601015006468E+100,3.5999680812005442E+98,-4.4999601015006468E+100,1,0,1,0]
[21.200000000000031,0.37000980142279838,9.9999999999999997E+98,-1.2500000000000001E+101,1.2500399993600206E+101,-89.541643541999562,0.36162457008209281,-0.86922767031294168,4.5204517735398705E+100,-89.541643541999562,3.6162457008209561E+98,-4.5203071260261612E+100,-3.5355904731176385E+50,-44.770821770999781,-2.5100199196022536E+50,2.4900200795977737E+50,3.6162457008209561E+98,-4.5203071260261612E+100,3.6162457008209561E+98,-4.5203071260261612E+100,1,0,1,0]
[21.300000000000033,0.37175513067479277,9.9999999999999997E+98,-1.2500000000000001E+101,1.2500399993600206E+101,-89.541643541999562,0.36325123047297886,-0.86804854355986683,4.5407856790796916E+100,-89.541643541999562,3.632512304729816E+98,-4.5406403809122356E+100,-3.5355904731176385E+50,-44.770821770999781,-2.5100199196022536E+50,2.4900200795977737E+50,3.632512304729816E+98,-4.5406403809122356E+100,3.632512304729816E+98,-4.5406403809122356E+100,1,0,1,0]
[21.400000000000034,0.37350045992678715,9.9999999999999997E+98,-1.2500000000000001E+101,1.2500399993600206E+101,-89.541643541999562,0.36487678433762027,-0.86686493225143779,4.5611057525988523E+100,-89.541643541999562,3.6487678433762302E+98,-4.5609598042202533E+100,-3.5355904731176385E+50,-44.770821770999781,-2.5100199196022536E+50,2.4900200795977737E+50,3.6487678433762302E+98,-4.5609598042202533E+100,3.6487678433762302E+98,-4.5609598042202533E+100,1,0,1,0]
[21.500000000000036,0.37524578917878149,9.9999999999999997E+98,-1.2500000000000001E+101,1.2500399993600206E+101,-89.541643541999562,0.36650122672429786,-0.8656768508095849,4.5814119321988809E+100,-89.541643541999562,3.665012267243007E+98,-4.581265334053724E+100,-3.5355904731176385E+50,-44.770821770999781,-2.5100199196022536E+50,2.4900200795977737E+50,3.665012267243007E+98,-4.581265334053724E+100,3.665012267243007E+98,-4.581265334053724E+100,1,0,1,0]
[21.600000000000037,0.37699111843077582,9.9999999999999997E+98,-1.2500000000000001E+101,1.2500399993600206E+101,-89.541643541999562,0.36812455268467853,-0.86448431371070522,4.601704156023634E+100,-89.541643541999562,3.6812455268468134E+98,-4.6015569085584822E+100,-3.5355904731176385E+50,-44.770821770999781,-2.5100199196022536E+50,2.4900200795977737E+50,3.6812455268468134E+98,-4.6015569085584822E+100,3.6812455268468134E+98,-4.6015569085584822E+100,1,0,1,0]
[21.700000000000038,0.37873644768277015,9.9999999999999997E+98,-1.2500000000000001E+101,1.2500399993600206E+101,-89.541643541999562,0.36974675727382988,-0.86328733548548753,4.6219823622594802E+100,-89.541643541999562,3.697467572738327E+98,-4.621834465922874E+100,-3.5355904731176385E+50,-44.770821770999781,-2.5100199196022536E+50,2.4900200795977737E+50,3.697467572738327E+98,-4.621834465922874E+100,3.697467572738327E+98,-4.621834465922874E+100,1,0,1,0]
[21.80000000000004,0.38048177693476454,9.9999999999999997E+98,-1.2500000000000001E+101,1.2500399993600206E+101,-89.541643541999562,0.37136783555023545,-0.8620859307187333,4.6422464891354855E+100,-89.541643541999562,3.7136783555023824E+98,-4.6420979443779429E+100,-3.5355904731176385E+50,-44.770821770999781,-2.5100199196022536E+50,2.4900200795977737E+50,3.7136783555023824E+98,-4.6420979443779429E+100,3.7136783555023824E+98,-4.6420979443779429E+100,1,0,1,0]
[21.900000000000041,0.38222710618675892,9.9999999999999997E+98,-1.2500000000000001E+101,1.2500399993600206E+101,-89.541643541999562,0.37298778257580961,-0.86088011404918052,4.6624964749236053E+100,-89.541643541999562,3.7298778257581244E+98,-4.6623472821976206E+100,-3.5355904731176385E+50,-44.770821770999781,-2.5100199196022536E+50,2.4900200795977737E+50,3.7298778257581244E+98,-4.6623472821976206E+100,3.7298778257581244E+98,-4.6623472821976206E+100,1,0,1,0]
[22.000000000000043,0.38397243543875326,9.9999999999999997E+98,-1.2500000000000001E+101,1.2500399993600206E+101,-89.541643541999562,0.37460659341591274,-0.85966990016932499,4.6827322579388704E+100,-89.541643541999562,3.7460659341591556E+98,-4.6825824176989092E+100,-3.5355904731176385E+50,-44.770821770999781,-2.5100199196022536E+50,2.4900200795977737E+50,{"$f":"K225+O225","v":3.7460659341591556E+98},-4.6825824176989092E+100,3.7460659341591556E+98,-4.6825824176989092E+100,1,0,1,0]
[22.100000000000044,0.38571776469074759,9.9999999999999997E+98,-1.2500000000000001E+101,1.2500399993600206E+101,-89.541643541999562,0.3762242631393663,-0.85845530382524082,4.702953776539577E+100,-89.541643541999562,3.7622426313936917E+98,-4.7028032892420794E+100,-3.5355904731176385E+50,-44.770821770999781,-2.5100199196022536E+50,2.4900200795977737E+50,3.7622426313936917E+98,-4.7028032892420794E+100,3.7622426313936917E+98,-4.7028032892420794E+100,1,0,1,0]
[22.200000000000045,0.38746309394274192,9.9999999999999997E+98,-1.2500000000000001E+101,1.2500399993600206E+101,-89.541643541999562,0.37784078681846783,-0.85723633981640124,4.7231609691274718E+100,-89.541643541999562,3.7784078681847068E+98,-4.7230098352308479E+100,-3.5355904731176385E+50,-44.770821770999781,-2.5100199196022536E+50,2.4900200795977737E+50,3.7784078681847068E+98,-4.7230098352308479E+100,3.7784078681847068E+98,-4.7230098352308479E+100,1,0,1,0]
[22.300000000000047,0.38920842319473625,9.9999999999999997E+98,-1.2500000000000001E+101,1.2500399993600206E+101,-89.541643541999562,0.3794561595290058,-0.85601302299549764,4.7433537741479425E+100,-89.541643541999562,3.7945615952900867E+98,-4.743201994112573E+100,-3.5355904731176385E+50,-44.770821770999781,-2.5100199196022536E+50,2.4900200795977737E+50,3.7945615952900867E+98,-4.743201994112573E+100,3.7945615952900867E+98,-4.743201994112573E+100,1,0,1,0]
[22.400000000000048,0.3909537524467307,9.9999999999999997E+98,-1.2500000000000001E+101,1.2500399993600206E+101,-89.541643541999562,0.38107037635027491,-0.85478536826825979,4.7635321300902048E+100,-89.541643541999562,3.8107037635027781E+98,-4.7633797043784371E+100,-3.5355904731176385E+50,-44.770821770999781,-2.5100199196022536E+50,2.4900200795977737E+50,3.8107037635027781E+98,-4.7633797043784371E+100,3.8107037635027781E+98,-4.7633797043784371E+100,1,0,1,0]
[22.50000000000005,0.39269908169872503,9.9999999999999997E+98,-1.2500000000000001E+101,1.2500399993600206E+101,-89.541643541999562,0.38268343236509056,-0.85355339059327306,4.7836959754874832E+100,-89.541643541999562,3.826834323650935E+98,-4.783542904563633E+100,-3.5355904731176385E+50,-44.770821770999781,-2.5100199196022536E+50,2.4900200795977737E+50,3.826834323650935E+98,-4.783542904563633E+100,3.826834323650935E+98,-4.783542904563633E+100,1,0,1,0]
[22.600000000000051,0.39444441095071936,9.9999999999999997E+98,-1.2500000000000001E+101,1.2500399993600206E+101,-89.541643541999562,0.38429532265980454,-0.85231710498179669,4.8038452489172098E+100,-89.541643541999562,3.8429532265980746E+98,-4.8036915332475573E+100,-3.5355904731176385E+50,-44.770821770999781,-2.5100199196022536E+50,2.4900200795977737E+50,3.8429532265980746E+98,-4.8036915332475573E+100,3.8429532265980746E+98,-4.8036915332475573E+100,1,0,1,0]
[22.700000000000053,0.39618974020271369,9.9999999999999997E+98,-1.2500000000000001E+101,1.2500399993600206E+101,-89.541643541999562,0.38590604232431941,-0.85107652649758059,4.8239798890012033E+100,-89.541643541999562,3.8590604232432236E+98,-4.8238255290539931E+100,-3.5355904731176385E+50,-44.770821770999781,-2.5100199196022536E+50,2.4900200795977737E+50,3.8590604232432236E+98,-4.8238255290539931E+100,3.8590604232432236E+98,-4.8238255290539931E+100,1,0,1,0]
[22.800000000000054,0.39793506945470802,9.9999999999999997E+98,-1.2500000000000001E+101,1.2500399993600206E+101,-89.541643541999562,0.38751558645210377,-0.84983167025668205,4.8440998344058579E+100,-89.541643541999562,3.875155864521067E+98,-4.8439448306512974E+100,-3.5355904731176385E+50,-44.770821770999781,-2.5100199196022536E+50,2.4900200795977737E+50,3.875155864521067E+98,-4.8439448306512974E+100,3.875155864521067E+98,-4.8439448306512974E+100,1,0,1,0]
[22.900000000000055,0.39968039870670247,9.9999999999999997E+98,-1.2500000000000001E+101,1.2500399993600206E+101,-89.541643541999562,0.38912395014020718,-0.84858255142728156,4.8642050238423323E+100,-89.541643541999562,3.8912395014021012E+98,-4.8640493767525903E+100,-3.5355904731176385E+50,-44.770821770999781,-2.5100199196022536E+50,2.4900200795977737E+50,3.8912395014021012E+98,-4.8640493767525903E+100,3.8912395014021012E+98,-4.8640493767525903E+100,1,0,1,0]
[23.000000000000057,0.4014257279586968,9.9999999999999997E+98,-1.2500000000000001E+101,1.2500399993600206E+101,-89.541643541999562,0.39073112848927466,-0.84732918522949796,4.88429539606673E+100,-89.541643541999562,3.9073112848927759E+98,-4.8841391061159335E+100,-3.5355904731176385E+50,-44.770821770999781,-2.5100199196022536E+50,2.4900200795977737E+50,3.9073112848927759E+98,-4.8841391061159335E+100,3.9073112848927759E+98,-4.8841391061159335E+100,1,0,1,0]
[23.100000000000058,0.40317105721069113,9.9999999999999997E+98,-1.2500000000000001E+101,1.2500399993600206E+101,-89.541643541999562,0.39233711660356241,-0.84607158693520268,4.9043708898802951E+100,-89.541643541999562,3.9233711660356543E+98,-4.9042139575445309E+100,-3.5355904731176385E+50,-44.770821770999781,-2.5100199196022536E+50,2.4900200795977737E+50,3.9233711660356543E+98,-4.9042139575445309E+100,3.9233711660356543E+98,-4.9042139575445309E+100,1,0,1,0]
[23.20000000000006,0.40491638646268546,9.9999999999999997E+98,-1.2500000000000001E+101,1.2500399993600206E+101,-89.541643541999562,0.39394190959095204,-0.84480977186783424,4.9244314441295898E+100,-89.541643541999562,3.9394190959095505E+98,-4.9242738698869013E+100,-3.5355904731176385E+50,-44.770821770999781,-2.5100199196022536E+50,2.4900200795977737E+50,3.9394190959095505E+98,-4.9242738698869013E+100,3.9394190959095505E+98,-4.9242738698869013E+100,1,0,1,0]
[23.300000000000061,0.40666171571467979,9.9999999999999997E+98,-1.2500000000000001E+101,1.2500399993600206E+101,-89.541643541999562,0.39554550256296583,-0.84354375540221072,4.9444769977066881E+100,-89.541643541999562,3.9554550256296878E+98,-4.944318782037073E+100,-3.5355904731176385E+50,-44.770821770999781,-2.5100199196022536E+50,2.4900200795977737E+50,3.9554550256296878E+98,-4.944318782037073E+100,3.9554550256296878E+98,-4.944318782037073E+100,1,0,1,0]
[23.400000000000063,0.40840704496667424,9.9999999999999997E+98,-1.2500000000000001E+101,1.2500399993600206E+101,-89.541643541999562,0.39714789063478162,-0.84227355296434347,4.9645074895493594E+100,-89.541643541999562,3.9714789063478464E+98,-4.9643486329347705E+100,-3.5355904731176385E+50,-44.770821770999781,-2.5100199196022536E+50,2.4900200795977737E+50,3.9714789063478464E+98,-4.9643486329347705E+100,3.9714789063478464E+98,-4.9643486329347705E+100,1,0,1,0]
[23.500000000000064,0.41015237421866857,9.9999999999999997E+98,-1.2500000000000001E+101,1.2500399993600206E+101,-89.541643541999562,0.39874906892524725,-0.84099918003124841,4.9845228586412489E+100,-89.541643541999562,3.9874906892525027E+98,-4.9843633615655912E+100,-3.5355904731176385E+50,-44.770821770999781,-2.5100199196022536E+50,2.4900200795977737E+50,3.9874906892525027E+98,-4.9843633615655912E+100,3.9874906892525027E+98,-4.9843633615655912E+100,1,0,1,0]
[23.600000000000065,0.4118977034706629,9.9999999999999997E+98,-1.2500000000000001E+101,1.2500399993600206E+101,-89.541643541999562,0.40034903255689597,-0.83972065213075753,5.0045230440120713E+100,-89.541643541999562,4.00349032556899E+98,-5.0043629069611999E+100,-3.5355904731176385E+50,-44.770821770999781,-2.5100199196022536E+50,2.4900200795977737E+50,4.00349032556899E+98,-5.0043629069611999E+100,4.00349032556899E+98,-5.0043629069611999E+100,1,0,1,0]
[23.700000000000067,0.41364303272265723,9.9999999999999997E+98,-1.2500000000000001E+101,1.2500399993600206E+101,-89.541643541999562,0.40194777665596121,-0.83843798484132948,5.0245079847377942E+100,-89.541643541999562,4.019477766559642E+98,-5.024347208199515E+100,-3.5355904731176385E+50,-44.770821770999781,-2.5100199196022536E+50,2.4900200795977737E+50,4.019477766559642E+98,-5.024347208199515E+100,4.019477766559642E+98,-5.024347208199515E+100,1,0,1,0]
[23.800000000000068,0.41538836197465157,9.9999999999999997E+98,-1.2500000000000001E+101,1.2500399993600206E+101,-89.541643541999562,0.40354529635239106,-0.83715119379186076,5.0444776199408225E+100,-89.541643541999562,4.0354529635239412E+98,-5.0443162044048883E+100,-3.5355904731176385E+50,-44.770821770999781,-2.5100199196022536E+50,2.4900200795977737E+50,4.0354529635239412E+98,-5.0443162044048883E+100,4.0354529635239412E+98,-5.0443162044048883E+100,1,0,1,0]
[23.90000000000007,0.41713369122664601,9.9999999999999997E+98,-1.2500000000000001E+101,1.2500399993600206E+101,-89.541643541999562,0.40514158677986367,-0.83586029466149414,5.0644318887901847E+100,-89.541643541999562,4.0514158677986669E+98,-5.0642698347482953E+100,-3.5355904731176385E+50,-44.770821770999781,-2.5100199196022536E+50,2.4900200795977737E+50,4.0514158677986669E+98,-5.0642698347482953E+100,4.0514158677986669E+98,-5.0642698347482953E+100,1,0,1,0]
[24.000000000000071,0.41887902047864034,9.9999999999999997E+98,-1.2500000000000001E+101,1.2500399993600206E+101,-89.541643541999562,0.40673664307580132,-0.83456530317942823,5.0843707305017163E+100,-89.541643541999562,4.0673664307580438E+98,-5.0842080384475162E+100,-3.5355904731176385E+50,-44.770821770999781,-2.5100199196022536E+50,2.4900200795977737E+50,4.0673664307580438E+98,-5.0842080384475162E+100,4.0673664307580438E+98,-5.0842080384475162E+100,1,0,1,0]
[24.100000000000072,0.42062434973063467,9.9999999999999997E+98,-1.2500000000000001E+101,1.2500399993600206E+101,-89.541643541999562,0.40833046038138604,-0.8332662351247252,5.1042940843382473E+100,-89.541643541999562,4.083304603813891E+98,-5.1041307547673253E+100,-3.5355904731176385E+50,-44.770821770999781,-2.5100199196022536E+50,2.4900200795977737E+50,4.083304603813891E+98,-5.1041307547673253E+100,4.083304603813891E+98,-5.1041307547673253E+100,1,0,1,0]
[24.200000000000074,0.422369678982629,9.9999999999999997E+98,-1.2500000000000001E+101,1.2500399993600206E+101,-89.541643541999562,0.40992303384157391,-0.83196310632611992,5.1242018896097874E+100,-89.541643541999562,4.0992303384157701E+98,-5.1240379230196743E+100,-3.5355904731176385E+50,-44.770821770999781,-2.5100199196022536E+50,2.4900200795977737E+50,4.0992303384157701E+98,-5.1240379230196743E+100,4.0992303384157701E+98,-5.1240379230196743E+100,1,0,1,0]
[24.300000000000075,0.42411500823462334,9.9999999999999997E+98,-1.2500000000000001E+101,1.2500399993600206E+101,-89.541643541999562,0.41151435860510993,-0.83065593266182502,5.1440940856737087E+100,-89.541643541999562,4.1151435860511306E+98,-5.1439294825638747E+100,-3.5355904731176385E+50,-44.770821770999781,-2.5100199196022536E+50,2.4900200795977737E+50,4.1151435860511306E+98,-5.1439294825638747E+100,4.1151435860511306E+98,-5.1439294825638747E+100,1,0,1,0]
[24.400000000000077,0.42586033748661772,9.9999999999999997E+98,-1.2500000000000001E+101,1.2500399993600206E+101,-89.541643541999562,0.41310442982454298,-0.82934473005933929,5.1639706119349342E+100,-89.541643541999562,4.1310442982454615E+98,-5.1638053728067884E+100,-3.5355904731176385E+50,-44.770821770999781,-2.5100199196022536E+50,2.4900200795977737E+50,4.1310442982454615E+98,-5.1638053728067884E+100,4.1310442982454615E+98,-5.1638053728067884E+100,1,0,1,0]
[24.500000000000078,0.42760566673861211,9.9999999999999997E+98,-1.2500000000000001E+101,1.2500399993600206E+101,-89.541643541999562,0.4146932426562403,-0.82802951449525264,5.1838314078461145E+100,-89.541643541999562,4.1469324265624343E+98,-5.183665533203004E+100,-3.5355904731176385E+50,-44.770821770999781,-2.5100199196022536E+50,2.4900200795977737E+50,4.1469324265624343E+98,-5.183665533203004E+100,4.1469324265624343E+98,-5.183665533203004E+100,1,0,1,0]
[24.60000000000008,0.42935099599060644,9.9999999999999997E+98,-1.2500000000000001E+101,1.2500399993600206E+101,-89.541643541999562,0.41628079226040243,-0.82671030199505169,5.2036764129078228E+100,-89.541643541999562,4.1628079226040559E+98,-5.2035099032550311E+100,-3.5355904731176385E+50,-44.770821770999781,-2.5100199196022536E+50,2.4900200795977737E+50,4.1628079226040559E+98,-5.2035099032550311E+100,4.1628079226040559E+98,-5.2035099032550311E+100,1,0,1,0]
[24.700000000000081,0.43109632524260078,9.9999999999999997E+98,-1.2500000000000001E+101,1.2500399993600206E+101,-89.541643541999562,0.41786707380107802,-0.8253871086329243,5.2235055666687327E+100,-89.541643541999562,4.178670738010812E+98,-5.2233384225134758E+100,-3.5355904731176385E+50,-44.770821770999781,-2.5100199196022536E+50,2.4900200795977737E+50,4.178670738010812E+98,-5.2233384225134758E+100,4.178670738010812E+98,-5.2233384225134758E+100,1,0,1,0]
[24.800000000000082,0.43284165449459516,9.9999999999999997E+98,-1.2500000000000001E+101,1.2500399993600206E+101,-89.541643541999562,0.41945208244617838,-0.82405995053156433,5.2433188087258015E+100,-89.541643541999562,4.1945208244618162E+98,-5.2431510305772312E+100,-3.5355904731176385E+50,-44.770821770999781,-2.5100199196022536E+50,2.4900200795977737E+50,4.1945208244618162E+98,-5.2431510305772312E+100,4.1945208244618162E+98,-5.2431510305772312E+100,1,0,1,0]
[24.900000000000084,0.43458698374658949,9.9999999999999997E+98,-1.2500000000000001E+101,1.2500399993600206E+101,-89.541643541999562,0.4210358133674923,-0.82272884386197409,5.2631160787244581E+100,-89.541643541999562,4.2103581336749548E+98,-5.262947667093654E+100,-3.5355904731176385E+50,-44.770821770999781,-2.5100199196022536E+50,2.4900200795977737E+50,4.2103581336749548E+98,-5.262947667093654E+100,4.2103581336749548E+98,-5.262947667093654E+100,1,0,1,0]
[25.000000000000085,0.43633231299858388,9.9999999999999997E+98,-1.2500000000000001E+101,1.2500399993600206E+101,-89.541643541999562,0.42261826174070077,-0.82139380484326863,5.2828973163587861E+100,-89.541643541999562,4.2261826174070402E+98,-5.2827282717587606E+100,-3.5355904731176385E+50,-44.770821770999781,-2.5100199196022536E+50,2.4900200795977737E+50,4.2261826174070402E+98,-5.2827282717587606E+100,4.2261826174070402E+98,-5.2827282717587606E+100,1,0,1,0]
[25.100000000000087,0.43807764225057821,9.9999999999999997E+98,-1.2500000000000001E+101,1.2500399993600206E+101,-89.541643541999562,0.42419942274539152,-0.82005484974247655,5.3026624613717029E+100,-89.541643541999562,4.2419942274539473E+98,-5.3024927843173945E+100,-3.5355904731176385E+50,-44.770821770999781,-2.5100199196022536E+50,2.4900200795977737E+50,4.2419942274539473E+98,-5.3024927843173945E+100,4.2419942274539473E+98,-5.3024927843173945E+100,1,0,1,0]
[25.200000000000088,0.4398229715025726,9.9999999999999997E+98,-1.2500000000000001E+101,1.2500399993600206E+101,-89.541643541999562,0.42577929156507405,-0.81871199487434376,5.3224114535551516E+100,-89.541643541999562,4.2577929156507724E+98,-5.3222411445634259E+100,-3.5355904731176385E+50,-44.770821770999781,-2.5100199196022536E+50,2.4900200795977737E+50,4.2577929156507724E+98,-5.3222411445634259E+100,4.2577929156507724E+98,-5.3222411445634259E+100,1,0,1,0]
[25.30000000000009,0.44156830075456693,9.9999999999999997E+98,-1.2500000000000001E+101,1.2500399993600206E+101,-89.541643541999562,0.42735786338719378,-0.81736525660113257,5.3421442327502745E+100,-89.541643541999562,4.2735786338719698E+98,-5.3419732923399222E+100,-3.5355904731176385E+50,-44.770821770999781,-2.5100199196022536E+50,2.4900200795977737E+50,4.2735786338719698E+98,-5.3419732923399222E+100,4.2735786338719698E+98,-5.3419732923399222E+100,1,0,1,0]
[25.400000000000091,0.44331363000656127,9.9999999999999997E+98,-1.2500000000000001E+101,1.2500399993600206E+101,-89.541643541999562,0.42893513340314732,-0.81601465133242423,5.3618607388476061E+100,-89.541643541999562,4.2893513340315055E+98,-5.3616891675393416E+100,-3.5355904731176385E+50,-44.770821770999781,-2.5100199196022536E+50,2.4900200795977737E+50,4.2893513340315055E+98,-5.3616891675393416E+100,4.2893513340315055E+98,-5.3616891675393416E+100,1,0,1,0]
[25.500000000000092,0.44505895925855565,9.9999999999999997E+98,-1.2500000000000001E+101,1.2500399993600206E+101,-89.541643541999562,0.43051109680829658,-0.81466019552491753,5.3815609117872484E+100,-89.541643541999562,4.3051109680829988E+98,-5.3813887101037079E+100,-3.5355904731176385E+50,-44.770821770999781,-2.5100199196022536E+50,2.4900200795977737E+50,4.3051109680829988E+98,-5.3813887101037079E+100,4.3051109680829988E+98,-5.3813887101037079E+100,1,0,1,0]
[25.600000000000094,0.44680428851054999,9.9999999999999997E+98,-1.2500000000000001E+101,1.2500399993600206E+101,-89.541643541999562,0.43208574880198375,-0.81330190568222904,5.401244691559058E+100,-89.541643541999562,4.3208574880198704E+98,-5.4010718600247971E+100,-3.5355904731176385E+50,-44.770821770999781,-2.5100199196022536E+50,2.4900200795977737E+50,4.3208574880198704E+98,-5.4010718600247971E+100,4.3208574880198704E+98,-5.4010718600247971E+100,{"$f":"(Q261*S261+T261*R261)/((S261^2)+(T261^2))","v":1},0,1,0]
[25.700000000000095,{"$f":"A262*PI()/180","v":0.44854961776254437},{"$f":"$D$1","v":9.9999999999999997E+98},{"$f":"-(18000*$G$1/$N$1)","v":-1.2500000000000001E+101},{"$f":"(C262^2+D262^2)^0.5","v":1.2500399993600206E+101},{"$f":"(180/PI())*ATAN(D262/C262)","v":-89.541643541999562},{"$f":"SIN(B262)","v":0.43365908458754582},{"$f":"-((COS(B262))^2)","v":-0.81193979835469188},{"$f":"E262*G262","v":5.4209120182028286E+100},{"$f":"F262","v":-89.541643541999562},{"$f":"(((I262^2)/(1+(TAN(J262*(PI()/180)))^2))^0.5)","v":4.3365908458754909E+98},{"$f":"K262*TAN(J262*(PI()/180))","v":-5.420738557344323E+100},{"$f":"-(((((C262+H262)^2)+(D262)^2)^0.5)^0.5)","v":-3.5355904731176385E+50},{"$f":"((ATAN(D262/(C262+H262)))*(180/PI()))/2","v":-44.770821770999781},{"$f":"-(((M262^2)/(1+(TAN(N262*(PI()/180)))^2))^0.5)","v":-2.5100199196022536E+50},{"$f":"O262*TAN(N262*(PI()/180))","v":2.4900200795977737E+50},4.3365908458754909E+98,-5.420738557344323E+100,{"$f":"-O262+K262","v":4.3365908458754909E+98},{"$f":"L262-P262","v":-5.420738557344323E+100},1,{"$f":"(R262*S262-Q262*T262)/((S262^2)+(T262^2))","v":0},{"$f":"((U262^2)+(V262^2))^0.5","v":1},{"$f":"(ACOS(U262/W262))*(180/PI())","v":0}]
[{"$f":"A262+0.1","v":25.800000000000097},0.4502949470145387,9.9999999999999997E+98,-1.2500000000000001E+101,1.2500399993600206E+101,-89.541643541999562,0.43523109937232901,-0.81057389013915382,5.4405628318084721E+100,-89.541643541999562,4.3523109937233232E+98,-5.440388742154113E+100,-3.5355904731176385E+50,-44.770821770999781,-2.5100199196022536E+50,2.4900200795977737E+50,4.3523109937233232E+98,-5.440388742154113E+100,4.3523109937233232E+98,-5.440388742154113E+100,1,0,1,0]
[25.900000000000098,0.45204027626653304,9.9999999999999997E+98,-1.2500000000000001E+101,1.2500399993600206E+101,-89.541643541999562,0.43680178836770372,-0.80920419767877583,5.4601970725162018E+100,-89.541643541999562,4.3680178836770703E+98,-5.4600223545962966E+100,-3.5355904731176385E+50,-44.770821770999781,-2.5100199196022536E+50,2.4900200795977737E+50,4.3680178836770703E+98,-5.4600223545962966E+100,4.3680178836770703E+98,-5.4600223545962966E+100,1,0,1,0]
[26.000000000000099,0.45378560551852737,9.9999999999999997E+98,-1.2500000000000001E+101,1.2500399993600206E+101,-89.541643541999562,0.4383711467890789,-0.80783073766282787,5.4798146805167169E+100,-89.541643541999562,4.383711467890822E+98,-5.4796393348634861E+100,-3.5355904731176385E+50,-44.770821770999781,-2.5100199196022536E+50,2.4900200795977737E+50,4.383711467890822E+98,-5.4796393348634861E+100,4.383711467890822E+98,-5.4796393348634861E+100,1,0,1,0]
[26.100000000000101,0.45553093477052181,9.9999999999999997E+98,-1.2500000000000001E+101,1.2500399993600206E+101,-89.541643541999562,0.43993916985591675,-0.80645352682648686,5.4994155960513813E+100,-89.541643541999562,4.3993916985592007E+98,-5.4992396231989596E+100,-3.5355904731176385E+50,-44.770821770999781,-2.5100199196022536E+50,2.4900200795977737E+50,4.3993916985592007E+98,-5.4992396231989596E+100,4.3993916985592007E+98,-5.4992396231989596E+100,1,0,1,0]
[26.200000000000102,0.45727626402251614,9.9999999999999997E+98,-1.2500000000000001E+101,1.2500399993600206E+101,-89.541643541999562,0.44150585279174681,-0.80507258195063236,5.5189997594124052E+100,-89.541643541999562,4.4150585279175015E+98,-5.5188231598968353E+100,-3.5355904731176385E+50,-44.770821770999781,-2.5100199196022536E+50,2.4900200795977737E+50,4.4150585279175015E+98,-5.5188231598968353E+100,4.4150585279175015E+98,-5.5188231598968353E+100,1,0,1,0]
[26.300000000000104,0.45902159327451048,9.9999999999999997E+98,-1.2500000000000001E+101,1.2500399993600206E+101,-89.541643541999562,0.44307119082418128,-0.80368791986164179,5.5385671109430314E+100,-89.541643541999562,4.4307119082418466E+98,-5.5383898853022665E+100,-3.5355904731176385E+50,-44.770821770999781,-2.5100199196022536E+50,2.4900200795977737E+50,4.4307119082418466E+98,-5.5383898853022665E+100,4.4307119082418466E+98,-5.5383898853022665E+100,1,0,1,0]
[26.400000000000105,0.46076692252650481,9.9999999999999997E+98,-1.2500000000000001E+101,1.2500399993600206E+101,-89.541643541999562,0.44463517918492912,-0.80229955743118586,5.5581175910377142E+100,-89.541643541999562,4.446351791849325E+98,-5.5579397398116149E+100,-3.5355904731176385E+50,-44.770821770999781,-2.5100199196022536E+50,2.4900200795977737E+50,4.446351791849325E+98,-5.5579397398116149E+100,4.446351791849325E+98,-5.5579397398116149E+100,1,0,1,0]
[26.500000000000107,0.46251225177849914,9.9999999999999997E+98,-1.2500000000000001E+101,1.2500399993600206E+101,-89.541643541999562,0.44619781310981044,-0.80090751157602269,5.5776511401423006E+100,-89.541643541999562,4.4619781310981383E+98,-5.5774726638726313E+100,-3.5355904731176385E+50,-44.770821770999781,-2.5100199196022536E+50,2.4900200795977737E+50,4.4619781310981383E+98,-5.5774726638726313E+100,4.4619781310981383E+98,-5.5774726638726313E+100,1,0,1,0]
[26.600000000000108,0.46425758103049358,9.9999999999999997E+98,-1.2500000000000001E+101,1.2500399993600206E+101,-89.541643541999562,0.44775908783877139,-0.79951179925779148,5.5971676987542116E+100,-89.541643541999562,4.4775908783877477E+98,-5.5969885979846423E+100,-3.5355904731176385E+50,-44.770821770999781,-2.5100199196022536E+50,2.4900200795977737E+50,4.4775908783877477E+98,-5.5969885979846423E+100,4.4775908783877477E+98,-5.5969885979846423E+100,1,0,1,0]
[26.700000000000109,0.46600291028248791,9.9999999999999997E+98,-1.2500000000000001E+101,1.2500399993600206E+101,-89.541643541999562,0.4493189986158983,-0.79811243748280636,5.6166672074226263E+100,-89.541643541999562,4.4931899861590172E+98,-5.6164874826987292E+100,-3.5355904731176385E+50,-44.770821770999781,-2.5100199196022536E+50,2.4900200795977737E+50,4.4931899861590172E+98,-5.6164874826987292E+100,4.4931899861590172E+98,-5.6164874826987292E+100,1,0,1,0]
[26.800000000000111,0.46774823953448225,9.9999999999999997E+98,-1.2500000000000001E+101,1.2500399993600206E+101,-89.541643541999562,0.45087754068943248,-0.79670944330184912,5.6361496067486586E+100,-89.541643541999562,4.5087754068943593E+98,-5.6359692586179071E+100,-3.5355904731176385E+50,-44.770821770999781,-2.5100199196022536E+50,2.4900200795977737E+50,4.5087754068943593E+98,-5.6359692586179071E+100,4.5087754068943593E+98,-5.6359692586179071E+100,1,0,1,0]
[26.900000000000112,0.46949356878647658,9.9999999999999997E+98,-1.2500000000000001E+101,1.2500399993600206E+101,-89.541643541999562,0.45243470931178442,-0.79530283380996114,5.6556148373855407E+100,-89.541643541999562,4.5243470931178784E+98,-5.6554338663973054E+100,-3.5355904731176385E+50,-44.770821770999781,-2.5100199196022536E+50,2.4900200795977737E+50,4.5243470931178784E+98,-5.6554338663973054E+100,4.5243470931178784E+98,-5.6554338663973054E+100,1,0,1,0]
[27.000000000000114,0.47123889803847091,9.9999999999999997E+98,-1.2500000000000001E+101,1.2500399993600206E+101,-89.541643541999562,0.45399049973954853,-0.79389262614623501,5.6750628400388063E+100,-89.541643541999562,4.5399049973955193E+98,-5.6748812467443568E+100,-3.5355904731176385E+50,-44.770821770999781,-2.5100199196022536E+50,2.4900200795977737E+50,4.5399049973955193E+98,-5.6748812467443568E+100,4.5399049973955193E+98,-5.6748812467443568E+100,1,0,1,0]
[27.100000000000115,0.47298422729046535,9.9999999999999997E+98,-1.2500000000000001E+101,1.2500399993600206E+101,-89.541643541999562,0.45554490723351737,-0.79247883749360615,5.6944935554664669E+100,-89.541643541999562,4.5554490723352084E+98,-5.6943113404189681E+100,-3.5355904731176385E+50,-44.770821770999781,-2.5100199196022536E+50,2.4900200795977737E+50,4.5554490723352084E+98,-5.6943113404189681E+100,4.5554490723352084E+98,-5.6943113404189681E+100,1,0,1,0]
[27.200000000000117,0.47472955654245969,9.9999999999999997E+98,-1.2500000000000001E+101,1.2500399993600206E+101,-89.541643541999562,0.45709792705869601,-0.79106148507864316,5.7139069244791912E+100,-89.541643541999562,4.5709792705869945E+98,-5.7137240882337E+100,-3.5355904731176385E+50,-44.770821770999781,-2.5100199196022536E+50,2.4900200795977737E+50,4.5709792705869945E+98,-5.7137240882337E+100,4.5709792705869945E+98,-5.7137240882337E+100,1,0,1,0]
[27.300000000000118,0.47647488579445402,9.9999999999999997E+98,-1.2500000000000001E+101,1.2500399993600206E+101,-89.541643541999562,0.45864955448431677,-0.7896405861713377,5.7333028879404905E+100,-89.541643541999562,4.5864955448432023E+98,-5.73311943105396E+100,-3.5355904731176385E+50,-44.770821770999781,-2.5100199196022536E+50,2.4900200795977737E+50,4.5864955448432023E+98,-5.73311943105396E+100,4.5864955448432023E+98,-5.73311943105396E+100,1,0,1,0]
[27.400000000000119,0.47822021504644835,9.9999999999999997E+98,-1.2500000000000001E+101,1.2500399993600206E+101,-89.541643541999562,0.46019978478385348,-0.78821615808489487,5.7526813867668982E+100,-89.541643541999562,4.6019978478385699E+98,-5.752497309798169E+100,-3.5355904731176385E+50,-44.770821770999781,-2.5100199196022536E+50,2.4900200795977737E+50,4.6019978478385699E+98,-5.752497309798169E+100,4.6019978478385699E+98,-5.752497309798169E+100,1,0,1,0]
[27.500000000000121,0.47996554429844268,9.9999999999999997E+98,-1.2500000000000001E+101,1.2500399993600206E+101,-89.541643541999562,0.46174861323503574,-0.78678821817552125,5.7720423619281446E+100,-89.541643541999562,4.6174861323503923E+98,-5.7718576654379471E+100,-3.5355904731176385E+50,-44.770821770999781,-2.5100199196022536E+50,2.4900200795977737E+50,4.6174861323503923E+98,-5.7718576654379471E+100,4.6174861323503923E+98,-5.7718576654379471E+100,1,0,1,0]
[27.600000000000122,0.48171087355043712,9.9999999999999997E+98,-1.2500000000000001E+101,1.2500399993600206E+101,-89.541643541999562,0.46329603511986367,-0.78535678384221408,5.7913857544473448E+100,-89.541643541999562,4.6329603511986724E+98,-5.7912004389982969E+100,-3.5355904731176385E+50,-44.770821770999781,-2.5100199196022536E+50,2.4900200795977737E+50,4.6329603511986724E+98,-5.7912004389982969E+100,4.6329603511986724E+98,-5.7912004389982969E+100,1,0,1,0]
[27.700000000000124,0.48345620280243146,9.9999999999999997E+98,-1.2500000000000001E+101,1.2500399993600206E+101,-89.541643541999562,0.46484204572462157,-0.78392187252654877,5.8107115054011661E+100,-89.541643541999562,4.648420457246251E+98,-5.8105255715577701E+100,-3.5355904731176385E+50,-44.770821770999781,-2.5100199196022536E+50,2.4900200795977737E+50,4.648420457246251E+98,-5.8105255715577701E+100,4.648420457246251E+98,-5.8105255715577701E+100,1,0,1,0]
[27.800000000000125,0.48520153205442579,9.9999999999999997E+98,-1.2500000000000001E+101,1.2500399993600206E+101,-89.541643541999562,0.46638664033989313,-0.78248350171246717,5.8300195559200218E+100,-89.541643541999562,4.663866403398967E+98,-5.8298330042486652E+100,-3.5355904731176385E+50,-44.770821770999781,-2.5100199196022536E+50,2.4900200795977737E+50,4.663866403398967E+98,-5.8298330042486652E+100,4.663866403398967E+98,-5.8298330042486652E+100,1,0,1,0]
[27.900000000000126,0.48694686130642012,9.9999999999999997E+98,-1.2500000000000001E+101,1.2500399993600206E+101,-89.541643541999562,0.46792981426057528,-0.7810416889260634,5.8493098471882405E+100,-89.541643541999562,4.679298142605788E+98,-5.8491226782571911E+100,-3.5355904731176385E+50,-44.770821770999781,-2.5100199196022536E+50,2.4900200795977737E+50,4.679298142605788E+98,-5.8491226782571911E+100,4.679298142605788E+98,-5.8491226782571911E+100,1,0,1,0]
[28.000000000000128,0.48869219055841445,9.9999999999999997E+98,-1.2500000000000001E+101,1.2500399993600206E+101,-89.541643541999562,0.46947156278589269,-0.77959645173537151,5.8685823204442517E+100,-89.541643541999562,4.6947156278589626E+98,-5.8683945348236596E+100,-3.5355904731176385E+50,-44.770821770999781,-2.5100199196022536E+50,2.4900200795977737E+50,4.6947156278589626E+98,-5.8683945348236596E+100,4.6947156278589626E+98,-5.8683945348236596E+100,1,0,1,0]
[28.100000000000129,0.49043751981040884,9.9999999999999997E+98,-1.2500000000000001E+101,1.2500399993600206E+101,-89.541643541999562,0.47101188121941195,-0.77814780775015058,5.8878369169807584E+100,-89.541643541999562,4.7101188121941555E+98,-5.8876485152426502E+100,-3.5355904731176385E+50,-44.770821770999781,-2.5100199196022536E+50,2.4900200795977737E+50,4.7101188121941555E+98,-5.8876485152426502E+100,4.7101188121941555E+98,-5.8876485152426502E+100,1,0,1,0]
[28.200000000000131,0.49218284906240323,9.9999999999999997E+98,-1.2500000000000001E+101,1.2500399993600206E+101,-89.541643541999562,0.47255076486905601,-0.77669577462167017,5.9070735781449199E+100,-89.541643541999562,4.7255076486905959E+98,-5.9068845608632003E+100,-3.5355904731176385E+50,-44.770821770999781,-2.5100199196022536E+50,2.4900200795977737E+50,4.7255076486905959E+98,-5.9068845608632003E+100,4.7255076486905959E+98,-5.9068845608632003E+100,1,0,1,0]
[28.300000000000132,0.49392817831439756,9.9999999999999997E+98,-1.2500000000000001E+101,1.2500399993600206E+101,-89.541643541999562,0.47408820904711829,-0.77524037004249591,5.9262922453385308E+100,-89.541643541999562,4.7408820904712191E+98,-5.926102613088979E+100,-3.5355904731176385E+50,-44.770821770999781,-2.5100199196022536E+50,2.4900200795977737E+50,4.7408820904712191E+98,-5.926102613088979E+100,4.7408820904712191E+98,-5.926102613088979E+100,1,0,1,0]
[28.400000000000134,0.49567350756639189,9.9999999999999997E+98,-1.2500000000000001E+101,1.2500399993600206E+101,-89.541643541999562,0.47562420907027725,-0.77378161174627325,5.9454928600181964E+100,-89.541643541999562,4.7562420907028087E+98,-5.9453026133784666E+100,-3.5355904731176385E+50,-44.770821770999781,-2.5100199196022536E+50,2.4900200795977737E+50,{"$f":"K289+O289","v":4.7562420907028087E+98},-5.9453026133784666E+100,4.7562420907028087E+98,-5.9453026133784666E+100,1,0,1,0]
[28.500000000000135,0.49741883681838622,9.9999999999999997E+98,-1.2500000000000001E+101,1.2500399993600206E+101,-89.541643541999562,0.4771587602596104,-0.7723195175075116,5.9646753636955158E+100,-89.541643541999562,4.7715876025961402E+98,-5.9644845032451309E+100,-3.5355904731176385E+50,-44.770821770999781,-2.5100199196022536E+50,2.4900200795977737E+50,4.7715876025961402E+98,-5.9644845032451309E+100,4.7715876025961402E+98,-5.9644845032451309E+100,1,0,1,0]
[28.600000000000136,0.49916416607038061,9.9999999999999997E+98,-1.2500000000000001E+101,1.2500399993600206E+101,-89.541643541999562,0.47869185794060887,-0.77085410514136787,5.9838396979372576E+100,-89.541643541999562,4.7869185794061253E+98,-5.9836482242576118E+100,-3.5355904731176385E+50,-44.770821770999781,-2.5100199196022536E+50,2.4900200795977737E+50,4.7869185794061253E+98,-5.9836482242576118E+100,4.7869185794061253E+98,-5.9836482242576118E+100,1,0,1,0]
[28.700000000000138,0.50090949532237505,9.9999999999999997E+98,-1.2500000000000001E+101,1.2500399993600206E+101,-89.541643541999562,0.48022349744319109,-0.76938539250342952,6.0029858043655346E+100,-89.541643541999562,4.8022349744319477E+98,-6.0027937180398894E+100,-3.5355904731176385E+50,-44.770821770999781,-2.5100199196022536E+50,2.4900200795977737E+50,4.8022349744319477E+98,-6.0027937180398894E+100,4.8022349744319477E+98,-6.0027937180398894E+100,1,0,1,0]
[28.800000000000139,0.50265482457436939,9.9999999999999997E+98,-1.2500000000000001E+101,1.2500399993600206E+101,-89.541643541999562,0.48175367410171743,-0.76791339748949616,6.0221136246579843E+100,-89.541643541999562,4.817536741017211E+98,-6.0219209262714684E+100,-3.5355904731176385E+50,-44.770821770999781,-2.5100199196022536E+50,2.4900200795977737E+50,4.817536741017211E+98,-6.0219209262714684E+100,4.817536741017211E+98,-6.0219209262714684E+100,1,0,1,0]
[28.900000000000141,0.50440015382636372,9.9999999999999997E+98,-1.2500000000000001E+101,1.2500399993600206E+101,-89.541643541999562,0.48328238325500456,-0.76643813803536287,6.0412231005479513E+100,-89.541643541999562,4.8328238325500825E+98,-6.0410297906875577E+100,-3.5355904731176385E+50,-44.770821770999781,-2.5100199196022536E+50,2.4900200795977737E+50,4.8328238325500825E+98,-6.0410297906875577E+100,4.8328238325500825E+98,-6.0410297906875577E+100,1,0,1,0]
[29.000000000000142,0.50614548307835805,9.9999999999999997E+98,-1.2500000000000001E+101,1.2500399993600206E+101,-89.541643541999562,0.48480962024633917,-0.76495963211660045,6.0603141738246561E+100,-89.541643541999562,4.8480962024634283E+98,-6.0601202530792396E+100,-3.5355904731176385E+50,-44.770821770999781,-2.5100199196022536E+50,2.4900200795977737E+50,4.8480962024634283E+98,-6.0601202530792396E+100,4.8480962024634283E+98,-6.0601202530792396E+100,1,0,1,0]
[29.100000000000144,0.50789081233035238,9.9999999999999997E+98,-1.2500000000000001E+101,1.2500399993600206E+101,-89.541643541999562,0.48633538042349267,-0.76347789774833663,6.0793867863333815E+100,-89.541643541999562,4.8633538042349635E+98,-6.0791922552936587E+100,-3.5355904731176385E+50,-44.770821770999781,-2.5100199196022536E+50,2.4900200795977737E+50,4.8633538042349635E+98,-6.0791922552936587E+100,4.8633538042349635E+98,-6.0791922552936587E+100,1,0,1,0]
[29.200000000000145,0.50963614158234682,9.9999999999999997E+98,-1.2500000000000001E+101,1.2500399993600206E+101,-89.541643541999562,0.48785965913873491,-0.76199295298503733,6.0984408799756403E+100,-89.541643541999562,4.8785965913873863E+98,-6.0982457392341874E+100,-3.5355904731176385E+50,-44.770821770999781,-2.5100199196022536E+50,2.4900200795977737E+50,4.8785965913873863E+98,-6.0982457392341874E+100,4.8785965913873863E+98,-6.0982457392341874E+100,1,0,1,0]
[29.300000000000146,0.51138147083434116,9.9999999999999997E+98,-1.2500000000000001E+101,1.2500399993600206E+101,-89.541643541999562,0.48938245174884848,-0.76050481592028585,6.1174763967093583E+100,-89.541643541999562,4.893824517488522E+98,-6.1172806468606065E+100,-3.5355904731176385E+50,-44.770821770999781,-2.5100199196022536E+50,2.4900200795977737E+50,4.893824517488522E+98,-6.1172806468606065E+100,4.893824517488522E+98,-6.1172806468606065E+100,1,0,1,0]
[29.400000000000148,0.51312680008633549,9.9999999999999997E+98,-1.2500000000000001E+101,1.2500399993600206E+101,-89.541643541999562,0.4909037536151431,-0.75901350468656281,6.136493278549052E+100,-89.541643541999562,4.9090375361514685E+98,-6.1362969201892893E+100,-3.5355904731176385E+50,-44.770821770999781,-2.5100199196022536E+50,2.4900200795977737E+50,4.9090375361514685E+98,-6.1362969201892893E+100,4.9090375361514685E+98,-6.1362969201892893E+100,1,0,1,0]
[29.500000000000149,0.51487212933832982,9.9999999999999997E+98,-1.2500000000000001E+101,1.2500399993600206E+101,-89.541643541999562,0.49242356010346938,-0.7575190374550248,6.1554914675659995E+100,-89.541643541999562,4.924235601034731E+98,-6.1552945012933675E+100,-3.5355904731176385E+50,-44.770821770999781,-2.5100199196022536E+50,2.4900200795977737E+50,4.924235601034731E+98,-6.1552945012933675E+100,4.924235601034731E+98,-6.1552945012933675E+100,1,0,1,0]
[29.600000000000151,0.51661745859032415,9.9999999999999997E+98,-1.2500000000000001E+101,1.2500399993600206E+101,-89.541643541999562,0.49394186658423322,-0.75602143243528341,6.1744709058884231E+100,-89.541643541999562,4.93941866584237E+98,-6.1742733323029159E+100,-3.5355904731176385E+50,-44.770821770999781,-2.5100199196022536E+50,2.4900200795977737E+50,4.93941866584237E+98,-6.1742733323029159E+100,4.93941866584237E+98,-6.1742733323029159E+100,1,0,1,0]
[29.700000000000152,0.51836278784231848,9.9999999999999997E+98,-1.2500000000000001E+101,1.2500399993600206E+101,-89.541643541999562,0.49545866843240982,-0.75452070787518344,6.1934315357016621E+100,-89.541643541999562,4.9545866843241355E+98,-6.1932333554051231E+100,-3.5355904731176385E+50,-44.770821770999781,-2.5100199196022536E+50,2.4900200795977737E+50,4.9545866843241355E+98,-6.1932333554051231E+100,4.9545866843241355E+98,-6.1932333554051231E+100,1,0,1,0]
[29.800000000000153,0.52010811709431293,9.9999999999999997E+98,-1.2500000000000001E+101,1.2500399993600206E+101,-89.541643541999562,0.4969739610275577,-0.7530168820605796,6.2123732992483511E+100,-89.541643541999562,4.9697396102756148E+98,-6.2121745128444718E+100,-3.5355904731176385E+50,-44.770821770999781,-2.5100199196022536E+50,2.4900200795977737E+50,4.9697396102756148E+98,-6.2121745128444718E+100,4.9697396102756148E+98,-6.2121745128444718E+100,1,0,1,0]
[29.900000000000155,0.52185344634630726,9.9999999999999997E+98,-1.2500000000000001E+101,1.2500399993600206E+101,-89.541643541999562,0.4984877397538327,-0.75150997331511515,6.2312961388285914E+100,-89.541643541999562,4.9848773975383649E+98,-6.2310967469229094E+100,-3.5355904731176385E+50,-44.770821770999781,-2.5100199196022536E+50,2.4900200795977737E+50,4.9848773975383649E+98,-6.2310967469229094E+100,4.9848773975383649E+98,-6.2310967469229094E+100,1,0,1,0]
[30.000000000000156,0.52359877559830159,9.9999999999999997E+98,-1.2500000000000001E+101,1.2500399993600206E+101,-89.541643541999562,0.50000000000000233,-0.74999999999999756,6.2501999968001325E+100,-89.541643541999562,5.0000000000000618E+98,-6.2500000000000302E+100,-3.5355904731176385E+50,-44.770821770999781,-2.5100199196022536E+50,2.4900200795977737E+50,5.0000000000000618E+98,-6.2500000000000302E+100,5.0000000000000618E+98,-6.2500000000000302E+100,1,0,1,0]
[30.100000000000158,0.52534410485029592,9.9999999999999997E+98,-1.2500000000000001E+101,1.2500399993600206E+101,-89.541643541999562,0.50151073715945971,-0.74848698051377527,6.2690848155785447E+100,-89.541643541999562,5.015107371594635E+98,-6.2688842144932469E+100,-3.5355904731176385E+50,-44.770821770999781,-2.5100199196022536E+50,2.4900200795977737E+50,5.015107371594635E+98,-6.2688842144932469E+100,5.015107371594635E+98,-6.2688842144932469E+100,1,0,1,0]
[30.200000000000159,0.52708943410229026,9.9999999999999997E+98,-1.2500000000000001E+101,1.2500399993600206E+101,-89.541643541999562,0.50301994663023741,-0.74697093329211306,6.2879505376373955E+100,-89.541643541999562,5.030199466302412E+98,-6.287749332877968E+100,-3.5355904731176385E+50,-44.770821770999781,-2.5100199196022536E+50,2.4900200795977737E+50,5.030199466302412E+98,-6.287749332877968E+100,5.030199466302412E+98,-6.287749332877968E+100,1,0,1,0]
[30.300000000000161,0.5288347633542847,9.9999999999999997E+98,-1.2500000000000001E+101,1.2500399993600206E+101,-89.541643541999562,0.5045276238150217,-0.74545187680756786,6.3067971055084246E+100,-89.541643541999562,5.0452762381502559E+98,-6.3065952976877724E+100,-3.5355904731176385E+50,-44.770821770999781,-2.5100199196022536E+50,2.4900200795977737E+50,5.0452762381502559E+98,-6.3065952976877724E+100,5.0452762381502559E+98,-6.3065952976877724E+100,1,0,1,0]
[30.400000000000162,0.53058009260627903,9.9999999999999997E+98,-1.2500000000000001E+101,1.2500399993600206E+101,-89.541643541999562,0.5060337641211663,-0.74392982956936382,6.3256244617817153E+100,-89.541643541999562,5.0603376412117015E+98,-6.3254220515145797E+100,-3.5355904731176385E+50,-44.770821770999781,-2.5100199196022536E+50,2.4900200795977737E+50,5.0603376412117015E+98,-6.3254220515145797E+100,5.0603376412117015E+98,-6.3254220515145797E+100,1,0,1,0]
[30.500000000000163,0.53232542185827336,9.9999999999999997E+98,-1.2500000000000001E+101,1.2500399993600206E+101,-89.541643541999562,0.50753836296070665,-0.74240481012316595,6.3444325491058766E+100,-89.541643541999562,5.0753836296071054E+98,-6.3442295370088343E+100,-3.5355904731176385E+50,-44.770821770999781,-2.5100199196022536E+50,2.4900200795977737E+50,5.0753836296071054E+98,-6.3442295370088343E+100,5.0753836296071054E+98,-6.3442295370088343E+100,1,0,1,0]
[30.600000000000165,0.53407075111026769,9.9999999999999997E+98,-1.2500000000000001E+101,1.2500399993600206E+101,-89.541643541999562,0.50904141575037376,-0.74087683705085516,6.3632213101882118E+100,-89.541643541999562,5.0904141575037762E+98,-6.3630176968796725E+100,-3.5355904731176385E+50,-44.770821770999781,-2.5100199196022536E+50,2.4900200795977737E+50,5.0904141575037762E+98,-6.3630176968796725E+100,5.0904141575037762E+98,-6.3630176968796725E+100,1,0,1,0]
[30.700000000000166,0.53581608036226203,9.9999999999999997E+98,-1.2500000000000001E+101,1.2500399993600206E+101,-89.541643541999562,0.51054291791160822,-0.73934592897030083,6.3819906877948978E+100,-89.541643541999562,5.1054291791161206E+98,-6.3817864738951029E+100,-3.5355904731176385E+50,-44.770821770999781,-2.5100199196022536E+50,2.4900200795977737E+50,5.1054291791161206E+98,-6.3817864738951029E+100,5.1054291791161206E+98,-6.3817864738951029E+100,1,0,1,0]
[30.800000000000168,0.53756140961425647,9.9999999999999997E+98,-1.2500000000000001E+101,1.2500399993600206E+101,-89.541643541999562,0.51204286487057404,-0.73781210453513502,6.4007406247511548E+100,-89.541643541999562,5.120428648705779E+98,-6.4005358108821757E+100,-3.5355904731176385E+50,-44.770821770999781,-2.5100199196022536E+50,2.4900200795977737E+50,5.120428648705779E+98,-6.4005358108821757E+100,5.120428648705779E+98,-6.4005358108821757E+100,1,0,1,0]
[30.900000000000169,0.5393067388662508,9.9999999999999997E+98,-1.2500000000000001E+101,1.2500399993600206E+101,-89.541643541999562,0.51354125205817269,-0.73627538243452439,6.4194710639414233E+100,-89.541643541999562,5.1354125205817659E+98,-6.4192656507271589E+100,-3.5355904731176385E+50,-44.770821770999781,-2.5100199196022536E+50,2.4900200795977737E+50,5.1354125205817659E+98,-6.4192656507271589E+100,5.1354125205817659E+98,-6.4192656507271589E+100,1,0,1,0]
[31.000000000000171,0.54105206811824513,9.9999999999999997E+98,-1.2500000000000001E+101,1.2500399993600206E+101,-89.541643541999562,0.51503807491005671,-0.73473578139294282,6.438181948309535E+100,-89.541643541999562,5.150380749100606E+98,-6.4379759363757088E+100,-3.5355904731176385E+50,-44.770821770999781,-2.5100199196022536E+50,2.4900200795977737E+50,5.150380749100606E+98,-6.4379759363757088E+100,5.150380749100606E+98,-6.4379759363757088E+100,1,0,1,0]
[31.100000000000172,0.54279739737023946,9.9999999999999997E+98,-1.2500000000000001E+101,1.2500399993600206E+101,-89.541643541999562,0.51653332886664438,-0.73319332016994287,6.4568732208588947E+100,-89.541643541999562,5.1653332886664833E+98,-6.4566666108330557E+100,-3.5355904731176385E+50,-44.770821770999781,-2.5100199196022536E+50,2.4900200795977737E+50,5.1653332886664833E+98,-6.4566666108330557E+100,5.1653332886664833E+98,-6.4566666108330557E+100,1,0,1,0]
[31.200000000000173,0.5445427266222338,9.9999999999999997E+98,-1.2500000000000001E+101,1.2500399993600206E+101,-89.541643541999562,0.51802700937313273,-0.73164801755992814,6.475544824652642E+100,-89.541643541999562,5.1802700937313665E+98,-6.4753376171641597E+100,-3.5355904731176385E+50,-44.770821770999781,-2.5100199196022536E+50,2.4900200795977737E+50,5.1802700937313665E+98,-6.4753376171641597E+100,5.1802700937313665E+98,-6.4753376171641597E+100,1,0,1,0]
[31.300000000000175,0.54628805587422824,9.9999999999999997E+98,-1.2500000000000001E+101,1.2500399993600206E+101,-89.541643541999562,0.51951911187951205,-0.73009989239192308,6.494196702813837E+100,-89.541643541999562,5.1951911187951598E+98,-6.4939888984939007E+100,-3.5355904731176385E+50,-44.770821770999781,-2.5100199196022536E+50,2.4900200795977737E+50,5.1951911187951598E+98,-6.4939888984939007E+100,5.1951911187951598E+98,-6.4939888984939007E+100,1,0,1,0]
[31.400000000000176,0.54803338512622257,9.9999999999999997E+98,-1.2500000000000001E+101,1.2500399993600206E+101,-89.541643541999562,0.52100963184057902,-0.72854896352934428,6.5128287985256193E+100,-89.541643541999562,5.2100963184058293E+98,-6.5126203980072378E+100,-3.5355904731176385E+50,-44.770821770999781,-2.5100199196022536E+50,2.4900200795977737E+50,5.2100963184058293E+98,-6.5126203980072378E+100,5.2100963184058293E+98,-6.5126203980072378E+100,1,0,1,0]
[31.500000000000178,0.5497787143782169,9.9999999999999997E+98,-1.2500000000000001E+101,1.2500399993600206E+101,-89.541643541999562,0.52249856471595146,-0.72699524986977071,6.5314410550313967E+100,-89.541643541999562,5.2249856471595543E+98,-6.5312320589493936E+100,-3.5355904731176385E+50,-44.770821770999781,-2.5100199196022536E+50,2.4900200795977737E+50,5.2249856471595543E+98,-6.5312320589493936E+100,5.2249856471595543E+98,-6.5312320589493936E+100,1,0,1,0]
[31.600000000000179,0.55152404363021124,9.9999999999999997E+98,-1.2500000000000001E+101,1.2500399993600206E+101,-89.541643541999562,0.52398590597008177,-0.7254387703447126,6.5500334156350084E+100,-89.541643541999562,5.2398590597008576E+98,-6.5498238246260229E+100,-3.5355904731176385E+50,-44.770821770999781,-2.5100199196022536E+50,2.4900200795977737E+50,5.2398590597008576E+98,-6.5498238246260229E+100,5.2398590597008576E+98,-6.5498238246260229E+100,1,0,1,0]
[31.70000000000018,0.55326937288220557,9.9999999999999997E+98,-1.2500000000000001E+101,1.2500399993600206E+101,-89.541643541999562,0.52547165107227045,-0.72387954391938203,6.568605823700899E+100,-89.541643541999562,5.2547165107227444E+98,-6.5683956384033812E+100,-3.5355904731176385E+50,-44.770821770999781,-2.5100199196022536E+50,2.4900200795977737E+50,5.2547165107227444E+98,-6.5683956384033812E+100,5.2547165107227444E+98,-6.5683956384033812E+100,1,0,1,0]
[31.800000000000182,0.5550147021341999,9.9999999999999997E+98,-1.2500000000000001E+101,1.2500399993600206E+101,-89.541643541999562,0.52695579549668015,-0.72231758959246106,6.5871582226542918E+100,-89.541643541999562,5.2695579549668415E+98,-6.5869474437085021E+100,-3.5355904731176385E+50,-44.770821770999781,-2.5100199196022536E+50,2.4900200795977737E+50,5.2695579549668415E+98,-6.5869474437085021E+100,5.2695579549668415E+98,-6.5869474437085021E+100,1,0,1,0]
[31.900000000000183,0.55676003138619434,9.9999999999999997E+98,-1.2500000000000001E+101,1.2500399993600206E+101,-89.541643541999562,0.52843833472234991,-0.72075292639586963,6.605690555981366E+100,-89.541643541999562,5.2843833472235395E+98,-6.605479184029375E+100,-3.5355904731176385E+50,-44.770821770999781,-2.5100199196022536E+50,2.4900200795977737E+50,5.2843833472235395E+98,-6.605479184029375E+100,5.2843833472235395E+98,-6.605479184029375E+100,1,0,1,0]
[32.000000000000185,0.55850536063818867,9.9999999999999997E+98,-1.2500000000000001E+101,1.2500399993600206E+101,-89.541643541999562,0.52991926423320768,-0.71918557339453582,6.6242027672294154E+100,-89.541643541999562,5.2991926423321172E+98,-6.6239908029150966E+100,-3.5355904731176385E+50,-44.770821770999781,-2.5100199196022536E+50,2.4900200795977737E+50,5.2991926423321172E+98,-6.6239908029150966E+100,5.2991926423321172E+98,-6.6239908029150966E+100,{"$f":"(Q325*S325+T325*R325)/((S325^2)+(T325^2))","v":1},0,1,0]
[32.100000000000186,{"$f":"A326*PI()/180","v":0.56025068989018301},{"$f":"$D$1","v":9.9999999999999997E+98},{"$f":"-(18000*$G$1/$N$1)","v":-1.2500000000000001E+101},{"$f":"(C326^2+D326^2)^0.5","v":1.2500399993600206E+101},{"$f":"(180/PI())*ATAN(D326/C326)","v":-89.541643541999562},{"$f":"SIN(B326)","v":0.53139857951808556},{"$f":"-((COS(B326))^2)","v":-0.71761554968616093},{"$f":"E326*G326","v":6.6426948000070351E+100},{"$f":"F326","v":-89.541643541999562},{"$f":"(((I326^2)/(1+(TAN(J326*(PI()/180)))^2))^0.5)","v":5.3139857951808958E+98},{"$f":"K326*TAN(J326*(PI()/180))","v":-6.6424822439760695E+100},{"$f":"-(((((C326+H326)^2)+(D326)^2)^0.5)^0.5)","v":-3.5355904731176385E+50},{"$f":"((ATAN(D326/(C326+H326)))*(180/PI()))/2","v":-44.770821770999781},{"$f":"-(((M326^2)/(1+(TAN(N326*(PI()/180)))^2))^0.5)","v":-2.5100199196022536E+50},{"$f":"O326*TAN(N326*(PI()/180))","v":2.4900200795977737E+50},5.3139857951808958E+98,-6.6424822439760695E+100,{"$f":"-O326+K326","v":5.3139857951808958E+98},{"$f":"L326-P326","v":-6.6424822439760695E+100},1,{"$f":"(R326*S326-Q326*T326)/((S326^2)+(T326^2))","v":0},{"$f":"((U326^2)+(V326^2))^0.5","v":1},{"$f":"(ACOS(U326/W326))*(180/PI())","v":0}]
[{"$f":"A326+0.1","v":32.200000000000188},0.56199601914217734,9.9999999999999997E+98,-1.2500000000000001E+101,1.2500399993600206E+101,-89.541643541999562,0.53287627607073274,-0.71604287440098835,6.6611665979842887E+100,-89.541643541999562,5.3287627607073675E+98,-6.6609534508841593E+100,-3.5355904731176385E+50,-44.770821770999781,-2.5100199196022536E+50,2.4900200795977737E+50,5.3287627607073675E+98,-6.6609534508841593E+100,5.3287627607073675E+98,-6.6609534508841593E+100,1,0,1,0]
[32.300000000000189,0.56374134839417167,9.9999999999999997E+98,-1.2500000000000001E+101,1.2500399993600206E+101,-89.541643541999562,0.53435234938982912,-0.71446756670157008,6.6796181048928752E+100,-89.541643541999562,5.3435234938983321E+98,-6.6794043673728647E+100,-3.5355904731176385E+50,-44.770821770999781,-2.5100199196022536E+50,2.4900200795977737E+50,5.3435234938983321E+98,-6.6794043673728647E+100,5.3435234938983321E+98,-6.6794043673728647E+100,1,0,1,0]
[32.40000000000019,0.56548667764616611,9.9999999999999997E+98,-1.2500000000000001E+101,1.2500399993600206E+101,-89.541643541999562,0.53582679497899943,-0.71288964578253333,6.6980492645263037E+100,-89.541643541999562,5.3582679497900351E+98,-6.6978349372374937E+100,-3.5355904731176385E+50,-44.770821770999781,-2.5100199196022536E+50,2.4900200795977737E+50,5.3582679497900351E+98,-6.6978349372374937E+100,5.3582679497900351E+98,-6.6978349372374937E+100,1,0,1,0]
[32.500000000000192,0.56723200689816045,9.9999999999999997E+98,-1.2500000000000001E+101,1.2500399993600206E+101,-89.541643541999562,0.53729960834682666,-0.71130913087034675,6.7164600207400649E+100,-89.541643541999562,5.3729960834683075E+98,-6.7162451043353343E+100,-3.5355904731176385E+50,-44.770821770999781,-2.5100199196022536E+50,2.4900200795977737E+50,5.3729960834683075E+98,-6.7162451043353343E+100,5.3729960834683075E+98,-6.7162451043353343E+100,1,0,1,0]
[32.600000000000193,0.56897733615015478,9.9999999999999997E+98,-1.2500000000000001E+101,1.2500399993600206E+101,-89.541643541999562,0.53877078500686582,-0.70972604122308558,6.7348503174518037E+100,-89.541643541999562,5.3877078500686997E+98,-6.7346348125858242E+100,-3.5355904731176385E+50,-44.770821770999781,-2.5100199196022536E+50,2.4900200795977737E+50,5.3877078500686997E+98,-6.7346348125858242E+100,5.3877078500686997E+98,-6.7346348125858242E+100,1,0,1,0]
[32.700000000000195,0.57072266540214911,9.9999999999999997E+98,-1.2500000000000001E+101,1.2500399993600206E+101,-89.541643541999562,0.5402403204776578,-0.70814039613019764,6.7532200986414867E+100,-89.541643541999562,5.4024032047766191E+98,-6.7530040059707235E+100,-3.5355904731176385E+50,-44.770821770999781,-2.5100199196022536E+50,2.4900200795977737E+50,5.4024032047766191E+98,-6.7530040059707235E+100,5.4024032047766191E+98,-6.7530040059707235E+100,1,0,1,0]
[32.800000000000196,0.57246799465414344,9.9999999999999997E+98,-1.2500000000000001E+101,1.2500399993600206E+101,-89.541643541999562,0.54170821028274263,-0.70655221491226783,6.7715693083515748E+100,-89.541643541999562,5.4170821028274674E+98,-6.7713526285342831E+100,-3.5355904731176385E+50,-44.770821770999781,-2.5100199196022536E+50,2.4900200795977737E+50,5.4170821028274674E+98,-6.7713526285342831E+100,5.4170821028274674E+98,-6.7713526285342831E+100,1,0,1,0]
[32.900000000000198,0.57421332390613788,9.9999999999999997E+98,-1.2500000000000001E+101,1.2500399993600206E+101,-89.541643541999562,0.54317444995067354,-0.70496151692078313,6.7898978906871951E+100,-89.541643541999562,5.4317444995067772E+98,-6.7896806243834202E+100,-3.5355904731176385E+50,-44.770821770999781,-2.5100199196022536E+50,2.4900200795977737E+50,5.4317444995067772E+98,-6.7896806243834202E+100,5.4317444995067772E+98,-6.7896806243834202E+100,1,0,1,0]
[33.000000000000199,0.57595865315813222,9.9999999999999997E+98,-1.2500000000000001E+101,1.2500399993600206E+101,-89.541643541999562,0.54463903501502997,-0.70336832153789697,6.8082057898163033E+100,-89.541643541999562,5.4463903501503413E+98,-6.8079879376878759E+100,-3.5355904731176385E+50,-44.770821770999781,-2.5100199196022536E+50,2.4900200795977737E+50,5.4463903501503413E+98,-6.8079879376878759E+100,5.4463903501503413E+98,-6.8079879376878759E+100,1,0,1,0]
[33.1000000000002,0.57770398241012655,9.9999999999999997E+98,-1.2500000000000001E+101,1.2500399993600206E+101,-89.541643541999562,0.54610196101443198,-0.70177264817619178,6.8264929499698658E+100,-89.541643541999562,5.4610196101443613E+98,-6.8262745126804008E+100,-3.5355904731176385E+50,-44.770821770999781,-2.5100199196022536E+50,2.4900200795977737E+50,5.4610196101443613E+98,-6.8262745126804008E+100,5.4610196101443613E+98,-6.8262745126804008E+100,1,0,1,0]
[33.200000000000202,0.57944931166212088,9.9999999999999997E+98,-1.2500000000000001E+101,1.2500399993600206E+101,-89.541643541999562,0.54756322349255315,-0.70017451627844418,6.8447593154420192E+100,-89.541643541999562,5.4756322349255731E+98,-6.844540293656915E+100,-3.5355904731176385E+50,-44.770821770999781,-2.5100199196022536E+50,2.4900200795977737E+50,5.4756322349255731E+98,-6.844540293656915E+100,5.4756322349255731E+98,-6.844540293656915E+100,1,0,1,0]
[33.300000000000203,0.58119464091411521,9.9999999999999997E+98,-1.2500000000000001E+101,1.2500399993600206E+101,-89.541643541999562,0.54902281799813468,-0.69857394531738715,6.8630048305902497E+100,-89.541643541999562,5.4902281799813881E+98,-6.8627852249766832E+100,-3.5355904731176385E+50,-44.770821770999781,-2.5100199196022536E+50,2.4900200795977737E+50,5.4902281799813881E+98,-6.8627852249766832E+100,5.4902281799813881E+98,-6.8627852249766832E+100,1,0,1,0]
[33.400000000000205,0.58293997016610954,9.9999999999999997E+98,-1.2500000000000001E+101,1.2500399993600206E+101,-89.541643541999562,0.55048074008499848,-0.69697095479547244,6.8812294398355518E+100,-89.541643541999562,5.5048074008500259E+98,-6.8810092510624811E+100,-3.5355904731176385E+50,-44.770821770999781,-2.5100199196022536E+50,2.4900200795977737E+50,5.5048074008500259E+98,-6.8810092510624811E+100,5.5048074008500259E+98,-6.8810092510624811E+100,1,0,1,0]
[33.500000000000206,0.58468529941810399,9.9999999999999997E+98,-1.2500000000000001E+101,1.2500399993600206E+101,-89.541643541999562,0.55193698531206115,-0.69536556424463358,6.899433087662606E+100,-89.541643541999562,5.5193698531206528E+98,-6.8992123164007639E+100,-3.5355904731176385E+50,-44.770821770999781,-2.5100199196022536E+50,2.4900200795977737E+50,5.5193698531206528E+98,-6.8992123164007639E+100,5.5193698531206528E+98,-6.8992123164007639E+100,1,0,1,0]
[33.600000000000207,0.58643062867009832,9.9999999999999997E+98,-1.2500000000000001E+101,1.2500399993600206E+101,-89.541643541999562,0.5533915492433471,-0.69375779322604825,6.9176157186199445E+100,-89.541643541999562,5.5339154924335136E+98,-6.9173943655418402E+100,-3.5355904731176385E+50,-44.770821770999781,-2.5100199196022536E+50,2.4900200795977737E+50,5.5339154924335136E+98,-6.9173943655418402E+100,5.5339154924335136E+98,-6.9173943655418402E+100,1,0,1,0]
[33.700000000000209,0.58817595792209265,9.9999999999999997E+98,-1.2500000000000001E+101,1.2500399993600206E+101,-89.541643541999562,0.55484442744800222,-0.69214766132989858,6.9357772773201166E+100,-89.541643541999562,5.5484442744800645E+98,-6.9355553431000287E+100,-3.5355904731176385E+50,-44.770821770999781,-2.5100199196022536E+50,2.4900200795977737E+50,5.5484442744800645E+98,-6.9355553431000287E+100,5.5484442744800645E+98,-6.9355553431000287E+100,1,0,1,0]
[33.80000000000021,0.58992128717408698,9.9999999999999997E+98,-1.2500000000000001E+101,1.2500399993600206E+101,-89.541643541999562,0.55629561550030782,-0.69053518817513382,6.9539177084398706E+100,-89.541643541999562,5.562956155003121E+98,-6.9536951937538488E+100,-3.5355904731176385E+50,-44.770821770999781,-2.5100199196022536E+50,2.4900200795977737E+50,5.562956155003121E+98,-6.9536951937538488E+100,5.562956155003121E+98,-6.9536951937538488E+100,1,0,1,0]
[33.900000000000212,0.59166661642608132,9.9999999999999997E+98,-1.2500000000000001E+101,1.2500399993600206E+101,-89.541643541999562,0.55774510897969309,-0.68892039340923028,6.9720369567203016E+100,-89.541643541999562,5.5774510897969731E+98,-6.9718138622461639E+100,-3.5355904731176385E+50,-44.770821770999781,-2.5100199196022536E+50,2.4900200795977737E+50,5.5774510897969731E+98,-6.9718138622461639E+100,5.5774510897969731E+98,-6.9718138622461639E+100,1,0,1,0]
[34.000000000000213,0.59341194567807576,9.9999999999999997E+98,-1.2500000000000001E+101,1.2500399993600206E+101,-89.541643541999562,0.5591929034707499,-0.68730329670795254,6.9901349669670423E+100,-89.541643541999562,5.5919290347075409E+98,-6.9899112933843739E+100,-3.5355904731176385E+50,-44.770821770999781,-2.5100199196022536E+50,2.4900200795977737E+50,5.5919290347075409E+98,-6.9899112933843739E+100,5.5919290347075409E+98,-6.9899112933843739E+100,1,0,1,0]
[34.100000000000215,0.59515727493007009,9.9999999999999997E+98,-1.2500000000000001E+101,1.2500399993600206E+101,-89.541643541999562,0.56063899456324484,-0.68568391777511395,7.0082116840504123E+100,-89.541643541999562,5.6063899456324914E+98,-7.0079874320405609E+100,-3.5355904731176385E+50,-44.770821770999781,-2.5100199196022536E+50,2.4900200795977737E+50,5.6063899456324914E+98,-7.0079874320405609E+100,5.6063899456324914E+98,-7.0079874320405609E+100,1,0,1,0]
[34.200000000000216,0.59690260418206442,9.9999999999999997E+98,-1.2500000000000001E+101,1.2500399993600206E+101,-89.541643541999562,0.56208337785213369,-0.68406227634233552,7.0262670529055942E+100,-89.541643541999562,5.62083377852138E+98,-7.0260422231516728E+100,-3.5355904731176385E+50,-44.770821770999781,-2.5100199196022536E+50,2.4900200795977737E+50,5.62083377852138E+98,-7.0260422231516728E+100,5.62083377852138E+98,-7.0260422231516728E+100,1,0,1,0]
[34.300000000000217,0.59864793343405875,9.9999999999999997E+98,-1.2500000000000001E+101,1.2500399993600206E+101,-89.541643541999562,0.56352604893757452,-0.68243839216880631,7.044301018532806E+100,-89.541643541999562,5.6352604893757892E+98,-7.0440756117196833E+100,-3.5355904731176385E+50,-44.770821770999781,-2.5100199196022536E+50,2.4900200795977737E+50,5.6352604893757892E+98,-7.0440756117196833E+100,5.6352604893757892E+98,-7.0440756117196833E+100,1,0,1,0]
[34.400000000000219,0.60039326268605309,9.9999999999999997E+98,-1.2500000000000001E+101,1.2500399993600206E+101,-89.541643541999562,0.56496700342494099,-0.68081228504104274,7.0623135259974606E+100,-89.541643541999562,5.6496700342494538E+98,-7.0620875428117641E+100,-3.5355904731176385E+50,-44.770821770999781,-2.5100199196022536E+50,2.4900200795977737E+50,5.6496700342494538E+98,-7.0620875428117641E+100,5.6496700342494538E+98,-7.0620875428117641E+100,1,0,1,0]
[34.50000000000022,0.60213859193804753,9.9999999999999997E+98,-1.2500000000000001E+101,1.2500399993600206E+101,-89.541643541999562,0.56640623692483594,-0.67918397477264658,7.0803045204303358E+100,-89.541643541999562,5.6640623692484028E+98,-7.0800779615604512E+100,-3.5355904731176385E+50,-44.770821770999781,-2.5100199196022536E+50,2.4900200795977737E+50,5.6640623692484028E+98,-7.0800779615604512E+100,5.6640623692484028E+98,-7.0800779615604512E+100,1,0,1,0]
[34.600000000000222,0.60388392119004186,9.9999999999999997E+98,-1.2500000000000001E+101,1.2500399993600206E+101,-89.541643541999562,0.56784374505310442,-0.677553481204065,7.098273947027743E+100,-89.541643541999562,5.6784374505310869E+98,-7.0980468131638056E+100,-3.5355904731176385E+50,-44.770821770999781,-2.5100199196022536E+50,2.4900200795977737E+50,5.6784374505310869E+98,-7.0980468131638056E+100,5.6784374505310869E+98,-7.0980468131638056E+100,1,0,1,0]
[34.700000000000223,0.60562925044203619,9.9999999999999997E+98,-1.2500000000000001E+101,1.2500399993600206E+101,-89.541643541999562,0.56927952343084731,-0.67592082420234723,7.1162217510516913E+100,-89.541643541999562,5.6927952343085155E+98,-7.1159940428855913E+100,-3.5355904731176385E+50,-44.770821770999781,-2.5100199196022536E+50,2.4900200795977737E+50,5.6927952343085155E+98,-7.1159940428855913E+100,5.6927952343085155E+98,-7.1159940428855913E+100,1,0,1,0]
[34.800000000000225,0.60737457969403053,9.9999999999999997E+98,-1.2500000000000001E+101,1.2500399993600206E+101,-89.541643541999562,0.57071356768443482,-0.67428602366090395,7.1341478778300604E+100,-89.541643541999562,5.707135676844392E+98,-7.1339195960554362E+100,-3.5355904731176385E+50,-44.770821770999781,-2.5100199196022536E+50,2.4900200795977737E+50,{"$f":"K353+O353","v":5.707135676844392E+98},-7.1339195960554362E+100,5.707135676844392E+98,-7.1339195960554362E+100,1,0,1,0]
[34.900000000000226,0.60911990894602497,9.9999999999999997E+98,-1.2500000000000001E+101,1.2500399993600206E+101,-89.541643541999562,0.57214587344551948,-0.67264909949926366,7.1520522727567559E+100,-89.541643541999562,5.7214587344552384E+98,-7.1518234180689944E+100,-3.5355904731176385E+50,-44.770821770999781,-2.5100199196022536E+50,2.4900200795977737E+50,5.7214587344552384E+98,-7.1518234180689944E+100,5.7214587344552384E+98,-7.1518234180689944E+100,1,0,1,0]
[35.000000000000227,0.6108652381980193,9.9999999999999997E+98,-1.2500000000000001E+101,1.2500399993600206E+101,-89.541643541999562,0.57357643635104938,-0.67101007166283078,7.1699348812918862E+100,-89.541643541999562,5.7357643635105374E+98,-7.1697054543881181E+100,-3.5355904731176385E+50,-44.770821770999781,-2.5100199196022536E+50,2.4900200795977737E+50,5.7357643635105374E+98,-7.1697054543881181E+100,5.7357643635105374E+98,-7.1697054543881181E+100,1,0,1,0]
[35.100000000000229,0.61261056745001363,9.9999999999999997E+98,-1.2500000000000001E+101,1.2500399993600206E+101,-89.541643541999562,0.57500525204328179,-0.66936896012264202,7.1877956489619248E+100,-89.541643541999562,5.7500525204328613E+98,-7.1875656505410227E+100,-3.5355904731176385E+50,-44.770821770999781,-2.5100199196022536E+50,2.4900200795977737E+50,5.7500525204328613E+98,-7.1875656505410227E+100,5.7500525204328613E+98,-7.1875656505410227E+100,1,0,1,0]
[35.20000000000023,0.61435589670200796,9.9999999999999997E+98,-1.2500000000000001E+101,1.2500399993600206E+101,-89.541643541999562,0.57643231616979651,-0.6677257848751238,7.2056345213598757E+100,-89.541643541999562,5.764323161698008E+98,-7.2054039521224563E+100,-3.5355904731176385E+50,-44.770821770999781,-2.5100199196022536E+50,2.4900200795977737E+50,5.764323161698008E+98,-7.2054039521224563E+100,5.764323161698008E+98,-7.2054039521224563E+100,1,0,1,0]
[35.300000000000232,0.61610122595400241,9.9999999999999997E+98,-1.2500000000000001E+101,1.2500399993600206E+101,-89.541643541999562,0.57785762438350863,-0.66608056594184772,7.223451444145442E+100,-89.541643541999562,5.7785762438351305E+98,-7.2232203047938594E+100,-3.5355904731176385E+50,-44.770821770999781,-2.5100199196022536E+50,2.4900200795977737E+50,5.7785762438351305E+98,-7.2232203047938594E+100,5.7785762438351305E+98,-7.2232203047938594E+100,1,0,1,0]
[35.400000000000233,0.61784655520599674,9.9999999999999997E+98,-1.2500000000000001E+101,1.2500399993600206E+101,-89.541643541999562,0.57928117234268217,-0.66443332336928784,7.2412463630451842E+100,-89.541643541999562,5.7928117234268662E+98,-7.2410146542835284E+100,-3.5355904731176385E+50,-44.770821770999781,-2.5100199196022536E+50,2.4900200795977737E+50,5.7928117234268662E+98,-7.2410146542835284E+100,5.7928117234268662E+98,-7.2410146542835284E+100,1,0,1,0]
[35.500000000000234,0.61959188445799107,9.9999999999999997E+98,-1.2500000000000001E+101,1.2500399993600206E+101,-89.541643541999562,0.5807029557109431,-0.66278407722857458,7.2590192238526941E+100,-89.541643541999562,5.807029557109476E+98,-7.2587869463867909E+100,-3.5355904731176385E+50,-44.770821770999781,-2.5100199196022536E+50,2.4900200795977737E+50,5.807029557109476E+98,-7.2587869463867909E+100,5.807029557109476E+98,-7.2587869463867909E+100,1,0,1,0]
[35.600000000000236,0.6213372137099854,9.9999999999999997E+98,-1.2500000000000001E+101,1.2500399993600206E+101,-89.541643541999562,0.58212297015729275,-0.6611328476152516,7.2767699724287547E+100,-89.541643541999562,5.8212297015729711E+98,-7.2765371269661586E+100,-3.5355904731176385E+50,-44.770821770999781,-2.5100199196022536E+50,2.4900200795977737E+50,5.8212297015729711E+98,-7.2765371269661586E+100,5.8212297015729711E+98,-7.2765371269661586E+100,1,0,1,0]
[35.700000000000237,0.62308254296197974,9.9999999999999997E+98,-1.2500000000000001E+101,1.2500399993600206E+101,-89.541643541999562,0.5835412113561208,-0.65947965464903113,7.2944985547015089E+100,-89.541643541999562,5.8354121135612531E+98,-7.2942651419515114E+100,-3.5355904731176385E+50,-44.770821770999781,-2.5100199196022536E+50,2.4900200795977737E+50,5.8354121135612531E+98,-7.2942651419515114E+100,5.8354121135612531E+98,-7.2942651419515114E+100,1,0,1,0]
[35.800000000000239,0.62482787221397418,9.9999999999999997E+98,-1.2500000000000001E+101,1.2500399993600206E+101,-89.541643541999562,0.58495767498721885,-0.65782451847354728,7.3122049166666216E+100,-89.541643541999562,5.8495767498722327E+98,-7.3119709373402366E+100,-3.5355904731176385E+50,-44.770821770999781,-2.5100199196022536E+50,2.4900200795977737E+50,5.8495767498722327E+98,-7.3119709373402366E+100,5.8495767498722327E+98,-7.3119709373402366E+100,1,0,1,0]
[35.90000000000024,0.62657320146596851,9.9999999999999997E+98,-1.2500000000000001E+101,1.2500399993600206E+101,-89.541643541999562,0.58637235673579269,-0.6561674592561122,7.3298890043874406E+100,-89.541643541999562,5.8637235673579723E+98,-7.3296544591974098E+100,-3.5355904731176385E+50,-44.770821770999781,-2.5100199196022536E+50,2.4900200795977737E+50,5.8637235673579723E+98,-7.3296544591974098E+100,5.8637235673579723E+98,-7.3296544591974098E+100,1,0,1,0]
[36.000000000000242,0.62831853071796284,9.9999999999999997E+98,-1.2500000000000001E+101,1.2500399993600206E+101,-89.541643541999562,0.58778525229247647,-0.65450849718746984,7.3475507639951685E+100,-89.541643541999562,5.8778525229248098E+98,-7.3473156536559575E+100,-3.5355904731176385E+50,-44.770821770999781,-2.5100199196022536E+50,2.4900200795977737E+50,5.8778525229248098E+98,-7.3473156536559575E+100,5.8778525229248098E+98,-7.3473156536559575E+100,1,0,1,0]
[36.100000000000243,0.63006385996995717,9.9999999999999997E+98,-1.2500000000000001E+101,1.2500399993600206E+101,-89.541643541999562,0.58919635735334541,-0.65284765248154886,7.3651901416890235E+100,-89.541643541999562,5.8919635735334989E+98,-7.3649544669168181E+100,-3.5355904731176385E+50,-44.770821770999781,-2.5100199196022536E+50,2.4900200795977737E+50,5.8919635735334989E+98,-7.3649544669168181E+100,5.8919635735334989E+98,-7.3649544669168181E+100,1,0,1,0]
[36.200000000000244,0.63180918922195162,9.9999999999999997E+98,-1.2500000000000001E+101,1.2500399993600206E+101,-89.541643541999562,0.59060566761992883,-0.65118494537521809,7.3828070837364032E+100,-89.541643541999562,5.9060566761993323E+98,-7.3825708452491097E+100,-3.5355904731176385E+50,-44.770821770999781,-2.5100199196022536E+50,2.4900200795977737E+50,5.9060566761993323E+98,-7.3825708452491097E+100,5.9060566761993323E+98,-7.3825708452491097E+100,1,0,1,0]
[36.300000000000246,0.63355451847394595,9.9999999999999997E+98,-1.2500000000000001E+101,1.2500399993600206E+101,-89.541643541999562,0.59201317879922299,-0.64952039612803913,7.400401536473044E+100,-89.541643541999562,5.9201317879922741E+98,-7.4001647349902876E+100,-3.5355904731176385E+50,-44.770821770999781,-2.5100199196022536E+50,2.4900200795977737E+50,5.9201317879922741E+98,-7.4001647349902876E+100,5.9201317879922741E+98,-7.4001647349902876E+100,1,0,1,0]
[36.400000000000247,0.63529984772594028,9.9999999999999997E+98,-1.2500000000000001E+101,1.2500399993600206E+101,-89.541643541999562,0.5934188866037049,-0.64785402502201928,7.4179734463031947E+100,-89.541643541999562,5.9341888660370951E+98,-7.4177360825463132E+100,-3.5355904731176385E+50,-44.770821770999781,-2.5100199196022536E+50,2.4900200795977737E+50,5.9341888660370951E+98,-7.4177360825463132E+100,5.9341888660370951E+98,-7.4177360825463132E+100,1,0,1,0]
[36.500000000000249,0.63704517697793461,9.9999999999999997E+98,-1.2500000000000001E+101,1.2500399993600206E+101,-89.541643541999562,0.59482278675134481,-0.64618585236136417,7.4355227596997673E+100,-89.541643541999562,5.9482278675134935E+98,-7.4352848343918111E+100,-3.5355904731176385E+50,-44.770821770999781,-2.5100199196022536E+50,2.4900200795977737E+50,5.9482278675134935E+98,-7.4352848343918111E+100,5.9482278675134935E+98,-7.4352848343918111E+100,1,0,1,0]
[36.60000000000025,0.63879050622992906,9.9999999999999997E+98,-1.2500000000000001E+101,1.2500399993600206E+101,-89.541643541999562,0.59622487496561938,-0.64451589847223156,7.4530494232045126E+100,-89.541643541999562,5.9622487496562399E+98,-7.4528109370702434E+100,-3.5355904731176385E+50,-44.770821770999781,-2.5100199196022536E+50,2.4900200795977737E+50,5.9622487496562399E+98,-7.4528109370702434E+100,5.9622487496562399E+98,-7.4528109370702434E+100,1,0,1,0]
[36.700000000000252,0.64053583548192339,9.9999999999999997E+98,-1.2500000000000001E+101,1.2500399993600206E+101,-89.541643541999562,0.59762514697552471,-0.64284418370248253,7.4705533834281711E+100,-89.541643541999562,5.9762514697552926E+98,-7.4703143371940601E+100,-3.5355904731176385E+50,-44.770821770999781,-2.5100199196022536E+50,2.4900200795977737E+50,5.9762514697552926E+98,-7.4703143371940601E+100,5.9762514697552926E+98,-7.4703143371940601E+100,1,0,1,0]
[36.800000000000253,0.64228116473391772,9.9999999999999997E+98,-1.2500000000000001E+101,1.2500399993600206E+101,-89.541643541999562,0.59902359851558939,-0.64117072842143397,7.4880345870506455E+100,-89.541643541999562,5.9902359851559392E+98,-7.4877949814448686E+100,-3.5355904731176385E+50,-44.770821770999781,-2.5100199196022536E+50,2.4900200795977737E+50,5.9902359851559392E+98,-7.4877949814448686E+100,5.9902359851559392E+98,-7.4877949814448686E+100,1,0,1,0]
[36.900000000000254,0.64402649398591205,9.9999999999999997E+98,-1.2500000000000001E+101,1.2500399993600206E+101,-89.541643541999562,0.60042022532588757,-0.63949555301961047,7.505492980821159E+100,-89.541643541999562,6.0042022532589212E+98,-7.5052528165735955E+100,-3.5355904731176385E+50,-44.770821770999781,-2.5100199196022536E+50,2.4900200795977737E+50,6.0042022532589212E+98,-7.5052528165735955E+100,6.0042022532589212E+98,-7.5052528165735955E+100,1,0,1,0]
[37.000000000000256,0.64577182323790638,9.9999999999999997E+98,-1.2500000000000001E+101,1.2500399993600206E+101,-89.541643541999562,0.60181502315205182,-0.63781867790849534,7.5229285115584171E+100,-89.541643541999562,6.0181502315205643E+98,-7.5226877894006482E+100,-3.5355904731176385E+50,-44.770821770999781,-2.5100199196022536E+50,2.4900200795977737E+50,6.0181502315205643E+98,-7.5226877894006482E+100,6.0181502315205643E+98,-7.5226877894006482E+100,1,0,1,0]
[37.100000000000257,0.64751715248990072,9.9999999999999997E+98,-1.2500000000000001E+101,1.2500399993600206E+101,-89.541643541999562,0.60320798774528606,-0.63614012352028282,7.5403411261507676E+100,-89.541643541999562,6.0320798774529067E+98,-7.5400998468160763E+100,-3.5355904731176385E+50,-44.770821770999781,-2.5100199196022536E+50,2.4900200795977737E+50,6.0320798774529067E+98,-7.5400998468160763E+100,6.0320798774529067E+98,-7.5400998468160763E+100,1,0,1,0]
[37.200000000000259,0.64926248174189516,9.9999999999999997E+98,-1.2500000000000001E+101,1.2500399993600206E+101,-89.541643541999562,0.60459911486237849,-0.63445991030762838,7.5577307715563657E+100,-89.541643541999562,6.0459911486238306E+98,-7.5574889357797319E+100,-3.5355904731176385E+50,-44.770821770999781,-2.5100199196022536E+50,2.4900200795977737E+50,6.0459911486238306E+98,-7.5574889357797319E+100,6.0459911486238306E+98,-7.5574889357797319E+100,1,0,1,0]
[37.30000000000026,0.65100781099388949,9.9999999999999997E+98,-1.2500000000000001E+101,1.2500399993600206E+101,-89.541643541999562,0.60598840026571466,-0.63277805874339998,7.5750973948033379E+100,-89.541643541999562,6.0598840026571918E+98,-7.5748550033214326E+100,-3.5355904731176385E+50,-44.770821770999781,-2.5100199196022536E+50,2.4900200795977737E+50,6.0598840026571918E+98,-7.5748550033214326E+100,6.0598840026571918E+98,-7.5748550033214326E+100,1,0,1,0]
[37.400000000000261,0.65275314024588382,9.9999999999999997E+98,-1.2500000000000001E+101,1.2500399993600206E+101,-89.541643541999562,0.60737583972329034,-0.63109458932042795,7.5924409429899385E+100,-89.541643541999562,6.0737583972329489E+98,-7.5921979965411297E+100,-3.5355904731176385E+50,-44.770821770999781,-2.5100199196022536E+50,2.4900200795977737E+50,6.0737583972329489E+98,-7.5921979965411297E+100,6.0737583972329489E+98,-7.5921979965411297E+100,1,0,1,0]
[37.500000000000263,0.65449846949787815,9.9999999999999997E+98,-1.2500000000000001E+101,1.2500399993600206E+101,-89.541643541999562,0.60876142900872421,-0.62940952255125593,7.6097613632847086E+100,-89.541643541999562,6.0876142900872887E+98,-7.6095178626090537E+100,-3.5355904731176385E+50,-44.770821770999781,-2.5100199196022536E+50,2.4900200795977737E+50,6.0876142900872887E+98,-7.6095178626090537E+100,6.0876142900872887E+98,-7.6095178626090537E+100,1,0,1,0]
[37.600000000000264,0.65624379874987249,9.9999999999999997E+98,-1.2500000000000001E+101,1.2500399993600206E+101,-89.541643541999562,0.61014516390127127,-0.62772287896789092,7.6270586029266479E+100,-89.541643541999562,6.1014516390127596E+98,-7.6268145487658921E+100,-3.5355904731176385E+50,-44.770821770999781,-2.5100199196022536E+50,2.4900200795977737E+50,6.1014516390127596E+98,-7.6268145487658921E+100,6.1014516390127596E+98,-7.6268145487658921E+100,1,0,1,0]
[37.700000000000266,0.65798912800186693,9.9999999999999997E+98,-1.2500000000000001E+101,1.2500399993600206E+101,-89.541643541999562,0.61152704018583492,-0.6260346791215522,7.6443326092253635E+100,-89.541643541999562,6.1152704018583956E+98,-7.6440880023229366E+100,-3.5355904731176385E+50,-44.770821770999781,-2.5100199196022536E+50,2.4900200795977737E+50,6.1152704018583956E+98,-7.6440880023229366E+100,6.1152704018583956E+98,-7.6440880023229366E+100,1,0,1,0]
[37.800000000000267,0.65973445725386126,9.9999999999999997E+98,-1.2500000000000001E+101,1.2500399993600206E+101,-89.541643541999562,0.61290705365298015,-0.62434494358242287,7.6615833295612346E+100,-89.541643541999562,6.1290705365298486E+98,-7.6613381706622527E+100,-3.5355904731176385E+50,-44.770821770999781,-2.5100199196022536E+50,2.4900200795977737E+50,6.1290705365298486E+98,-7.6613381706622527E+100,6.1290705365298486E+98,-7.6613381706622527E+100,1,0,1,0]
[37.900000000000269,0.66147978650585559,9.9999999999999997E+98,-1.2500000000000001E+101,1.2500399993600206E+101,-89.541643541999562,0.61428520009894694,-0.62265369293939687,7.6788107113855776E+100,-89.541643541999562,6.1428520009895158E+98,-7.6785650012368368E+100,-3.5355904731176385E+50,-44.770821770999781,-2.5100199196022536E+50,2.4900200795977737E+50,6.1428520009895158E+98,-7.6785650012368368E+100,6.1428520009895158E+98,-7.6785650012368368E+100,1,0,1,0]
[38.00000000000027,0.66322511575784993,9.9999999999999997E+98,-1.2500000000000001E+101,1.2500399993600206E+101,-89.541643541999562,0.61566147532566196,-0.62096094779982924,7.6960147022207977E+100,-89.541643541999562,6.156614753256666E+98,-7.6957684415707742E+100,-3.5355904731176385E+50,-44.770821770999781,-2.5100199196022536E+50,2.4900200795977737E+50,6.156614753256666E+98,-7.6957684415707742E+100,6.156614753256666E+98,-7.6957684415707742E+100,1,0,1,0]
[38.100000000000271,0.66497044500984426,9.9999999999999997E+98,-1.2500000000000001E+101,1.2500399993600206E+101,-89.541643541999562,0.61703587514075231,-0.61926672878928601,7.7131952496605577E+100,-89.541643541999562,6.1703587514075709E+98,-7.712948439259406E+100,-3.5355904731176385E+50,-44.770821770999781,-2.5100199196022536E+50,2.4900200795977737E+50,6.1703587514075709E+98,-7.712948439259406E+100,6.1703587514075709E+98,-7.712948439259406E+100,1,0,1,0]
[38.200000000000273,0.6667157742618387,9.9999999999999997E+98,-1.2500000000000001E+101,1.2500399993600206E+101,-89.541643541999562,0.61840839535755787,-0.6175710565512903,7.7303523013699295E+100,-89.541643541999562,6.184083953575625E+98,-7.7301049419694734E+100,-3.5355904731176385E+50,-44.770821770999781,-2.5100199196022536E+50,2.4900200795977737E+50,6.184083953575625E+98,-7.7301049419694734E+100,6.184083953575625E+98,-7.7301049419694734E+100,1,0,1,0]
[38.300000000000274,0.66846110351383303,9.9999999999999997E+98,-1.2500000000000001E+101,1.2500399993600206E+101,-89.541643541999562,0.61977903179514393,-0.61587395174707393,7.7474858050855591E+100,-89.541643541999562,6.1977903179514856E+98,-7.7472378974392993E+100,-3.5355904731176385E+50,-44.770821770999781,-2.5100199196022536E+50,2.4900200795977737E+50,6.1977903179514856E+98,-7.7472378974392993E+100,6.1977903179514856E+98,-7.7472378974392993E+100,1,0,1,0]
[38.400000000000276,0.67020643276582736,9.9999999999999997E+98,-1.2500000000000001E+101,1.2500399993600206E+101,-89.541643541999562,0.62114778027831408,-0.61417543505532324,7.7645957086158192E+100,-89.541643541999562,6.2114778027831876E+98,-7.7643472534789269E+100,-3.5355904731176385E+50,-44.770821770999781,-2.5100199196022536E+50,2.4900200795977737E+50,6.2114778027831876E+98,-7.7643472534789269E+100,6.2114778027831876E+98,-7.7643472534789269E+100,{"$f":"(Q389*S389+T389*R389)/((S389^2)+(T389^2))","v":1},0,1,0]
[38.500000000000277,{"$f":"A390*PI()/180","v":0.6719517620178217},{"$f":"$D$1","v":9.9999999999999997E+98},{"$f":"-(18000*$G$1/$N$1)","v":-1.2500000000000001E+101},{"$f":"(C390^2+D390^2)^0.5","v":1.2500399993600206E+101},{"$f":"(180/PI())*ATAN(D390/C390)","v":-89.541643541999562},{"$f":"SIN(B390)","v":0.6225146366376233},{"$f":"-((COS(B390))^2)","v":-0.61247552717192777},{"$f":"E390*G390","v":7.7816819598409812E+100},{"$f":"F390","v":-89.541643541999562},{"$f":"(((I390^2)/(1+(TAN(J390*(PI()/180)))^2))^0.5)","v":6.2251463663762813E+98},{"$f":"K390*TAN(J390*(PI()/180))","v":-7.7814329579702939E+100},{"$f":"-(((((C390+H390)^2)+(D390)^2)^0.5)^0.5)","v":-3.5355904731176385E+50},{"$f":"((ATAN(D390/(C390+H390)))*(180/PI()))/2","v":-44.770821770999781},{"$f":"-(((M390^2)/(1+(TAN(N390*(PI()/180)))^2))^0.5)","v":-2.5100199196022536E+50},{"$f":"O390*TAN(N390*(PI()/180))","v":2.4900200795977737E+50},6.2251463663762813E+98,-7.7814329579702939E+100,{"$f":"-O390+K390","v":6.2251463663762813E+98},{"$f":"L390-P390","v":-7.7814329579702939E+100},1,{"$f":"(R390*S390-Q390*T390)/((S390^2)+(T390^2))","v":0},{"$f":"((U390^2)+(V390^2))^0.5","v":1},{"$f":"(ACOS(U390/W390))*(180/PI())","v":0}]
[{"$f":"A390+0.1","v":38.600000000000279},0.67369709126981603,9.9999999999999997E+98,-1.2500000000000001E+101,1.2500399993600206E+101,-89.541643541999562,0.62387959670938997,-0.61077424880972886,7.798744506713357E+100,-89.541643541999562,6.2387959670939464E+98,-7.798494958867375E+100,-3.5355904731176385E+50,-44.770821770999781,-2.5100199196022536E+50,2.4900200795977737E+50,6.2387959670939464E+98,-7.798494958867375E+100,6.2387959670939464E+98,-7.798494958867375E+100,1,0,1,0]
[38.70000000000028,0.67544242052181047,9.9999999999999997E+98,-1.2500000000000001E+101,1.2500399993600206E+101,-89.541643541999562,0.62524265633570897,-0.60907162069826648,7.8157832972574729E+100,-89.541643541999562,6.2524265633571372E+98,-7.8155332041963625E+100,-3.5355904731176385E+50,-44.770821770999781,-2.5100199196022536E+50,2.4900200795977737E+50,6.2524265633571372E+98,-7.8155332041963625E+100,6.2524265633571372E+98,-7.8155332041963625E+100,1,0,1,0]
[38.800000000000281,0.6771877497738048,9.9999999999999997E+98,-1.2500000000000001E+101,1.2500399993600206E+101,-89.541643541999562,0.6266038113644643,-0.60736766358352678,7.8327982795702142E+100,-89.541643541999562,6.2660381136446914E+98,-7.8325476420558047E+100,-3.5355904731176385E+50,-44.770821770999781,-2.5100199196022536E+50,2.4900200795977737E+50,6.2660381136446914E+98,-7.8325476420558047E+100,6.2660381136446914E+98,-7.8325476420558047E+100,1,0,1,0]
[38.900000000000283,0.67893307902579914,9.9999999999999997E+98,-1.2500000000000001E+101,1.2500399993600206E+101,-89.541643541999562,0.62796305764934168,-0.60566239822768941,7.8497894018209962E+100,-89.541643541999562,6.2796305764934653E+98,-7.849538220616772E+100,-3.5355904731176385E+50,-44.770821770999781,-2.5100199196022536E+50,2.4900200795977737E+50,6.2796305764934653E+98,-7.849538220616772E+100,6.2796305764934653E+98,-7.849538220616772E+100,1,0,1,0]
[39.000000000000284,0.68067840827779347,9.9999999999999997E+98,-1.2500000000000001E+101,1.2500399993600206E+101,-89.541643541999562,0.62932039104984128,-0.60395584540887493,7.8667566122519148E+100,-89.541643541999562,6.293203910498461E+98,-7.866504888123017E+100,-3.5355904731176385E+50,-44.770821770999781,-2.5100199196022536E+50,2.4900200795977737E+50,6.293203910498461E+98,-7.866504888123017E+100,6.293203910498461E+98,-7.866504888123017E+100,1,0,1,0]
[39.100000000000286,0.6824237375297878,9.9999999999999997E+98,-1.2500000000000001E+101,1.2500399993600206E+101,-89.541643541999562,0.63067580743129004,-0.60224802592089033,7.883699859177902E+100,-89.541643541999562,6.306758074312947E+98,-7.8834475928911253E+100,-3.5355904731176385E+50,-44.770821770999781,-2.5100199196022536E+50,2.4900200795977737E+50,6.306758074312947E+98,-7.8834475928911253E+100,6.306758074312947E+98,-7.8834475928911253E+100,1,0,1,0]
[39.200000000000287,0.68416906678178213,9.9999999999999997E+98,-1.2500000000000001E+101,1.2500399993600206E+101,-89.541643541999562,0.63202930266485469,-0.6005389605729774,7.9006190909868921E+100,-89.541643541999562,6.3202930266485944E+98,-7.9003662833106833E+100,-3.5355904731176385E+50,-44.770821770999781,-2.5100199196022536E+50,2.4900200795977737E+50,6.3202930266485944E+98,-7.9003662833106833E+100,6.3202930266485944E+98,-7.9003662833106833E+100,1,0,1,0]
[39.300000000000288,0.68591439603377657,9.9999999999999997E+98,-1.2500000000000001E+101,1.2500399993600206E+101,-89.541643541999562,0.63338087262755405,-0.59882867018955821,7.9175142561399696E+100,-89.541643541999562,6.333808726275589E+98,-7.9172609078444276E+100,-3.5355904731176385E+50,-44.770821770999781,-2.5100199196022536E+50,2.4900200795977737E+50,6.333808726275589E+98,-7.9172609078444276E+100,6.333808726275589E+98,-7.9172609078444276E+100,1,0,1,0]
[39.40000000000029,0.68765972528577091,9.9999999999999997E+98,-1.2500000000000001E+101,1.2500399993600206E+101,-89.541643541999562,0.63473051320227147,-0.59711717560998112,7.9343853031715291E+100,-89.541643541999562,6.3473051320227619E+98,-7.9341314150283922E+100,-3.5355904731176385E+50,-44.770821770999781,-2.5100199196022536E+50,2.4900200795977737E+50,6.3473051320227619E+98,-7.9341314150283922E+100,6.3473051320227619E+98,-7.9341314150283922E+100,1,0,1,0]
[39.500000000000291,0.68940505453776524,9.9999999999999997E+98,-1.2500000000000001E+101,1.2500399993600206E+101,-89.541643541999562,0.63607822027776784,-0.59540449768826753,7.9512321806894399E+100,-89.541643541999562,6.3607822027777271E+98,-7.9509777534720986E+100,-3.5355904731176385E+50,-44.770821770999781,-2.5100199196022536E+50,2.4900200795977737E+50,6.3607822027777271E+98,-7.9509777534720986E+100,6.3607822027777271E+98,-7.9509777534720986E+100,1,0,1,0]
[39.600000000000293,0.69115038378975957,9.9999999999999997E+98,-1.2500000000000001E+101,1.2500399993600206E+101,-89.541643541999562,0.63742398974869363,-0.59369065729285742,7.9680548373751876E+100,-89.541643541999562,6.3742398974869845E+98,-7.9677998718586706E+100,-3.5355904731176385E+50,-44.770821770999781,-2.5100199196022536E+50,2.4900200795977737E+50,6.3742398974869845E+98,-7.9677998718586706E+100,6.3742398974869845E+98,-7.9677998718586706E+100,1,0,1,0]
[39.700000000000294,0.6928957130417539,9.9999999999999997E+98,-1.2500000000000001E+101,1.2500399993600206E+101,-89.541643541999562,0.63876781751560163,-0.59197567530635509,7.9848532219840437E+100,-89.541643541999562,6.3876781751560642E+98,-7.9845977189450205E+100,-3.5355904731176385E+50,-44.770821770999781,-2.5100199196022536E+50,2.4900200795977737E+50,6.3876781751560642E+98,-7.9845977189450205E+100,6.3876781751560642E+98,-7.9845977189450205E+100,1,0,1,0]
[39.800000000000296,0.69464104229374835,9.9999999999999997E+98,-1.2500000000000001E+101,1.2500399993600206E+101,-89.541643541999562,0.64010969948495944,-0.59025957262527484,8.0016272833452174E+100,-89.541643541999562,6.4010969948496435E+98,-8.0013712435619942E+100,-3.5355904731176385E+50,-44.770821770999781,-2.5100199196022536E+50,2.4900200795977737E+50,6.4010969948496435E+98,-8.0013712435619942E+100,6.4010969948496435E+98,-8.0013712435619942E+100,1,0,1,0]
[39.900000000000297,0.69638637154574268,9.9999999999999997E+98,-1.2500000000000001E+101,1.2500399993600206E+101,-89.541643541999562,0.64144963156916179,-0.5885423701597865,8.0183769703620052E+100,-89.541643541999562,6.414496315691667E+98,-8.0181203946145232E+100,-3.5355904731176385E+50,-44.770821770999781,-2.5100199196022536E+50,2.4900200795977737E+50,6.414496315691667E+98,-8.0181203946145232E+100,6.414496315691667E+98,-8.0181203946145232E+100,1,0,1,0]
[40.000000000000298,0.69813170079773701,9.9999999999999997E+98,-1.2500000000000001E+101,1.2500399993600206E+101,-89.541643541999562,0.64278760968654325,-0.58682408883346004,8.035102232011957E+100,-89.541643541999562,6.427876096865481E+98,-8.0348451210817908E+100,-3.5355904731176385E+50,-44.770821770999781,-2.5100199196022536E+50,2.4900200795977737E+50,6.427876096865481E+98,-8.0348451210817908E+100,6.427876096865481E+98,-8.0348451210817908E+100,1,0,1,0]
[40.1000000000003,0.69987703004973134,9.9999999999999997E+98,-1.2500000000000001E+101,1.2500399993600206E+101,-89.541643541999562,0.64412362976139048,-0.58510474958301106,8.051803017347027E+100,-89.541643541999562,6.441236297613954E+98,-8.0515453720173814E+100,-3.5355904731176385E+50,-44.770821770999781,-2.5100199196022536E+50,2.4900200795977737E+50,6.441236297613954E+98,-8.0515453720173814E+100,6.441236297613954E+98,-8.0515453720173814E+100,1,0,1,0]
[40.200000000000301,0.70162235930172567,9.9999999999999997E+98,-1.2500000000000001E+101,1.2500399993600206E+101,-89.541643541999562,0.64545768772395451,-0.58338437335804594,8.0684792754937243E+100,-89.541643541999562,6.4545768772395933E+98,-8.0682210965494314E+100,-3.5355904731176385E+50,-44.770821770999781,-2.5100199196022536E+50,2.4900200795977737E+50,6.4545768772395933E+98,-8.0682210965494314E+100,6.4545768772395933E+98,-8.0682210965494314E+100,1,0,1,0]
[40.300000000000303,0.70336768855372012,9.9999999999999997E+98,-1.2500000000000001E+101,1.2500399993600206E+101,-89.541643541999562,0.64678977951046357,-0.58166298112080583,8.0851309556532779E+100,-89.541643541999562,6.4678977951046859E+98,-8.0848722438807967E+100,-3.5355904731176385E+50,-44.770821770999781,-2.5100199196022536E+50,2.4900200795977737E+50,6.4678977951046859E+98,-8.0848722438807967E+100,6.4678977951046859E+98,-8.0848722438807967E+100,1,0,1,0]
[40.400000000000304,0.70511301780571445,9.9999999999999997E+98,-1.2500000000000001E+101,1.2500399993600206E+101,-89.541643541999562,0.64811990106313488,-0.57994059384591223,8.1017580071017776E+100,-89.541643541999562,6.4811990106313977E+98,-8.1014987632891868E+100,-3.5355904731176385E+50,-44.770821770999781,-2.5100199196022536E+50,2.4900200795977737E+50,6.4811990106313977E+98,-8.1014987632891868E+100,6.4811990106313977E+98,-8.1014987632891868E+100,1,0,1,0]
[40.500000000000306,0.70685834705770878,9.9999999999999997E+98,-1.2500000000000001E+101,1.2500399993600206E+101,-89.541643541999562,0.64944804833018765,-0.57821723252011015,8.1183603791903439E+100,-89.541643541999562,6.4944804833019254E+98,-8.1181006041273463E+100,-3.5355904731176385E+50,-44.770821770999781,-2.5100199196022536E+50,2.4900200795977737E+50,6.4944804833019254E+98,-8.1181006041273463E+100,6.4944804833019254E+98,-8.1181006041273463E+100,1,0,1,0]
[40.600000000000307,0.70860367630970311,9.9999999999999997E+98,-1.2500000000000001E+101,1.2500399993600206E+101,-89.541643541999562,0.65077421726585494,-0.57649291814201375,8.1349380213452726E+100,-89.541643541999562,6.507742172658599E+98,-8.134677715823187E+100,-3.5355904731176385E+50,-44.770821770999781,-2.5100199196022536E+50,2.4900200795977737E+50,6.507742172658599E+98,-8.134677715823187E+100,6.507742172658599E+98,-8.134677715823187E+100,1,0,1,0]
[40.700000000000308,0.71034900556169744,9.9999999999999997E+98,-1.2500000000000001E+101,1.2500399993600206E+101,-89.541643541999562,0.65209840383039619,-0.57476767172184962,8.1514908830681895E+100,-89.541643541999562,6.5209840383040122E+98,-8.1512300478799544E+100,-3.5355904731176385E+50,-44.770821770999781,-2.5100199196022536E+50,2.4900200795977737E+50,6.5209840383040122E+98,-8.1512300478799544E+100,6.5209840383040122E+98,-8.1512300478799544E+100,1,0,1,0]
[40.80000000000031,0.71209433481369189,9.9999999999999997E+98,-1.2500000000000001E+101,1.2500399993600206E+101,-89.541643541999562,0.65342060399010959,-0.57304151428120043,8.1680189139362083E+100,-89.541643541999562,6.5342060399011454E+98,-8.1677575498763706E+100,-3.5355904731176385E+50,-44.770821770999781,-2.5100199196022536E+50,2.4900200795977737E+50,6.5342060399011454E+98,-8.1677575498763706E+100,6.5342060399011454E+98,-8.1677575498763706E+100,1,0,1,0]
[40.900000000000311,0.71383966406568611,9.9999999999999997E+98,-1.2500000000000001E+101,1.2500399993600206E+101,-89.541643541999562,0.65474081371734372,-0.57131446685275056,8.1845220636020776E+100,-89.541643541999562,6.547408137173487E+98,-8.1842601714667973E+100,-3.5355904731176385E+50,-44.770821770999781,-2.5100199196022536E+50,2.4900200795977737E+50,6.547408137173487E+98,-8.1842601714667973E+100,6.547408137173487E+98,-8.1842601714667973E+100,1,0,1,0]
[41.000000000000313,0.71558499331768055,9.9999999999999997E+98,-1.2500000000000001E+101,1.2500399993600206E+101,-89.541643541999562,0.65605902899051138,-0.56958655048002738,8.2010002817943457E+100,-89.541643541999562,6.5605902899051637E+98,-8.2007378623813931E+100,-3.5355904731176385E+50,-44.770821770999781,-2.5100199196022536E+50,2.4900200795977737E+50,6.5605902899051637E+98,-8.2007378623813931E+100,6.5605902899051637E+98,-8.2007378623813931E+100,1,0,1,0]
[41.100000000000314,0.71733032256967499,9.9999999999999997E+98,-1.2500000000000001E+101,1.2500399993600206E+101,-89.541643541999562,0.65737524579409989,-0.56785778621714678,8.2174535183175009E+100,-89.541643541999562,6.573752457941049E+98,-8.21719057242625E+100,-3.5355904731176385E+50,-44.770821770999781,-2.5100199196022536E+50,2.4900200795977737E+50,6.573752457941049E+98,-8.21719057242625E+100,6.573752457941049E+98,-8.21719057242625E+100,1,0,1,0]
[41.200000000000315,0.71907565182166922,9.9999999999999997E+98,-1.2500000000000001E+101,1.2500399993600206E+101,-89.541643541999562,0.65868946011868457,-0.56612819512855583,8.2338817230521279E+100,-89.541643541999562,6.5868946011868963E+98,-8.2336182514835582E+100,-3.5355904731176385E+50,-44.770821770999781,-2.5100199196022536E+50,2.4900200795977737E+50,{"$f":"K417+O417","v":6.5868946011868963E+98},-8.2336182514835582E+100,6.5868946011868963E+98,-8.2336182514835582E+100,1,0,1,0]
[41.300000000000317,0.72082098107366366,9.9999999999999997E+98,-1.2500000000000001E+101,1.2500399993600206E+101,-89.541643541999562,0.66000166796094095,-0.56439779828877601,8.2502848459550715E+100,-89.541643541999562,6.6000166796094588E+98,-8.2500208495117617E+100,-3.5355904731176385E+50,-44.770821770999781,-2.5100199196022536E+50,2.4900200795977737E+50,6.6000166796094588E+98,-8.2500208495117617E+100,6.6000166796094588E+98,-8.2500208495117617E+100,1,0,1,0]
[41.400000000000318,0.72256631032565788,9.9999999999999997E+98,-1.2500000000000001E+101,1.2500399993600206E+101,-89.541643541999562,0.66131186532365593,-0.56266661678214669,8.2666628370595682E+100,-89.541643541999562,6.6131186532366084E+98,-8.2663983165456977E+100,-3.5355904731176385E+50,-44.770821770999781,-2.5100199196022536E+50,2.4900200795977737E+50,6.6131186532366084E+98,-8.2663983165456977E+100,6.6131186532366084E+98,-8.2663983165456977E+100,1,0,1,0]
[41.50000000000032,0.72431163957765232,9.9999999999999997E+98,-1.2500000000000001E+101,1.2500399993600206E+101,-89.541643541999562,0.66262004821574161,-0.56093467170256828,8.2830156464754239E+100,-89.541643541999562,6.6262004821574657E+98,-8.2827506026967698E+100,-3.5355904731176385E+50,-44.770821770999781,-2.5100199196022536E+50,2.4900200795977737E+50,6.6262004821574657E+98,-8.2827506026967698E+100,6.6262004821574657E+98,-8.2827506026967698E+100,1,0,1,0]
[41.600000000000321,0.72605696882964676,9.9999999999999997E+98,-1.2500000000000001E+101,1.2500399993600206E+101,-89.541643541999562,0.66392621265224583,-0.55920198415324474,8.2993432243891423E+100,-89.541643541999562,6.6392621265225081E+98,-8.2990776581530732E+100,-3.5355904731176385E+50,-44.770821770999781,-2.5100199196022536E+50,2.4900200795977737E+50,6.6392621265225081E+98,-8.2990776581530732E+100,6.6392621265225081E+98,-8.2990776581530732E+100,1,0,1,0]
[41.700000000000323,0.72780229808164099,9.9999999999999997E+98,-1.2500000000000001E+101,1.2500399993600206E+101,-89.541643541999562,0.66523035465436497,-0.55746857524642779,8.3156455210640872E+100,-89.541643541999562,6.6523035465437009E+98,-8.315379433179563E+100,-3.5355904731176385E+50,-44.770821770999781,-2.5100199196022536E+50,2.4900200795977737E+50,6.6523035465437009E+98,-8.315379433179563E+100,6.6523035465437009E+98,-8.315379433179563E+100,1,0,1,0]
[41.800000000000324,0.72954762733363543,9.9999999999999997E+98,-1.2500000000000001E+101,1.2500399993600206E+101,-89.541643541999562,0.66653247024945672,-0.55573446610315702,8.3319224868406389E+100,-89.541643541999562,6.6653247024946187E+98,-8.331655878118211E+100,-3.5355904731176385E+50,-44.770821770999781,-2.5100199196022536E+50,2.4900200795977737E+50,6.6653247024946187E+98,-8.331655878118211E+100,6.6653247024946187E+98,-8.331655878118211E+100,1,0,1,0]
[41.900000000000325,0.73129295658562965,9.9999999999999997E+98,-1.2500000000000001E+101,1.2500399993600206E+101,-89.541643541999562,0.6678325554710508,-0.55399967785300586,8.3481740721363328E+100,-89.541643541999562,6.6783255547105583E+98,-8.3479069433881347E+100,-3.5355904731176385E+50,-44.770821770999781,-2.5100199196022536E+50,2.4900200795977737E+50,6.6783255547105583E+98,-8.3479069433881347E+100,6.6783255547105583E+98,-8.3479069433881347E+100,1,0,1,0]
[42.000000000000327,0.73303828583762409,9.9999999999999997E+98,-1.2500000000000001E+101,1.2500399993600206E+101,-89.541643541999562,0.66913060635886246,-0.5522642316338211,8.3644002274460255E+100,-89.541643541999562,6.6913060635886749E+98,-8.3641325794857807E+100,-3.5355904731176385E+50,-44.770821770999781,-2.5100199196022536E+50,2.4900200795977737E+50,6.6913060635886749E+98,-8.3641325794857807E+100,6.6913060635886749E+98,-8.3641325794857807E+100,1,0,1,0]
[42.100000000000328,0.73478361508961842,9.9999999999999997E+98,-1.2500000000000001E+101,1.2500399993600206E+101,-89.541643541999562,0.67042661895880329,-0.55052814859146748,8.380600903342032E+100,-89.541643541999562,6.7042661895880838E+98,-8.3803327369850412E+100,-3.5355904731176385E+50,-44.770821770999781,-2.5100199196022536E+50,2.4900200795977737E+50,6.7042661895880838E+98,-8.3803327369850412E+100,6.7042661895880838E+98,-8.3803327369850412E+100,1,0,1,0]
[42.20000000000033,0.73652894434161276,9.9999999999999997E+98,-1.2500000000000001E+101,1.2500399993600206E+101,-89.541643541999562,0.67172058932299439,-0.54879144987956907,8.3967760504742852E+100,-89.541643541999562,6.717205893229995E+98,-8.3965073665374314E+100,-3.5355904731176385E+50,-44.770821770999781,-2.5100199196022536E+50,2.4900200795977737E+50,6.717205893229995E+98,-8.3965073665374314E+100,6.717205893229995E+98,-8.3965073665374314E+100,1,0,1,0]
[42.300000000000331,0.7382742735936072,9.9999999999999997E+98,-1.2500000000000001E+101,1.2500399993600206E+101,-89.541643541999562,0.67301251350977764,-0.54705415665925139,8.4129256195704824E+100,-89.541643541999562,6.7301251350978269E+98,-8.4126564188722213E+100,-3.5355904731176385E+50,-44.770821770999781,-2.5100199196022536E+50,2.4900200795977737E+50,6.7301251350978269E+98,-8.4126564188722213E+100,6.7301251350978269E+98,-8.4126564188722213E+100,1,0,1,0]
[42.400000000000333,0.74001960284560142,9.9999999999999997E+98,-1.2500000000000001E+101,1.2500399993600206E+101,-89.541643541999562,0.67430238758372762,-0.54531629009888438,8.4290495614362326E+100,-89.541643541999562,6.7430238758373282E+98,-8.4287798447965974E+100,-3.5355904731176385E+50,-44.770821770999781,-2.5100199196022536E+50,2.4900200795977737E+50,6.7430238758373282E+98,-8.4287798447965974E+100,6.7430238758373282E+98,-8.4287798447965974E+100,1,0,1,0]
[42.500000000000334,0.74176493209759586,9.9999999999999997E+98,-1.2500000000000001E+101,1.2500399993600206E+101,-89.541643541999562,0.67559020761566446,-0.5435778713738233,8.445147826955214E+100,-89.541643541999562,6.7559020761566957E+98,-8.444877595195806E+100,-3.5355904731176385E+50,-44.770821770999781,-2.5100199196022536E+50,2.4900200795977737E+50,6.7559020761566957E+98,-8.444877595195806E+100,6.7559020761566957E+98,-8.444877595195806E+100,1,0,1,0]
[42.600000000000335,0.7435102613495902,9.9999999999999997E+98,-1.2500000000000001E+101,1.2500399993600206E+101,-89.541643541999562,0.67687596968266495,-0.541838921666152,8.4612203670893179E+100,-89.541643541999562,6.7687596968267011E+98,-8.4609496210333127E+100,-3.5355904731176385E+50,-44.770821770999781,-2.5100199196022536E+50,2.4900200795977737E+50,6.7687596968267011E+98,-8.4609496210333127E+100,6.7687596968267011E+98,-8.4609496210333127E+100,1,0,1,0]
[42.700000000000337,0.74525559060158453,9.9999999999999997E+98,-1.2500000000000001E+101,1.2500399993600206E+101,-89.541643541999562,0.67815966986807485,-0.54009946216442362,8.4772671328787999E+100,-89.541643541999562,6.7815966986807999E+98,-8.4769958733509366E+100,-3.5355904731176385E+50,-44.770821770999781,-2.5100199196022536E+50,2.4900200795977737E+50,6.7815966986807999E+98,-8.4769958733509366E+100,6.7815966986807999E+98,-8.4769958733509366E+100,1,0,1,0]
[42.800000000000338,0.74700091985357897,9.9999999999999997E+98,-1.2500000000000001E+101,1.2500399993600206E+101,-89.541643541999562,0.67944130426152083,-0.53835951406340343,8.4932880754424305E+100,-89.541643541999562,6.79441304261526E+98,-8.4930163032690117E+100,-3.5355904731176385E+50,-44.770821770999781,-2.5100199196022536E+50,2.4900200795977737E+50,6.79441304261526E+98,-8.4930163032690117E+100,6.79441304261526E+98,-8.4930163032690117E+100,1,0,1,0]
[42.90000000000034,0.7487462491055733,9.9999999999999997E+98,-1.2500000000000001E+101,1.2500399993600206E+101,-89.541643541999562,0.68072086895892214,-0.53661909856380996,8.5092831459776365E+100,-89.541643541999562,6.8072086895892724E+98,-8.5090108619865266E+100,-3.5355904731176385E+50,-44.770821770999781,-2.5100199196022536E+50,2.4900200795977737E+50,6.8072086895892724E+98,-8.5090108619865266E+100,6.8072086895892724E+98,-8.5090108619865266E+100,1,0,1,0]
[43.000000000000341,0.75049157835756763,9.9999999999999997E+98,-1.2500000000000001E+101,1.2500399993600206E+101,-89.541643541999562,0.68199836006250281,-0.53487823687205682,8.5252522957606611E+100,-89.541643541999562,6.81998360062508E+98,-8.5249795007812866E+100,-3.5355904731176385E+50,-44.770821770999781,-2.5100199196022536E+50,2.4900200795977737E+50,6.81998360062508E+98,-8.5249795007812866E+100,6.81998360062508E+98,-8.5249795007812866E+100,1,0,1,0]
[43.100000000000342,0.75223690760956197,9.9999999999999997E+98,-1.2500000000000001E+101,1.2500399993600206E+101,-89.541643541999562,0.68327377368080344,-0.53313695019999419,8.5411954761467038E+100,-89.541643541999562,6.8327377368080864E+98,-8.5409221710100435E+100,-3.5355904731176385E+50,-44.770821770999781,-2.5100199196022536E+50,2.4900200795977737E+50,6.8327377368080864E+98,-8.5409221710100435E+100,6.8327377368080864E+98,-8.5409221710100435E+100,1,0,1,0]
[43.200000000000344,0.7539822368615563,9.9999999999999997E+98,-1.2500000000000001E+101,1.2500399993600206E+101,-89.541643541999562,0.68454710592869294,-0.53139525976465074,8.5571126385700727E+100,-89.541643541999562,6.8454710592869817E+98,-8.5568388241086629E+100,-3.5355904731176385E+50,-44.770821770999781,-2.5100199196022536E+50,2.4900200795977737E+50,6.8454710592869817E+98,-8.5568388241086629E+100,6.8454710592869817E+98,-8.5568388241086629E+100,1,0,1,0]
[43.300000000000345,0.75572756611355074,9.9999999999999997E+98,-1.2500000000000001E+101,1.2500399993600206E+101,-89.541643541999562,0.68581835292738058,-0.52965318678797491,8.5730037345443321E+100,-89.541643541999562,6.8581835292738583E+98,-8.5727294115922585E+100,-3.5355904731176385E+50,-44.770821770999781,-2.5100199196022536E+50,2.4900200795977737E+50,6.8581835292738583E+98,-8.5727294115922585E+100,6.8581835292738583E+98,-8.5727294115922585E+100,1,0,1,0]
[43.400000000000347,0.75747289536554507,9.9999999999999997E+98,-1.2500000000000001E+101,1.2500399993600206E+101,-89.541643541999562,0.68708751080442743,-0.52791075249657582,8.5888687156624456E+100,-89.541643541999562,6.8708751080443268E+98,-8.5885938850553448E+100,-3.5355904731176385E+50,-44.770821770999781,-2.5100199196022536E+50,2.4900200795977737E+50,6.8708751080443268E+98,-8.5885938850553448E+100,6.8708751080443268E+98,-8.5885938850553448E+100,1,0,1,0]
[43.500000000000348,0.75921822461753941,9.9999999999999997E+98,-1.2500000000000001E+101,1.2500399993600206E+101,-89.541643541999562,0.68835457569375835,-0.52616797812146598,8.6047075335969297E+100,-89.541643541999562,6.8835457569376358E+98,-8.6044321961719801E+100,-3.5355904731176385E+50,-44.770821770999781,-2.5100199196022536E+50,2.4900200795977737E+50,6.8835457569376358E+98,-8.6044321961719801E+100,6.8835457569376358E+98,-8.6044321961719801E+100,1,0,1,0]
[43.60000000000035,0.76096355386953374,9.9999999999999997E+98,-1.2500000000000001E+101,1.2500399993600206E+101,-89.541643541999562,0.68961954373567413,-0.5244248848978007,8.6205201400999971E+100,-89.541643541999562,6.8961954373567925E+98,-8.6202442966959266E+100,-3.5355904731176385E+50,-44.770821770999781,-2.5100199196022536E+50,2.4900200795977737E+50,6.8961954373567925E+98,-8.6202442966959266E+100,6.8961954373567925E+98,-8.6202442966959266E+100,1,0,1,0]
[43.700000000000351,0.76270888312152807,9.9999999999999997E+98,-1.2500000000000001E+101,1.2500399993600206E+101,-89.541643541999562,0.69088241107686277,-0.52268149406462083,8.6363064870037103E+100,-89.541643541999562,6.90882411076868E+98,-8.6360301384607853E+100,-3.5355904731176385E+50,-44.770821770999781,-2.5100199196022536E+50,2.4900200795977737E+50,6.90882411076868E+98,-8.6360301384607853E+100,6.90882411076868E+98,-8.6360301384607853E+100,1,0,1,0]
[43.800000000000352,0.76445421237352251,9.9999999999999997E+98,-1.2500000000000001E+101,1.2500399993600206E+101,-89.541643541999562,0.69214317387041124,-0.52093782686459367,8.6520665262201154E+100,-89.541643541999562,6.9214317387041648E+98,-8.651789673380141E+100,-3.5355904731176385E+50,-44.770821770999781,-2.5100199196022536E+50,2.4900200795977737E+50,6.9214317387041648E+98,-8.651789673380141E+100,6.9214317387041648E+98,-8.651789673380141E+100,1,0,1,0]
[43.900000000000354,0.76619954162551684,9.9999999999999997E+98,-1.2500000000000001E+101,1.2500399993600206E+101,-89.541643541999562,0.69340182827581742,-0.5191939045437538,8.6678002097413991E+100,-89.541643541999562,6.9340182827582272E+98,-8.667522853447719E+100,-3.5355904731176385E+50,-44.770821770999781,-2.5100199196022536E+50,2.4900200795977737E+50,6.9340182827582272E+98,-8.667522853447719E+100,6.9340182827582272E+98,-8.667522853447719E+100,1,0,1,0]
[44.000000000000355,0.76794487087751118,9.9999999999999997E+98,-1.2500000000000001E+101,1.2500399993600206E+101,-89.541643541999562,0.69465837045900169,-0.51744974835124435,8.6835074896400347E+100,-89.541643541999562,6.9465837045900698E+98,-8.6832296307375217E+100,-3.5355904731176385E+50,-44.770821770999781,-2.5100199196022536E+50,2.4900200795977737E+50,6.9465837045900698E+98,-8.6832296307375217E+100,6.9465837045900698E+98,-8.6832296307375217E+100,1,0,1,0]
[44.100000000000357,0.76969020012950551,9.9999999999999997E+98,-1.2500000000000001E+101,1.2500399993600206E+101,-89.541643541999562,0.69591279659231875,-0.51570537953905793,8.6991883180689234E+100,-89.541643541999562,6.9591279659232413E+98,-8.6989099574039859E+100,-3.5355904731176385E+50,-44.770821770999781,-2.5100199196022536E+50,2.4900200795977737E+50,6.9591279659232413E+98,-8.6989099574039859E+100,6.9591279659232413E+98,-8.6989099574039859E+100,1,0,1,0]
[44.200000000000358,0.77143552938149995,9.9999999999999997E+98,-1.2500000000000001E+101,1.2500399993600206E+101,-89.541643541999562,0.69716510285456901,-0.51396081936177818,8.7148426472615406E+100,-89.541643541999562,6.9716510285457422E+98,-8.7145637856821118E+100,-3.5355904731176385E+50,-44.770821770999781,-2.5100199196022536E+50,2.4900200795977737E+50,6.9716510285457422E+98,-8.7145637856821118E+100,6.9716510285457422E+98,-8.7145637856821118E+100,1,0,1,0]
[44.30000000000036,0.77318085863349428,9.9999999999999997E+98,-1.2500000000000001E+101,1.2500399993600206E+101,-89.541643541999562,0.69841528543101039,-0.51221608907632021,8.7304704295320884E+100,-89.541643541999562,6.9841528543101579E+98,-8.730191067887632E+100,-3.5355904731176385E+50,-44.770821770999781,-2.5100199196022536E+50,2.4900200795977737E+50,6.9841528543101579E+98,-8.730191067887632E+100,6.9841528543101579E+98,-8.730191067887632E+100,1,0,1,0]
[44.400000000000361,0.77492618788548862,9.9999999999999997E+98,-1.2500000000000001E+101,1.2500399993600206E+101,-89.541643541999562,0.69966334051336987,-0.51047120994167217,8.7460716172756271E+100,-89.541643541999562,6.9966334051337516E+98,-8.7457917564171237E+100,-3.5355904731176385E+50,-44.770821770999781,-2.5100199196022536E+50,2.4900200795977737E+50,6.9966334051337516E+98,-8.7457917564171237E+100,6.9966334051337516E+98,-8.7457917564171237E+100,1,0,1,0]
[44.500000000000362,0.77667151713748295,9.9999999999999997E+98,-1.2500000000000001E+101,1.2500399993600206E+101,-89.541643541999562,0.70090926429985534,-0.50872620321863538,8.7616461629682372E+100,-89.541643541999562,7.0090926429986072E+98,-8.7613658037481938E+100,-3.5355904731176385E+50,-44.770821770999781,-2.5100199196022536E+50,2.4900200795977737E+50,7.0090926429986072E+98,-8.7613658037481938E+100,7.0090926429986072E+98,-8.7613658037481938E+100,1,0,1,0]
[44.600000000000364,0.77841684638947728,9.9999999999999997E+98,-1.2500000000000001E+101,1.2500399993600206E+101,-89.541643541999562,0.70215305299516695,-0.50698109016956638,8.7771940191671502E+100,-89.541643541999562,7.0215305299517229E+98,-8.7769131624395872E+100,-3.5355904731176385E+50,-44.770821770999781,-2.5100199196022536E+50,2.4900200795977737E+50,7.0215305299517229E+98,-8.7769131624395872E+100,7.0215305299517229E+98,-8.7769131624395872E+100,1,0,1,0]
[44.700000000000365,0.78016217564147172,9.9999999999999997E+98,-1.2500000000000001E+101,1.2500399993600206E+101,-89.541643541999562,0.70339470281050842,-0.50523589205811648,8.7927151385108988E+100,-89.541643541999562,7.0339470281051387E+98,-8.7924337851313567E+100,-3.5355904731176385E+50,-44.770821770999781,-2.5100199196022536E+50,2.4900200795977737E+50,7.0339470281051387E+98,-8.7924337851313567E+100,7.0339470281051387E+98,-8.7924337851313567E+100,1,0,1,0]
[44.800000000000367,0.78190750489346605,9.9999999999999997E+98,-1.2500000000000001E+101,1.2500399993600206E+101,-89.541643541999562,0.70463420996359927,-0.50349063014897433,8.8082094737194617E+100,-89.541643541999562,7.0463420996360456E+98,-8.8079276245449902E+100,-3.5355904731176385E+50,-44.770821770999781,-2.5100199196022536E+50,2.4900200795977737E+50,7.0463420996360456E+98,-8.8079276245449902E+100,7.0463420996360456E+98,-8.8079276245449902E+100,{"$f":"(Q453*S453+T453*R453)/((S453^2)+(T453^2))","v":1},0,1,0]
[44.900000000000368,{"$f":"A454*PI()/180","v":0.78365283414546039},{"$f":"$D$1","v":9.9999999999999997E+98},{"$f":"-(18000*$G$1/$N$1)","v":-1.2500000000000001E+101},{"$f":"(C454^2+D454^2)^0.5","v":1.2500399993600206E+101},{"$f":"(180/PI())*ATAN(D454/C454)","v":-89.541643541999562},{"$f":"SIN(B454)","v":0.70587157067868556},{"$f":"-((COS(B454))^2)","v":-0.50174532570760555},{"$f":"E454*G454","v":8.8236769775944084E+100},{"$f":"F454","v":-89.541643541999562},{"$f":"(((I454^2)/(1+(TAN(J454*(PI()/180)))^2))^0.5)","v":7.0587157067869094E+98},{"$f":"K454*TAN(J454*(PI()/180))","v":-8.8233946334835708E+100},{"$f":"-(((((C454+H454)^2)+(D454)^2)^0.5)^0.5)","v":-3.5355904731176385E+50},{"$f":"((ATAN(D454/(C454+H454)))*(180/PI()))/2","v":-44.770821770999781},{"$f":"-(((M454^2)/(1+(TAN(N454*(PI()/180)))^2))^0.5)","v":-2.5100199196022536E+50},{"$f":"O454*TAN(N454*(PI()/180))","v":2.4900200795977737E+50},7.0587157067869094E+98,-8.8233946334835708E+100,{"$f":"-O454+K454","v":7.0587157067869094E+98},{"$f":"L454-P454","v":-8.8233946334835708E+100},1,{"$f":"(R454*S454-Q454*T454)/((S454^2)+(T454^2))","v":0},{"$f":"((U454^2)+(V454^2))^0.5","v":1},{"$f":"(ACOS(U454/W454))*(180/PI())","v":0}]
[{"$f":"A454+0.1","v":45.000000000000369},0.78539816339745472,9.9999999999999997E+98,-1.2500000000000001E+101,1.2500399993600206E+101,-89.541643541999562,0.70710678118655201,-0.49999999999999362,8.839117603019037E+100,-89.541643541999562,7.0710678118655742E+98,-8.8388347648319009E+100,-3.5355904731176385E+50,-44.770821770999781,-2.5100199196022536E+50,2.4900200795977737E+50,7.0710678118655742E+98,-8.8388347648319009E+100,7.0710678118655742E+98,-8.8388347648319009E+100,1,0,1,0]
[45.100000000000371,0.78714349264944905,9.9999999999999997E+98,-1.2500000000000001E+101,1.2500399993600206E+101,-89.541643541999562,0.70833983772453335,-0.49825467429238174,8.8545313029585269E+100,-89.541643541999562,7.0833983772453871E+98,-8.8542479715566675E+100,-3.5355904731176385E+50,-44.770821770999781,-2.5100199196022536E+50,2.4900200795977737E+50,7.0833983772453871E+98,-8.8542479715566675E+100,7.0833983772453871E+98,-8.8542479715566675E+100,1,0,1,0]
[45.200000000000372,0.78888882190144349,9.9999999999999997E+98,-1.2500000000000001E+101,1.2500399993600206E+101,-89.541643541999562,0.70957073653652547,-0.49650936985101274,8.8699180304600769E+100,-89.541643541999562,7.0957073653653088E+98,-8.8696342067065691E+100,-3.5355904731176385E+50,-44.770821770999781,-2.5100199196022536E+50,2.4900200795977737E+50,7.0957073653653088E+98,-8.8696342067065691E+100,7.0957073653653088E+98,-8.8696342067065691E+100,1,0,1,0]
[45.300000000000374,0.79063415115343771,9.9999999999999997E+98,-1.2500000000000001E+101,1.2500399993600206E+101,-89.541643541999562,0.71079947387299702,-0.49476410794187065,8.885277738653042E+100,-89.541643541999562,7.1079947387300244E+98,-8.8849934234124638E+100,-3.5355904731176385E+50,-44.770821770999781,-2.5100199196022536E+50,2.4900200795977737E+50,7.1079947387300244E+98,-8.8849934234124638E+100,7.1079947387300244E+98,-8.8849934234124638E+100,1,0,1,0]
[45.400000000000375,0.79237948040543216,9.9999999999999997E+98,-1.2500000000000001E+101,1.2500399993600206E+101,-89.541643541999562,0.71202604599100106,-0.49301890983042079,8.9006103807490891E+100,-89.541643541999562,7.1202604599100641E+98,-8.9003255748875132E+100,-3.5355904731176385E+50,-44.770821770999781,-2.5100199196022536E+50,2.4900200795977737E+50,7.1202604599100641E+98,-8.9003255748875132E+100,7.1202604599100641E+98,-8.9003255748875132E+100,1,0,1,0]
[45.500000000000377,0.7941248096574266,9.9999999999999997E+98,-1.2500000000000001E+101,1.2500399993600206E+101,-89.541643541999562,0.71325044915418623,-0.49127379678135152,8.9159159100423332E+100,-89.541643541999562,7.1325044915419159E+98,-8.9156306144273276E+100,-3.5355904731176385E+50,-44.770821770999781,-2.5100199196022536E+50,2.4900200795977737E+50,7.1325044915419159E+98,-8.9156306144273276E+100,7.1325044915419159E+98,-8.9156306144273276E+100,1,0,1,0]
[45.600000000000378,0.79587013890942082,9.9999999999999997E+98,-1.2500000000000001E+101,1.2500399993600206E+101,-89.541643541999562,0.71447267963280792,-0.48952879005831501,8.9311942799094747E+100,-89.541643541999562,7.1447267963281338E+98,-8.9309084954101009E+100,-3.5355904731176385E+50,-44.770821770999781,-2.5100199196022536E+50,2.4900200795977737E+50,7.1447267963281338E+98,-8.9309084954101009E+100,7.1447267963281338E+98,-8.9309084954101009E+100,1,0,1,0]
[45.700000000000379,0.79761546816141526,9.9999999999999997E+98,-1.2500000000000001E+101,1.2500399993600206E+101,-89.541643541999562,0.71569273370374054,-0.48778391092366685,8.9464454438099515E+100,-89.541643541999562,7.1569273370374589E+98,-8.9461591712967567E+100,-3.5355904731176385E+50,-44.770821770999781,-2.5100199196022536E+50,2.4900200795977737E+50,7.1569273370374589E+98,-8.9461591712967567E+100,7.1569273370374589E+98,-8.9461591712967567E+100,1,0,1,0]
[45.800000000000381,0.79936079741340949,9.9999999999999997E+98,-1.2500000000000001E+101,1.2500399993600206E+101,-89.541643541999562,0.71691060765048731,-0.48603918063820911,8.9616693552860709E+100,-89.541643541999562,7.1691060765049269E+98,-8.9613825956310912E+100,-3.5355904731176385E+50,-44.770821770999781,-2.5100199196022536E+50,2.4900200795977737E+50,7.1691060765049269E+98,-8.9613825956310912E+100,7.1691060765049269E+98,-8.9613825956310912E+100,1,0,1,0]
[45.900000000000382,0.80110612666540393,9.9999999999999997E+98,-1.2500000000000001E+101,1.2500399993600206E+101,-89.541643541999562,0.71812629776319348,-0.48429462046092919,8.9768659679631639E+100,-89.541643541999562,7.1812629776319898E+98,-8.9765787220399196E+100,-3.5355904731176385E+50,-44.770821770999781,-2.5100199196022536E+50,2.4900200795977737E+50,7.1812629776319898E+98,-8.9765787220399196E+100,7.1812629776319898E+98,-8.9765787220399196E+100,1,0,1,0]
[46.000000000000384,0.80285145591739837,9.9999999999999997E+98,-1.2500000000000001E+101,1.2500399993600206E+101,-89.541643541999562,0.71933980033865585,-0.48255025164874266,8.9920352355497075E+100,-89.541643541999562,7.1933980033866141E+98,-8.9917475042332E+100,-3.5355904731176385E+50,-44.770821770999781,-2.5100199196022536E+50,2.4900200795977737E+50,7.1933980033866141E+98,-8.9917475042332E+100,7.1933980033866141E+98,-8.9917475042332E+100,1,0,1,0]
[46.100000000000385,0.80459678516939259,9.9999999999999997E+98,-1.2500000000000001E+101,1.2500399993600206E+101,-89.541643541999562,0.72055111168033503,-0.48080609545623343,9.0071771118374805E+100,-89.541643541999562,7.2055111168034035E+98,-9.006888896004186E+100,-3.5355904731176385E+50,-44.770821770999781,-2.5100199196022536E+50,2.4900200795977737E+50,7.2055111168034035E+98,-9.006888896004186E+100,7.2055111168034035E+98,-9.006888896004186E+100,1,0,1,0]
[46.200000000000387,0.80634211442138704,9.9999999999999997E+98,-1.2500000000000001E+101,1.2500399993600206E+101,-89.541643541999562,0.72176022809836693,-0.4790621731353934,9.0222915507017094E+100,-89.541643541999562,7.2176022809837251E+98,-9.0220028512295884E+100,-3.5355904731176385E+50,-44.770821770999781,-2.5100199196022536E+50,2.4900200795977737E+50,7.2176022809837251E+98,-9.0220028512295884E+100,7.2176022809837251E+98,-9.0220028512295884E+100,1,0,1,0]
[46.300000000000388,0.80808744367338126,9.9999999999999997E+98,-1.2500000000000001E+101,1.2500399993600206E+101,-89.541643541999562,0.72296714590957278,-0.47731850593536645,9.0373785061011834E+100,-89.541643541999562,7.2296714590957825E+98,-9.0370893238696603E+100,-3.5355904731176385E+50,-44.770821770999781,-2.5100199196022536E+50,2.4900200795977737E+50,7.2296714590957825E+98,-9.0370893238696603E+100,7.2296714590957825E+98,-9.0370893238696603E+100,1,0,1,0]
[46.400000000000389,0.8098327729253757,9.9999999999999997E+98,-1.2500000000000001E+101,1.2500399993600206E+101,-89.541643541999562,0.72417186143747214,-0.47557511510218664,9.0524379320784254E+100,-89.541643541999562,7.2417186143747757E+98,-9.0521482679684011E+100,-3.5355904731176385E+50,-44.770821770999781,-2.5100199196022536E+50,2.4900200795977737E+50,7.2417186143747757E+98,-9.0521482679684011E+100,7.2417186143747757E+98,-9.0521482679684011E+100,1,0,1,0]
[46.500000000000391,0.81157810217737014,9.9999999999999997E+98,-1.2500000000000001E+101,1.2500399993600206E+101,-89.541643541999562,0.72537437101229241,-0.47383202187852125,9.0674697827598132E+100,-89.541643541999562,7.253743710122979E+98,-9.0671796376536557E+100,-3.5355904731176385E+50,-44.770821770999781,-2.5100199196022536E+50,2.4900200795977737E+50,7.253743710122979E+98,-9.0671796376536557E+100,7.253743710122979E+98,-9.0671796376536557E+100,1,0,1,0]
[46.600000000000392,0.81332343142936436,9.9999999999999997E+98,-1.2500000000000001E+101,1.2500399993600206E+101,-89.541643541999562,0.72657467097098061,-0.47208924750341136,9.0824740123557179E+100,-89.541643541999562,7.2657467097098613E+98,-9.0821833871372592E+100,-3.5355904731176385E+50,-44.770821770999781,-2.5100199196022536E+50,2.4900200795977737E+50,7.2657467097098613E+98,-9.0821833871372592E+100,7.2657467097098613E+98,-9.0821833871372592E+100,1,0,1,0]
[46.700000000000394,0.81506876068135881,9.9999999999999997E+98,-1.2500000000000001E+101,1.2500399993600206E+101,-89.541643541999562,0.72777275765721516,-0.47034681321201238,9.0974505751606561E+100,-89.541643541999562,7.2777275765722061E+98,-9.097159470715189E+100,-3.5355904731176385E+50,-44.770821770999781,-2.5100199196022536E+50,2.4900200795977737E+50,7.2777275765722061E+98,-9.097159470715189E+100,7.2777275765722061E+98,-9.097159470715189E+100,1,0,1,0]
[46.800000000000395,0.81681408993335303,9.9999999999999997E+98,-1.2500000000000001E+101,1.2500399993600206E+101,-89.541643541999562,0.72896862742141622,-0.46860474023533655,9.1123994255534219E+100,-89.541643541999562,7.2896862742142172E+98,-9.1121078427677033E+100,-3.5355904731176385E+50,-44.770821770999781,-2.5100199196022536E+50,2.4900200795977737E+50,7.2896862742142172E+98,-9.1121078427677033E+100,7.2896862742142172E+98,-9.1121078427677033E+100,1,0,1,0]
[46.900000000000396,0.81855941918534747,9.9999999999999997E+98,-1.2500000000000001E+101,1.2500399993600206E+101,-89.541643541999562,0.73016227662075706,-0.46686304979999305,9.1273205179972226E+100,-89.541643541999562,7.3016227662076255E+98,-9.127028457759464E+100,-3.5355904731176385E+50,-44.770821770999781,-2.5100199196022536E+50,2.4900200795977737E+50,7.3016227662076255E+98,-9.127028457759464E+100,7.3016227662076255E+98,-9.127028457759464E+100,1,0,1,0]
[47.000000000000398,0.82030474843734191,9.9999999999999997E+98,-1.2500000000000001E+101,1.2500399993600206E+101,-89.541643541999562,0.73135370161917523,-0.46512176312793035,9.1422138070398255E+100,-89.541643541999562,7.3135370161918084E+98,-9.1419212702396916E+100,-3.5355904731176385E+50,-44.770821770999781,-2.5100199196022536E+50,2.4900200795977737E+50,7.3135370161918084E+98,-9.1419212702396916E+100,7.3135370161918084E+98,-9.1419212702396916E+100,1,0,1,0]
[47.100000000000399,0.82205007768933613,9.9999999999999997E+98,-1.2500000000000001E+101,1.2500399993600206E+101,-89.541643541999562,0.73254289878738343,-0.46338090143617722,9.1570792473136848E+100,-89.541643541999562,7.3254289878738912E+98,-9.1567862348422949E+100,-3.5355904731176385E+50,-44.770821770999781,-2.5100199196022536E+50,2.4900200795977737E+50,7.3254289878738912E+98,-9.1567862348422949E+100,7.3254289878738912E+98,-9.1567862348422949E+100,1,0,1,0]
[47.200000000000401,0.82379540694133058,9.9999999999999997E+98,-1.2500000000000001E+101,1.2500399993600206E+101,-89.541643541999562,0.73372986450288114,-0.46164048593658369,9.1719167935360946E+100,-89.541643541999562,7.3372986450288661E+98,-9.1716233062860133E+100,-3.5355904731176385E+50,-44.770821770999781,-2.5100199196022536E+50,2.4900200795977737E+50,7.3372986450288661E+98,-9.1716233062860133E+100,7.3372986450288661E+98,-9.1716233062860133E+100,1,0,1,0]
[47.300000000000402,0.8255407361933248,9.9999999999999997E+98,-1.2500000000000001E+101,1.2500399993600206E+101,-89.541643541999562,0.7349145951499646,-0.45990053783556362,9.1867264005093151E+100,-89.541643541999562,7.3491459514997011E+98,-9.1864324393745571E+100,-3.5355904731176385E+50,-44.770821770999781,-2.5100199196022536E+50,2.4900200795977737E+50,7.3491459514997011E+98,-9.1864324393745571E+100,7.3491459514997011E+98,-9.1864324393745571E+100,1,0,1,0]
[47.400000000000404,0.82728606544531924,9.9999999999999997E+98,-1.2500000000000001E+101,1.2500399993600206E+101,-89.541643541999562,0.73609708711973909,-0.45816107833383535,9.2015080231207174E+100,-89.541643541999562,7.3609708711974468E+98,-9.2012135889967396E+100,-3.5355904731176385E+50,-44.770821770999781,-2.5100199196022536E+50,2.4900200795977737E+50,7.3609708711974468E+98,-9.2012135889967396E+100,7.3609708711974468E+98,-9.2012135889967396E+100,1,0,1,0]
[47.500000000000405,0.82903139469731368,9.9999999999999997E+98,-1.2500000000000001E+101,1.2500399993600206E+101,-89.541643541999562,0.73727733681012886,-0.45642212862616388,9.216261616342912E+100,-89.541643541999562,7.3727733681013445E+98,-9.2159667101266121E+100,-3.5355904731176385E+50,-44.770821770999781,-2.5100199196022536E+50,2.4900200795977737E+50,7.3727733681013445E+98,-9.2159667101266121E+100,7.3727733681013445E+98,-9.2159667101266121E+100,1,0,1,0]
[47.600000000000406,0.8307767239493079,9.9999999999999997E+98,-1.2500000000000001E+101,1.2500399993600206E+101,-89.541643541999562,0.73845534062588858,-0.45468370990110291,9.2309871352338953E+100,-89.541643541999562,7.3845534062589417E+98,-9.2306917578236084E+100,-3.5355904731176385E+50,-44.770821770999781,-2.5100199196022536E+50,2.4900200795977737E+50,{"$f":"K481+O481","v":7.3845534062589417E+98},-9.2306917578236084E+100,7.3845534062589417E+98,-9.2306917578236084E+100,1,0,1,0]
[47.700000000000408,0.83252205320130235,9.9999999999999997E+98,-1.2500000000000001E+101,1.2500399993600206E+101,-89.541643541999562,0.73963109497861446,-0.45294584334073579,9.2456845349371862E+100,-89.541643541999562,7.3963109497862009E+98,-9.2453886872326818E+100,-3.5355904731176385E+50,-44.770821770999781,-2.5100199196022536E+50,2.4900200795977737E+50,7.3963109497862009E+98,-9.2453886872326818E+100,7.3963109497862009E+98,-9.2453886872326818E+100,1,0,1,0]
[47.800000000000409,0.83426738245329657,9.9999999999999997E+98,-1.2500000000000001E+101,1.2500399993600206E+101,-89.541643541999562,0.74080459628675477,-0.45120855012041822,9.2603537706819518E+100,-89.541643541999562,7.4080459628676036E+98,-9.2600574535844357E+100,-3.5355904731176385E+50,-44.770821770999781,-2.5100199196022536E+50,2.4900200795977737E+50,7.4080459628676036E+98,-9.2600574535844357E+100,7.4080459628676036E+98,-9.2600574535844357E+100,1,0,1,0]
[47.900000000000411,0.83601271170529101,9.9999999999999997E+98,-1.2500000000000001E+101,1.2500399993600206E+101,-89.541643541999562,0.74197584097562119,-0.44947185140851975,9.2749947977831632E+100,-89.541643541999562,7.4197584097562684E+98,-9.2746980121952662E+100,-3.5355904731176385E+50,-44.770821770999781,-2.5100199196022536E+50,2.4900200795977737E+50,7.4197584097562684E+98,-9.2746980121952662E+100,7.4197584097562684E+98,-9.2746980121952662E+100,1,0,1,0]
[48.000000000000412,0.83775804095728545,9.9999999999999997E+98,-1.2500000000000001E+101,1.2500399993600206E+101,-89.541643541999562,0.74314482547739913,-0.44773576836616602,9.2896075716417056E+100,-89.541643541999562,7.4314482547740477E+98,-9.2893103184674898E+100,-3.5355904731176385E+50,-44.770821770999781,-2.5100199196022536E+50,2.4900200795977737E+50,7.4314482547740477E+98,-9.2893103184674898E+100,7.4314482547740477E+98,-9.2893103184674898E+100,1,0,1,0]
[48.100000000000414,0.83950337020927968,9.9999999999999997E+98,-1.2500000000000001E+101,1.2500399993600206E+101,-89.541643541999562,0.7443115462311588,-0.44600032214698138,9.3041920477445369E+100,-89.541643541999562,7.4431154623116448E+98,-9.3038943278894865E+100,-3.5355904731176385E+50,-44.770821770999781,-2.5100199196022536E+50,2.4900200795977737E+50,7.4431154623116448E+98,-9.3038943278894865E+100,7.4431154623116448E+98,-9.3038943278894865E+100,1,0,1,0]
[48.200000000000415,0.84124869946127412,9.9999999999999997E+98,-1.2500000000000001E+101,1.2500399993600206E+101,-89.541643541999562,0.74547599968286704,-0.44426553389683004,9.318748181664818E+100,-89.541643541999562,7.4547599968287274E+98,-9.3184499960358392E+100,-3.5355904731176385E+50,-44.770821770999781,-2.5100199196022536E+50,2.4900200795977737E+50,7.4547599968287274E+98,-9.3184499960358392E+100,7.4547599968287274E+98,-9.3184499960358392E+100,1,0,1,0]
[48.300000000000416,0.84299402871326834,9.9999999999999997E+98,-1.2500000000000001E+101,1.2500399993600206E+101,-89.541643541999562,0.74663818228539613,-0.44253142475355967,9.333275929062036E+100,-89.541643541999562,7.4663818228540182E+98,-9.3329772785674524E+100,-3.5355904731176385E+50,-44.770821770999781,-2.5100199196022536E+50,2.4900200795977737E+50,7.4663818228540182E+98,-9.3329772785674524E+100,7.4663818228540182E+98,-9.3329772785674524E+100,1,0,1,0]
[48.400000000000418,0.84473935796526278,9.9999999999999997E+98,-1.2500000000000001E+101,1.2500399993600206E+101,-89.541643541999562,0.74779809049853674,-0.44079801584674233,9.3477752456821547E+100,-89.541643541999562,7.477980904985424E+98,-9.3474761312317104E+100,-3.5355904731176385E+50,-44.770821770999781,-2.5100199196022536E+50,2.4900200795977737E+50,7.477980904985424E+98,-9.3474761312317104E+100,7.477980904985424E+98,-9.3474761312317104E+100,1,0,1,0]
[48.500000000000419,0.84648468721725723,9.9999999999999997E+98,-1.2500000000000001E+101,1.2500399993600206E+101,-89.541643541999562,0.74895572078900707,-0.43906532829741896,9.3622460873577421E+100,-89.541643541999562,7.4895572078901276E+98,-9.3619465098625892E+100,-3.5355904731176385E+50,-44.770821770999781,-2.5100199196022536E+50,2.4900200795977737E+50,7.4895572078901276E+98,-9.3619465098625892E+100,7.4895572078901276E+98,-9.3619465098625892E+100,1,0,1,0]
[48.600000000000421,0.84823001646925145,9.9999999999999997E+98,-1.2500000000000001E+101,1.2500399993600206E+101,-89.541643541999562,0.75011106963046437,-0.4373333832178406,9.3766884100081008E+100,-89.541643541999562,7.5011106963047011E+98,-9.3763883703808057E+100,-3.5355904731176385E+50,-44.770821770999781,-2.5100199196022536E+50,2.4900200795977737E+50,7.5011106963047011E+98,-9.3763883703808057E+100,7.5011106963047011E+98,-9.3763883703808057E+100,1,0,1,0]
[48.700000000000422,0.84997534572124589,9.9999999999999997E+98,-1.2500000000000001E+101,1.2500399993600206E+101,-89.541643541999562,0.75126413350351595,-0.43560220171121128,9.3911021696394143E+100,-89.541643541999562,7.5126413350352158E+98,-9.3908016687939499E+100,-3.5355904731176385E+50,-44.770821770999781,-2.5100199196022536E+50,2.4900200795977737E+50,7.5126413350352158E+98,-9.3908016687939499E+100,7.5126413350352158E+98,-9.3908016687939499E+100,1,0,1,0]
[48.800000000000423,0.85172067497324011,9.9999999999999997E+98,-1.2500000000000001E+101,1.2500399993600206E+101,-89.541643541999562,0.75241490889572915,-0.43387180487143157,9.4054873223448729E+100,-89.541643541999562,7.5241490889573488E+98,-9.4051863611966154E+100,-3.5355904731176385E+50,-44.770821770999781,-2.5100199196022536E+50,2.4900200795977737E+50,7.5241490889573488E+98,-9.4051863611966154E+100,7.5241490889573488E+98,-9.4051863611966154E+100,1,0,1,0]
[48.900000000000425,0.85346600422523455,9.9999999999999997E+98,-1.2500000000000001E+101,1.2500399993600206E+101,-89.541643541999562,0.75356339230164271,-0.43214221378284057,9.419843824304804E+100,-89.541643541999562,7.5356339230164838E+98,-9.4195424037705346E+100,-3.5355904731176385E+50,-44.770821770999781,-2.5100199196022536E+50,2.4900200795977737E+50,7.5356339230164838E+98,-9.4195424037705346E+100,7.5356339230164838E+98,-9.4195424037705346E+100,1,0,1,0]
[49.000000000000426,0.85521133347722877,9.9999999999999997E+98,-1.2500000000000001E+101,1.2500399993600206E+101,-89.541643541999562,0.75470958022277679,-0.43041344951996013,9.4341716317868138E+100,-89.541643541999562,7.5470958022278252E+98,-9.4338697527847108E+100,-3.5355904731176385E+50,-44.770821770999781,-2.5100199196022536E+50,2.4900200795977737E+50,7.5470958022278252E+98,-9.4338697527847108E+100,7.5470958022278252E+98,-9.4338697527847108E+100,1,0,1,0]
[49.100000000000428,0.85695666272922322,9.9999999999999997E+98,-1.2500000000000001E+101,1.2500399993600206E+101,-89.541643541999562,0.7558534691676444,-0.4286855331472369,9.4484707011459159E+100,-89.541643541999562,7.5585346916765014E+98,-9.4481683645955565E+100,-3.5355904731176385E+50,-44.770821770999781,-2.5100199196022536E+50,2.4900200795977737E+50,7.5585346916765014E+98,-9.4481683645955565E+100,7.5585346916765014E+98,-9.4481683645955565E+100,1,0,1,0]
[49.200000000000429,0.85870199198121766,9.9999999999999997E+98,-1.2500000000000001E+101,1.2500399993600206E+101,-89.541643541999562,0.75699505565176128,-0.4269584857187867,9.462740988824664E+100,-89.541643541999562,7.5699505565176702E+98,-9.4624381956470163E+100,-3.5355904731176385E+50,-44.770821770999781,-2.5100199196022536E+50,2.4900200795977737E+50,7.5699505565176702E+98,-9.4624381956470163E+100,7.5699505565176702E+98,-9.4624381956470163E+100,1,0,1,0]
[49.300000000000431,0.86044732123321188,9.9999999999999997E+98,-1.2500000000000001E+101,1.2500399993600206E+101,-89.541643541999562,0.75813433619765702,-0.42523232827813789,9.4769824513532882E+100,-89.541643541999562,7.5813433619766273E+98,-9.4766792024707126E+100,-3.5355904731176385E+50,-44.770821770999781,-2.5100199196022536E+50,2.4900200795977737E+50,7.5813433619766273E+98,-9.4766792024707126E+100,7.5813433619766273E+98,-9.4766792024707126E+100,1,0,1,0]
[49.400000000000432,0.86219265048520632,9.9999999999999997E+98,-1.2500000000000001E+101,1.2500399993600206E+101,-89.541643541999562,0.75927130733488568,-0.42350708185797359,9.4911950453498257E+100,-89.541643541999562,7.5927130733489152E+98,-9.4908913416860721E+100,-3.5355904731176385E+50,-44.770821770999781,-2.5100199196022536E+50,2.4900200795977737E+50,7.5927130733489152E+98,-9.4908913416860721E+100,7.5927130733489152E+98,-9.4908913416860721E+100,1,0,1,0]
[49.500000000000433,0.86393797973720055,9.9999999999999997E+98,-1.2500000000000001E+101,1.2500399993600206E+101,-89.541643541999562,0.7604059656000357,-0.4217827674798772,9.5053787275202449E+100,-89.541643541999562,7.6040596560004154E+98,-9.5050745700004481E+100,-3.5355904731176385E+50,-44.770821770999781,-2.5100199196022536E+50,2.4900200795977737E+50,7.6040596560004154E+98,-9.5050745700004481E+100,7.6040596560004154E+98,-9.5050745700004481E+100,1,0,1,0]
[49.600000000000435,0.86568330898919499,9.9999999999999997E+98,-1.2500000000000001E+101,1.2500399993600206E+101,-89.541643541999562,0.76153830753674157,-0.42005940615407511,9.5195334546585952E+100,-89.541643541999562,7.6153830753674727E+98,-9.5192288442092698E+100,-3.5355904731176385E+50,-44.770821770999781,-2.5100199196022536E+50,2.4900200795977737E+50,7.6153830753674727E+98,-9.5192288442092698E+100,7.6153830753674727E+98,-9.5192288442092698E+100,1,0,1,0]
[49.700000000000436,0.86742863824118943,9.9999999999999997E+98,-1.2500000000000001E+101,1.2500399993600206E+101,-89.541643541999562,0.7626683296956932,-0.41833701887918129,9.5336591836471228E+100,-89.541643541999562,7.6266832969569895E+98,-9.5333541211961653E+100,-3.5355904731176385E+50,-44.770821770999781,-2.5100199196022536E+50,2.4900200795977737E+50,7.6266832969569895E+98,-9.5333541211961653E+100,7.6266832969569895E+98,-9.5333541211961653E+100,1,0,1,0]
[49.800000000000438,0.86917396749318365,9.9999999999999997E+98,-1.2500000000000001E+101,1.2500399993600206E+101,-89.541643541999562,0.76379602863464702,-0.41661562664194152,9.547755871456405E+100,-89.541643541999562,7.6379602863465291E+98,-9.5474503579330903E+100,-3.5355904731176385E+50,-44.770821770999781,-2.5100199196022536E+50,2.4900200795977737E+50,7.6379602863465291E+98,-9.5474503579330903E+100,7.6379602863465291E+98,-9.5474503579330903E+100,1,0,1,0]
[49.900000000000439,0.8709192967451781,9.9999999999999997E+98,-1.2500000000000001E+101,1.2500399993600206E+101,-89.541643541999562,0.76492140091843674,-0.41489525041697628,9.5618234751454865E+100,-89.541643541999562,7.6492140091844251E+98,-9.5615175114804602E+100,-3.5355904731176385E+50,-44.770821770999781,-2.5100199196022536E+50,2.4900200795977737E+50,7.6492140091844251E+98,-9.5615175114804602E+100,7.6492140091844251E+98,-9.5615175114804602E+100,1,0,1,0]
[50.000000000000441,0.87266462599717243,9.9999999999999997E+98,-1.2500000000000001E+101,1.2500399993600206E+101,-89.541643541999562,0.7660444431189829,-0.4131759111665273,9.5758619518620072E+100,-89.541643541999562,7.6604444311898869E+98,-9.5755555389872871E+100,-3.5355904731176385E+50,-44.770821770999781,-2.5100199196022536E+50,2.4900200795977737E+50,7.6604444311898869E+98,-9.5755555389872871E+100,7.6604444311898869E+98,-9.5755555389872871E+100,1,0,1,0]
[50.100000000000442,0.87440995524916676,9.9999999999999997E+98,-1.2500000000000001E+101,1.2500399993600206E+101,-89.541643541999562,0.76716515181530442,-0.41145762984020084,9.5898712588423323E+100,-89.541643541999562,7.671651518153103E+98,-9.5895643976913072E+100,-3.5355904731176385E+50,-44.770821770999781,-2.5100199196022536E+50,2.4900200795977737E+50,7.671651518153103E+98,-9.5895643976913072E+100,7.671651518153103E+98,-9.5895643976913072E+100,1,0,1,0]
[50.200000000000443,0.8761552845011612,9.9999999999999997E+98,-1.2500000000000001E+101,1.2500399993600206E+101,-89.541643541999562,0.76828352359352836,-0.40974042737471245,9.6038513534116849E+100,-89.541643541999562,7.6828352359353417E+98,-9.603544044919105E+100,-3.5355904731176385E+50,-44.770821770999781,-2.5100199196022536E+50,2.4900200795977737E+50,7.6828352359353417E+98,-9.603544044919105E+100,7.6828352359353417E+98,-9.603544044919105E+100,1,0,1,0]
[50.300000000000445,0.87790061375315542,9.9999999999999997E+98,-1.2500000000000001E+101,1.2500399993600206E+101,-89.541643541999562,0.76939955504689994,-0.40802432469363248,9.6178021929842686E+100,-89.541643541999562,7.6939955504690579E+98,-9.6174944380862499E+100,-3.5355904731176385E+50,-44.770821770999781,-2.5100199196022536E+50,2.4900200795977737E+50,7.6939955504690579E+98,-9.6174944380862499E+100,7.6939955504690579E+98,-9.6174944380862499E+100,1,0,1,0]
[50.400000000000446,0.87964594300514987,9.9999999999999997E+98,-1.2500000000000001E+101,1.2500399993600206E+101,-89.541643541999562,0.77051324277579414,-0.40630934270713009,9.6317237350634102E+100,-89.541643541999562,7.7051324277579989E+98,-9.6314155346974258E+100,-3.5355904731176385E+50,-44.770821770999781,-2.5100199196022536E+50,2.4900200795977737E+50,7.7051324277579989E+98,-9.6314155346974258E+100,7.7051324277579989E+98,-9.6314155346974258E+100,1,0,1,0]
[50.500000000000448,0.8813912722571442,9.9999999999999997E+98,-1.2500000000000001E+101,1.2500399993600206E+101,-89.541643541999562,0.77162458338772488,-0.40459550231171998,9.6456159372416783E+100,-89.541643541999562,7.7162458338773075E+98,-9.6453072923465625E+100,-3.5355904731176385E+50,-44.770821770999781,-2.5100199196022536E+50,2.4900200795977737E+50,7.7162458338773075E+98,-9.6453072923465625E+100,7.7162458338773075E+98,-9.6453072923465625E+100,1,0,1,0]
[50.600000000000449,0.88313660150913853,9.9999999999999997E+98,-1.2500000000000001E+101,1.2500399993600206E+101,-89.541643541999562,0.77273357349735594,-0.40288282439000639,9.6594787572010118E+100,-89.541643541999562,7.7273357349736179E+98,-9.6591696687169495E+100,-3.5355904731176385E+50,-44.770821770999781,-2.5100199196022536E+50,2.4900200795977737E+50,7.7273357349736179E+98,-9.6591696687169495E+100,7.7273357349736179E+98,-9.6591696687169495E+100,1,0,1,0]
[50.70000000000045,0.88488193076113297,9.9999999999999997E+98,-1.2500000000000001E+101,1.2500399993600206E+101,-89.541643541999562,0.77384020972651113,-0.40117132981042919,9.6733121527128617E+100,-89.541643541999562,7.7384020972651699E+98,-9.67300262158139E+100,-3.5355904731176385E+50,-44.770821770999781,-2.5100199196022536E+50,2.4900200795977737E+50,7.7384020972651699E+98,-9.67300262158139E+100,7.7384020972651699E+98,-9.67300262158139E+100,1,0,1,0]
[50.800000000000452,0.88662726001312719,9.9999999999999997E+98,-1.2500000000000001E+101,1.2500399993600206E+101,-89.541643541999562,0.77494448870418453,-0.39946103942701,9.6871160816383029E+100,-89.541643541999562,7.7494448870419035E+98,-9.6868061088023061E+100,-3.5355904731176385E+50,-44.770821770999781,-2.5100199196022536E+50,2.4900200795977737E+50,7.7494448870419035E+98,-9.6868061088023061E+100,7.7494448870419035E+98,-9.6868061088023061E+100,1,0,1,0]
[50.900000000000453,0.88837258926512164,9.9999999999999997E+98,-1.2500000000000001E+101,1.2500399993600206E+101,-89.541643541999562,0.77604640706655093,-0.39775197407909718,9.7008905019281755E+100,-89.541643541999562,7.7604640706655671E+98,-9.7005800883318856E+100,-3.5355904731176385E+50,-44.770821770999781,-2.5100199196022536E+50,2.4900200795977737E+50,7.7604640706655671E+98,-9.7005800883318856E+100,7.7604640706655671E+98,-9.7005800883318856E+100,1,0,1,0]
[51.000000000000455,0.89011791851711597,9.9999999999999997E+98,-1.2500000000000001E+101,1.2500399993600206E+101,-89.541643541999562,0.77714596145697579,-0.39604415459111258,9.7146353716232061E+100,-89.541643541999562,7.7714596145698169E+98,-9.7143245182121977E+100,-3.5355904731176385E+50,-44.770821770999781,-2.5100199196022536E+50,2.4900200795977737E+50,7.7714596145698169E+98,-9.7143245182121977E+100,7.7714596145698169E+98,-9.7143245182121977E+100,1,0,1,0]
[51.100000000000456,0.8918632477691103,9.9999999999999997E+98,-1.2500000000000001E+101,1.2500399993600206E+101,-89.541643541999562,0.77824314852602594,-0.39433760177229804,9.7283506488541385E+100,-89.541643541999562,7.7824314852603178E+98,-9.7280393565753244E+100,-3.5355904731176385E+50,-44.770821770999781,-2.5100199196022536E+50,2.4900200795977737E+50,7.7824314852603178E+98,-9.7280393565753244E+100,7.7824314852603178E+98,-9.7280393565753244E+100,1,0,1,0]
[51.200000000000458,0.89360857702110474,9.9999999999999997E+98,-1.2500000000000001E+101,1.2500399993600206E+101,-89.541643541999562,0.77933796493147911,-0.39263233641646061,9.7420362918418592E+100,-89.541643541999562,7.7933796493148504E+98,-9.7417245616434904E+100,-3.5355904731176385E+50,-44.770821770999781,-2.5100199196022536E+50,2.4900200795977737E+50,7.7933796493148504E+98,-9.7417245616434904E+100,7.7933796493148504E+98,-9.7417245616434904E+100,{"$f":"(Q517*S517+T517*R517)/((S517^2)+(T517^2))","v":1},0,1,0]
[51.300000000000459,{"$f":"A518*PI()/180","v":0.89535390627309908},{"$f":"$D$1","v":9.9999999999999997E+98},{"$f":"-(18000*$G$1/$N$1)","v":-1.2500000000000001E+101},{"$f":"(C518^2+D518^2)^0.5","v":1.2500399993600206E+101},{"$f":"(180/PI())*ATAN(D518/C518)","v":-89.541643541999562},{"$f":"SIN(B518)","v":0.78043040733833469},{"$f":"-((COS(B518))^2)","v":-0.39092837930172097},{"$f":"E518*G518","v":9.7556922588975255E+100},{"$f":"F518","v":-89.541643541999562},{"$f":"(((I518^2)/(1+(TAN(J518*(PI()/180)))^2))^0.5)","v":7.8043040733834063E+98},{"$f":"K518*TAN(J518*(PI()/180))","v":-9.7553800917291845E+100},{"$f":"-(((((C518+H518)^2)+(D518)^2)^0.5)^0.5)","v":-3.5355904731176385E+50},{"$f":"((ATAN(D518/(C518+H518)))*(180/PI()))/2","v":-44.770821770999781},{"$f":"-(((M518^2)/(1+(TAN(N518*(PI()/180)))^2))^0.5)","v":-2.5100199196022536E+50},{"$f":"O518*TAN(N518*(PI()/180))","v":2.4900200795977737E+50},7.8043040733834063E+98,-9.7553800917291845E+100,{"$f":"-O518+K518","v":7.8043040733834063E+98},{"$f":"L518-P518","v":-9.7553800917291845E+100},1,{"$f":"(R518*S518-Q518*T518)/((S518^2)+(T518^2))","v":0},{"$f":"((U518^2)+(V518^2))^0.5","v":1},{"$f":"(ACOS(U518/W518))*(180/PI())","v":0}]
[{"$f":"A518+0.1","v":51.40000000000046},0.89709923552509341,9.9999999999999997E+98,-1.2500000000000001E+101,1.2500399993600206E+101,-89.541643541999562,0.78152047241882372,-0.3892257511902586,9.7693185084226935E+100,-89.541643541999562,7.8152047241882971E+98,-9.7690059052352983E+100,-3.5355904731176385E+50,-44.770821770999781,-2.5100199196022536E+50,2.4900200795977737E+50,7.8152047241882971E+98,-9.7690059052352983E+100,7.8152047241882971E+98,-9.7690059052352983E+100,1,0,1,0]
[51.500000000000462,0.89884456477708774,9.9999999999999997E+98,-1.2500000000000001E+101,1.2500399993600206E+101,-89.541643541999562,0.78260815685241891,-0.38752447282805974,9.7829149989094467E+100,-89.541643541999562,7.8260815685242494E+98,-9.7826019606552391E+100,-3.5355904731176385E+50,-44.770821770999781,-2.5100199196022536E+50,2.4900200795977737E+50,7.8260815685242494E+98,-9.7826019606552391E+100,7.8260815685242494E+98,-9.7826019606552391E+100,1,0,1,0]
[51.600000000000463,0.90058989402908207,9.9999999999999997E+98,-1.2500000000000001E+101,1.2500399993600206E+101,-89.541643541999562,0.78369345732584472,-0.38582456494466433,9.796481688940513E+100,-89.541643541999562,7.8369345732585075E+98,-9.7961682165730607E+100,-3.5355904731176385E+50,-44.770821770999781,-2.5100199196022536E+50,2.4900200795977737E+50,7.8369345732585075E+98,-9.7961682165730607E+100,7.8369345732585075E+98,-9.7961682165730607E+100,1,0,1,0]
[51.700000000000465,0.90233522328107652,9.9999999999999997E+98,-1.2500000000000001E+101,1.2500399993600206E+101,-89.541643541999562,0.78477637053308791,-0.38412604825291335,9.8100185371894056E+100,-89.541643541999562,7.8477637053309385E+98,-9.8097046316636001E+100,-3.5355904731176385E+50,-44.770821770999781,-2.5100199196022536E+50,2.4900200795977737E+50,7.8477637053309385E+98,-9.8097046316636001E+100,7.8477637053309385E+98,-9.8097046316636001E+100,1,0,1,0]
[51.800000000000466,0.90408055253307085,9.9999999999999997E+98,-1.2500000000000001E+101,1.2500399993600206E+101,-89.541643541999562,0.78585689317540686,-0.3824289434486971,9.8235255024205341E+100,-89.541643541999562,7.8585689317541285E+98,-9.8232111646925866E+100,-3.5355904731176385E+50,-44.770821770999781,-2.5100199196022536E+50,2.4900200795977737E+50,7.8585689317541285E+98,-9.8232111646925866E+100,7.8585689317541285E+98,-9.8232111646925866E+100,1,0,1,0]
[51.900000000000468,0.90582588178506518,9.9999999999999997E+98,-1.2500000000000001E+101,1.2500399993600206E+101,-89.541643541999562,0.78693502196134235,-0.38073327121070161,9.8370025434893415E+100,-89.541643541999562,7.8693502196134836E+98,-9.8366877745167812E+100,-3.5355904731176385E+50,-44.770821770999781,-2.5100199196022536E+50,2.4900200795977737E+50,7.8693502196134836E+98,-9.8366877745167812E+100,7.8693502196134836E+98,-9.8366877745167812E+100,1,0,1,0]
[52.000000000000469,0.90757121103705951,9.9999999999999997E+98,-1.2500000000000001E+101,1.2500399993600206E+101,-89.541643541999562,0.78801075360672701,-0.37903905220015821,9.8504496193424242E+100,-89.541643541999562,7.88010753606733E+98,-9.8501344200840886E+100,-3.5355904731176385E+50,-44.770821770999781,-2.5100199196022536E+50,2.4900200795977737E+50,7.88010753606733E+98,-9.8501344200840886E+100,7.88010753606733E+98,-9.8501344200840886E+100,1,0,1,0]
[52.10000000000047,0.90931654028905384,9.9999999999999997E+98,-1.2500000000000001E+101,1.2500399993600206E+101,-89.541643541999562,0.78908408483469561,-0.37734630706059086,9.8638666890176527E+100,-89.541643541999562,7.8908408483470154E+98,-9.8635510604336959E+100,-3.5355904731176385E+50,-44.770821770999781,-2.5100199196022536E+50,2.4900200795977737E+50,7.8908408483470154E+98,-9.8635510604336959E+100,7.8908408483470154E+98,-9.8635510604336959E+100,1,0,1,0]
[52.200000000000472,0.91106186954104829,9.9999999999999997E+98,-1.2500000000000001E+101,1.2500399993600206E+101,-89.541643541999562,0.79015501237569541,-0.37565505641756458,9.8772537116443135E+100,-89.541643541999562,7.9015501237570144E+98,-9.8769376546961933E+100,-3.5355904731176385E+50,-44.770821770999781,-2.5100199196022536E+50,2.4900200795977737E+50,7.9015501237570144E+98,-9.8769376546961933E+100,7.9015501237570144E+98,-9.8769376546961933E+100,1,0,1,0]
[52.300000000000473,0.91280719879304262,9.9999999999999997E+98,-1.2500000000000001E+101,1.2500399993600206E+101,-89.541643541999562,0.79122353296749515,-0.37396532087843515,9.8906106464432082E+100,-89.541643541999562,7.9122353296750111E+98,-9.8902941620936897E+100,-3.5355904731176385E+50,-44.770821770999781,-2.5100199196022536E+50,2.4900200795977737E+50,7.9122353296750111E+98,-9.8902941620936897E+100,7.9122353296750111E+98,-9.8902941620936897E+100,1,0,1,0]
[52.400000000000475,0.91455252804503695,9.9999999999999997E+98,-1.2500000000000001E+101,1.2500399993600206E+101,-89.541643541999562,0.79228964335519569,-0.3722771210320967,9.9039374527267982E+100,-89.541643541999562,7.9228964335520179E+98,-9.9036205419399486E+100,-3.5355904731176385E+50,-44.770821770999781,-2.5100199196022536E+50,2.4900200795977737E+50,7.9228964335520179E+98,-9.9036205419399486E+100,7.9228964335520179E+98,-9.9036205419399486E+100,1,0,1,0]
[52.500000000000476,0.91629785729703128,9.9999999999999997E+98,-1.2500000000000001E+101,1.2500399993600206E+101,-89.541643541999562,0.79335334029124016,-0.37059047744873164,9.9172340898993198E+100,-89.541643541999562,7.933533402912461E+98,-9.9169167536405025E+100,-3.5355904731176385E+50,-44.770821770999781,-2.5100199196022536E+50,2.4900200795977737E+50,7.933533402912461E+98,-9.9169167536405025E+100,7.933533402912461E+98,-9.9169167536405025E+100,1,0,1,0]
[52.600000000000477,0.91804318654902572,9.9999999999999997E+98,-1.2500000000000001E+101,1.2500399993600206E+101,-89.541643541999562,0.79441462053542322,-0.36890541067955956,9.9305005174569144E+100,-89.541643541999562,7.9441462053542926E+98,-9.9301827566927907E+100,-3.5355904731176385E+50,-44.770821770999781,-2.5100199196022536E+50,2.4900200795977737E+50,7.9441462053542926E+98,-9.9301827566927907E+100,7.9441462053542926E+98,-9.9301827566927907E+100,1,0,1,0]
[52.700000000000479,0.91978851580101995,9.9999999999999997E+98,-1.2500000000000001E+101,1.2500399993600206E+101,-89.541643541999562,0.79547348085490088,-0.36722194125658764,9.9437366949877362E+100,-89.541643541999562,7.9547348085490691E+98,-9.9434185106862618E+100,-3.5355904731176385E+50,-44.770821770999781,-2.5100199196022536E+50,2.4900200795977737E+50,7.9547348085490691E+98,-9.9434185106862618E+100,7.9547348085490691E+98,-9.9434185106862618E+100,1,0,1,0]
[52.80000000000048,0.92153384505301439,9.9999999999999997E+98,-1.2500000000000001E+101,1.2500399993600206E+101,-89.541643541999562,0.79652991802420137,-0.36554008969235907,9.9569425821720995E+100,-89.541643541999562,7.9652991802420738E+98,-9.956623975302517E+100,-3.5355904731176385E+50,-44.770821770999781,-2.5100199196022536E+50,2.4900200795977737E+50,7.9652991802420738E+98,-9.956623975302517E+100,7.9652991802420738E+98,-9.956623975302517E+100,1,0,1,0]
[52.900000000000482,0.92327917430500872,9.9999999999999997E+98,-1.2500000000000001E+101,1.2500399993600206E+101,-89.541643541999562,0.79758392882523355,-0.36385987647970469,9.9701181387825768E+100,-89.541643541999562,7.9758392882523966E+98,-9.9697991103154203E+100,-3.5355904731176385E+50,-44.770821770999781,-2.5100199196022536E+50,2.4900200795977737E+50,7.9758392882523966E+98,-9.9697991103154203E+100,7.9758392882523966E+98,-9.9697991103154203E+100,1,0,1,0]
[53.000000000000483,0.92502450355700305,9.9999999999999997E+98,-1.2500000000000001E+101,1.2500399993600206E+101,-89.541643541999562,0.79863551004729794,-0.3621813220914924,9.98326332468414E+100,-89.541643541999562,7.9863551004730401E+98,-9.9829438755912257E+100,-3.5355904731176385E+50,-44.770821770999781,-2.5100199196022536E+50,2.4900200795977737E+50,7.9863551004730401E+98,-9.9829438755912257E+100,7.9863551004730401E+98,-9.9829438755912257E+100,1,0,1,0]
[53.100000000000485,0.9267698328089975,9.9999999999999997E+98,-1.2500000000000001E+101,1.2500399993600206E+101,-89.541643541999562,0.79968465848709569,-0.3605044469803772,9.9963780998342742E+100,-89.541643541999562,7.9968465848710174E+98,-9.9960582310886973E+100,-3.5355904731176385E+50,-44.770821770999781,-2.5100199196022536E+50,2.4900200795977737E+50,7.9968465848710174E+98,-9.9960582310886973E+100,7.9968465848710174E+98,-9.9960582310886973E+100,1,0,1,0]
[53.200000000000486,0.92851516206099172,9.9999999999999997E+98,-1.2500000000000001E+101,1.2500399993600206E+101,-89.541643541999562,0.80073137094873847,-0.35882927157855382,1.0009462424283094E+101,-89.541643541999562,8.0073137094874451E+98,-1.0009142136859232E+101,-3.5355904731176385E+50,-44.770821770999781,-2.5100199196022536E+50,2.4900200795977737E+50,8.0073137094874451E+98,-1.0009142136859232E+101,8.0073137094874451E+98,-1.0009142136859232E+101,1,0,1,0]
[53.300000000000487,0.93026049131298616,9.9999999999999997E+98,-1.2500000000000001E+101,1.2500399993600206E+101,-89.541643541999562,0.80177564424375913,-0.35715581629750504,1.0022516258173488E+101,-89.541643541999562,8.0177564424376519E+98,-1.0022195553046989E+101,-3.5355904731176385E+50,-44.770821770999781,-2.5100199196022536E+50,2.4900200795977737E+50,8.0177564424376519E+98,-1.0022195553046989E+101,8.0177564424376519E+98,-1.0022195553046989E+101,1,0,1,0]
[53.400000000000489,0.93200582056498049,9.9999999999999997E+98,-1.2500000000000001E+101,1.2500399993600206E+101,-89.541643541999562,0.80281747519111957,-0.355484101527756,1.0035539561741204E+101,-89.541643541999562,8.0281747519112568E+98,-1.0035218439888996E+101,-3.5355904731176385E+50,-44.770821770999781,-2.5100199196022536E+50,2.4900200795977737E+50,8.0281747519112568E+98,-1.0035218439888996E+101,8.0281747519112568E+98,-1.0035218439888996E+101,1,0,1,0]
[53.50000000000049,0.93375114981697482,9.9999999999999997E+98,-1.2500000000000001E+101,1.2500399993600206E+101,-89.541643541999562,0.80385686061722239,-0.35381414763862357,1.0048532295315009E+101,-89.541643541999562,8.0385686061722864E+98,-1.0048210757715283E+101,-3.5355904731176385E+50,-44.770821770999781,-2.5100199196022536E+50,2.4900200795977737E+50,8.0385686061722864E+98,-1.0048210757715283E+101,8.0385686061722864E+98,-1.0048210757715283E+101,1,0,1,0]
[53.600000000000492,0.93549647906896927,9.9999999999999997E+98,-1.2500000000000001E+101,1.2500399993600206E+101,-89.541643541999562,0.80489379735591926,-0.3521459749779684,1.0061494419316779E+101,-89.541643541999562,8.0489379735592542E+98,-1.0061172466948992E+101,-3.5355904731176385E+50,-44.770821770999781,-2.5100199196022536E+50,2.4900200795977737E+50,8.0489379735592542E+98,-1.0061172466948992E+101,8.0489379735592542E+98,-1.0061172466948992E+101,1,0,1,0]
[53.700000000000493,0.93724180832096349,9.9999999999999997E+98,-1.2500000000000001E+101,1.2500399993600206E+101,-89.541643541999562,0.80592828224852087,-0.35047960387194854,1.0074425894261635E+101,-89.541643541999562,8.05928282248527E+98,-1.0074103528106512E+101,-3.5355904731176385E+50,-44.770821770999781,-2.5100199196022536E+50,2.4900200795977737E+50,8.05928282248527E+98,-1.0074103528106512E+101,8.05928282248527E+98,-1.0074103528106512E+101,1,0,1,0]
[53.800000000000495,0.93898713757295793,9.9999999999999997E+98,-1.2500000000000001E+101,1.2500399993600206E+101,-89.541643541999562,0.80696031214380703,-0.34881505462476953,1.0087326680758065E+101,-89.541643541999562,8.0696031214381315E+98,-1.0087003901797589E+101,-3.5355904731176385E+50,-44.770821770999781,-2.5100199196022536E+50,2.4900200795977737E+50,8.0696031214381315E+98,-1.0087003901797589E+101,8.0696031214381315E+98,-1.0087003901797589E+101,1,0,1,0]
[53.900000000000496,0.94073246682495237,9.9999999999999997E+98,-1.2500000000000001E+101,1.2500399993600206E+101,-89.541643541999562,0.80798988389803561,-0.34715234751843882,1.0100196739508036E+101,-89.541643541999562,8.0798988389804185E+98,-1.0099873548725448E+101,-3.5355904731176385E+50,-44.770821770999781,-2.5100199196022536E+50,2.4900200795977737E+50,8.0798988389804185E+98,-1.0099873548725448E+101,8.0798988389804185E+98,-1.0099873548725448E+101,1,0,1,0]
[54.000000000000497,0.94247779607694659,9.9999999999999997E+98,-1.2500000000000001E+101,1.2500399993600206E+101,-89.541643541999562,0.80901699437495245,-0.34549150281251806,1.0113036031307114E+101,-89.541643541999562,8.0901699437495861E+98,-1.0112712429686906E+101,-3.5355904731176385E+50,-44.770821770999781,-2.5100199196022536E+50,2.4900200795977737E+50,{"$f":"K545+O545","v":8.0901699437495861E+98},-1.0112712429686906E+101,8.0901699437495861E+98,-1.0112712429686906E+101,1,0,1,0]
[54.100000000000499,0.94422312532894104,9.9999999999999997E+98,-1.2500000000000001E+101,1.2500399993600206E+101,-89.541643541999562,0.81004164044580118,-0.34383254074387548,1.0125844517044594E+101,-89.541643541999562,8.100416404458074E+98,-1.0125520505572516E+101,-3.5355904731176385E+50,-44.770821770999781,-2.5100199196022536E+50,2.4900200795977737E+50,8.100416404458074E+98,-1.0125520505572516E+101,8.100416404458074E+98,-1.0125520505572516E+101,1,0,1,0]
[54.2000000000005,0.94596845458093526,9.9999999999999997E+98,-1.2500000000000001E+101,1.2500399993600206E+101,-89.541643541999562,0.81106381898933166,-0.34217548152644056,1.01386221577036E+101,-89.541643541999562,8.1106381898933779E+98,-1.0138297737366646E+101,-3.5355904731176385E+50,-44.770821770999781,-2.5100199196022536E+50,2.4900200795977737E+50,8.1106381898933779E+98,-1.0138297737366646E+101,8.1106381898933779E+98,-1.0138297737366646E+101,1,0,1,0]
[54.300000000000502,0.9477137838329297,9.9999999999999997E+98,-1.2500000000000001E+101,1.2500399993600206E+101,-89.541643541999562,0.81208352689181129,-0.34052034535095665,1.015136891436123E+101,-89.541643541999562,8.1208352689181739E+98,-1.0151044086147641E+101,-3.5355904731176385E+50,-44.770821770999781,-2.5100199196022536E+50,2.4900200795977737E+50,8.1208352689181739E+98,-1.0151044086147641E+101,8.1208352689181739E+98,-1.0151044086147641E+101,1,0,1,0]
[54.400000000000503,0.94945911308492414,9.9999999999999997E+98,-1.2500000000000001E+101,1.2500399993600206E+101,-89.541643541999562,0.81310076104703277,-0.33886715238473608,1.0164084748188651E+101,-89.541643541999562,8.1310076104703895E+98,-1.0163759513087911E+101,-3.5355904731176385E+50,-44.770821770999781,-2.5100199196022536E+50,2.4900200795977737E+50,8.1310076104703895E+98,-1.0163759513087911E+101,8.1310076104703895E+98,-1.0163759513087911E+101,1,0,1,0]
[54.500000000000504,0.95120444233691837,9.9999999999999997E+98,-1.2500000000000001E+101,1.2500399993600206E+101,-89.541643541999562,0.81411551835632434,-0.33721592277141343,1.0176769620451225E+101,-89.541643541999562,8.141155183563305E+98,-1.0176443979454055E+101,-3.5355904731176385E+50,-44.770821770999781,-2.5100199196022536E+50,2.4900200795977737E+50,8.141155183563305E+98,-1.0176443979454055E+101,8.141155183563305E+98,-1.0176443979454055E+101,1,0,1,0]
[54.600000000000506,0.95294977158891281,9.9999999999999997E+98,-1.2500000000000001E+101,1.2500399993600206E+101,-89.541643541999562,0.81512779572855931,-0.3355666766307,1.0189423492508632E+101,-89.541643541999562,8.151277957285655E+98,-1.0189097446606992E+101,-3.5355904731176385E+50,-44.770821770999781,-2.5100199196022536E+50,2.4900200795977737E+50,8.151277957285655E+98,-1.0189097446606992E+101,8.151277957285655E+98,-1.0189097446606992E+101,1,0,1,0]
[54.700000000000507,0.95469510084090703,9.9999999999999997E+98,-1.2500000000000001E+101,1.2500399993600206E+101,-89.541643541999562,0.81613759008016529,-0.33391943405814006,1.0202046325814986E+101,-89.541643541999562,8.1613759008017159E+98,-1.0201719876002069E+101,-3.5355904731176385E+50,-44.770821770999781,-2.5100199196022536E+50,2.4900200795977737E+50,8.1613759008017159E+98,-1.0201719876002069E+101,8.1613759008017159E+98,-1.0201719876002069E+101,1,0,1,0]
[54.800000000000509,0.95644043009290147,9.9999999999999997E+98,-1.2500000000000001E+101,1.2500399993600206E+101,-89.541643541999562,0.8171448983351336,-0.3322742151248641,1.0214638081918945E+101,-89.541643541999562,8.1714489833513984E+98,-1.0214311229189172E+101,-3.5355904731176385E+50,-44.770821770999781,-2.5100199196022536E+50,2.4900200795977737E+50,8.1714489833513984E+98,-1.0214311229189172E+101,8.1714489833513984E+98,-1.0214311229189172E+101,1,0,1,0]
[54.90000000000051,0.95818575934489592,9.9999999999999997E+98,-1.2500000000000001E+101,1.2500399993600206E+101,-89.541643541999562,0.81814971742502862,-0.33063103987734588,1.0227198722463837E+101,-89.541643541999562,8.1814971742503482E+98,-1.0226871467812858E+101,-3.5355904731176385E+50,-44.770821770999781,-2.5100199196022536E+50,2.4900200795977737E+50,8.1814971742503482E+98,-1.0226871467812858E+101,8.1814971742503482E+98,-1.0226871467812858E+101,1,0,1,0]
[55.000000000000512,0.95993108859689014,9.9999999999999997E+98,-1.2500000000000001E+101,1.2500399993600206E+101,-89.541643541999562,0.81915204428899691,-0.32898992833715729,1.0239728209187772E+101,-89.541643541999562,8.1915204428900308E+98,-1.0239400553612461E+101,-3.5355904731176385E+50,-44.770821770999781,-2.5100199196022536E+50,2.4900200795977737E+50,8.1915204428900308E+98,-1.0239400553612461E+101,8.1915204428900308E+98,-1.0239400553612461E+101,1,0,1,0]
[55.100000000000513,0.96167641784888458,9.9999999999999997E+98,-1.2500000000000001E+101,1.2500399993600206E+101,-89.541643541999562,0.82015187587377725,-0.32735090050072418,1.0252226503923762E+101,-89.541643541999562,8.2015187587378349E+98,-1.0251898448422216E+101,-3.5355904731176385E+50,-44.770821770999781,-2.5100199196022536E+50,2.4900200795977737E+50,8.2015187587378349E+98,-1.0251898448422216E+101,8.2015187587378349E+98,-1.0251898448422216E+101,1,0,1,0]
[55.200000000000514,0.9634217471008788,9.9999999999999997E+98,-1.2500000000000001E+101,1.2500399993600206E+101,-89.541643541999562,0.82114920913370915,-0.32571397633908405,1.0264693568599831E+101,-89.541643541999562,8.2114920913371525E+98,-1.0264365114171363E+101,-3.5355904731176385E+50,-44.770821770999781,-2.5100199196022536E+50,2.4900200795977737E+50,8.2114920913371525E+98,-1.0264365114171363E+101,8.2114920913371525E+98,-1.0264365114171363E+101,1,0,1,0]
[55.300000000000516,0.96516707635287324,9.9999999999999997E+98,-1.2500000000000001E+101,1.2500399993600206E+101,-89.541643541999562,0.82214404103074257,-0.32407917579764062,1.0277129365239141E+101,-89.541643541999562,8.2214404103074869E+98,-1.0276800512884282E+101,-3.5355904731176385E+50,-44.770821770999781,-2.5100199196022536E+50,2.4900200795977737E+50,8.2214404103074869E+98,-1.0276800512884282E+101,8.2214404103074869E+98,-1.0276800512884282E+101,1,0,1,0]
[55.400000000000517,0.96691240560486769,9.9999999999999997E+98,-1.2500000000000001E+101,1.2500399993600206E+101,-89.541643541999562,0.82313636853444705,-0.32244651879592295,1.0289533855960099E+101,-89.541643541999562,8.231363685344533E+98,-1.0289204606680589E+101,-3.5355904731176385E+50,-44.770821770999781,-2.5100199196022536E+50,2.4900200795977737E+50,8.231363685344533E+98,-1.0289204606680589E+101,8.231363685344533E+98,-1.0289204606680589E+101,1,0,1,0]
[55.500000000000519,0.96865773485686191,9.9999999999999997E+98,-1.2500000000000001E+101,1.2500399993600206E+101,-89.541643541999562,0.82412618862202081,-0.32081602522734143,1.0301907002976471E+101,-89.541643541999562,8.2412618862202704E+98,-1.0301577357775261E+101,-3.5355904731176385E+50,-44.770821770999781,-2.5100199196022536E+50,2.4900200795977737E+50,8.2412618862202704E+98,-1.0301577357775261E+101,8.2412618862202704E+98,-1.0301577357775261E+101,1,0,1,0]
[55.60000000000052,0.97040306410885635,9.9999999999999997E+98,-1.2500000000000001E+101,1.2500399993600206E+101,-89.541643541999562,0.82511349827830027,-0.31918771495894538,1.0314248768597508E+101,-89.541643541999562,8.2511349827830659E+98,-1.0313918728478755E+101,-3.5355904731176385E+50,-44.770821770999781,-2.5100199196022536E+50,2.4900200795977737E+50,8.2511349827830659E+98,-1.0313918728478755E+101,8.2511349827830659E+98,-1.0313918728478755E+101,1,0,1,0]
[55.700000000000522,0.97214839336085057,9.9999999999999997E+98,-1.2500000000000001E+101,1.2500399993600206E+101,-89.541643541999562,0.82609829449576899,-0.31756160783118176,1.0326559115228051E+101,-89.541643541999562,8.2609829449577521E+98,-1.0326228681197113E+101,-3.5355904731176385E+50,-44.770821770999781,-2.5100199196022536E+50,2.4900200795977737E+50,8.2609829449577521E+98,-1.0326228681197113E+101,8.2609829449577521E+98,-1.0326228681197113E+101,1,0,1,0]
[55.800000000000523,0.97389372261284501,9.9999999999999997E+98,-1.2500000000000001E+101,1.2500399993600206E+101,-89.541643541999562,0.82708057427456694,-0.31593772365765249,1.0338838005368651E+101,-89.541643541999562,8.2708057427457319E+98,-1.0338507178432088E+101,-3.5355904731176385E+50,-44.770821770999781,-2.5100199196022536E+50,2.4900200795977737E+50,8.2708057427457319E+98,-1.0338507178432088E+101,8.2708057427457319E+98,-1.0338507178432088E+101,1,0,1,0]
[55.900000000000524,0.97563905186483946,9.9999999999999997E+98,-1.2500000000000001E+101,1.2500399993600206E+101,-89.541643541999562,0.82806033462249962,-0.314316082224874,1.0351085401615678E+101,-89.541643541999562,8.2806033462250585E+98,-1.0350754182781245E+101,-3.5355904731176385E+50,-44.770821770999781,-2.5100199196022536E+50,2.4900200795977737E+50,8.2806033462250585E+98,-1.0350754182781245E+101,8.2806033462250585E+98,-1.0350754182781245E+101,1,0,1,0]
[56.000000000000526,0.97738438111683368,9.9999999999999997E+98,-1.2500000000000001E+101,1.2500399993600206E+101,-89.541643541999562,0.82903757255504684,-0.31269670329203547,1.0363301266661438E+101,-89.541643541999562,8.2903757255505317E+98,-1.0362969656938087E+101,-3.5355904731176385E+50,-44.770821770999781,-2.5100199196022536E+50,2.4900200795977737E+50,8.2903757255505317E+98,-1.0362969656938087E+101,8.2903757255505317E+98,-1.0362969656938087E+101,1,0,1,0]
[56.100000000000527,0.97912971036882812,9.9999999999999997E+98,-1.2500000000000001E+101,1.2500399993600206E+101,-89.541643541999562,0.83001228509537262,-0.31107960659075784,1.0375485563294288E+101,-89.541643541999562,8.3001228509537885E+98,-1.0375153563692157E+101,-3.5355904731176385E+50,-44.770821770999781,-2.5100199196022536E+50,2.4900200795977737E+50,8.3001228509537885E+98,-1.0375153563692157E+101,8.3001228509537885E+98,-1.0375153563692157E+101,1,0,1,0]
[56.200000000000529,0.98087503962082234,9.9999999999999997E+98,-1.2500000000000001E+101,1.2500399993600206E+101,-89.541643541999562,0.83098446927433334,-0.30946481182485458,1.0387638254398747E+101,-89.541643541999562,8.3098446927433969E+98,-1.0387305865929168E+101,-3.5355904731176385E+50,-44.770821770999781,-2.5100199196022536E+50,2.4900200795977737E+50,8.3098446927433969E+98,-1.0387305865929168E+101,8.3098446927433969E+98,-1.0387305865929168E+101,1,0,1,0]
[56.30000000000053,0.98262036887281679,9.9999999999999997E+98,-1.2500000000000001E+101,1.2500399993600206E+101,-89.541643541999562,0.83195412213048769,-0.3078523386700896,1.0399759302955613E+101,-89.541643541999562,8.3195412213049396E+98,-1.0399426526631096E+101,-3.5355904731176385E+50,-44.770821770999781,-2.5100199196022536E+50,2.4900200795977737E+50,8.3195412213049396E+98,-1.0399426526631096E+101,8.3195412213049396E+98,-1.0399426526631096E+101,1,0,1,0]
[56.400000000000531,0.98436569812481101,9.9999999999999997E+98,-1.2500000000000001E+101,1.2500399993600206E+101,-89.541643541999562,0.83292124071010454,-0.30624220677394004,1.0411848672042067E+101,-89.541643541999562,8.3292124071011098E+98,-1.041151550887631E+101,-3.5355904731176385E+50,-44.770821770999781,-2.5100199196022536E+50,2.4900200795977737E+50,8.3292124071011098E+98,-1.041151550887631E+101,8.3292124071011098E+98,-1.041151550887631E+101,1,0,1,0]
[56.500000000000533,0.98611102737680545,9.9999999999999997E+98,-1.2500000000000001E+101,1.2500399993600206E+101,-89.541643541999562,0.83388582206717332,-0.30463443575535465,1.0423906324831795E+101,-89.541643541999562,8.3388582206717963E+98,-1.0423572775839667E+101,-3.5355904731176385E+50,-44.770821770999781,-2.5100199196022536E+50,2.4900200795977737E+50,8.3388582206717963E+98,-1.0423572775839667E+101,8.3388582206717963E+98,-1.0423572775839667E+101,1,0,1,0]
[56.600000000000534,0.98785635662879989,9.9999999999999997E+98,-1.2500000000000001E+101,1.2500399993600206E+101,-89.541643541999562,0.83484786326341165,-0.30302904520451579,1.0435932224595096E+101,-89.541643541999562,8.3484786326341796E+98,-1.0435598290792647E+101,-3.5355904731176385E+50,-44.770821770999781,-2.5100199196022536E+50,2.4900200795977737E+50,8.3484786326341796E+98,-1.0435598290792647E+101,8.3484786326341796E+98,-1.0435598290792647E+101,1,0,1,0]
[56.700000000000536,0.98960168588079411,9.9999999999999997E+98,-1.2500000000000001E+101,1.2500399993600206E+101,-89.541643541999562,0.83580736136827538,-0.3014260546826012,1.0447926334698995E+101,-89.541643541999562,8.3580736136828177E+98,-1.0447592017103444E+101,-3.5355904731176385E+50,-44.770821770999781,-2.5100199196022536E+50,2.4900200795977737E+50,8.3580736136828177E+98,-1.0447592017103444E+101,8.3580736136828177E+98,-1.0447592017103444E+101,1,0,1,0]
[56.800000000000537,0.99134701513278856,9.9999999999999997E+98,-1.2500000000000001E+101,1.2500399993600206E+101,-89.541643541999562,0.83676431345896685,-0.29982548372154394,1.045988861860735E+101,-89.541643541999562,8.3676431345897313E+98,-1.0459553918237085E+101,-3.5355904731176385E+50,-44.770821770999781,-2.5100199196022536E+50,2.4900200795977737E+50,8.3676431345897313E+98,-1.0459553918237085E+101,8.3676431345897313E+98,-1.0459553918237085E+101,1,0,1,0]
[56.900000000000539,0.99309234438478278,9.9999999999999997E+98,-1.2500000000000001E+101,1.2500399993600206E+101,-89.541643541999562,0.83771871662044384,-0.29822735182379656,1.0471819039880969E+101,-89.541643541999562,8.3771871662045011E+98,-1.0471483957755547E+101,-3.5355904731176385E+50,-44.770821770999781,-2.5100199196022536E+50,2.4900200795977737E+50,8.3771871662045011E+98,-1.0471483957755547E+101,8.3771871662045011E+98,-1.0471483957755547E+101,1,0,1,0]
[57.00000000000054,0.99483767363677722,9.9999999999999997E+98,-1.2500000000000001E+101,1.2500399993600206E+101,-89.541643541999562,0.83867056794542916,-0.29663167846209132,1.0483717562177723E+101,-89.541643541999562,8.386705679454355E+98,-1.0483382099317865E+101,-3.5355904731176385E+50,-44.770821770999781,-2.5100199196022536E+50,2.4900200795977737E+50,8.386705679454355E+98,-1.0483382099317865E+101,8.386705679454355E+98,-1.0483382099317865E+101,1,0,1,0]
[57.100000000000541,0.99658300288877166,9.9999999999999997E+98,-1.2500000000000001E+101,1.2500399993600206E+101,-89.541643541999562,0.83961986453441839,-0.29503848307920494,1.049558414925265E+101,-89.541643541999562,8.3961986453442483E+98,-1.0495248306680231E+101,-3.5355904731176385E+50,-44.770821770999781,-2.5100199196022536E+50,2.4900200795977737E+50,8.3961986453442483E+98,-1.0495248306680231E+101,8.3961986453442483E+98,-1.0495248306680231E+101,1,0,1,0]
[57.200000000000543,0.99832833214076588,9.9999999999999997E+98,-1.2500000000000001E+101,1.2500399993600206E+101,-89.541643541999562,0.84056660349568935,-0.29344778508772057,1.0507418764958062E+101,-89.541643541999562,8.4056660349569571E+98,-1.0507082543696117E+101,-3.5355904731176385E+50,-44.770821770999781,-2.5100199196022536E+50,2.4900200795977737E+50,8.4056660349569571E+98,-1.0507082543696117E+101,8.4056660349569571E+98,-1.0507082543696117E+101,1,0,1,0]
[57.300000000000544,1.0000736613927603,9.9999999999999997E+98,-1.2500000000000001E+101,1.2500399993600206E+101,-89.541643541999562,0.84151078194531126,-0.29185960386979076,1.0519221373243673E+101,-89.541643541999562,8.4151078194531769E+98,-1.0518884774316392E+101,-3.5355904731176385E+50,-44.770821770999781,-2.5100199196022536E+50,2.4900200795977737E+50,8.4151078194531769E+98,-1.0518884774316392E+101,8.4151078194531769E+98,-1.0518884774316392E+101,1,0,1,0]
[57.400000000000546,1.0018189906447545,9.9999999999999997E+98,-1.2500000000000001E+101,1.2500399993600206E+101,-89.541643541999562,0.84245239700715258,-0.29027395877690293,1.0530991938156688E+101,-89.541643541999562,8.424523970071589E+98,-1.0530654962589407E+101,-3.5355904731176385E+50,-44.770821770999781,-2.5100199196022536E+50,2.4900200795977737E+50,8.424523970071589E+98,-1.0530654962589407E+101,8.424523970071589E+98,-1.0530654962589407E+101,1,0,1,0]
[57.500000000000547,1.003564319896749,9.9999999999999997E+98,-1.2500000000000001E+101,1.2500399993600206E+101,-89.541643541999562,0.84339144581289083,-0.28869086912964165,1.0542730423841928E+101,-89.541643541999562,8.4339144581289725E+98,-1.0542393072661137E+101,-3.5355904731176385E+50,-44.770821770999781,-2.5100199196022536E+50,2.4900200795977737E+50,8.4339144581289725E+98,-1.0542393072661137E+101,8.4339144581289725E+98,-1.0542393072661137E+101,1,0,1,0]
[57.600000000000549,1.0053096491487434,9.9999999999999997E+98,-1.2500000000000001E+101,1.2500399993600206E+101,-89.541643541999562,0.84432792550202018,-0.28711035421745501,1.0554436794541929E+101,-89.541643541999562,8.4432792550202664E+98,-1.0554099068775253E+101,-3.5355904731176385E+50,-44.770821770999781,-2.5100199196022536E+50,2.4900200795977737E+50,8.4432792550202664E+98,-1.0554099068775253E+101,8.4432792550202664E+98,-1.0554099068775253E+101,{"$f":"(Q581*S581+T581*R581)/((S581^2)+(T581^2))","v":1},0,1,0]
[57.70000000000055,{"$f":"A582*PI()/180","v":1.0070549784007377},{"$f":"$D$1","v":9.9999999999999997E+98},{"$f":"-(18000*$G$1/$N$1)","v":-1.2500000000000001E+101},{"$f":"(C582^2+D582^2)^0.5","v":1.2500399993600206E+101},{"$f":"(180/PI())*ATAN(D582/C582)","v":-89.541643541999562},{"$f":"SIN(B582)","v":0.84526183322186121},{"$f":"-((COS(B582))^2)","v":-0.28553243329841849},{"$f":"E582*G582","v":1.0566111014597052E+101},{"$f":"F582","v":-89.541643541999562},{"$f":"(((I582^2)/(1+(TAN(J582*(PI()/180)))^2))^0.5)","v":8.4526183322186758E+98},{"$f":"K582*TAN(J582*(PI()/180))","v":-1.0565772915273266E+101},{"$f":"-(((((C582+H582)^2)+(D582)^2)^0.5)^0.5)","v":-3.5355904731176385E+50},{"$f":"((ATAN(D582/(C582+H582)))*(180/PI()))/2","v":-44.770821770999781},{"$f":"-(((M582^2)/(1+(TAN(N582*(PI()/180)))^2))^0.5)","v":-2.5100199196022536E+50},{"$f":"O582*TAN(N582*(PI()/180))","v":2.4900200795977737E+50},8.4526183322186758E+98,-1.0565772915273266E+101,{"$f":"-O582+K582","v":8.4526183322186758E+98},{"$f":"L582-P582","v":-1.0565772915273266E+101},1,{"$f":"(R582*S582-Q582*T582)/((S582^2)+(T582^2))","v":0},{"$f":"((U582^2)+(V582^2))^0.5","v":1},{"$f":"(ACOS(U582/W582))*(180/PI())","v":0}]
[{"$f":"A582+0.1","v":57.800000000000551},1.0088003076527321,9.9999999999999997E+98,-1.2500000000000001E+101,1.2500399993600206E+101,-89.541643541999562,0.84619316612756912,-0.28395712559900016,1.0577753048445603E+101,-89.541643541999562,8.4619316612757562E+98,-1.0577414576594617E+101,-3.5355904731176385E+50,-44.770821770999781,-2.5100199196022536E+50,2.4900200795977737E+50,8.4619316612757562E+98,-1.0577414576594617E+101,8.4619316612757562E+98,-1.0577414576594617E+101,1,0,1,0]
[57.900000000000553,1.0105456369047263,9.9999999999999997E+98,-1.2500000000000001E+101,1.2500399993600206E+101,-89.541643541999562,0.84712192138214215,-0.28238445031382764,1.0589362860623925E+101,-89.541643541999562,8.4712192138214863E+98,-1.0589024017276779E+101,-3.5355904731176385E+50,-44.770821770999781,-2.5100199196022536E+50,2.4900200795977737E+50,8.4712192138214863E+98,-1.0589024017276779E+101,8.4712192138214863E+98,-1.0589024017276779E+101,1,0,1,0]
[58.000000000000554,1.0122909661567208,9.9999999999999997E+98,-1.2500000000000001E+101,1.2500399993600206E+101,-89.541643541999562,0.84804809615643106,-0.28081442660545264,1.0600940415766517E+101,-89.541643541999562,8.4804809615643748E+98,-1.0600601201955388E+101,-3.5355904731176385E+50,-44.770821770999781,-2.5100199196022536E+50,2.4900200795977737E+50,8.4804809615643748E+98,-1.0600601201955388E+101,8.4804809615643748E+98,-1.0600601201955388E+101,1,0,1,0]
[58.100000000000556,1.0140362954087152,9.9999999999999997E+98,-1.2500000000000001E+101,1.2500399993600206E+101,-89.541643541999562,0.84897168762914665,-0.27924707360411871,1.0612485678606141E+101,-89.541643541999562,8.4897168762915317E+98,-1.0612146095364335E+101,-3.5355904731176385E+50,-44.770821770999781,-2.5100199196022536E+50,2.4900200795977737E+50,8.4897168762915317E+98,-1.0612146095364335E+101,8.4897168762915317E+98,-1.0612146095364335E+101,1,0,1,0]
[58.200000000000557,1.0157816246607094,9.9999999999999997E+98,-1.2500000000000001E+101,1.2500399993600206E+101,-89.541643541999562,0.84989269298686898,-0.27768241040752761,1.0623998613973918E+101,-89.541643541999562,8.498926929868754E+98,-1.0623658662335862E+101,-3.5355904731176385E+50,-44.770821770999781,-2.5100199196022536E+50,2.4900200795977737E+50,8.498926929868754E+98,-1.0623658662335862E+101,8.498926929868754E+98,-1.0623658662335862E+101,1,0,1,0]
[58.300000000000558,1.0175269539127039,9.9999999999999997E+98,-1.2500000000000001E+101,1.2500399993600206E+101,-89.541643541999562,0.85081110942405636,-0.27612045608060637,1.0635479186799458E+101,-89.541643541999562,8.5081110942406281E+98,-1.0635138867800706E+101,-3.5355904731176385E+50,-44.770821770999781,-2.5100199196022536E+50,2.4900200795977737E+50,8.5081110942406281E+98,-1.0635138867800706E+101,8.5081110942406281E+98,-1.0635138867800706E+101,1,0,1,0]
[58.40000000000056,1.0192722831646981,9.9999999999999997E+98,-1.2500000000000001E+101,1.2500399993600206E+101,-89.541643541999562,0.85172693414305267,-0.27456122965527607,1.0646927362110939E+101,-89.541643541999562,8.5172693414305912E+98,-1.0646586676788159E+101,-3.5355904731176385E+50,-44.770821770999781,-2.5100199196022536E+50,2.4900200795977737E+50,8.5172693414305912E+98,-1.0646586676788159E+101,8.5172693414305912E+98,-1.0646586676788159E+101,1,0,1,0]
[58.500000000000561,1.0210176124166925,9.9999999999999997E+98,-1.2500000000000001E+101,1.2500399993600206E+101,-89.541643541999562,0.85264016435409729,-0.27300475013021797,1.0658343105035236E+101,-89.541643541999562,8.5264016435410377E+98,-1.0658002054426217E+101,-3.5355904731176385E+50,-44.770821770999781,-2.5100199196022536E+50,2.4900200795977737E+50,8.5264016435410377E+98,-1.0658002054426217E+101,8.5264016435410377E+98,-1.0658002054426217E+101,1,0,1,0]
[58.600000000000563,1.022762941668687,9.9999999999999997E+98,-1.2500000000000001E+101,1.2500399993600206E+101,-89.541643541999562,0.85355079727533256,-0.27145103647064411,1.0669726380798018E+101,-89.541643541999562,8.5355079727533898E+98,-1.0669384965941657E+101,-3.5355904731176385E+50,-44.770821770999781,-2.5100199196022536E+50,2.4900200795977737E+50,8.5355079727533898E+98,-1.0669384965941657E+101,8.5355079727533898E+98,-1.0669384965941657E+101,1,0,1,0]
[58.700000000000564,1.0245082709206812,9.9999999999999997E+98,-1.2500000000000001E+101,1.2500399993600206E+101,-89.541643541999562,0.85445883013281243,-0.26990010760806554,1.0681077154723847E+101,-89.541643541999562,8.5445883013281897E+98,-1.0680735376660157E+101,-3.5355904731176385E+50,-44.770821770999781,-2.5100199196022536E+50,2.4900200795977737E+50,8.5445883013281897E+98,-1.0680735376660157E+101,8.5445883013281897E+98,-1.0680735376660157E+101,1,0,1,0]
[58.800000000000566,1.0262536001726756,9.9999999999999997E+98,-1.2500000000000001E+101,1.2500399993600206E+101,-89.541643541999562,0.8553642601605117,-0.26835198244006037,1.0692395392236305E+101,-89.541643541999562,8.5536426016051824E+98,-1.0692053252006398E+101,-3.5355904731176385E+50,-44.770821770999781,-2.5100199196022536E+50,2.4900200795977737E+50,8.5536426016051824E+98,-1.0692053252006398E+101,8.5536426016051824E+98,-1.0692053252006398E+101,1,0,1,0]
[58.900000000000567,1.0279989294246699,9.9999999999999997E+98,-1.2500000000000001E+101,1.2500399993600206E+101,-89.541643541999562,0.85626708460033318,-0.26680667983004575,1.0703681058858072E+101,-89.541643541999562,8.5626708460033967E+98,-1.0703338557504166E+101,-3.5355904731176385E+50,-44.770821770999781,-2.5100199196022536E+50,2.4900200795977737E+50,8.5626708460033967E+98,-1.0703338557504166E+101,8.5626708460033967E+98,-1.0703338557504166E+101,1,0,1,0]
[59.000000000000568,1.0297442586766643,9.9999999999999997E+98,-1.2500000000000001E+101,1.2500399993600206E+101,-89.541643541999562,0.85716730070211733,-0.26526421860704585,1.0714934120211053E+101,-89.541643541999562,8.5716730070212388E+98,-1.0714591258776468E+101,-3.5355904731176385E+50,-44.770821770999781,-2.5100199196022536E+50,2.4900200795977737E+50,8.5716730070212388E+98,-1.0714591258776468E+101,8.5716730070212388E+98,-1.0714591258776468E+101,1,0,1,0]
[59.10000000000057,1.0314895879286587,9.9999999999999997E+98,-1.2500000000000001E+101,1.2500399993600206E+101,-89.541643541999562,0.85806490572364968,-0.26372461756546428,1.0726154542016471E+101,-89.541643541999562,8.5806490572365604E+98,-1.072581132154562E+101,-3.5355904731176385E+50,-44.770821770999781,-2.5100199196022536E+50,2.4900200795977737E+50,8.5806490572365604E+98,-1.072581132154562E+101,8.5806490572365604E+98,-1.072581132154562E+101,1,0,1,0]
[59.200000000000571,1.033234917180653,9.9999999999999997E+98,-1.2500000000000001E+101,1.2500399993600206E+101,-89.541643541999562,0.85895989693066943,-0.26218789546485372,1.0737342290094974E+101,-89.541643541999562,8.5895989693067595E+98,-1.073699871163337E+101,-3.5355904731176385E+50,-44.770821770999781,-2.5100199196022536E+50,2.4900200795977737E+50,8.5895989693067595E+98,-1.073699871163337E+101,8.5895989693067595E+98,-1.073699871163337E+101,1,0,1,0]
[59.300000000000573,1.0349802464326474,9.9999999999999997E+98,-1.2500000000000001E+101,1.2500399993600206E+101,-89.541643541999562,0.85985227159687849,-0.26065407102968791,1.0748497330366743E+101,-89.541643541999562,8.5985227159688507E+98,-1.0748153394960983E+101,-3.5355904731176385E+50,-44.770821770999781,-2.5100199196022536E+50,2.4900200795977737E+50,8.5985227159688507E+98,-1.0748153394960983E+101,8.5985227159688507E+98,-1.0748153394960983E+101,1,0,1,0]
[59.400000000000574,1.0367255756846416,9.9999999999999997E+98,-1.2500000000000001E+101,1.2500399993600206E+101,-89.541643541999562,0.86074202700394864,-0.25912316294913368,1.0759619628851588E+101,-89.541643541999562,8.6074202700395514E+98,-1.0759275337549359E+101,-3.5355904731176385E+50,-44.770821770999781,-2.5100199196022536E+50,2.4900200795977737E+50,8.6074202700395514E+98,-1.0759275337549359E+101,8.6074202700395514E+98,-1.0759275337549359E+101,1,0,1,0]
[59.500000000000576,1.0384709049366361,9.9999999999999997E+98,-1.2500000000000001E+101,1.2500399993600206E+101,-89.541643541999562,0.86162916044153082,-0.25759518987682273,1.0770709151669063E+101,-89.541643541999562,8.6162916044153741E+98,-1.0770364505519136E+101,-3.5355904731176385E+50,-44.770821770999781,-2.5100199196022536E+50,2.4900200795977737E+50,8.6162916044153741E+98,-1.0770364505519136E+101,8.6162916044153741E+98,-1.0770364505519136E+101,1,0,1,0]
[59.600000000000577,1.0402162341886305,9.9999999999999997E+98,-1.2500000000000001E+101,1.2500399993600206E+101,-89.541643541999562,0.86251366920726258,-0.2560701704306248,1.0781765865038555E+101,-89.541643541999562,8.625136692072691E+98,-1.0781420865090783E+101,-3.5355904731176385E+50,-44.770821770999781,-2.5100199196022536E+50,2.4900200795977737E+50,8.625136692072691E+98,-1.0781420865090783E+101,8.625136692072691E+98,-1.0781420865090783E+101,1,0,1,0]
[59.700000000000578,1.0419615634406247,9.9999999999999997E+98,-1.2500000000000001E+101,1.2500399993600206E+101,-89.541643541999562,0.86339555060677675,-0.25454812319242087,1.0792789735279398E+101,-89.541643541999562,8.633955506067833E+98,-1.079244438258471E+101,-3.5355904731176385E+50,-44.770821770999781,-2.5100199196022536E+50,2.4900200795977737E+50,8.633955506067833E+98,-1.079244438258471E+101,8.633955506067833E+98,-1.079244438258471E+101,1,0,1,0]
[59.80000000000058,1.0437068926926192,9.9999999999999997E+98,-1.2500000000000001E+101,1.2500399993600206E+101,-89.541643541999562,0.86427480195370976,-0.25302906670787573,1.0803780728810972E+101,-89.541643541999562,8.6427480195371631E+98,-1.0803435024421373E+101,-3.5355904731176385E+50,-44.770821770999781,-2.5100199196022536E+50,2.4900200795977737E+50,8.6427480195371631E+98,-1.0803435024421373E+101,8.6427480195371631E+98,-1.0803435024421373E+101,1,0,1,0]
[59.900000000000581,1.0454522219446134,9.9999999999999997E+98,-1.2500000000000001E+101,1.2500399993600206E+101,-89.541643541999562,0.86515142056970951,-0.25151301948621363,1.0814738812152806E+101,-89.541643541999562,8.6515142056971611E+98,-1.081439275712137E+101,-3.5355904731176385E+50,-44.770821770999781,-2.5100199196022536E+50,2.4900200795977737E+50,8.6515142056971611E+98,-1.081439275712137E+101,8.6515142056971611E+98,-1.081439275712137E+101,1,0,1,0]
[60.000000000000583,1.0471975511966078,9.9999999999999997E+98,-1.2500000000000001E+101,1.2500399993600206E+101,-89.541643541999562,0.8660254037844437,-0.24999999999999123,1.0825663951924676E+101,-89.541643541999562,8.6602540378445027E+98,-1.0825317547305547E+101,-3.5355904731176385E+50,-44.770821770999781,-2.5100199196022536E+50,2.4900200795977737E+50,8.6602540378445027E+98,-1.0825317547305547E+101,8.6602540378445027E+98,-1.0825317547305547E+101,1,0,1,0]
[60.100000000000584,1.0489428804486021,9.9999999999999997E+98,-1.2500000000000001E+101,1.2500399993600206E+101,-89.541643541999562,0.86689674893560775,-0.24849002668487383,1.083655611484671E+101,-89.541643541999562,8.6689674893561431E+98,-1.0836209361695097E+101,-3.5355904731176385E+50,-44.770821770999781,-2.5100199196022536E+50,2.4900200795977737E+50,8.6689674893561431E+98,-1.0836209361695097E+101,8.6689674893561431E+98,-1.0836209361695097E+101,1,0,1,0]
[60.200000000000585,1.0506882097005965,9.9999999999999997E+98,-1.2500000000000001E+101,1.2500399993600206E+101,-89.541643541999562,0.8677654533689334,-0.24698311793940936,1.0847415267739495E+101,-89.541643541999562,8.6776545336893997E+98,-1.0847068167111668E+101,-3.5355904731176385E+50,-44.770821770999781,-2.5100199196022536E+50,2.4900200795977737E+50,8.6776545336893997E+98,-1.0847068167111668E+101,8.6776545336893997E+98,-1.0847068167111668E+101,1,0,1,0]
[60.300000000000587,1.052433538952591,9.9999999999999997E+98,-1.2500000000000001E+101,1.2500399993600206E+101,-89.541643541999562,0.86863151443819631,-0.24547929212480554,1.0858241377524166E+101,-89.541643541999562,8.6863151443820284E+98,-1.0857893930477454E+101,-3.5355904731176385E+50,-44.770821770999781,-2.5100199196022536E+50,2.4900200795977737E+50,8.6863151443820284E+98,-1.0857893930477454E+101,8.6863151443820284E+98,-1.0857893930477454E+101,1,0,1,0]
[60.400000000000588,1.0541788682045852,9.9999999999999997E+98,-1.2500000000000001E+101,1.2500399993600206E+101,-89.541643541999562,0.869494929505224,-0.24397856756470554,1.0869034411222513E+101,-89.541643541999562,8.6949492950523064E+98,-1.0868686618815301E+101,-3.5355904731176385E+50,-44.770821770999781,-2.5100199196022536E+50,2.4900200795977737E+50,{"$f":"K609+O609","v":8.6949492950523064E+98},-1.0868686618815301E+101,8.6949492950523064E+98,-1.0868686618815301E+101,1,0,1,0]
[60.50000000000059,1.0559241974565796,9.9999999999999997E+98,-1.2500000000000001E+101,1.2500399993600206E+101,-89.541643541999562,0.87035569593990469,-0.24248096254496412,1.0879794335957087E+101,-89.541643541999562,8.7035569593991122E+98,-1.0879446199248808E+101,-3.5355904731176385E+50,-44.770821770999781,-2.5100199196022536E+50,2.4900200795977737E+50,8.7035569593991122E+98,-1.0879446199248808E+101,8.7035569593991122E+98,-1.0879446199248808E+101,1,0,1,0]
[60.600000000000591,1.0576695267085738,9.9999999999999997E+98,-1.2500000000000001E+101,1.2500399993600206E+101,-89.541643541999562,0.87121381112019436,-0.24098649531342622,1.0890521118951288E+101,-89.541643541999562,8.7121381112020095E+98,-1.089017263900243E+101,-3.5355904731176385E+50,-44.770821770999781,-2.5100199196022536E+50,2.4900200795977737E+50,8.7121381112020095E+98,-1.089017263900243E+101,8.7121381112020095E+98,-1.089017263900243E+101,1,0,1,0]
[60.700000000000593,1.0594148559605683,9.9999999999999997E+98,-1.2500000000000001E+101,1.2500399993600206E+101,-89.541643541999562,0.87206927243212562,-0.23949518407970308,1.090121472752948E+101,-89.541643541999562,8.7206927243213235E+98,-1.0900865905401573E+101,-3.5355904731176385E+50,-44.770821770999781,-2.5100199196022536E+50,2.4900200795977737E+50,8.7206927243213235E+98,-1.0900865905401573E+101,8.7206927243213235E+98,-1.0900865905401573E+101,1,0,1,0]
[60.800000000000594,1.0611601852125627,9.9999999999999997E+98,-1.2500000000000001E+101,1.2500399993600206E+101,-89.541643541999562,0.87292207726981474,-0.23800704701495162,1.0911875129117071E+101,-89.541643541999562,8.7292207726982139E+98,-1.0911525965872686E+101,-3.5355904731176385E+50,-44.770821770999781,-2.5100199196022536E+50,2.4900200795977737E+50,8.7292207726982139E+98,-1.0911525965872686E+101,8.7292207726982139E+98,-1.0911525965872686E+101,1,0,1,0]
[60.900000000000595,1.0629055144645569,9.9999999999999997E+98,-1.2500000000000001E+101,1.2500399993600206E+101,-89.541643541999562,0.8737722230354702,-0.23652210225165254,1.092250229124063E+101,-89.541643541999562,8.7377222303547682E+98,-1.0922152787943378E+101,-3.5355904731176385E+50,-44.770821770999781,-2.5100199196022536E+50,2.4900200795977737E+50,8.7377222303547682E+98,-1.0922152787943378E+101,8.7377222303547682E+98,-1.0922152787943378E+101,1,0,1,0]
[61.000000000000597,1.0646508437165514,9.9999999999999997E+98,-1.2500000000000001E+101,1.2500399993600206E+101,-89.541643541999562,0.87461970713940085,-0.23504036788338872,1.093309618152798E+101,-89.541643541999562,8.746197071394075E+98,-1.0932746339242511E+101,-3.5355904731176385E+50,-44.770821770999781,-2.5100199196022536E+50,2.4900200795977737E+50,8.746197071394075E+98,-1.0932746339242511E+101,8.746197071394075E+98,-1.0932746339242511E+101,1,0,1,0]
[61.100000000000598,1.0663961729685456,9.9999999999999997E+98,-1.2500000000000001E+101,1.2500399993600206E+101,-89.541643541999562,0.87546452700002275,-0.23356186196462633,1.0943656767708292E+101,-89.541643541999562,8.7546452700002951E+98,-1.0943306587500286E+101,-3.5355904731176385E+50,-44.770821770999781,-2.5100199196022536E+50,2.4900200795977737E+50,8.7546452700002951E+98,-1.0943306587500286E+101,8.7546452700002951E+98,-1.0943306587500286E+101,1,0,1,0]
[61.2000000000006,1.0681415022205401,9.9999999999999997E+98,-1.2500000000000001E+101,1.2500399993600206E+101,-89.541643541999562,0.87630668004386858,-0.23208660251049296,1.0954184017612192E+101,-89.541643541999562,8.7630668004387527E+98,-1.0953833500548358E+101,-3.5355904731176385E+50,-44.770821770999781,-2.5100199196022536E+50,2.4900200795977737E+50,8.7630668004387527E+98,-1.0953833500548358E+101,8.7630668004387527E+98,-1.0953833500548358E+101,1,0,1,0]
[61.300000000000601,1.0698868314725345,9.9999999999999997E+98,-1.2500000000000001E+101,1.2500399993600206E+101,-89.541643541999562,0.87714616370559384,-0.23061460749655963,1.0964677899171851E+101,-89.541643541999562,8.771461637056005E+98,-1.0964327046319924E+101,-3.5355904731176385E+50,-44.770821770999781,-2.5100199196022536E+50,2.4900200795977737E+50,8.771461637056005E+98,-1.0964327046319924E+101,8.771461637056005E+98,-1.0964327046319924E+101,1,0,1,0]
[61.400000000000603,1.0716321607245287,9.9999999999999997E+98,-1.2500000000000001E+101,1.2500399993600206E+101,-89.541643541999562,0.87798297542798553,-0.22914589485862139,1.097513838042108E+101,-89.541643541999562,8.7798297542799219E+98,-1.097478719284982E+101,-3.5355904731176385E+50,-44.770821770999781,-2.5100199196022536E+50,2.4900200795977737E+50,8.7798297542799219E+98,-1.097478719284982E+101,8.7798297542799219E+98,-1.097478719284982E+101,1,0,1,0]
[61.500000000000604,1.0733774899765232,9.9999999999999997E+98,-1.2500000000000001E+101,1.2500399993600206E+101,-89.541643541999562,0.87881711266197038,-0.22768048249247766,1.0985565429495446E+101,-89.541643541999562,8.7881711266197697E+98,-1.0985213908274629E+101,-3.5355904731176385E+50,-44.770821770999781,-2.5100199196022536E+50,2.4900200795977737E+50,8.7881711266197697E+98,-1.0985213908274629E+101,8.7881711266197697E+98,-1.0985213908274629E+101,1,0,1,0]
[61.600000000000605,1.0751228192285174,9.9999999999999997E+98,-1.2500000000000001E+101,1.2500399993600206E+101,-89.541643541999562,0.87964857286662146,-0.22621838825371618,1.0995959014632346E+101,-89.541643541999562,8.7964857286662821E+98,-1.0995607160832769E+101,-3.5355904731176385E+50,-44.770821770999781,-2.5100199196022536E+50,2.4900200795977737E+50,8.7964857286662821E+98,-1.0995607160832769E+101,8.7964857286662821E+98,-1.0995607160832769E+101,1,0,1,0]
[61.700000000000607,1.0768681484805118,9.9999999999999997E+98,-1.2500000000000001E+101,1.2500399993600206E+101,-89.541643541999562,0.88047735350916689,-0.22475962995749349,1.1006319104171116E+101,-89.541643541999562,8.8047735350917361E+98,-1.1005966918864587E+101,-3.5355904731176385E+50,-44.770821770999781,-2.5100199196022536E+50,2.4900200795977737E+50,8.8047735350917361E+98,-1.1005966918864587E+101,8.8047735350917361E+98,-1.1005966918864587E+101,1,0,1,0]
[61.800000000000608,1.0786134777325063,9.9999999999999997E+98,-1.2500000000000001E+101,1.2500399993600206E+101,-89.541643541999562,0.88130345206499727,-0.22330422537831915,1.1016645666553131E+101,-89.541643541999562,8.8130345206500396E+98,-1.1016293150812466E+101,-3.5355904731176385E+50,-44.770821770999781,-2.5100199196022536E+50,2.4900200795977737E+50,8.8130345206500396E+98,-1.1016293150812466E+101,8.8130345206500396E+98,-1.1016293150812466E+101,1,0,1,0]
[61.90000000000061,1.0803588069845005,9.9999999999999997E+98,-1.2500000000000001E+101,1.2500399993600206E+101,-89.541643541999562,0.88212686601767276,-0.22185219224983888,1.1026938670321886E+101,-89.541643541999562,8.8212686601767949E+98,-1.1026585825220911E+101,-3.5355904731176385E+50,-44.770821770999781,-2.5100199196022536E+50,2.4900200795977737E+50,8.8212686601767949E+98,-1.1026585825220911E+101,8.8212686601767949E+98,-1.1026585825220911E+101,1,0,1,0]
[62.000000000000611,1.0821041362364949,9.9999999999999997E+98,-1.2500000000000001E+101,1.2500399993600206E+101,-89.541643541999562,0.88294759285893187,-0.2204035482646178,1.1037198084123109E+101,-89.541643541999562,8.8294759285893853E+98,-1.1036844910736648E+101,-3.5355904731176385E+50,-44.770821770999781,-2.5100199196022536E+50,2.4900200795977737E+50,8.8294759285893853E+98,-1.1036844910736648E+101,8.8294759285893853E+98,-1.1036844910736648E+101,1,0,1,0]
[62.100000000000612,1.0838494654884891,9.9999999999999997E+98,-1.2500000000000001E+101,1.2500399993600206E+101,-89.541643541999562,0.88376563008869835,-0.21895831107392605,1.1047423876704848E+101,-89.541643541999562,8.8376563008870514E+98,-1.1047070376108732E+101,-3.5355904731176385E+50,-44.770821770999781,-2.5100199196022536E+50,2.4900200795977737E+50,8.8376563008870514E+98,-1.1047070376108732E+101,8.8376563008870514E+98,-1.1047070376108732E+101,1,0,1,0]
[62.200000000000614,1.0855947947404836,9.9999999999999997E+98,-1.2500000000000001E+101,1.2500399993600206E+101,-89.541643541999562,0.88458097521508894,-0.21751649828752226,1.1057616016917562E+101,-89.541643541999562,8.845809752150957E+98,-1.1057262190188614E+101,-3.5355904731176385E+50,-44.770821770999781,-2.5100199196022536E+50,2.4900200795977737E+50,8.845809752150957E+98,-1.1057262190188614E+101,8.845809752150957E+98,-1.1057262190188614E+101,1,0,1,0]
[62.300000000000615,1.087340123992478,9.9999999999999997E+98,-1.2500000000000001E+101,1.2500399993600206E+101,-89.541643541999562,0.88539362575442082,-0.21607812747344055,1.1067774473714225E+101,-89.541643541999562,8.8539362575442746E+98,-1.106742032193026E+101,-3.5355904731176385E+50,-44.770821770999781,-2.5100199196022536E+50,2.4900200795977737E+50,8.8539362575442746E+98,-1.106742032193026E+101,8.8539362575442746E+98,-1.106742032193026E+101,1,0,1,0]
[62.400000000000617,1.0890854532444723,9.9999999999999997E+98,-1.2500000000000001E+101,1.2500399993600206E+101,-89.541643541999562,0.88620357923121962,-0.21464321615777546,1.1077899216150417E+101,-89.541643541999562,8.862035792312263E+98,-1.1077544740390246E+101,-3.5355904731176385E+50,-44.770821770999781,-2.5100199196022536E+50,2.4900200795977737E+50,8.862035792312263E+98,-1.1077544740390246E+101,8.862035792312263E+98,-1.1077544740390246E+101,1,0,1,0]
[62.500000000000618,1.0908307824964667,9.9999999999999997E+98,-1.2500000000000001E+101,1.2500399993600206E+101,-89.541643541999562,0.8870108331782266,-0.21321178182446818,1.1087990213384417E+101,-89.541643541999562,8.8701083317823327E+98,-1.1087635414727833E+101,-3.5355904731176385E+50,-44.770821770999781,-2.5100199196022536E+50,2.4900200795977737E+50,8.8701083317823327E+98,-1.1087635414727833E+101,8.8701083317823327E+98,-1.1087635414727833E+101,1,0,1,0]
[62.60000000000062,1.0925761117484609,9.9999999999999997E+98,-1.2500000000000001E+101,1.2500399993600206E+101,-89.541643541999562,0.88781538513640623,-0.21178384191509469,1.1098047434677298E+101,-89.541643541999562,8.8781538513641299E+98,-1.1097692314205079E+101,-3.5355904731176385E+50,-44.770821770999781,-2.5100199196022536E+50,2.4900200795977737E+50,8.8781538513641299E+98,-1.1097692314205079E+101,8.8781538513641299E+98,-1.1097692314205079E+101,1,0,1,0]
[62.700000000000621,1.0943214410004554,9.9999999999999997E+98,-1.2500000000000001E+101,1.2500399993600206E+101,-89.541643541999562,0.88861723265495374,-0.21035941382865186,1.1108070849393016E+101,-89.541643541999562,8.8861723265496043E+98,-1.1107715408186921E+101,-3.5355904731176385E+50,-44.770821770999781,-2.5100199196022536E+50,2.4900200795977737E+50,8.8861723265496043E+98,-1.1107715408186921E+101,8.8861723265496043E+98,-1.1107715408186921E+101,1,0,1,0]
[62.800000000000622,1.0960667702524498,9.9999999999999997E+98,-1.2500000000000001E+101,1.2500399993600206E+101,-89.541643541999562,0.88941637329130252,-0.20893851492134646,1.1118060426998517E+101,-89.541643541999562,8.8941637329130931E+98,-1.1117704666141283E+101,-3.5355904731176385E+50,-44.770821770999781,-2.5100199196022536E+50,2.4900200795977737E+50,8.8941637329130931E+98,-1.1117704666141283E+101,8.8941637329130931E+98,-1.1117704666141283E+101,1,0,1,0]
[62.900000000000624,1.097812099504444,9.9999999999999997E+98,-1.2500000000000001E+101,1.2500399993600206E+101,-89.541643541999562,0.89021280461113139,-0.20752116250638358,1.1128016137063808E+101,-89.541643541999562,8.9021280461113816E+98,-1.1127660057639143E+101,-3.5355904731176385E+50,-44.770821770999781,-2.5100199196022536E+50,2.4900200795977737E+50,8.9021280461113816E+98,-1.1127660057639143E+101,8.9021280461113816E+98,-1.1127660057639143E+101,1,0,1,0]
[63.000000000000625,1.0995574287564385,9.9999999999999997E+98,-1.2500000000000001E+101,1.2500399993600206E+101,-89.541643541999562,0.89100652418837278,-0.20610737385375469,1.1137937949262077E+101,-89.541643541999562,8.9100652418837964E+98,-1.1137581552354662E+101,-3.5355904731176385E+50,-44.770821770999781,-2.5100199196022536E+50,2.4900200795977737E+50,8.9100652418837964E+98,-1.1137581552354662E+101,8.9100652418837964E+98,-1.1137581552354662E+101,1,0,1,0]
[63.100000000000627,1.1013027580084329,9.9999999999999997E+98,-1.2500000000000001E+101,1.2500399993600206E+101,-89.541643541999562,0.89179752960521907,-0.20469716619002848,1.114782583336976E+101,-89.541643541999562,8.9179752960522582E+98,-1.1147469120065239E+101,-3.5355904731176385E+50,-44.770821770999781,-2.5100199196022536E+50,2.4900200795977737E+50,8.9179752960522582E+98,-1.1147469120065239E+101,8.9179752960522582E+98,-1.1147469120065239E+101,1,0,1,0]
[63.200000000000628,1.1030480872604271,9.9999999999999997E+98,-1.2500000000000001E+101,1.2500399993600206E+101,-89.541643541999562,0.89258581845213036,-0.20329055669814058,1.1157679759266646E+101,-89.541643541999562,8.9258581845213724E+98,-1.1157322730651632E+101,-3.5355904731176385E+50,-44.770821770999781,-2.5100199196022536E+50,2.4900200795977737E+50,8.9258581845213724E+98,-1.1157322730651632E+101,8.9258581845213724E+98,-1.1157322730651632E+101,1,0,1,0]
[63.30000000000063,1.1047934165124216,9.9999999999999997E+98,-1.2500000000000001E+101,1.2500399993600206E+101,-89.541643541999562,0.89337138832784246,-0.20188756251718329,1.116749969693597E+101,-89.541643541999562,8.9337138832784936E+98,-1.1167142354098033E+101,-3.5355904731176385E+50,-44.770821770999781,-2.5100199196022536E+50,2.4900200795977737E+50,8.9337138832784936E+98,-1.1167142354098033E+101,8.9337138832784936E+98,-1.1167142354098033E+101,1,0,1,0]
[63.400000000000631,1.1065387457644158,9.9999999999999997E+98,-1.2500000000000001E+101,1.2500399993600206E+101,-89.541643541999562,0.89415423683937301,-0.20048820074219839,1.1177285616464495E+101,-89.541643541999562,8.9415423683937972E+98,-1.1176927960492162E+101,-3.5355904731176385E+50,-44.770821770999781,-2.5100199196022536E+50,2.4900200795977737E+50,8.9415423683937972E+98,-1.1176927960492162E+101,8.9415423683937972E+98,-1.1176927960492162E+101,1,0,1,0]
[63.500000000000632,1.1082840750164102,9.9999999999999997E+98,-1.2500000000000001E+101,1.2500399993600206E+101,-89.541643541999562,0.89493436160202999,-0.19909248842396712,1.118703748804262E+101,-89.541643541999562,8.9493436160203682E+98,-1.1186679520025376E+101,-3.5355904731176385E+50,-44.770821770999781,-2.5100199196022536E+50,2.4900200795977737E+50,8.9493436160203682E+98,-1.1186679520025376E+101,8.9493436160203682E+98,-1.1186679520025376E+101,1,0,1,0]
[63.600000000000634,1.1100294042684047,9.9999999999999997E+98,-1.2500000000000001E+101,1.2500399993600206E+101,-89.541643541999562,0.89571176023941779,-0.19770044256880376,1.1196755281964447E+101,-89.541643541999562,8.9571176023942459E+98,-1.1196397002992724E+101,-3.5355904731176385E+50,-44.770821770999781,-2.5100199196022536E+50,2.4900200795977737E+50,8.9571176023942459E+98,-1.1196397002992724E+101,8.9571176023942459E+98,-1.1196397002992724E+101,1,0,1,0]
[63.700000000000635,1.1117747335203989,9.9999999999999997E+98,-1.2500000000000001E+101,1.2500399993600206E+101,-89.541643541999562,0.89648643038344533,-0.19631208013834794,1.1206438968627892E+101,-89.541643541999562,8.9648643038345222E+98,-1.1206080379793069E+101,-3.5355904731176385E+50,-44.770821770999781,-2.5100199196022536E+50,2.4900200795977737E+50,8.9648643038345222E+98,-1.1206080379793069E+101,8.9648643038345222E+98,-1.1206080379793069E+101,1,0,1,0]
[63.800000000000637,1.1135200627723933,9.9999999999999997E+98,-1.2500000000000001E+101,1.2500399993600206E+101,-89.541643541999562,0.89725836967433337,-0.1949274180493574,1.1216088518534768E+101,-89.541643541999562,8.9725836967434016E+98,-1.1215729620929168E+101,-3.5355904731176385E+50,-44.770821770999781,-2.5100199196022536E+50,2.4900200795977737E+50,8.9725836967434016E+98,-1.1215729620929168E+101,8.9725836967434016E+98,-1.1215729620929168E+101,1,0,1,0]
[63.900000000000638,1.1152653920243876,9.9999999999999997E+98,-1.2500000000000001E+101,1.2500399993600206E+101,-89.541643541999562,0.89802757576062042,-0.1935464731735031,1.1225703902290868E+101,-89.541643541999562,8.980275757606272E+98,-1.1225344697007756E+101,-3.5355904731176385E+50,-44.770821770999781,-2.5100199196022536E+50,2.4900200795977737E+50,8.980275757606272E+98,-1.1225344697007756E+101,8.980275757606272E+98,-1.1225344697007756E+101,1,0,1,0]
[64.000000000000639,1.117010721276382,9.9999999999999997E+98,-1.2500000000000001E+101,1.2500399993600206E+101,-89.541643541999562,0.89879404629917181,-0.19216926233716214,1.1235285090606071E+101,-89.541643541999562,8.9879404629917869E+98,-1.1234925578739649E+101,-3.5355904731176385E+50,-44.770821770999781,-2.5100199196022536E+50,2.4900200795977737E+50,8.9879404629917869E+98,-1.1234925578739649E+101,8.9879404629917869E+98,-1.1234925578739649E+101,{"$f":"(Q645*S645+T645*R645)/((S645^2)+(T645^2))","v":1},0,1,0]
[64.100000000000634,{"$f":"A646*PI()/180","v":1.1187560505283762},{"$f":"$D$1","v":9.9999999999999997E+98},{"$f":"-(18000*$G$1/$N$1)","v":-1.2500000000000001E+101},{"$f":"(C646^2+D646^2)^0.5","v":1.2500399993600206E+101},{"$f":"(180/PI())*ATAN(D646/C646)","v":-89.541643541999562},{"$f":"SIN(B646)","v":0.89955777895518507},{"$f":"-((COS(B646))^2)","v":-0.19079580232121429},{"$f":"E646*G646","v":1.1244832054294411E+101},{"$f":"F646","v":-89.541643541999562},{"$f":"(((I646^2)/(1+(TAN(J646*(PI()/180)))^2))^0.5)","v":8.9955777895519183E+98},{"$f":"K646*TAN(J646*(PI()/180))","v":-1.1244472236939813E+101},{"$f":"-(((((C646+H646)^2)+(D646)^2)^0.5)^0.5)","v":-3.5355904731176385E+50},{"$f":"((ATAN(D646/(C646+H646)))*(180/PI()))/2","v":-44.770821770999781},{"$f":"-(((M646^2)/(1+(TAN(N646*(PI()/180)))^2))^0.5)","v":-2.5100199196022536E+50},{"$f":"O646*TAN(N646*(PI()/180))","v":2.4900200795977737E+50},8.9955777895519183E+98,-1.1244472236939813E+101,{"$f":"-O646+K646","v":8.9955777895519183E+98},{"$f":"L646-P646","v":-1.1244472236939813E+101},1,{"$f":"(R646*S646-Q646*T646)/((S646^2)+(T646^2))","v":0},{"$f":"((U646^2)+(V646^2))^0.5","v":1},{"$f":"(ACOS(U646/W646))*(180/PI())","v":0}]
[{"$f":"A646+0.1","v":64.200000000000628},1.1205013797803705,9.9999999999999997E+98,-1.2500000000000001E+101,1.2500399993600206E+101,-89.541643541999562,0.90031877140219829,-0.18942610986083633,1.1254344764274184E+101,-89.541643541999562,9.0031877140220515E+98,-1.1253984642527479E+101,-3.5355904731176385E+50,-44.770821770999781,-2.5100199196022536E+50,2.4900200795977737E+50,9.0031877140220515E+98,-1.1253984642527479E+101,9.0031877140220515E+98,-1.1253984642527479E+101,1,0,1,0]
[64.300000000000622,1.1222467090323647,9.9999999999999997E+98,-1.2500000000000001E+101,1.2500399993600206E+101,-89.541643541999562,0.90107702132209622,-0.18806020164529849,1.1263823191568024E+101,-89.541643541999562,9.0107702132210301E+98,-1.1263462766526203E+101,-3.5355904731176385E+50,-44.770821770999781,-2.5100199196022536E+50,2.4900200795977737E+50,9.0107702132210301E+98,-1.1263462766526203E+101,9.0107702132210301E+98,-1.1263462766526203E+101,1,0,1,0]
[64.400000000000617,1.1239920382843589,9.9999999999999997E+98,-1.2500000000000001E+101,1.2500399993600206E+101,-89.541643541999562,0.90183252640511835,-0.18669809431776146,1.1273267307302998E+101,-89.541643541999562,9.0183252640512519E+98,-1.127290658006398E+101,-3.5355904731176385E+50,-44.770821770999781,-2.5100199196022536E+50,2.4900200795977737E+50,9.0183252640512519E+98,-1.127290658006398E+101,9.0183252640512519E+98,-1.127290658006398E+101,1,0,1,0]
[64.500000000000611,1.1257373675363533,9.9999999999999997E+98,-1.2500000000000001E+101,1.2500399993600206E+101,-89.541643541999562,0.90258528434986529,-0.18533980447507289,1.1282677082710695E+101,-89.541643541999562,9.0258528434987211E+98,-1.1282316054373316E+101,-3.5355904731176385E+50,-44.770821770999781,-2.5100199196022536E+50,2.4900200795977737E+50,9.0258528434987211E+98,-1.1282316054373316E+101,9.0258528434987211E+98,-1.1282316054373316E+101,1,0,1,0]
[64.600000000000605,1.1274826967883476,9.9999999999999997E+98,-1.2500000000000001E+101,1.2500399993600206E+101,-89.541643541999562,0.90333529286330538,-0.1839853486675663,1.1292052489127302E+101,-89.541643541999562,9.0333529286331224E+98,-1.1291691160791318E+101,-3.5355904731176385E+50,-44.770821770999781,-2.5100199196022536E+50,2.4900200795977737E+50,9.0333529286331224E+98,-1.1291691160791318E+101,9.0333529286331224E+98,-1.1291691160791318E+101,1,0,1,0]
[64.7000000000006,1.1292280260403416,9.9999999999999997E+98,-1.2500000000000001E+101,1.2500399993600206E+101,-89.541643541999562,0.90408254966078283,-0.18263474339885821,1.1301393497993707E+101,-89.541643541999562,9.0408254966078962E+98,-1.1301031870759785E+101,-3.5355904731176385E+50,-44.770821770999781,-2.5100199196022536E+50,2.4900200795977737E+50,9.0408254966078962E+98,-1.1301031870759785E+101,9.0408254966078962E+98,-1.1301031870759785E+101,1,0,1,0]
[64.800000000000594,1.1309733552923358,9.9999999999999997E+98,-1.2500000000000001E+101,1.2500399993600206E+101,-89.541643541999562,0.90482705246602391,-0.18128800512564727,1.1310700080855579E+101,-89.541643541999562,9.048270524660309E+98,-1.1310338155825301E+101,-3.5355904731176385E+50,-44.770821770999781,-2.5100199196022536E+50,2.4900200795977737E+50,9.048270524660309E+98,-1.1310338155825301E+101,9.048270524660309E+98,-1.1310338155825301E+101,1,0,1,0]
[64.900000000000588,1.1327186845443302,9.9999999999999997E+98,-1.2500000000000001E+101,1.2500399993600206E+101,-89.541643541999562,0.90556879901114395,-0.17994515025751434,1.131997220936345E+101,-89.541643541999562,9.0556879901115082E+98,-1.1319609987639301E+101,-3.5355904731176385E+50,-44.770821770999781,-2.5100199196022536E+50,2.4900200795977737E+50,9.0556879901115082E+98,-1.1319609987639301E+101,9.0556879901115082E+98,-1.1319609987639301E+101,1,0,1,0]
[65.000000000000583,1.1344640137963244,9.9999999999999997E+98,-1.2500000000000001E+101,1.2500399993600206E+101,-89.541643541999562,0.90630778703665427,-0.17860619515672252,1.132920985527281E+101,-89.541643541999562,9.0630778703666119E+98,-1.132884733795818E+101,-3.5355904731176385E+50,-44.770821770999781,-2.5100199196022536E+50,2.4900200795977737E+50,9.0630778703666119E+98,-1.132884733795818E+101,9.0630778703666119E+98,-1.132884733795818E+101,1,0,1,0]
[65.100000000000577,1.1362093430483187,9.9999999999999997E+98,-1.2500000000000001E+101,1.2500399993600206E+101,-89.541643541999562,0.90704401429146919,-0.17727115613801703,1.1338412990444187E+101,-89.541643541999562,9.070440142914762E+98,-1.1338050178643368E+101,-3.5355904731176385E+50,-44.770821770999781,-2.5100199196022536E+50,2.4900200795977737E+50,9.070440142914762E+98,-1.1338050178643368E+101,9.070440142914762E+98,-1.1338050178643368E+101,1,0,1,0]
[65.200000000000571,1.1379546723003127,9.9999999999999997E+98,-1.2500000000000001E+101,1.2500399993600206E+101,-89.541643541999562,0.9077774785329128,-0.17594004946842709,1.1347581586843235E+101,-89.541643541999562,9.0777747853291977E+98,-1.1347218481661413E+101,-3.5355904731176385E+50,-44.770821770999781,-2.5100199196022536E+50,2.4900200795977737E+50,9.0777747853291977E+98,-1.1347218481661413E+101,9.0777747853291977E+98,-1.1347218481661413E+101,1,0,1,0]
[65.300000000000566,1.1397000015523071,9.9999999999999997E+98,-1.2500000000000001E+101,1.2500399993600206E+101,-89.541643541999562,0.90850817752672597,-0.17461289136706701,1.135671561654082E+101,-89.541643541999562,9.0850817752673289E+98,-1.1356352219084076E+101,-3.5355904731176385E+50,-44.770821770999781,-2.5100199196022536E+50,2.4900200795977737E+50,9.0850817752673289E+98,-1.1356352219084076E+101,9.0850817752673289E+98,-1.1356352219084076E+101,1,0,1,0]
[65.40000000000056,1.1414453308043013,9.9999999999999997E+98,-1.2500000000000001E+101,1.2500399993600206E+101,-89.541643541999562,0.90923610904707264,-0.17328969800493987,1.1365815051713104E+101,-89.541643541999562,9.0923610904707961E+98,-1.1365451363088409E+101,-3.5355904731176385E+50,-44.770821770999781,-2.5100199196022536E+50,2.4900200795977737E+50,9.0923610904707961E+98,-1.1365451363088409E+101,9.0923610904707961E+98,-1.1365451363088409E+101,1,0,1,0]
[65.500000000000554,1.1431906600562955,9.9999999999999997E+98,-1.2500000000000001E+101,1.2500399993600206E+101,-89.541643541999562,0.90996127087654721,-0.17197048550473906,1.1374879864641625E+101,-89.541643541999562,9.0996127087655407E+98,-1.137451588595684E+101,-3.5355904731176385E+50,-44.770821770999781,-2.5100199196022536E+50,2.4900200795977737E+50,9.0996127087655407E+98,-1.137451588595684E+101,9.0996127087655407E+98,-1.137451588595684E+101,1,0,1,0]
[65.600000000000549,1.1449359893082898,9.9999999999999997E+98,-1.2500000000000001E+101,1.2500399993600206E+101,-89.541643541999562,0.91068366080618102,-0.17065526994065255,1.1383910027713397E+101,-89.541643541999562,9.1068366080618789E+98,-1.1383545760077264E+101,-3.5355904731176385E+50,-44.770821770999781,-2.5100199196022536E+50,2.4900200795977737E+50,9.1068366080618789E+98,-1.1383545760077264E+101,9.1068366080618789E+98,-1.1383545760077264E+101,1,0,1,0]
[65.700000000000543,1.146681318560284,9.9999999999999997E+98,-1.2500000000000001E+101,1.2500399993600206E+101,-89.541643541999562,0.91140327663544918,-0.16934406733816698,1.1392905513420976E+101,-89.541643541999562,9.1140327663545617E+98,-1.1392540957943116E+101,-3.5355904731176385E+50,-44.770821770999781,-2.5100199196022536E+50,2.4900200795977737E+50,9.1140327663545617E+98,-1.1392540957943116E+101,9.1140327663545617E+98,-1.1392540957943116E+101,1,0,1,0]
[65.800000000000537,1.1484266478122782,9.9999999999999997E+98,-1.2500000000000001E+101,1.2500399993600206E+101,-89.541643541999562,0.91212011617227684,-0.1680368936738722,1.1401866294362549E+101,-89.541643541999562,9.1212011617228374E+98,-1.1401501452153462E+101,-3.5355904731176385E+50,-44.770821770999781,-2.5100199196022536E+50,2.4900200795977737E+50,9.1212011617228374E+98,-1.1401501452153462E+101,9.1212011617228374E+98,-1.1401501452153462E+101,1,0,1,0]
[65.900000000000531,1.1501719770642724,9.9999999999999997E+98,-1.2500000000000001E+101,1.2500399993600206E+101,-89.541643541999562,0.91283417723304661,-0.16673376487526687,1.1410792343242025E+101,-89.541643541999562,9.1283417723305358E+98,-1.1410427215413084E+101,-3.5355904731176385E+50,-44.770821770999781,-2.5100199196022536E+50,2.4900200795977737E+50,9.1283417723305358E+98,-1.1410427215413084E+101,9.1283417723305358E+98,-1.1410427215413084E+101,1,0,1,0]
[66.000000000000526,1.1519173063162667,9.9999999999999997E+98,-1.2500000000000001E+101,1.2500399993600206E+101,-89.541643541999562,0.91354545764260464,-0.16543469682056411,1.1419683632869112E+101,-89.541643541999562,9.1354545764261154E+98,-1.1419318220532559E+101,-3.5355904731176385E+50,-44.770821770999781,-2.5100199196022536E+50,2.4900200795977737E+50,9.1354545764261154E+98,-1.1419318220532559E+101,9.1354545764261154E+98,-1.1419318220532559E+101,1,0,1,0]
[66.10000000000052,1.1536626355682609,9.9999999999999997E+98,-1.2500000000000001E+101,1.2500399993600206E+101,-89.541643541999562,0.91425395523426733,-0.1641397053384982,1.1428540136159398E+101,-89.541643541999562,9.1425395523427423E+98,-1.1428174440428342E+101,-3.5355904731176385E+50,-44.770821770999781,-2.5100199196022536E+50,2.4900200795977737E+50,9.1425395523427423E+98,-1.1428174440428342E+101,9.1425395523427423E+98,-1.1428174440428342E+101,1,0,1,0]
[66.200000000000514,1.1554079648202551,9.9999999999999997E+98,-1.2500000000000001E+101,1.2500399993600206E+101,-89.541643541999562,0.91495966784982841,-0.16284880620813172,1.1437361826134441E+101,-89.541643541999562,9.1495966784983535E+98,-1.1436995848122856E+101,-3.5355904731176385E+50,-44.770821770999781,-2.5100199196022536E+50,2.4900200795977737E+50,9.1495966784983535E+98,-1.1436995848122856E+101,9.1495966784983535E+98,-1.1436995848122856E+101,1,0,1,0]
[66.300000000000509,1.1571532940722493,9.9999999999999997E+98,-1.2500000000000001E+101,1.2500399993600206E+101,-89.541643541999562,0.91566259333956457,-0.16156201515866317,1.1446148675921841E+101,-89.541643541999562,9.1566259333957151E+98,-1.1445782416744558E+101,-3.5355904731176385E+50,-44.770821770999781,-2.5100199196022536E+50,2.4900200795977737E+50,9.1566259333957151E+98,-1.1445782416744558E+101,9.1566259333957151E+98,-1.1445782416744558E+101,1,0,1,0]
[66.400000000000503,1.1588986233242435,9.9999999999999997E+98,-1.2500000000000001E+101,1.2500399993600206E+101,-89.541643541999562,0.91636272956224307,-0.16027934786923534,1.1454900658755331E+101,-89.541643541999562,9.1636272956225009E+98,-1.145453411952804E+101,-3.5355904731176385E+50,-44.770821770999781,-2.5100199196022536E+50,2.4900200795977737E+50,9.1636272956225009E+98,-1.145453411952804E+101,9.1636272956225009E+98,-1.145453411952804E+101,1,0,1,0]
[66.500000000000497,1.1606439525762378,9.9999999999999997E+98,-1.2500000000000001E+101,1.2500399993600206E+101,-89.541643541999562,0.91706007438512749,-0.15900081996874446,1.1463617747974852E+101,-89.541643541999562,9.1706007438513453E+98,-1.1463250929814095E+101,-3.5355904731176385E+50,-44.770821770999781,-2.5100199196022536E+50,2.4900200795977737E+50,9.1706007438513453E+98,-1.1463250929814095E+101,9.1706007438513453E+98,-1.1463250929814095E+101,1,0,1,0]
[66.600000000000492,1.162389281828232,9.9999999999999997E+98,-1.2500000000000001E+101,1.2500399993600206E+101,-89.541643541999562,0.91775462568398447,-0.1577264470356495,1.1472299917026639E+101,-89.541643541999562,9.1775462568399141E+98,-1.1471932821049806E+101,-3.5355904731176385E+50,-44.770821770999781,-2.5100199196022536E+50,2.4900200795977737E+50,9.1775462568399141E+98,-1.1471932821049806E+101,9.1775462568399141E+98,-1.1471932821049806E+101,1,0,1,0]
[66.700000000000486,1.1641346110802264,9.9999999999999997E+98,-1.2500000000000001E+101,1.2500399993600206E+101,-89.541643541999562,0.91844638134309053,-0.15645624459778226,1.1480947139463302E+101,-89.541643541999562,9.1844638134309745E+98,-1.1480579766788631E+101,-3.5355904731176385E+50,-44.770821770999781,-2.5100199196022536E+50,2.4900200795977737E+50,9.1844638134309745E+98,-1.1480579766788631E+101,9.1844638134309745E+98,-1.1480579766788631E+101,1,0,1,0]
[66.80000000000048,1.1658799403322204,9.9999999999999997E+98,-1.2500000000000001E+101,1.2500399993600206E+101,-89.541643541999562,0.91913533925523772,-0.15519022813215913,1.1489559388943896E+101,-89.541643541999562,9.1913533925524455E+98,-1.148919174069047E+101,-3.5355904731176385E+50,-44.770821770999781,-2.5100199196022536E+50,2.4900200795977737E+50,{"$f":"K673+O673","v":9.1913533925524455E+98},-1.148919174069047E+101,9.1913533925524455E+98,-1.148919174069047E+101,1,0,1,0]
[66.900000000000475,1.1676252695842146,9.9999999999999997E+98,-1.2500000000000001E+101,1.2500399993600206E+101,-89.541643541999562,0.91982149732174079,-0.15392841306479071,1.149813663923402E+101,-89.541643541999562,9.1982149732174773E+98,-1.149776871652176E+101,-3.5355904731176385E+50,-44.770821770999781,-2.5100199196022536E+50,2.4900200795977737E+50,9.1982149732174773E+98,-1.149776871652176E+101,9.1982149732174773E+98,-1.149776871652176E+101,1,0,1,0]
[67.000000000000469,1.1693705988362089,9.9999999999999997E+98,-1.2500000000000001E+101,1.2500399993600206E+101,-89.541643541999562,0.92050485345244348,-0.15267081477049554,1.1506678864205883E+101,-89.541643541999562,9.2050485345245041E+98,-1.1506310668155544E+101,-3.5355904731176385E+50,-44.770821770999781,-2.5100199196022536E+50,2.4900200795977737E+50,9.2050485345245041E+98,-1.1506310668155544E+101,9.2050485345245041E+98,-1.1506310668155544E+101,1,0,1,0]
[67.100000000000463,1.1711159280882033,9.9999999999999997E+98,-1.2500000000000001E+101,1.2500399993600206E+101,-89.541643541999562,0.92118540556572437,-0.15141744857271186,1.1515186037838384E+101,-89.541643541999562,9.2118540556573142E+98,-1.1514817569571556E+101,-3.5355904731176385E+50,-44.770821770999781,-2.5100199196022536E+50,2.4900200795977737E+50,9.2118540556573142E+98,-1.1514817569571556E+101,9.2118540556573142E+98,-1.1514817569571556E+101,1,0,1,0]
[67.200000000000458,1.1728612573401975,9.9999999999999997E+98,-1.2500000000000001E+101,1.2500399993600206E+101,-89.541643541999562,0.92186315158850363,-0.15016832974331154,1.1523658134217196E+101,-89.541643541999562,9.218631515885106E+98,-1.1523289394856296E+101,-3.5355904731176385E+50,-44.770821770999781,-2.5100199196022536E+50,2.4900200795977737E+50,9.218631515885106E+98,-1.1523289394856296E+101,9.218631515885106E+98,-1.1523289394856296E+101,1,0,1,0]
[67.300000000000452,1.1746065865921915,9.9999999999999997E+98,-1.2500000000000001E+101,1.2500399993600206E+101,-89.541643541999562,0.92253808945624938,-0.14892347350241328,1.1532095127534846E+101,-89.541643541999562,9.225380894562563E+98,-1.1531726118203118E+101,-3.5355904731176385E+50,-44.770821770999781,-2.5100199196022536E+50,2.4900200795977737E+50,9.225380894562563E+98,-1.1531726118203118E+101,9.225380894562563E+98,-1.1531726118203118E+101,1,0,1,0]
[67.400000000000446,1.1763519158441857,9.9999999999999997E+98,-1.2500000000000001E+101,1.2500399993600206E+101,-89.541643541999562,0.92321021711298379,-0.14768289501819726,1.1540496992090787E+101,-89.541643541999562,9.2321021711299079E+98,-1.1540127713912298E+101,-3.5355904731176385E+50,-44.770821770999781,-2.5100199196022536E+50,2.4900200795977737E+50,9.2321021711299079E+98,-1.1540127713912298E+101,9.2321021711299079E+98,-1.1540127713912298E+101,1,0,1,0]
[67.500000000000441,1.1780972450961802,9.9999999999999997E+98,-1.2500000000000001E+101,1.2500399993600206E+101,-89.541643541999562,0.92387953251128974,-0.14644660940672077,1.1548863702291487E+101,-89.541643541999562,9.2387953251129672E+98,-1.1548494156391122E+101,-3.5355904731176385E+50,-44.770821770999781,-2.5100199196022536E+50,2.4900200795977737E+50,9.2387953251129672E+98,-1.1548494156391122E+101,9.2387953251129672E+98,-1.1548494156391122E+101,1,0,1,0]
[67.600000000000435,1.1798425743481744,9.9999999999999997E+98,-1.2500000000000001E+101,1.2500399993600206E+101,-89.541643541999562,0.92454603361231602,-0.14521463173173418,1.1557195232650492E+101,-89.541643541999562,9.2454603361232305E+98,-1.1556825420153951E+101,-3.5355904731176385E+50,-44.770821770999781,-2.5100199196022536E+50,2.4900200795977737E+50,9.2454603361232305E+98,-1.1556825420153951E+101,9.2454603361232305E+98,-1.1556825420153951E+101,1,0,1,0]
[67.700000000000429,1.1815879036001686,9.9999999999999997E+98,-1.2500000000000001E+101,1.2500399993600206E+101,-89.541643541999562,0.92520971838578492,-0.14398697700449647,1.1565491557788514E+101,-89.541643541999562,9.2520971838579186E+98,-1.1565121479822312E+101,-3.5355904731176385E+50,-44.770821770999781,-2.5100199196022536E+50,2.4900200795977737E+50,9.2520971838579186E+98,-1.1565121479822312E+101,9.2520971838579186E+98,-1.1565121479822312E+101,1,0,1,0]
[67.800000000000423,1.1833332328521626,9.9999999999999997E+98,-1.2500000000000001E+101,1.2500399993600206E+101,-89.541643541999562,0.92587058480999751,-0.14276366018359327,1.1573752652433512E+101,-89.541643541999562,9.2587058481000455E+98,-1.157338231012497E+101,-3.5355904731176385E+50,-44.770821770999781,-2.5100199196022536E+50,2.4900200795977737E+50,9.2587058481000455E+98,-1.157338231012497E+101,9.2587058481000455E+98,-1.157338231012497E+101,1,0,1,0]
[67.900000000000418,1.1850785621041571,9.9999999999999997E+98,-1.2500000000000001E+101,1.2500399993600206E+101,-89.541643541999562,0.92652863087184012,-0.14154469617475354,1.1581978491420757E+101,-89.541643541999562,9.2652863087184716E+98,-1.1581607885898003E+101,-3.5355904731176385E+50,-44.770821770999781,-2.5100199196022536E+50,2.4900200795977737E+50,9.2652863087184716E+98,-1.1581607885898003E+101,9.2652863087184716E+98,-1.1581607885898003E+101,1,0,1,0]
[68.000000000000412,1.1868238913561513,9.9999999999999997E+98,-1.2500000000000001E+101,1.2500399993600206E+101,-89.541643541999562,0.92718385456679009,-0.14033009983066944,1.1590169049692916E+101,-89.541643541999562,9.2718385456679696E+98,-1.1589798182084874E+101,-3.5355904731176385E+50,-44.770821770999781,-2.5100199196022536E+50,2.4900200795977737E+50,9.2718385456679696E+98,-1.1589798182084874E+101,9.2718385456679696E+98,-1.1589798182084874E+101,1,0,1,0]
[68.100000000000406,1.1885692206081455,9.9999999999999997E+98,-1.2500000000000001E+101,1.2500399993600206E+101,-89.541643541999562,0.92783625389892266,-0.13911988595081401,1.1598324302300132E+101,-89.541643541999562,9.2783625389892982E+98,-1.1597953173736536E+101,-3.5355904731176385E+50,-44.770821770999781,-2.5100199196022536E+50,2.4900200795977737E+50,9.2783625389892982E+98,-1.1597953173736536E+101,9.2783625389892982E+98,-1.1597953173736536E+101,1,0,1,0]
[68.200000000000401,1.1903145498601397,9.9999999999999997E+98,-1.2500000000000001E+101,1.2500399993600206E+101,-89.541643541999562,0.92848582688091608,-0.13791406928126143,1.1606444224400086E+101,-89.541643541999562,9.2848582688092315E+98,-1.1606072836011452E+101,-3.5355904731176385E+50,-44.770821770999781,-2.5100199196022536E+50,2.4900200795977737E+50,9.2848582688092315E+98,-1.1606072836011452E+101,9.2848582688092315E+98,-1.1606072836011452E+101,1,0,1,0]
[68.300000000000395,1.192059879112134,9.9999999999999997E+98,-1.2500000000000001E+101,1.2500399993600206E+101,-89.541643541999562,0.9291325715340587,-0.13671266451450734,1.161452879125809E+101,-89.541643541999562,9.2913257153406571E+98,-1.1614157144175734E+101,-3.5355904731176385E+50,-44.770821770999781,-2.5100199196022536E+50,2.4900200795977737E+50,9.2913257153406571E+98,-1.1614157144175734E+101,9.2913257153406571E+98,-1.1614157144175734E+101,1,0,1,0]
[68.400000000000389,1.1938052083641282,9.9999999999999997E+98,-1.2500000000000001E+101,1.2500399993600206E+101,-89.541643541999562,0.9297764858882539,-0.13551568628928964,1.1622577978247151E+101,-89.541643541999562,9.2977648588826093E+98,-1.1622206073603174E+101,-3.5355904731176385E+50,-44.770821770999781,-2.5100199196022536E+50,2.4900200795977737E+50,9.2977648588826093E+98,-1.1622206073603174E+101,9.2977648588826093E+98,-1.1622206073603174E+101,1,0,1,0]
[68.500000000000384,1.1955505376161224,9.9999999999999997E+98,-1.2500000000000001E+101,1.2500399993600206E+101,-89.541643541999562,0.93041756798202702,-0.13432314919041022,1.163059176084805E+101,-89.541643541999562,9.3041756798203403E+98,-1.1630219599775337E+101,-3.5355904731176385E+50,-44.770821770999781,-2.5100199196022536E+50,2.4900200795977737E+50,9.3041756798203403E+98,-1.1630219599775337E+101,9.3041756798203403E+98,-1.1630219599775337E+101,1,0,1,0]
[68.600000000000378,1.1972958668681166,9.9999999999999997E+98,-1.2500000000000001E+101,1.2500399993600206E+101,-89.541643541999562,0.93105581586253072,-0.13313506774855741,1.1638570114649414E+101,-89.541643541999562,9.3105581586253774E+98,-1.1638197698281635E+101,-3.5355904731176385E+50,-44.770821770999781,-2.5100199196022536E+50,2.4900200795977737E+50,9.3105581586253774E+98,-1.1638197698281635E+101,9.3105581586253774E+98,-1.1638197698281635E+101,1,0,1,0]
[68.700000000000372,1.1990411961201108,9.9999999999999997E+98,-1.2500000000000001E+101,1.2500399993600206E+101,-89.541643541999562,0.93169122758555123,-0.13195145644012848,1.1646513015347792E+101,-89.541643541999562,9.3169122758555826E+98,-1.1646140344819391E+101,-3.5355904731176385E+50,-44.770821770999781,-2.5100199196022536E+50,2.4900200795977737E+50,9.3169122758555826E+98,-1.1646140344819391E+101,9.3169122758555826E+98,-1.1646140344819391E+101,1,0,1,0]
[68.800000000000367,1.2007865253721053,9.9999999999999997E+98,-1.2500000000000001E+101,1.2500399993600206E+101,-89.541643541999562,0.93232380121551461,-0.13077232968705368,1.1654420438747739E+101,-89.541643541999562,9.3232380121552169E+98,-1.1654047515193934E+101,-3.5355904731176385E+50,-44.770821770999781,-2.5100199196022536E+50,2.4900200795977737E+50,9.3232380121552169E+98,-1.1654047515193934E+101,9.3232380121552169E+98,-1.1654047515193934E+101,1,0,1,0]
[68.900000000000361,1.2025318546240993,9.9999999999999997E+98,-1.2500000000000001E+101,1.2500399993600206E+101,-89.541643541999562,0.93295353482549126,-0.12959770185662081,1.166229236076186E+101,-89.541643541999562,9.3295353482549841E+98,-1.1661919185318643E+101,-3.5355904731176385E+50,-44.770821770999781,-2.5100199196022536E+50,2.4900200795977737E+50,9.3295353482549841E+98,-1.1661919185318643E+101,9.3295353482549841E+98,-1.1661919185318643E+101,1,0,1,0]
[69.000000000000355,1.2042771838760935,9.9999999999999997E+98,-1.2500000000000001E+101,1.2500399993600206E+101,-89.541643541999562,0.93358042649720396,-0.12842758726129883,1.1670128757410926E+101,-89.541643541999562,9.3358042649721106E+98,-1.166975533121505E+101,-3.5355904731176385E+50,-44.770821770999781,-2.5100199196022536E+50,2.4900200795977737E+50,9.3358042649721106E+98,-1.166975533121505E+101,9.3358042649721106E+98,-1.166975533121505E+101,1,0,1,0]
[69.10000000000035,1.2060225131280877,9.9999999999999997E+98,-1.2500000000000001E+101,1.2500399993600206E+101,-89.541643541999562,0.9342044743210316,-0.1272620001585649,1.1677929604823907E+101,-89.541643541999562,9.3420447432103871E+98,-1.1677555929012896E+101,-3.5355904731176385E+50,-44.770821770999781,-2.5100199196022536E+50,2.4900200795977737E+50,9.3420447432103871E+98,-1.1677555929012896E+101,9.3420447432103871E+98,-1.1677555929012896E+101,1,0,1,0]
[69.200000000000344,1.2077678423800822,9.9999999999999997E+98,-1.2500000000000001E+101,1.2500399993600206E+101,-89.541643541999562,0.93482567639601666,-0.12610095475072999,1.1685694879238074E+101,-89.541643541999562,9.3482567639602374E+98,-1.1685320954950209E+101,-3.5355904731176385E+50,-44.770821770999781,-2.5100199196022536E+50,2.4900200795977737E+50,9.3482567639602374E+98,-1.1685320954950209E+101,9.3482567639602374E+98,-1.1685320954950209E+101,1,0,1,0]
[69.300000000000338,1.2095131716320764,9.9999999999999997E+98,-1.2500000000000001E+101,1.2500399993600206E+101,-89.541643541999562,0.93544403082986949,-0.12494446518476628,1.1693424556999051E+101,-89.541643541999562,9.354440308298765E+98,-1.1693050385373369E+101,-3.5355904731176385E+50,-44.770821770999781,-2.5100199196022536E+50,2.4900200795977737E+50,9.354440308298765E+98,-1.1693050385373369E+101,9.354440308298765E+98,-1.1693050385373369E+101,1,0,1,0]
[69.400000000000333,1.2112585008840704,9.9999999999999997E+98,-1.2500000000000001E+101,1.2500399993600206E+101,-89.541643541999562,0.93605953573897527,-0.12379254555213408,1.1701118614560898E+101,-89.541643541999562,9.3605953573898233E+98,-1.1700744196737192E+101,-3.5355904731176385E+50,-44.770821770999781,-2.5100199196022536E+50,2.4900200795977737E+50,9.3605953573898233E+98,-1.1700744196737192E+101,9.3605953573898233E+98,-1.1700744196737192E+101,1,0,1,0]
[69.500000000000327,1.2130038301360646,9.9999999999999997E+98,-1.2500000000000001E+101,1.2500399993600206E+101,-89.541643541999562,0.93667218924839957,-0.12264520988861037,1.1708777028486185E+101,-89.541643541999562,9.3667218924840662E+98,-1.1708402365604995E+101,-3.5355904731176385E+50,-44.770821770999781,-2.5100199196022536E+50,2.4900200795977737E+50,9.3667218924840662E+98,-1.1708402365604995E+101,9.3667218924840662E+98,-1.1708402365604995E+101,1,0,1,0]
[69.600000000000321,1.2147491593880591,9.9999999999999997E+98,-1.2500000000000001E+101,1.2500399993600206E+101,-89.541643541999562,0.93728198949189345,-0.12150247217411808,1.1716399775446053E+101,-89.541643541999562,9.3728198949190048E+98,-1.1716024868648668E+101,-3.5355904731176385E+50,-44.770821770999781,-2.5100199196022536E+50,2.4900200795977737E+50,9.3728198949190048E+98,-1.1716024868648668E+101,9.3728198949190048E+98,-1.1716024868648668E+101,1,0,1,0]
[69.700000000000315,1.2164944886400533,9.9999999999999997E+98,-1.2500000000000001E+101,1.2500399993600206E+101,-89.541643541999562,0.93788893461189959,-0.12036434633255597,1.1723986832220294E+101,-89.541643541999562,9.3788893461190672E+98,-1.1723611682648746E+101,-3.5355904731176385E+50,-44.770821770999781,-2.5100199196022536E+50,2.4900200795977737E+50,9.3788893461190672E+98,-1.1723611682648746E+101,9.3788893461190672E+98,-1.1723611682648746E+101,1,0,1,0]
[69.80000000000031,1.2182398178920475,9.9999999999999997E+98,-1.2500000000000001E+101,1.2500399993600206E+101,-89.541643541999562,0.93849302275955782,-0.11923084623162811,1.1731538175697415E+101,-89.541643541999562,9.3849302275956504E+98,-1.1731162784494475E+101,-3.5355904731176385E+50,-44.770821770999781,-2.5100199196022536E+50,2.4900200795977737E+50,9.3849302275956504E+98,-1.1731162784494475E+101,9.3849302275956504E+98,-1.1731162784494475E+101,1,0,1,0]
[69.900000000000304,1.2199851471440415,9.9999999999999997E+98,-1.2500000000000001E+101,1.2500399993600206E+101,-89.541643541999562,0.93909425209471087,-0.1181019856826756,1.1739053782874715E+101,-89.541643541999562,9.3909425209471801E+98,-1.1738678151183888E+101,-3.5355904731176385E+50,-44.770821770999781,-2.5100199196022536E+50,2.4900200795977737E+50,9.3909425209471801E+98,-1.1738678151183888E+101,9.3909425209471801E+98,-1.1738678151183888E+101,1,0,1,0]
[70.000000000000298,1.2217304763960359,9.9999999999999997E+98,-1.2500000000000001E+101,1.2500399993600206E+101,-89.541643541999562,0.9396926207859102,-0.11697777844050762,1.1746533630858352E+101,-89.541643541999562,9.3969262078591734E+98,-1.1746157759823878E+101,-3.5355904731176385E+50,-44.770821770999781,-2.5100199196022536E+50,2.4900200795977737E+50,9.3969262078591734E+98,-1.1746157759823878E+101,9.3969262078591734E+98,-1.1746157759823878E+101,1,0,1,0]
[70.100000000000293,1.2234758056480302,9.9999999999999997E+98,-1.2500000000000001E+101,1.2500399993600206E+101,-89.541643541999562,0.94028812701042064,-0.11585823820323506,1.1753977696863412E+101,-89.541643541999562,9.4028812701042782E+98,-1.1753601587630259E+101,-3.5355904731176385E+50,-44.770821770999781,-2.5100199196022536E+50,2.4900200795977737E+50,9.4028812701042782E+98,-1.1753601587630259E+101,9.4028812701042782E+98,-1.1753601587630259E+101,1,0,1,0]
[70.200000000000287,1.2252211349000244,9.9999999999999997E+98,-1.2500000000000001E+101,1.2500399993600206E+101,-89.541643541999562,0.94088076895422712,-0.11474337861210218,1.1761385958213977E+101,-89.541643541999562,9.408807689542343E+98,-1.176100961192784E+101,-3.5355904731176385E+50,-44.770821770999781,-2.5100199196022536E+50,2.4900200795977737E+50,9.408807689542343E+98,-1.176100961192784E+101,9.408807689542343E+98,-1.176100961192784E+101,1,0,1,0]
[70.300000000000281,1.2269664641520186,9.9999999999999997E+98,-1.2500000000000001E+101,1.2500399993600206E+101,-89.541643541999562,0.94147054481203962,-0.11363321325132138,1.1768758392343202E+101,-89.541643541999562,9.4147054481204675E+98,-1.1768381810150496E+101,-3.5355904731176385E+50,-44.770821770999781,-2.5100199196022536E+50,2.4900200795977737E+50,9.4147054481204675E+98,-1.1768381810150496E+101,9.4147054481204675E+98,-1.1768381810150496E+101,1,0,1,0]
[70.400000000000276,1.2287117934040128,9.9999999999999997E+98,-1.2500000000000001E+101,1.2500399993600206E+101,-89.541643541999562,0.94205745278729836,-0.11252775564790717,1.1776094976793371E+101,-89.541643541999562,9.420574527873055E+98,-1.177571815984123E+101,-3.5355904731176385E+50,-44.770821770999781,-2.5100199196022536E+50,2.4900200795977737E+50,9.420574527873055E+98,-1.177571815984123E+101,9.420574527873055E+98,-1.177571815984123E+101,{"$f":"(Q709*S709+T709*R709)/((S709^2)+(T709^2))","v":1},0,1,0]
[70.50000000000027,{"$f":"A710*PI()/180","v":1.230457122656007},{"$f":"$D$1","v":9.9999999999999997E+98},{"$f":"-(18000*$G$1/$N$1)","v":-1.2500000000000001E+101},{"$f":"(C710^2+D710^2)^0.5","v":1.2500399993600206E+101},{"$f":"(180/PI())*ATAN(D710/C710)","v":-89.541643541999562},{"$f":"SIN(B710)","v":0.94264149109217998},{"$f":"-((COS(B710))^2)","v":-0.11142701927151162},{"$f":"E710*G710","v":1.1783395689215976E+101},{"$f":"F710","v":-89.541643541999562},{"$f":"(((I710^2)/(1+(TAN(J710*(PI()/180)))^2))^0.5)","v":9.4264149109218718E+98},{"$f":"K710*TAN(J710*(PI()/180))","v":-1.1783018638652252E+101},{"$f":"-(((((C710+H710)^2)+(D710)^2)^0.5)^0.5)","v":-3.5355904731176385E+50},{"$f":"((ATAN(D710/(C710+H710)))*(180/PI()))/2","v":-44.770821770999781},{"$f":"-(((M710^2)/(1+(TAN(N710*(PI()/180)))^2))^0.5)","v":-2.5100199196022536E+50},{"$f":"O710*TAN(N710*(PI()/180))","v":2.4900200795977737E+50},9.4264149109218718E+98,-1.1783018638652252E+101,{"$f":"-O710+K710","v":9.4264149109218718E+98},{"$f":"L710-P710","v":-1.1783018638652252E+101},1,{"$f":"(R710*S710-Q710*T710)/((S710^2)+(T710^2))","v":0},{"$f":"((U710^2)+(V710^2))^0.5","v":1},{"$f":"(ACOS(U710/W710))*(180/PI())","v":0}]
[{"$f":"A710+0.1","v":70.600000000000264},1.2322024519080013,9.9999999999999997E+98,-1.2500000000000001E+101,1.2500399993600206E+101,-89.541643541999562,0.94322265794760252,-0.11033101753426008,1.179066050737178E+101,-89.541643541999562,9.4322265794760971E+98,-1.1790283224345033E+101,-3.5355904731176385E+50,-44.770821770999781,-2.5100199196022536E+50,2.4900200795977737E+50,9.4322265794760971E+98,-1.1790283224345033E+101,9.4322265794760971E+98,-1.1790283224345033E+101,1,0,1,0]
[70.700000000000259,1.2339477811599955,9.9999999999999997E+98,-1.2500000000000001E+101,1.2500399993600206E+101,-89.541643541999562,0.94380095158323085,-0.10923976379058782,1.1797889409130887E+101,-89.541643541999562,9.4380095158323798E+98,-1.1797511894790386E+101,-3.5355904731176385E+50,-44.770821770999781,-2.5100199196022536E+50,2.4900200795977737E+50,9.4380095158323798E+98,-1.1797511894790386E+101,9.4380095158323798E+98,-1.1797511894790386E+101,1,0,1,0]
[70.800000000000253,1.2356931104119897,9.9999999999999997E+98,-1.2500000000000001E+101,1.2500399993600206E+101,-89.541643541999562,0.94437637023748244,-0.1081532713370774,1.1805082372472811E+101,-89.541643541999562,9.443763702374896E+98,-1.1804704627968531E+101,-3.5355904731176385E+50,-44.770821770999781,-2.5100199196022536E+50,2.4900200795977737E+50,9.443763702374896E+98,-1.1804704627968531E+101,9.443763702374896E+98,-1.1804704627968531E+101,1,0,1,0]
[70.900000000000247,1.2374384396639839,9.9999999999999997E+98,-1.2500000000000001E+101,1.2500399993600206E+101,-89.541643541999562,0.94494891215753218,-0.10707155341229645,1.1812239375486537E+101,-89.541643541999562,9.4494891215753933E+98,-1.1811861401969153E+101,-3.5355904731176385E+50,-44.770821770999781,-2.5100199196022536E+50,2.4900200795977737E+50,9.4494891215753933E+98,-1.1811861401969153E+101,9.4494891215753933E+98,-1.1811861401969153E+101,1,0,1,0]
[71.000000000000242,1.2391837689159781,9.9999999999999997E+98,-1.2500000000000001E+101,1.2500399993600206E+101,-89.541643541999562,0.94551857559931818,-0.10599462319663648,1.1819360396370593E+101,-89.541643541999562,9.4551857559932536E+98,-1.1818982194991478E+101,-3.5355904731176385E+50,-44.770821770999781,-2.5100199196022536E+50,2.4900200795977737E+50,9.4551857559932536E+98,-1.1818982194991478E+101,9.4551857559932536E+98,-1.1818982194991478E+101,1,0,1,0]
[71.100000000000236,1.2409290981679724,9.9999999999999997E+98,-1.2500000000000001E+101,1.2500399993600206E+101,-89.541643541999562,0.94608535882754663,-0.10492249381215232,1.1826445413433112E+101,-89.541643541999562,9.4608535882755382E+98,-1.1826066985344334E+101,-3.5355904731176385E+50,-44.770821770999781,-2.5100199196022536E+50,2.4900200795977737E+50,9.4608535882755382E+98,-1.1826066985344334E+101,9.4608535882755382E+98,-1.1826066985344334E+101,1,0,1,0]
[71.20000000000023,1.2426744274199666,9.9999999999999997E+98,-1.2500000000000001E+101,1.2500399993600206E+101,-89.541643541999562,0.94664926011569761,-0.10385517832240225,1.1833494405091906E+101,-89.541643541999562,9.4664926011570483E+98,-1.1833115751446221E+101,-3.5355904731176385E+50,-44.770821770999781,-2.5100199196022536E+50,2.4900200795977737E+50,9.4664926011570483E+98,-1.1833115751446221E+101,9.4664926011570483E+98,-1.1833115751446221E+101,1,0,1,0]
[71.300000000000225,1.2444197566719608,9.9999999999999997E+98,-1.2500000000000001E+101,1.2500399993600206E+101,-89.541643541999562,0.94721027774603006,-0.10279268973228863,1.1840507349874524E+101,-89.541643541999562,9.4721027774603739E+98,-1.1840128471825379E+101,-3.5355904731176385E+50,-44.770821770999781,-2.5100199196022536E+50,2.4900200795977737E+50,9.4721027774603739E+98,-1.1840128471825379E+101,9.4721027774603739E+98,-1.1840128471825379E+101,1,0,1,0]
[71.400000000000219,1.2461650859239553,9.9999999999999997E+98,-1.2500000000000001E+101,1.2500399993600206E+101,-89.541643541999562,0.947768410009587,-0.10173504098789947,1.1847484226418319E+101,-89.541643541999562,9.4776841000959418E+98,-1.1847105125119839E+101,-3.5355904731176385E+50,-44.770821770999781,-2.5100199196022536E+50,2.4900200795977737E+50,9.4776841000959418E+98,-1.1847105125119839E+101,9.4776841000959418E+98,-1.1847105125119839E+101,1,0,1,0]
[71.500000000000213,1.2479104151759493,9.9999999999999997E+98,-1.2500000000000001E+101,1.2500399993600206E+101,-89.541643541999562,0.94832365520620043,-0.10068224497635139,1.1854425013470512E+101,-89.541643541999562,9.4832365520620761E+98,-1.1854045690077507E+101,-3.5355904731176385E+50,-44.770821770999781,-2.5100199196022536E+50,2.4900200795977737E+50,9.4832365520620761E+98,-1.1854045690077507E+101,9.4832365520620761E+98,-1.1854045690077507E+101,1,0,1,0]
[71.600000000000207,1.2496557444279435,9.9999999999999997E+98,-1.2500000000000001E+101,1.2500399993600206E+101,-89.541643541999562,0.94887601164449764,-9.9634314525631179E-2,1.1861329689888266E+101,-89.541643541999562,9.4887601164450478E+98,-1.1860950145556221E+101,-3.5355904731176385E+50,-44.770821770999781,-2.5100199196022536E+50,2.4900200795977737E+50,9.4887601164450478E+98,-1.1860950145556221E+101,9.4887601164450478E+98,-1.1860950145556221E+101,1,0,1,0]
[71.700000000000202,1.2514010736799377,9.9999999999999997E+98,-1.2500000000000001E+101,1.2500399993600206E+101,-89.541643541999562,0.94942547764190488,-9.8591262404440702E-2,1.1868198234638741E+101,-89.541643541999562,9.4942547764191212E+98,-1.1867818470523812E+101,-3.5355904731176385E+50,-44.770821770999781,-2.5100199196022536E+50,2.4900200795977737E+50,9.4942547764191212E+98,-1.1867818470523812E+101,9.4942547764191212E+98,-1.1867818470523812E+101,1,0,1,0]
[71.800000000000196,1.2531464029319321,9.9999999999999997E+98,-1.2500000000000001E+101,1.2500399993600206E+101,-89.541643541999562,0.94997205152465358,-9.7553101322040869E-2,1.1875030626799154E+101,-89.541643541999562,9.4997205152466083E+98,-1.1874650644058171E+101,-3.5355904731176385E+50,-44.770821770999781,-2.5100199196022536E+50,2.4900200795977737E+50,9.4997205152466083E+98,-1.1874650644058171E+101,9.4997205152466083E+98,-1.1874650644058171E+101,1,0,1,0]
[71.90000000000019,1.2548917321839264,9.9999999999999997E+98,-1.2500000000000001E+101,1.2500399993600206E+101,-89.541643541999562,0.9505157316277848,-9.6519843928097038E-2,1.1881826845556857E+101,-89.541643541999562,9.5051573162779212E+98,-1.1881446645347312E+101,-3.5355904731176385E+50,-44.770821770999781,-2.5100199196022536E+50,2.4900200795977737E+50,9.5051573162779212E+98,-1.1881446645347312E+101,9.5051573162779212E+98,-1.1881446645347312E+101,1,0,1,0]
[72.000000000000185,1.2566370614359204,9.9999999999999997E+98,-1.2500000000000001E+101,1.2500399993600206E+101,-89.541643541999562,0.95105651629515453,-9.5491502812524484E-2,1.1888586870209383E+101,-89.541643541999562,9.510565162951617E+98,-1.1888206453689433E+101,-3.5355904731176385E+50,-44.770821770999781,-2.5100199196022536E+50,2.4900200795977737E+50,9.510565162951617E+98,-1.1888206453689433E+101,9.510565162951617E+98,-1.1888206453689433E+101,1,0,1,0]
[72.100000000000179,1.2583823906879146,9.9999999999999997E+98,-1.2500000000000001E+101,1.2500399993600206E+101,-89.541643541999562,0.95159440387943905,-9.4468090505334959E-2,1.1895310680164532E+101,-89.541643541999562,9.5159440387944634E+98,-1.189493004849299E+101,-3.5355904731176385E+50,-44.770821770999781,-2.5100199196022536E+50,2.4900200795977737E+50,9.5159440387944634E+98,-1.189493004849299E+101,9.5159440387944634E+98,-1.189493004849299E+101,1,0,1,0]
[72.200000000000173,1.260127719939909,9.9999999999999997E+98,-1.2500000000000001E+101,1.2500399993600206E+101,-89.541643541999562,0.95212939274213959,-9.3449619476484405E-2,1.190199825494041E+101,-89.541643541999562,9.5212939274214687E+98,-1.1901617409276746E+101,-3.5355904731176385E+50,-44.770821770999781,-2.5100199196022536E+50,2.4900200795977737E+50,9.5212939274214687E+98,-1.1901617409276746E+101,9.5212939274214687E+98,-1.1901617409276746E+101,1,0,1,0]
[72.300000000000168,1.2618730491919032,9.9999999999999997E+98,-1.2500000000000001E+101,1.2500399993600206E+101,-89.541643541999562,0.95266148125358718,-9.243610213572119E-2,1.1908649574165503E+101,-89.541643541999562,9.5266148125359431E+98,-1.190826851566984E+101,-3.5355904731176385E+50,-44.770821770999781,-2.5100199196022536E+50,2.4900200795977737E+50,9.5266148125359431E+98,-1.190826851566984E+101,9.5266148125359431E+98,-1.190826851566984E+101,1,0,1,0]
[72.400000000000162,1.2636183784438975,9.9999999999999997E+98,-1.2500000000000001E+101,1.2500399993600206E+101,-89.541643541999562,0.95319066779294781,-9.1427550832434104E-2,1.1915264617578741E+101,-89.541643541999562,9.5319066779295504E+98,-1.1914883347411849E+101,-3.5355904731176385E+50,-44.770821770999781,-2.5100199196022536E+50,2.4900200795977737E+50,9.5319066779295504E+98,-1.1914883347411849E+101,9.5319066779295504E+98,-1.1914883347411849E+101,1,0,1,0]
[72.500000000000156,1.2653637076958915,9.9999999999999997E+98,-1.2500000000000001E+101,1.2500399993600206E+101,-89.541643541999562,0.95371695074822771,-9.0423977855502671E-2,1.1921843365029554E+101,-89.541643541999562,9.5371695074823494E+98,-1.1921461884352847E+101,-3.5355904731176385E+50,-44.770821770999781,-2.5100199196022536E+50,2.4900200795977737E+50,9.5371695074823494E+98,-1.1921461884352847E+101,9.5371695074823494E+98,-1.1921461884352847E+101,1,0,1,0]
[72.600000000000151,1.2671090369478859,9.9999999999999997E+98,-1.2500000000000001E+101,1.2500399993600206E+101,-89.541643541999562,0.95424032851627771,-8.9425395433146482E-2,1.1928385796477936E+101,-89.541643541999562,9.5424032851628502E+98,-1.1928004106453473E+101,-3.5355904731176385E+50,-44.770821770999781,-2.5100199196022536E+50,2.4900200795977737E+50,9.5424032851628502E+98,-1.1928004106453473E+101,9.5424032851628502E+98,-1.1928004106453473E+101,1,0,1,0]
[72.700000000000145,1.2688543661998801,9.9999999999999997E+98,-1.2500000000000001E+101,1.2500399993600206E+101,-89.541643541999562,0.95476079950279813,-8.8431815732777627E-2,1.1934891891994506E+101,-89.541643541999562,9.5476079950280535E+98,-1.1934509993784977E+101,-3.5355904731176385E+50,-44.770821770999781,-2.5100199196022536E+50,2.4900200795977737E+50,9.5476079950280535E+98,-1.1934509993784977E+101,9.5476079950280535E+98,-1.1934509993784977E+101,1,0,1,0]
[72.800000000000139,1.2705996954518743,9.9999999999999997E+98,-1.2500000000000001E+101,1.2500399993600206E+101,-89.541643541999562,0.9552783621223444,-8.7443250860851057E-2,1.1941361631760568E+101,-89.541643541999562,9.5527836212235167E+98,-1.1940979526529306E+101,-3.5355904731176385E+50,-44.770821770999781,-2.5100199196022536E+50,2.4900200795977737E+50,9.5527836212235167E+98,-1.1940979526529306E+101,9.5527836212235167E+98,-1.1940979526529306E+101,1,0,1,0]
[72.900000000000134,1.2723450247038686,9.9999999999999997E+98,-1.2500000000000001E+101,1.2500399993600206E+101,-89.541643541999562,0.95579301479833079,-8.6459712862717808E-2,1.1947794996068176E+101,-89.541643541999562,9.5579301479833818E+98,-1.1947412684979137E+101,-3.5355904731176385E+50,-44.770821770999781,-2.5100199196022536E+50,2.4900200795977737E+50,9.5579301479833818E+98,-1.1947412684979137E+101,9.5579301479833818E+98,-1.1947412684979137E+101,1,0,1,0]
[73.000000000000128,1.2740903539558628,9.9999999999999997E+98,-1.2500000000000001E+101,1.2500399993600206E+101,-89.541643541999562,0.9563047559630361,-8.5481213722477911E-2,1.1954191965320183E+101,-89.541643541999562,9.5630475596304333E+98,-1.1953809449537952E+101,-3.5355904731176385E+50,-44.770821770999781,-2.5100199196022536E+50,2.4900200795977737E+50,9.5630475596304333E+98,-1.1953809449537952E+101,9.5630475596304333E+98,-1.1953809449537952E+101,1,0,1,0]
[73.100000000000122,1.275835683207857,9.9999999999999997E+98,-1.2500000000000001E+101,1.2500399993600206E+101,-89.541643541999562,0.95681358405760797,-8.4507765362834678E-2,1.1960552520030312E+101,-89.541643541999562,9.5681358405761523E+98,-1.1960169800720101E+101,-3.5355904731176385E+50,-44.770821770999781,-2.5100199196022536E+50,2.4900200795977737E+50,9.5681358405761523E+98,-1.1960169800720101E+101,9.5681358405761523E+98,-1.1960169800720101E+101,1,0,1,0]
[73.200000000000117,1.2775810124598512,9.9999999999999997E+98,-1.2500000000000001E+101,1.2500399993600206E+101,-89.541643541999562,0.9573194975320678,-8.3539379644949147E-2,1.1966876640823213E+101,-89.541643541999562,9.5731949753207509E+98,-1.1966493719150848E+101,-3.5355904731176385E+50,-44.770821770999781,-2.5100199196022536E+50,2.4900200795977737E+50,{"$f":"K737+O737","v":9.5731949753207509E+98},-1.1966493719150848E+101,9.5731949753207509E+98,-1.1966493719150848E+101,1,0,1,0]
[73.300000000000111,1.2793263417118454,9.9999999999999997E+98,-1.2500000000000001E+101,1.2500399993600206E+101,-89.541643541999562,0.95782249484531545,-8.2576068368295702E-2,1.1973164308434514E+101,-89.541643541999562,9.5782249484532275E+98,-1.1972781185566444E+101,-3.5355904731176385E+50,-44.770821770999781,-2.5100199196022536E+50,2.4900200795977737E+50,9.5782249484532275E+98,-1.1972781185566444E+101,9.5782249484532275E+98,-1.1972781185566444E+101,1,0,1,0]
[73.400000000000105,1.2810716709638397,9.9999999999999997E+98,-1.2500000000000001E+101,1.2500399993600206E+101,-89.541643541999562,0.95832257446513369,-8.1617843270518201E-2,1.197941550371089E+101,-89.541643541999562,9.5832257446514101E+98,-1.1979032180814173E+101,-3.5355904731176385E+50,-44.770821770999781,-2.5100199196022536E+50,2.4900200795977737E+50,9.5832257446514101E+98,-1.1979032180814173E+101,9.5832257446514101E+98,-1.1979032180814173E+101,1,0,1,0]
[73.500000000000099,1.2828170002158339,9.9999999999999997E+98,-1.2500000000000001E+101,1.2500399993600206E+101,-89.541643541999562,0.9588197348681935,-8.0664716027287087E-2,1.1985630207610118E+101,-89.541643541999562,9.5881973486820086E+98,-1.198524668585242E+101,-3.5355904731176385E+50,-44.770821770999781,-2.5100199196022536E+50,2.4900200795977737E+50,9.5881973486820086E+98,-1.198524668585242E+101,9.5881973486820086E+98,-1.198524668585242E+101,1,0,1,0]
[73.600000000000094,1.2845623294678281,9.9999999999999997E+98,-1.2500000000000001E+101,1.2500399993600206E+101,-89.541643541999562,0.95931397454005796,-7.9716698252157034E-2,1.1991808401201128E+101,-89.541643541999562,9.5931397454006516E+98,-1.1991424681750724E+101,-3.5355904731176385E+50,-44.770821770999781,-2.5100199196022536E+50,2.4900200795977737E+50,9.5931397454006516E+98,-1.1991424681750724E+101,9.5931397454006516E+98,-1.1991424681750724E+101,1,0,1,0]
[73.700000000000088,1.2863076587198223,9.9999999999999997E+98,-1.2500000000000001E+101,1.2500399993600206E+101,-89.541643541999562,0.95980529197518727,-7.8773801496425461E-2,1.1997950065664075E+101,-89.541643541999562,9.5980529197519464E+98,-1.1997566149689844E+101,-3.5355904731176385E+50,-44.770821770999781,-2.5100199196022536E+50,2.4900200795977737E+50,9.5980529197519464E+98,-1.1997566149689844E+101,9.5980529197519464E+98,-1.1997566149689844E+101,1,0,1,0]
[73.800000000000082,1.2880529879718166,9.9999999999999997E+98,-1.2500000000000001E+101,1.2500399993600206E+101,-89.541643541999562,0.9602936856769434,-7.7836037248991755E-2,1.2004055182290382E+101,-89.541643541999562,9.6029368567695077E+98,-1.2003671070961795E+101,-3.5355904731176385E+50,-44.770821770999781,-2.5100199196022536E+50,2.4900200795977737E+50,9.6029368567695077E+98,-1.2003671070961795E+101,9.6029368567695077E+98,-1.2003671070961795E+101,1,0,1,0]
[73.900000000000077,1.2897983172238108,9.9999999999999997E+98,-1.2500000000000001E+101,1.2500399993600206E+101,-89.541643541999562,0.96077915415759441,-7.6903416936217356E-2,1.2010123732482805E+101,-89.541643541999562,9.6077915415760176E+98,-1.2009739426969932E+101,-3.5355904731176385E+50,-44.770821770999781,-2.5100199196022536E+50,2.4900200795977737E+50,9.6077915415760176E+98,-1.2009739426969932E+101,9.6077915415760176E+98,-1.2009739426969932E+101,1,0,1,0]
[74.000000000000071,1.2915436464758052,9.9999999999999997E+98,-1.2500000000000001E+101,1.2500399993600206E+101,-89.541643541999562,0.96126169593831923,-7.59759519217863E-2,1.2016155697755489E+101,-89.541643541999562,9.6126169593832661E+98,-1.2015771199228993E+101,-3.5355904731176385E+50,-44.770821770999781,-2.5100199196022536E+50,2.4900200795977737E+50,9.6126169593832661E+98,-1.2015771199228993E+101,9.6126169593832661E+98,-1.2015771199228993E+101,1,0,1,0]
[74.100000000000065,1.2932889757277992,9.9999999999999997E+98,-1.2500000000000001E+101,1.2500399993600206E+101,-89.541643541999562,0.96174130954921166,-7.5053653506567508E-2,1.202215105973402E+101,-89.541643541999562,9.6174130954921911E+98,-1.2021766369365148E+101,-3.5355904731176385E+50,-44.770821770999781,-2.5100199196022536E+50,2.4900200795977737E+50,9.6174130954921911E+98,-1.2021766369365148E+101,9.6174130954921911E+98,-1.2021766369365148E+101,1,0,1,0]
[74.20000000000006,1.2950343049797934,9.9999999999999997E+98,-1.2500000000000001E+101,1.2500399993600206E+101,-89.541643541999562,0.96221799352928561,-7.4136532928475718E-2,1.2028109800155485E+101,-89.541643541999562,9.6221799352929294E+98,-1.2027724919116072E+101,-3.5355904731176385E+50,-44.770821770999781,-2.5100199196022536E+50,2.4900200795977737E+50,9.6221799352929294E+98,-1.2027724919116072E+101,9.6221799352929294E+98,-1.2027724919116072E+101,1,0,1,0]
[74.300000000000054,1.2967796342317877,9.9999999999999997E+98,-1.2500000000000001E+101,1.2500399993600206E+101,-89.541643541999562,0.96269174642647903,-7.322460136233587E-2,1.2034031900868529E+101,-89.541643541999562,9.6269174642648627E+98,-1.2033646830330988E+101,-3.5355904731176385E+50,-44.770821770999781,-2.5100199196022536E+50,2.4900200795977737E+50,9.6269174642648627E+98,-1.2033646830330988E+101,9.6269174642648627E+98,-1.2033646830330988E+101,1,0,1,0]
[74.400000000000048,1.2985249634837821,9.9999999999999997E+98,-1.2500000000000001E+101,1.2500399993600206E+101,-89.541643541999562,0.96316256679765844,-7.2317869919746203E-2,1.2039917343833407E+101,-89.541643541999562,9.6316256679766579E+98,-1.2039532084970732E+101,-3.5355904731176385E+50,-44.770821770999781,-2.5100199196022536E+50,2.4900200795977737E+50,9.6316256679766579E+98,-1.2039532084970732E+101,9.6316256679766579E+98,-1.2039532084970732E+101,1,0,1,0]
[74.500000000000043,1.3002702927357763,9.9999999999999997E+98,-1.2500000000000001E+101,1.2500399993600206E+101,-89.541643541999562,0.96363045320862317,-7.1416349648943458E-2,1.2045766111122037E+101,-89.541643541999562,9.6363045320863055E+98,-1.2045380665107791E+101,-3.5355904731176385E+50,-44.770821770999781,-2.5100199196022536E+50,2.4900200795977737E+50,9.6363045320863055E+98,-1.2045380665107791E+101,9.6363045320863055E+98,-1.2045380665107791E+101,1,0,1,0]
[74.600000000000037,1.3020156219877703,9.9999999999999997E+98,-1.2500000000000001E+101,1.2500399993600206E+101,-89.541643541999562,0.96409540423411022,-7.052005153466756E-2,1.2051578184918059E+101,-89.541643541999562,9.6409540423411749E+98,-1.2051192552926378E+101,-3.5355904731176385E+50,-44.770821770999781,-2.5100199196022536E+50,2.4900200795977737E+50,9.6409540423411749E+98,-1.2051192552926378E+101,9.6409540423411749E+98,-1.2051192552926378E+101,1,0,1,0]
[74.700000000000031,1.3037609512397645,9.9999999999999997E+98,-1.2500000000000001E+101,1.2500399993600206E+101,-89.541643541999562,0.96455741845779819,-6.9628986498028012E-2,1.2057353547516892E+101,-89.541643541999562,9.6455741845780552E+98,-1.2056967730722479E+101,-3.5355904731176385E+50,-44.770821770999781,-2.5100199196022536E+50,2.4900200795977737E+50,9.6455741845780552E+98,-1.2056967730722479E+101,9.6455741845780552E+98,-1.2056967730722479E+101,1,0,1,0]
[74.800000000000026,1.305506280491759,9.9999999999999997E+98,-1.2500000000000001E+101,1.2500399993600206E+101,-89.541643541999562,0.96501649447231153,-6.8743165396371042E-2,1.2063092181325776E+101,-89.541643541999562,9.6501649447231881E+98,-1.2062706180903894E+101,-3.5355904731176385E+50,-44.770821770999781,-2.5100199196022536E+50,2.4900200795977737E+50,9.6501649447231881E+98,-1.2062706180903894E+101,9.6501649447231881E+98,-1.2062706180903894E+101,1,0,1,0]
[74.90000000000002,1.3072516097437532,9.9999999999999997E+98,-1.2500000000000001E+101,1.2500399993600206E+101,-89.541643541999562,0.96547263087922519,-6.786259902314748E-2,1.206879406886384E+101,-89.541643541999562,9.654726308792325E+98,-1.2068407885990316E+101,-3.5355904731176385E+50,-44.770821770999781,-2.5100199196022536E+50,2.4900200795977737E+50,9.654726308792325E+98,-1.2068407885990316E+101,9.654726308792325E+98,-1.2068407885990316E+101,1,0,1,0]
[75.000000000000014,1.3089969389957474,9.9999999999999997E+98,-1.2500000000000001E+101,1.2500399993600206E+101,-89.541643541999562,0.96592582628906831,-6.6987298107780549E-2,1.2074459192762142E+101,-89.541643541999562,9.6592582628907562E+98,-1.2074072828613354E+101,-3.5355904731176385E+50,-44.770821770999781,-2.5100199196022536E+50,2.4900200795977737E+50,9.6592582628907562E+98,-1.2074072828613354E+101,9.6592582628907562E+98,-1.2074072828613354E+101,1,0,1,0]
[75.100000000000009,1.3107422682477416,9.9999999999999997E+98,-1.2500000000000001E+101,1.2500399993600206E+101,-89.541643541999562,0.96637607932132941,-6.6117273315535713E-2,1.2080087535763738E+101,-89.541643541999562,9.6637607932133677E+98,-1.2079700991516619E+101,-3.5355904731176385E+50,-44.770821770999781,-2.5100199196022536E+50,2.4900200795977737E+50,9.6637607932133677E+98,-1.2079700991516619E+101,9.6637607932133677E+98,-1.2079700991516619E+101,1,0,1,0]
[75.2,1.3124875974997359,9.9999999999999997E+98,-1.2500000000000001E+101,1.2500399993600206E+101,-89.541643541999562,0.96682338860445938,-6.525253524739047E-2,1.2085679080723714E+101,-89.541643541999562,9.668233886044667E+98,-1.2085292357555743E+101,-3.5355904731176385E+50,-44.770821770999781,-2.5100199196022536E+50,2.4900200795977737E+50,9.668233886044667E+98,-1.2085292357555743E+101,9.668233886044667E+98,-1.2085292357555743E+101,1,0,1,0]
[75.3,1.3142329267517301,9.9999999999999997E+98,-1.2500000000000001E+101,1.2500399993600206E+101,-89.541643541999562,0.96726775277587673,-6.4393094439905332E-2,1.2091233810609255E+101,-89.541643541999562,9.6726775277588402E+98,-1.2090846909698459E+101,-3.5355904731176385E+50,-44.770821770999781,-2.5100199196022536E+50,2.4900200795977737E+50,9.6726775277588402E+98,-1.2090846909698459E+101,9.6726775277588402E+98,-1.2090846909698459E+101,1,0,1,0]
[75.399999999999991,1.3159782560037243,9.9999999999999997E+98,-1.2500000000000001E+101,1.2500399993600206E+101,-89.541643541999562,0.96770917048197114,-6.3538961365095251E-2,1.2096751708499692E+101,-89.541643541999562,9.6770917048197843E+98,-1.209636463102464E+101,-3.5355904731176385E+50,-44.770821770999781,-2.5100199196022536E+50,2.4900200795977737E+50,9.6770917048197843E+98,-1.209636463102464E+101,9.6770917048197843E+98,-1.209636463102464E+101,1,0,1,0]
[75.499999999999986,1.3177235852557185,9.9999999999999997E+98,-1.2500000000000001E+101,1.2500399993600206E+101,-89.541643541999562,0.96814764037810774,-6.2690146430302254E-2,1.2102232757586552E+101,-89.541643541999562,9.6814764037811504E+98,-1.2101845504726347E+101,-3.5355904731176385E+50,-44.770821770999781,-2.5100199196022536E+50,2.4900200795977737E+50,9.6814764037811504E+98,-1.2101845504726347E+101,9.6814764037811504E+98,-1.2101845504726347E+101,1,0,1,0]
[75.59999999999998,1.3194689145077128,9.9999999999999997E+98,-1.2500000000000001E+101,1.2500399993600206E+101,-89.541643541999562,0.96858316112863097,-6.1846659978068402E-2,1.2107676941173605E+101,-89.541643541999562,9.6858316112863831E+98,-1.2107289514107888E+101,-3.5355904731176385E+50,-44.770821770999781,-2.5100199196022536E+50,2.4900200795977737E+50,9.6858316112863831E+98,-1.2107289514107888E+101,9.6858316112863831E+98,-1.2107289514107888E+101,1,0,1,0]
[75.699999999999974,1.321214243759707,9.9999999999999997E+98,-1.2500000000000001E+101,1.2500399993600206E+101,-89.541643541999562,0.96901573140686936,-6.100851228600996E-2,1.2113084242676929E+101,-89.541643541999562,9.6901573140687671E+98,-1.2112696642585868E+101,-3.5355904731176385E+50,-44.770821770999781,-2.5100199196022536E+50,2.4900200795977737E+50,9.6901573140687671E+98,-1.2112696642585868E+101,9.6901573140687671E+98,-1.2112696642585868E+101,1,0,1,0]
[75.799999999999969,1.3229595730117012,9.9999999999999997E+98,-1.2500000000000001E+101,1.2500399993600206E+101,-89.541643541999562,0.96944534989513875,-6.0175713566692046E-2,1.2118454645624941E+101,-89.541643541999562,9.694453498951461E+98,-1.2118066873689236E+101,-3.5355904731176385E+50,-44.770821770999781,-2.5100199196022536E+50,2.4900200795977737E+50,9.694453498951461E+98,-1.2118066873689236E+101,9.694453498951461E+98,-1.2118066873689236E+101,1,0,1,0]
[75.899999999999963,1.3247049022636954,9.9999999999999997E+98,-1.2500000000000001E+101,1.2500399993600206E+101,-89.541643541999562,0.96987201528474665,-5.9348273967504243E-2,1.2123788133658466E+101,-89.541643541999562,9.6987201528475398E+98,-1.2123400191059334E+101,-3.5355904731176385E+50,-44.770821770999781,-2.5100199196022536E+50,2.4900200795977737E+50,9.6987201528475398E+98,-1.2123400191059334E+101,9.6987201528475398E+98,-1.2123400191059334E+101,1,0,1,0]
[75.999999999999957,1.3264502315156896,9.9999999999999997E+98,-1.2500000000000001E+101,1.2500399993600206E+101,-89.541643541999562,0.97029572627599625,-5.8526203570536922E-2,1.212908469053077E+101,-89.541643541999562,9.702957262760035E+98,-1.2128696578449953E+101,-3.5355904731176385E+50,-44.770821770999781,-2.5100199196022536E+50,2.4900200795977737E+50,9.702957262760035E+98,-1.2128696578449953E+101,9.702957262760035E+98,-1.2128696578449953E+101,1,0,1,0]
[76.099999999999952,1.3281955607676841,9.9999999999999997E+98,-1.2500000000000001E+101,1.2500399993600206E+101,-89.541643541999562,0.97071648157819057,-5.7709512392458362E-2,1.2134344300107628E+101,-89.541643541999562,9.7071648157819796E+98,-1.2133956019727383E+101,-3.5355904731176385E+50,-44.770821770999781,-2.5100199196022536E+50,2.4900200795977737E+50,9.7071648157819796E+98,-1.2133956019727383E+101,9.7071648157819796E+98,-1.2133956019727383E+101,1,0,1,0]
[76.199999999999946,1.3299408900196781,9.9999999999999997E+98,-1.2500000000000001E+101,1.2500399993600206E+101,-89.541643541999562,0.97113427990963586,-5.6898210384393133E-2,1.2139566946367352E+101,-89.541643541999562,9.7113427990964322E+98,-1.2139178498870449E+101,-3.5355904731176385E+50,-44.770821770999781,-2.5100199196022536E+50,2.4900200795977737E+50,9.7113427990964322E+98,-1.2139178498870449E+101,9.7113427990964322E+98,-1.2139178498870449E+101,1,0,1,0]
[76.29999999999994,1.3316862192716723,9.9999999999999997E+98,-1.2500000000000001E+101,1.2500399993600206E+101,-89.541643541999562,0.97154911999764593,-5.6092307431799868E-2,1.2144752613400859E+101,-89.541643541999562,9.715491199976533E+98,-1.2144363999970574E+101,-3.5355904731176385E+50,-44.770821770999781,-2.5100199196022536E+50,2.4900200795977737E+50,9.715491199976533E+98,-1.2144363999970574E+101,9.715491199976533E+98,-1.2144363999970574E+101,1,0,1,0]
[76.399999999999935,1.3334315485236665,9.9999999999999997E+98,-1.2500000000000001E+101,1.2500399993600206E+101,-89.541643541999562,0.97196100057854595,-5.5291813354351821E-2,1.2149901285411705E+101,-89.541643541999562,9.7196100057855329E+98,-1.2149512507231825E+101,-3.5355904731176385E+50,-44.770821770999781,-2.5100199196022536E+50,2.4900200795977737E+50,9.7196100057855329E+98,-1.2149512507231825E+101,9.7196100057855329E+98,-1.2149512507231825E+101,1,0,1,0]
[76.499999999999929,1.335176877775661,9.9999999999999997E+98,-1.2500000000000001E+101,1.2500399993600206E+101,-89.541643541999562,0.97236992039767633,-5.4496737905816592E-2,1.2155012946716146E+101,-89.541643541999562,9.7236992039768373E+98,-1.2154624004970955E+101,-3.5355904731176385E+50,-44.770821770999781,-2.5100199196022536E+50,2.4900200795977737E+50,9.7236992039768373E+98,-1.2154624004970955E+101,9.7236992039768373E+98,-1.2154624004970955E+101,1,0,1,0]
[76.599999999999923,1.3369222070276552,9.9999999999999997E+98,-1.2500000000000001E+101,1.2500399993600206E+101,-89.541643541999562,0.97277587820939626,-5.3707090773937823E-2,1.2160087581743171E+101,-89.541643541999562,9.7277587820940361E+98,-1.2159698477617454E+101,-3.5355904731176385E+50,-44.770821770999781,-2.5100199196022536E+50,2.4900200795977737E+50,9.7277587820940361E+98,-1.2159698477617454E+101,9.7277587820940361E+98,-1.2159698477617454E+101,1,0,1,0]
[76.699999999999918,1.3386675362796492,9.9999999999999997E+98,-1.2500000000000001E+101,1.2500399993600206E+101,-89.541643541999562,0.97317887277708781,-5.2922881580316633E-2,1.2165125175034564E+101,-89.541643541999562,9.7317887277709515E+98,-1.2164735909713598E+101,-3.5355904731176385E+50,-44.770821770999781,-2.5100199196022536E+50,2.4900200795977737E+50,9.7317887277709515E+98,-1.2164735909713598E+101,9.7317887277709515E+98,-1.2164735909713598E+101,1,0,1,0]
[76.799999999999912,1.3404128655316434,9.9999999999999997E+98,-1.2500000000000001E+101,1.2500399993600206E+101,-89.541643541999562,0.97357890287315985,-5.2144119880294333E-2,1.2170125711244942E+101,-89.541643541999562,9.7357890287316719E+98,-1.2169736285914499E+101,-3.5355904731176385E+50,-44.770821770999781,-2.5100199196022536E+50,2.4900200795977737E+50,9.7357890287316719E+98,-1.2169736285914499E+101,9.7357890287316719E+98,-1.2169736285914499E+101,{"$f":"(Q773*S773+T773*R773)/((S773^2)+(T773^2))","v":1},0,1,0]
[76.899999999999906,{"$f":"A774*PI()/180","v":1.3421581947836378},{"$f":"$D$1","v":9.9999999999999997E+98},{"$f":"-(18000*$G$1/$N$1)","v":-1.2500000000000001E+101},{"$f":"(C774^2+D774^2)^0.5","v":1.2500399993600206E+101},{"$f":"(180/PI())*ATAN(D774/C774)","v":-89.541643541999562},{"$f":"SIN(B774)","v":0.97397596727905122},{"$f":"-((COS(B774))^2)","v":-5.1370815162836488E-2},{"$f":"E774*G774","v":1.2175089175141806E+101},{"$f":"F774","v":-89.541643541999562},{"$f":"(((I774^2)/(1+(TAN(J774*(PI()/180)))^2))^0.5)","v":9.7397596727905868E+98},{"$f":"K774*TAN(J774*(PI()/180))","v":-1.2174699590988142E+101},{"$f":"-(((((C774+H774)^2)+(D774)^2)^0.5)^0.5)","v":-3.5355904731176385E+50},{"$f":"((ATAN(D774/(C774+H774)))*(180/PI()))/2","v":-44.770821770999781},{"$f":"-(((M774^2)/(1+(TAN(N774*(PI()/180)))^2))^0.5)","v":-2.5100199196022536E+50},{"$f":"O774*TAN(N774*(PI()/180))","v":2.4900200795977737E+50},9.7397596727905868E+98,-1.2174699590988142E+101,{"$f":"-O774+K774","v":9.7397596727905868E+98},{"$f":"L774-P774","v":-1.2174699590988142E+101},1,{"$f":"(R774*S774-Q774*T774)/((S774^2)+(T774^2))","v":0},{"$f":"((U774^2)+(V774^2))^0.5","v":1},{"$f":"(ACOS(U774/W774))*(180/PI())","v":0}]
[{"$f":"A774+0.1","v":76.999999999999901},1.3439035240356321,9.9999999999999997E+98,-1.2500000000000001E+101,1.2500399993600206E+101,-89.541643541999562,0.9743700647852348,-5.0602976850417258E-2,1.2180015551605581E+101,-89.541643541999562,9.7437006478524225E+98,-1.2179625809815436E+101,-3.5355904731176385E+50,-44.770821770999781,-2.5100199196022536E+50,2.4900200795977737E+50,9.7437006478524225E+98,-1.2179625809815436E+101,9.7437006478524225E+98,-1.2179625809815436E+101,1,0,1,0]
[77.099999999999895,1.3456488532876263,9.9999999999999997E+98,-1.2500000000000001E+101,1.2500399993600206E+101,-89.541643541999562,0.97476119419122131,-4.9840614298904032E-2,1.2184904825629671E+101,-89.541643541999562,9.7476119419122864E+98,-1.2184514927390267E+101,-3.5355904731176385E+50,-44.770821770999781,-2.5100199196022536E+50,2.4900200795977737E+50,9.7476119419122864E+98,-1.2184514927390267E+101,9.7476119419122864E+98,-1.2184514927390267E+101,1,0,1,0]
[77.199999999999889,1.3473941825396203,9.9999999999999997E+98,-1.2500000000000001E+101,1.2500399993600206E+101,-89.541643541999562,0.97514935430556271,-4.9083736797444037E-2,1.2189756982320501E+101,-89.541643541999562,9.7514935430557016E+98,-1.2189366928819536E+101,-3.5355904731176385E+50,-44.770821770999781,-2.5100199196022536E+50,2.4900200795977737E+50,9.7514935430557016E+98,-1.2189366928819536E+101,9.7514935430557016E+98,-1.2189366928819536E+101,1,0,1,0]
[77.299999999999883,1.3491395117916147,9.9999999999999997E+98,-1.2500000000000001E+101,1.2500399993600206E+101,-89.541643541999562,0.97553454394585615,-4.8332353568350465E-2,1.2194572006897559E+101,-89.541643541999562,9.7553454394586347E+98,-1.2194181799323203E+101,-3.5355904731176385E+50,-44.770821770999781,-2.5100199196022536E+50,2.4900200795977737E+50,9.7553454394586347E+98,-1.2194181799323203E+101,9.7553454394586347E+98,-1.2194181799323203E+101,1,0,1,0]
[77.399999999999878,1.350884841043609,9.9999999999999997E+98,-1.2500000000000001E+101,1.2500399993600206E+101,-89.541643541999562,0.97591676193874688,-4.7586473766991148E-2,1.2199349884693445E+101,-89.541643541999562,9.7591676193875426E+98,-1.2198959524234336E+101,-3.5355904731176385E+50,-44.770821770999781,-2.5100199196022536E+50,2.4900200795977737E+50,9.7591676193875426E+98,-1.2198959524234336E+101,9.7591676193875426E+98,-1.2198959524234336E+101,1,0,1,0]
[77.499999999999872,1.3526301702956032,9.9999999999999997E+98,-1.2500000000000001E+101,1.2500399993600206E+101,-89.541643541999562,0.97629600711993292,-4.6846106481675968E-2,1.2204090601153916E+101,-89.541643541999562,9.7629600711994038E+98,-1.2203700088999163E+101,-3.5355904731176385E+50,-44.770821770999781,-2.5100199196022536E+50,2.4900200795977737E+50,9.7629600711994038E+98,-1.2203700088999163E+101,9.7629600711994038E+98,-1.2203700088999163E+101,1,0,1,0]
[77.599999999999866,1.3543754995475974,9.9999999999999997E+98,-1.2500000000000001E+101,1.2500399993600206E+101,-89.541643541999562,0.97667227833416737,-4.6111260733546662E-2,1.2208794141837924E+101,-89.541643541999562,9.7667227833417477E+98,-1.2208403479177093E+101,-3.5355904731176385E+50,-44.770821770999781,-2.5100199196022536E+50,2.4900200795977737E+50,9.7667227833417477E+98,-1.2208403479177093E+101,9.7667227833417477E+98,-1.2208403479177093E+101,1,0,1,0]
[77.699999999999861,1.3561208287995916,9.9999999999999997E+98,-1.2500000000000001E+101,1.2500399993600206E+101,-89.541643541999562,0.97704557443526308,-4.5381945476466748E-2,1.2213460492417673E+101,-89.541643541999562,9.7704557443527055E+98,-1.221306968044079E+101,-3.5355904731176385E+50,-44.770821770999781,-2.5100199196022536E+50,2.4900200795977737E+50,9.7704557443527055E+98,-1.221306968044079E+101,9.7704557443527055E+98,-1.221306968044079E+101,1,0,1,0]
[77.799999999999855,1.3578661580515858,9.9999999999999997E+98,-1.2500000000000001E+101,1.2500399993600206E+101,-89.541643541999562,0.97741589428609532,-4.465816959691251E-2,1.2218089638678646E+101,-89.541643541999562,9.7741589428610273E+98,-1.2217698678576192E+101,-3.5355904731176385E+50,-44.770821770999781,-2.5100199196022536E+50,2.4900200795977737E+50,9.7741589428610273E+98,-1.2217698678576192E+101,9.7741589428610273E+98,-1.2217698678576192E+101,1,0,1,0]
[77.899999999999849,1.3596114873035801,9.9999999999999997E+98,-1.2500000000000001E+101,1.2500399993600206E+101,-89.541643541999562,0.97778323675860557,-4.3939941913864605E-2,1.2222681566519662E+101,-89.541643541999562,9.7778323675861304E+98,-1.2222290459482571E+101,-3.5355904731176385E+50,-44.770821770999781,-2.5100199196022536E+50,2.4900200795977737E+50,9.7778323675861304E+98,-1.2222290459482571E+101,9.7778323675861304E+98,-1.2222290459482571E+101,1,0,1,0]
[77.999999999999844,1.3613568165555743,9.9999999999999997E+98,-1.2500000000000001E+101,1.2500399993600206E+101,-89.541643541999562,0.97814760073380502,-4.3227271178700684E-2,1.2227236261952913E+101,-89.541643541999562,9.781476007338124E+98,-1.2226845009172563E+101,-3.5355904731176385E+50,-44.770821770999781,-2.5100199196022536E+50,2.4900200795977737E+50,9.781476007338124E+98,-1.2226845009172563E+101,9.781476007338124E+98,-1.2226845009172563E+101,1,0,1,0]
[78.099999999999838,1.3631021458075685,9.9999999999999997E+98,-1.2500000000000001E+101,1.2500399993600206E+101,-89.541643541999562,0.97850898510177786,-4.2520166075088774E-2,1.2231753711104009E+101,-89.541643541999562,9.7850898510178538E+98,-1.2231362313772225E+101,-3.5355904731176385E+50,-44.770821770999781,-2.5100199196022536E+50,2.4900200795977737E+50,9.7850898510178538E+98,-1.2231362313772225E+101,9.7850898510178538E+98,-1.2231362313772225E+101,1,0,1,0]
[78.199999999999832,1.3648474750595627,9.9999999999999997E+98,-1.2500000000000001E+101,1.2500399993600206E+101,-89.541643541999562,0.97886738876168444,-4.1818635218881406E-2,1.223623390021201E+101,-89.541643541999562,9.7886738876169179E+98,-1.2235842359521055E+101,-3.5355904731176385E+50,-44.770821770999781,-2.5100199196022536E+50,2.4900200795977737E+50,9.7886738876169179E+98,-1.2235842359521055E+101,9.7886738876169179E+98,-1.2235842359521055E+101,1,0,1,0]
[78.299999999999827,1.3665928043115569,9.9999999999999997E+98,-1.2500000000000001E+101,1.2500399993600206E+101,-89.541643541999562,0.97922281062176519,-4.1122687158010672E-2,1.2240676815629489E+101,-89.541643541999562,9.7922281062177261E+98,-1.2240285132772066E+101,-3.5355904731176385E+50,-44.770821770999781,-2.5100199196022536E+50,2.4900200795977737E+50,9.7922281062177261E+98,-1.2240285132772066E+101,9.7922281062177261E+98,-1.2240285132772066E+101,1,0,1,0]
[78.399999999999821,1.3683381335635512,9.9999999999999997E+98,-1.2500000000000001E+101,1.2500399993600206E+101,-89.541643541999562,0.97957524959934339,-4.043233037238405E-2,1.2245082443822552E+101,-89.541643541999562,9.7957524959935078E+98,-1.2244690619991793E+101,-3.5355904731176385E+50,-44.770821770999781,-2.5100199196022536E+50,2.4900200795977737E+50,9.7957524959935078E+98,-1.2244690619991793E+101,9.7957524959935078E+98,-1.2244690619991793E+101,1,0,1,0]
[78.499999999999815,1.3700834628155454,9.9999999999999997E+98,-1.2500000000000001E+101,1.2500399993600206E+101,-89.541643541999562,0.97992470462082892,-3.9747573273781138E-2,1.2249450771370894E+101,-89.541643541999562,9.7992470462083633E+98,-1.2249058807760362E+101,-3.5355904731176385E+50,-44.770821770999781,-2.5100199196022536E+50,2.4900200795977737E+50,9.7992470462083633E+98,-1.2249058807760362E+101,9.7992470462083633E+98,-1.2249058807760362E+101,1,0,1,0]
[78.59999999999981,1.3718287920675396,9.9999999999999997E+98,-1.2500000000000001E+101,1.2500399993600206E+101,-89.541643541999562,0.9802711746217212,-3.9068424205751066E-2,1.2253781784967829E+101,-89.541643541999562,9.8027117462172865E+98,-1.2253389682771516E+101,-3.5355904731176385E+50,-44.770821770999781,-2.5100199196022536E+50,2.4900200795977737E+50,9.8027117462172865E+98,-1.2253389682771516E+101,9.8027117462172865E+98,-1.2253389682771516E+101,1,0,1,0]
[78.699999999999804,1.373574121319534,9.9999999999999997E+98,-1.2500000000000001E+101,1.2500399993600206E+101,-89.541643541999562,0.98061465854661234,-3.8394891443510833E-2,1.2258075471420341E+101,-89.541643541999562,9.8061465854661993E+98,-1.2257683231832657E+101,-3.5355904731176385E+50,-44.770821770999781,-2.5100199196022536E+50,2.4900200795977737E+50,9.8061465854661993E+98,-1.2257683231832657E+101,9.8061465854661993E+98,-1.2257683231832657E+101,1,0,1,0]
[78.799999999999798,1.375319450571528,9.9999999999999997E+98,-1.2500000000000001E+101,1.2500399993600206E+101,-89.541643541999562,0.98095515534919087,-3.7726983193844821E-2,1.2262331817649115E+101,-89.541643541999562,9.8095515534919829E+98,-1.2261939441864886E+101,-3.5355904731176385E+50,-44.770821770999781,-2.5100199196022536E+50,2.4900200795977737E+50,9.8095515534919829E+98,-1.2261939441864886E+101,9.8095515534919829E+98,-1.2261939441864886E+101,1,0,1,0]
[78.899999999999793,1.3770647798235223,9.9999999999999997E+98,-1.2500000000000001E+101,1.2500399993600206E+101,-89.541643541999562,0.98129266399224446,-3.7064707595004048E-2,1.2266550810688581E+101,-89.541643541999562,9.8129266399225182E+98,-1.2266158299903056E+101,-3.5355904731176385E+50,-44.770821770999781,-2.5100199196022536E+50,2.4900200795977737E+50,9.8129266399225182E+98,-1.2266158299903056E+101,9.8129266399225182E+98,-1.2266158299903056E+101,1,0,1,0]
[78.999999999999787,1.3788101090755165,9.9999999999999997E+98,-1.2500000000000001E+101,1.2500399993600206E+101,-89.541643541999562,0.9816271834476632,-3.6408072716607745E-2,1.2270732437686957E+101,-89.541643541999562,9.8162718344767072E+98,-1.2270339793095792E+101,-3.5355904731176385E+50,-44.770821770999781,-2.5100199196022536E+50,2.4900200795977737E+50,9.8162718344767072E+98,-1.2270339793095792E+101,9.8162718344767072E+98,-1.2270339793095792E+101,1,0,1,0]
[79.099999999999781,1.3805554383275109,9.9999999999999997E+98,-1.2500000000000001E+101,1.2500399993600206E+101,-89.541643541999562,0.98195871269644297,-3.5757086559544633E-2,1.2274876685906282E+101,-89.541643541999562,9.8195871269645035E+98,-1.2274483908705537E+101,-3.5355904731176385E+50,-44.770821770999781,-2.5100199196022536E+50,2.4900200795977737E+50,9.8195871269645035E+98,-1.2274483908705537E+101,9.8195871269645035E+98,-1.2274483908705537E+101,1,0,1,0]
[79.199999999999775,1.3823007675795052,9.9999999999999997E+98,-1.2500000000000001E+101,1.2500399993600206E+101,-89.541643541999562,0.98228725072868794,-3.5111757055875721E-2,1.2278983542722455E+101,-89.541643541999562,9.822872507286954E+98,-1.22785906341086E+101,-3.5355904731176385E+50,-44.770821770999781,-2.5100199196022536E+50,2.4900200795977737E+50,9.822872507286954E+98,-1.22785906341086E+101,9.822872507286954E+98,-1.22785906341086E+101,1,0,1,0]
[79.29999999999977,1.3840460968314992,9.9999999999999997E+98,-1.2500000000000001E+101,1.2500399993600206E+101,-89.541643541999562,0.98261279654361444,-3.4472092068737387E-2,1.2283052995625279E+101,-89.541643541999562,9.8261279654362188E+98,-1.2282659956795181E+101,-3.5355904731176385E+50,-44.770821770999781,-2.5100199196022536E+50,2.4900200795977737E+50,9.8261279654362188E+98,-1.2282659956795181E+101,9.8261279654362188E+98,-1.2282659956795181E+101,1,0,1,0]
[79.399999999999764,1.3857914260834934,9.9999999999999997E+98,-1.2500000000000001E+101,1.2500399993600206E+101,-89.541643541999562,0.98293534914955349,-3.3838099392245469E-2,1.2287085032218495E+101,-89.541643541999562,9.8293534914956096E+98,-1.228669186436942E+101,-3.5355904731176385E+50,-44.770821770999781,-2.5100199196022536E+50,2.4900200795977737E+50,9.8293534914956096E+98,-1.228669186436942E+101,9.8293534914956096E+98,-1.228669186436942E+101,1,0,1,0]
[79.499999999999758,1.3875367553354878,9.9999999999999997E+98,-1.2500000000000001E+101,1.2500399993600206E+101,-89.541643541999562,0.98325490756395384,-3.3209786751400627E-2,1.229107964021982E+101,-89.541643541999562,9.8325490756396133E+98,-1.2290686344549425E+101,-3.5355904731176385E+50,-44.770821770999781,-2.5100199196022536E+50,2.4900200795977737E+50,9.8325490756396133E+98,-1.2290686344549425E+101,9.8325490756396133E+98,-1.2290686344549425E+101,1,0,1,0]
[79.599999999999753,1.389282084587482,9.9999999999999997E+98,-1.2500000000000001E+101,1.2500399993600206E+101,-89.541643541999562,0.98357147081338514,-3.2587161801994308E-2,1.2295036807460985E+101,-89.541643541999562,9.8357147081339278E+98,-1.2294643385167317E+101,-3.5355904731176385E+50,-44.770821770999781,-2.5100199196022536E+50,2.4900200795977737E+50,{"$f":"K801+O801","v":9.8357147081339278E+98},-1.2294643385167317E+101,9.8357147081339278E+98,-1.2294643385167317E+101,1,0,1,0]
[79.699999999999747,1.3910274138394763,9.9999999999999997E+98,-1.2500000000000001E+101,1.2500399993600206E+101,-89.541643541999562,0.98388503793354087,-3.197023213051492E-2,1.2298956521887773E+101,-89.541643541999562,9.8388503793354845E+98,-1.2298562974169264E+101,-3.5355904731176385E+50,-44.770821770999781,-2.5100199196022536E+50,2.4900200795977737E+50,9.8388503793354845E+98,-1.2298562974169264E+101,9.8388503793354845E+98,-1.2298562974169264E+101,1,0,1,0]
[79.799999999999741,1.3927727430914705,9.9999999999999997E+98,-1.2500000000000001E+101,1.2500399993600206E+101,-89.541643541999562,0.9841956079692411,-3.135900525405582E-2,1.2302838771560053E+101,-89.541643541999562,9.8419560796924867E+98,-1.2302445099615516E+101,-3.5355904731176385E+50,-44.770821770999781,-2.5100199196022536E+50,2.4900200795977737E+50,9.8419560796924867E+98,-1.2302445099615516E+101,9.8419560796924867E+98,-1.2302445099615516E+101,1,0,1,0]
[79.899999999999736,1.3945180723434647,9.9999999999999997E+98,-1.2500000000000001E+101,1.2500399993600206E+101,-89.541643541999562,0.98450317997443582,-3.0753488620223632E-2,1.2306683544651819E+101,-89.541643541999562,9.8450317997444318E+98,-1.2306289749680448E+101,-3.5355904731176385E+50,-44.770821770999781,-2.5100199196022536E+50,2.4900200795977737E+50,9.8450317997444318E+98,-1.2306289749680448E+101,9.8450317997444318E+98,-1.2306289749680448E+101,1,0,1,0]
[79.99999999999973,1.3962634015954589,9.9999999999999997E+98,-1.2500000000000001E+101,1.2500399993600206E+101,-89.541643541999562,0.98480775301220724,-3.0153689607047431E-2,1.2310490829451228E+101,-89.541643541999562,9.848077530122147E+98,-1.2310096912652592E+101,-3.5355904731176385E+50,-44.770821770999781,-2.5100199196022536E+50,2.4900200795977737E+50,9.848077530122147E+98,-1.2310096912652592E+101,9.848077530122147E+98,-1.2310096912652592E+101,1,0,1,0]
[80.099999999999724,1.3980087308474531,9.9999999999999997E+98,-1.2500000000000001E+101,1.2500399993600206E+101,-89.541643541999562,0.98510932615477309,-2.9559615522888907E-2,1.2314260614360629E+101,-89.541643541999562,9.8510932615478063E+98,-1.2313866576934666E+101,-3.5355904731176385E+50,-44.770821770999781,-2.5100199196022536E+50,2.4900200795977737E+50,9.8510932615478063E+98,-1.2313866576934666E+101,9.8510932615478063E+98,-1.2313866576934666E+101,1,0,1,0]
[80.199999999999719,1.3997540600994474,9.9999999999999997E+98,-1.2500000000000001E+101,1.2500399993600206E+101,-89.541643541999562,0.98540789848348931,-2.8971273606353303E-2,1.2317992887896603E+101,-89.541643541999562,9.8540789848349681E+98,-1.2317598731043618E+101,-3.5355904731176385E+50,-44.770821770999781,-2.5100199196022536E+50,2.4900200795977737E+50,9.8540789848349681E+98,-1.2317598731043618E+101,9.8540789848349681E+98,-1.2317598731043618E+101,1,0,1,0]
[80.299999999999713,1.4014993893514416,9.9999999999999997E+98,-1.2500000000000001E+101,1.2500399993600206E+101,-89.541643541999562,0.98570346908885276,-2.8388671026201198E-2,1.2321687638689995E+101,-89.541643541999562,9.8570346908886018E+98,-1.232129336361066E+101,-3.5355904731176385E+50,-44.770821770999781,-2.5100199196022536E+50,2.4900200795977737E+50,9.8570346908886018E+98,-1.232129336361066E+101,9.8570346908886018E+98,-1.232129336361066E+101,1,0,1,0]
[80.399999999999707,1.4032447186034358,9.9999999999999997E+98,-1.2500000000000001E+101,1.2500399993600206E+101,-89.541643541999562,0.98599603707050409,-2.7811814881261169E-2,1.2325344855485957E+101,-89.541643541999562,9.8599603707051158E+98,-1.2324950463381302E+101,-3.5355904731176385E+50,-44.770821770999781,-2.5100199196022536E+50,2.4900200795977737E+50,9.8599603707051158E+98,-1.2324950463381302E+101,9.8599603707051158E+98,-1.2324950463381302E+101,1,0,1,0]
[80.499999999999702,1.40499004785543,9.9999999999999997E+98,-1.2500000000000001E+101,1.2500399993600206E+101,-89.541643541999562,0.98628560153723055,-2.7240712200343319E-2,1.2328964527143972E+101,-89.541643541999562,9.8628560153723806E+98,-1.2328570019215384E+101,-3.5355904731176385E+50,-44.770821770999781,-2.5100199196022536E+50,2.4900200795977737E+50,9.8628560153723806E+98,-1.2328570019215384E+101,9.8628560153723806E+98,-1.2328570019215384E+101,1,0,1,0]
[80.599999999999696,1.4067353771074242,9.9999999999999997E+98,-1.2500000000000001E+101,1.2500399993600206E+101,-89.541643541999562,0.98657216160696859,-2.6675369942153554E-2,1.2332546642637891E+101,-89.541643541999562,9.8657216160697614E+98,-1.2332152020087109E+101,-3.5355904731176385E+50,-44.770821770999781,-2.5100199196022536E+50,2.4900200795977737E+50,9.8657216160697614E+98,-1.2332152020087109E+101,9.8657216160697614E+98,-1.2332152020087109E+101,1,0,1,0]
[80.69999999999969,1.4084807063594185,9.9999999999999997E+98,-1.2500000000000001E+101,1.2500399993600206E+101,-89.541643541999562,0.98685571640680636,-2.6115794995208906E-2,1.2336091191055969E+101,-89.541643541999562,9.8685571640681379E+98,-1.233569645508508E+101,-3.5355904731176385E+50,-44.770821770999781,-2.5100199196022536E+50,2.4900200795977737E+50,9.8685571640681379E+98,-1.233569645508508E+101,9.8685571640681379E+98,-1.233569645508508E+101,1,0,1,0]
[80.799999999999685,1.4102260356114127,9.9999999999999997E+98,-1.2500000000000001E+101,1.2500399993600206E+101,-89.541643541999562,0.98713626507298702,-2.5561994177753497E-2,1.2339598161600898E+101,-89.541643541999562,9.8713626507299452E+98,-1.2339203313412339E+101,-3.5355904731176385E+50,-44.770821770999781,-2.5100199196022536E+50,2.4900200795977737E+50,9.8713626507299452E+98,-1.2339203313412339E+101,9.8713626507299452E+98,-1.2339203313412339E+101,1,0,1,0]
[80.899999999999679,1.4119713648634069,9.9999999999999997E+98,-1.2500000000000001E+101,1.2500399993600206E+101,-89.541643541999562,0.98741380675091051,-2.5013974237675526E-2,1.2343067543589837E+101,-89.541643541999562,9.87413806750918E+98,-1.2342672584386383E+101,-3.5355904731176385E+50,-44.770821770999781,-2.5100199196022536E+50,2.4900200795977737E+50,9.87413806750918E+98,-1.2342672584386383E+101,9.87413806750918E+98,-1.2342672584386383E+101,1,0,1,0]
[80.999999999999673,1.4137166941154011,9.9999999999999997E+98,-1.2500000000000001E+101,1.2500399993600206E+101,-89.541643541999562,0.98768834059513677,-2.4471741852425011E-2,1.2346499326454445E+101,-89.541643541999562,9.8768834059514422E+98,-1.2346104257439211E+101,-3.5355904731176385E+50,-44.770821770999781,-2.5100199196022536E+50,2.4900200795977737E+50,9.8768834059514422E+98,-1.2346104257439211E+101,9.8768834059514422E+98,-1.2346104257439211E+101,1,0,1,0]
[81.099999999999667,1.4154620233673953,9.9999999999999997E+98,-1.2500000000000001E+101,1.2500399993600206E+101,-89.541643541999562,0.98795986576938821,-2.3935303628932456E-2,1.2349893499740921E+101,-89.541643541999562,9.8795986576939573E+98,-1.2349498322117354E+101,-3.5355904731176385E+50,-44.770821770999781,-2.5100199196022536E+50,2.4900200795977737E+50,9.8795986576939573E+98,-1.2349498322117354E+101,9.8795986576939573E+98,-1.2349498322117354E+101,1,0,1,0]
[81.199999999999662,1.4172073526193896,9.9999999999999997E+98,-1.2500000000000001E+101,1.2500399993600206E+101,-89.541643541999562,0.9882283814465519,-2.3404666103528329E-2,1.2353250053110019E+101,-89.541643541999562,9.8822838144655928E+98,-1.2352854768081898E+101,-3.5355904731176385E+50,-44.770821770999781,-2.5100199196022536E+50,2.4900200795977737E+50,9.8822838144655928E+98,-1.2352854768081898E+101,9.8822838144655928E+98,-1.2352854768081898E+101,1,0,1,0]
[81.299999999999656,1.418952681871384,9.9999999999999997E+98,-1.2500000000000001E+101,1.2500399993600206E+101,-89.541643541999562,0.98849388680868266,-2.2879835741863332E-2,1.23565689763371E+101,-89.541643541999562,9.8849388680869016E+98,-1.2356173585108534E+101,-3.5355904731176385E+50,-44.770821770999781,-2.5100199196022536E+50,2.4900200795977737E+50,9.8849388680869016E+98,-1.2356173585108534E+101,9.8849388680869016E+98,-1.2356173585108534E+101,1,0,1,0]
[81.39999999999965,1.420698011123378,9.9999999999999997E+98,-1.2500000000000001E+101,1.2500399993600206E+101,-89.541643541999562,0.98875638104700492,-2.2360818938830015E-2,1.2359850259312143E+101,-89.541643541999562,9.8875638104701244E+98,-1.2359454763087562E+101,-3.5355904731176385E+50,-44.770821770999781,-2.5100199196022536E+50,2.4900200795977737E+50,9.8875638104701244E+98,-1.2359454763087562E+101,9.8875638104701244E+98,-1.2359454763087562E+101,1,0,1,0]
[81.499999999999645,1.4224433403753725,9.9999999999999997E+98,-1.2500000000000001E+101,1.2500399993600206E+101,-89.541643541999562,0.98901586336191594,-2.1847622018484059E-2,1.2363093892039797E+101,-89.541643541999562,9.890158633619235E+98,-1.2362698292023951E+101,-3.5355904731176385E+50,-44.770821770999781,-2.5100199196022536E+50,2.4900200795977737E+50,9.890158633619235E+98,-1.2362698292023951E+101,9.890158633619235E+98,-1.2362698292023951E+101,1,0,1,0]
[81.599999999999639,1.4241886696273667,9.9999999999999997E+98,-1.2500000000000001E+101,1.2500399993600206E+101,-89.541643541999562,0.98927233296298744,-2.1340251233968179E-2,1.2366299864639389E+101,-89.541643541999562,9.8927233296299494E+98,-1.2365904162037344E+101,-3.5355904731176385E+50,-44.770821770999781,-2.5100199196022536E+50,2.4900200795977737E+50,9.8927233296299494E+98,-1.2365904162037344E+101,9.8927233296299494E+98,-1.2365904162037344E+101,1,0,1,0]
[81.699999999999633,1.4259339988793607,9.9999999999999997E+98,-1.2500000000000001E+101,1.2500399993600206E+101,-89.541643541999562,0.98952578906896849,-2.0838712767435263E-2,1.2369468167344972E+101,-89.541643541999562,9.8952578906897591E+98,-1.2369072363362106E+101,-3.5355904731176385E+50,-44.770821770999781,-2.5100199196022536E+50,2.4900200795977737E+50,9.8952578906897591E+98,-1.2369072363362106E+101,9.8952578906897591E+98,-1.2369072363362106E+101,1,0,1,0]
[81.799999999999628,1.4276793281313549,9.9999999999999997E+98,-1.2500000000000001E+101,1.2500399993600206E+101,-89.541643541999562,0.98977623090778799,-2.0343012729973135E-2,1.2372598790505348E+101,-89.541643541999562,9.8977623090779541E+98,-1.2372202886347349E+101,-3.5355904731176385E+50,-44.770821770999781,-2.5100199196022536E+50,2.4900200795977737E+50,9.8977623090779541E+98,-1.2372202886347349E+101,9.8977623090779541E+98,-1.2372202886347349E+101,1,0,1,0]
[81.899999999999622,1.4294246573833491,9.9999999999999997E+98,-1.2500000000000001E+101,1.2500399993600206E+101,-89.541643541999562,0.99002365771655665,-1.9853157161530365E-2,1.2375691724584098E+101,-89.541643541999562,9.9002365771656419E+98,-1.237529572145696E+101,-3.5355904731176385E+50,-44.770821770999781,-2.5100199196022536E+50,2.4900200795977737E+50,9.9002365771656419E+98,-1.237529572145696E+101,9.9002365771656419E+98,-1.237529572145696E+101,1,0,1,0]
[81.999999999999616,1.4311699866353433,9.9999999999999997E+98,-1.2500000000000001E+101,1.2500399993600206E+101,-89.541643541999562,0.99026806874156936,-1.9369152030842475E-2,1.2378746960159601E+101,-89.541643541999562,9.9026806874157689E+98,-1.2378350859269619E+101,-3.5355904731176385E+50,-44.770821770999781,-2.5100199196022536E+50,2.4900200795977737E+50,9.9026806874157689E+98,-1.2378350859269619E+101,9.9026806874157689E+98,-1.2378350859269619E+101,1,0,1,0]
[82.099999999999611,1.4329153158873378,9.9999999999999997E+98,-1.2500000000000001E+101,1.2500399993600206E+101,-89.541643541999562,0.99050946323830791,-1.8891003235359177E-2,1.2381764487925087E+101,-89.541643541999562,9.9050946323831535E+98,-1.2381368290478849E+101,-3.5355904731176385E+50,-44.770821770999781,-2.5100199196022536E+50,2.4900200795977737E+50,9.9050946323831535E+98,-1.2381368290478849E+101,9.9050946323831535E+98,-1.2381368290478849E+101,1,0,1,0]
[82.199999999999605,1.434660645139332,9.9999999999999997E+98,-1.2500000000000001E+101,1.2500399993600206E+101,-89.541643541999562,0.99074784047144271,-1.841871660117278E-2,1.238474429868864E+101,-89.541643541999562,9.9074784047145014E+98,-1.2384348005893034E+101,-3.5355904731176385E+50,-44.770821770999781,-2.5100199196022536E+50,2.4900200795977737E+50,9.9074784047145014E+98,-1.2384348005893034E+101,9.9074784047145014E+98,-1.2384348005893034E+101,1,0,1,0]
[82.299999999999599,1.4364059743913262,9.9999999999999997E+98,-1.2500000000000001E+101,1.2500399993600206E+101,-89.541643541999562,0.99098319971483528,-1.7952297882946805E-2,1.2387686383373238E+101,-89.541643541999562,9.9098319971484283E+98,-1.2387289996435443E+101,-3.5355904731176385E+50,-44.770821770999781,-2.5100199196022536E+50,2.4900200795977737E+50,9.9098319971484283E+98,-1.2387289996435443E+101,9.9098319971484283E+98,-1.2387289996435443E+101,1,0,1,0]
[82.399999999999594,1.4381513036433204,9.9999999999999997E+98,-1.2500000000000001E+101,1.2500399993600206E+101,-89.541643541999562,0.99121554025154079,-1.7491752763846142E-2,1.2390590733016786E+101,-89.541643541999562,9.9121554025154843E+98,-1.2390194253144262E+101,-3.5355904731176385E+50,-44.770821770999781,-2.5100199196022536E+50,2.4900200795977737E+50,9.9121554025154843E+98,-1.2390194253144262E+101,9.9121554025154843E+98,-1.2390194253144262E+101,1,0,1,0]
[82.499999999999588,1.4398966328953147,9.9999999999999997E+98,-1.2500000000000001E+101,1.2500399993600206E+101,-89.541643541999562,0.99144486137380949,-1.7037086855467728E-2,1.2393457338772126E+101,-89.541643541999562,9.9144486137381709E+98,-1.2393060767172621E+101,-3.5355904731176385E+50,-44.770821770999781,-2.5100199196022536E+50,2.4900200795977737E+50,9.9144486137381709E+98,-1.2393060767172621E+101,9.9144486137381709E+98,-1.2393060767172621E+101,1,0,1,0]
[82.599999999999582,1.4416419621473091,9.9999999999999997E+98,-1.2500000000000001E+101,1.2500399993600206E+101,-89.541643541999562,0.9916711623830895,-1.6588305697772119E-2,1.2396286191907081E+101,-89.541643541999562,9.9167116238309701E+98,-1.239588952978862E+101,-3.5355904731176385E+50,-44.770821770999781,-2.5100199196022536E+50,2.4900200795977737E+50,9.9167116238309701E+98,-1.239588952978862E+101,9.9167116238309701E+98,-1.239588952978862E+101,1,0,1,0]
[82.699999999999577,1.4433872913993033,9.9999999999999997E+98,-1.2500000000000001E+101,1.2500399993600206E+101,-89.541643541999562,0.99189444259002868,-1.6145414759016215E-2,1.2399077283804474E+101,-89.541643541999562,9.9189444259003614E+98,-1.2398680532375359E+101,-3.5355904731176385E+50,-44.770821770999781,-2.5100199196022536E+50,2.4900200795977737E+50,9.9189444259003614E+98,-1.2398680532375359E+101,9.9189444259003614E+98,-1.2398680532375359E+101,1,0,1,0]
[82.799999999999571,1.4451326206512971,9.9999999999999997E+98,-1.2500000000000001E+101,1.2500399993600206E+101,-89.541643541999562,0.99211470131447688,-1.5708419435686377E-2,1.2401830605962157E+101,-89.541643541999562,9.9211470131448448E+98,-1.2401433766430962E+101,-3.5355904731176385E+50,-44.770821770999781,-2.5100199196022536E+50,2.4900200795977737E+50,9.9211470131448448E+98,-1.2401433766430962E+101,9.9211470131448448E+98,-1.2401433766430962E+101,1,0,1,0]
[82.899999999999565,1.4468779499032915,9.9999999999999997E+98,-1.2500000000000001E+101,1.2500399993600206E+101,-89.541643541999562,0.99233193788548779,-1.527732505243244E-2,1.2404546149993032E+101,-89.541643541999562,9.9233193788549533E+98,-1.2404149223568598E+101,-3.5355904731176385E+50,-44.770821770999781,-2.5100199196022536E+50,2.4900200795977737E+50,9.9233193788549533E+98,-1.2404149223568598E+101,9.9233193788549533E+98,-1.2404149223568598E+101,1,0,1,0]
[82.999999999999559,1.4486232791552858,9.9999999999999997E+98,-1.2500000000000001E+101,1.2500399993600206E+101,-89.541643541999562,0.99254615164132109,-1.4852136862003647E-2,1.2407223907625079E+101,-89.541643541999562,9.925461516413285E+98,-1.2406826895516513E+101,-3.5355904731176385E+50,-44.770821770999781,-2.5100199196022536E+50,2.4900200795977737E+50,9.925461516413285E+98,-1.2406826895516513E+101,9.925461516413285E+98,-1.2406826895516513E+101,1,0,1,0]
[83.099999999999554,1.45036860840728,9.9999999999999997E+98,-1.2500000000000001E+101,1.2500399993600206E+101,-89.541643541999562,0.99275734192944454,-1.4432860045183852E-2,1.2409863870701386E+101,-89.541643541999562,9.9275734192945208E+98,-1.2409466774118057E+101,-3.5355904731176385E+50,-44.770821770999781,-2.5100199196022536E+50,2.4900200795977737E+50,9.9275734192945208E+98,-1.2409466774118057E+101,9.9275734192945208E+98,-1.2409466774118057E+101,1,0,1,0]
[83.199999999999548,1.4521139376592742,9.9999999999999997E+98,-1.2500000000000001E+101,1.2500399993600206E+101,-89.541643541999562,0.99296550810653605,-1.401949971072876E-2,1.2412466031180169E+101,-89.541643541999562,9.9296550810654363E+98,-1.2412068851331702E+101,-3.5355904731176385E+50,-44.770821770999781,-2.5100199196022536E+50,2.4900200795977737E+50,9.9296550810654363E+98,-1.2412068851331702E+101,9.9296550810654363E+98,-1.2412068851331702E+101,{"$f":"(Q837*S837+T837*R837)/((S837^2)+(T837^2))","v":1},0,1,0]
[83.299999999999542,{"$f":"A838*PI()/180","v":1.4538592669112684},{"$f":"$D$1","v":9.9999999999999997E+98},{"$f":"-(18000*$G$1/$N$1)","v":-1.2500000000000001E+101},{"$f":"(C838^2+D838^2)^0.5","v":1.2500399993600206E+101},{"$f":"(180/PI())*ATAN(D838/C838)","v":-89.541643541999562},{"$f":"SIN(B838)","v":0.99317064953848511},{"$f":"-((COS(B838))^2)","v":-1.3612060895303594E-2},{"$f":"E838*G838","v":1.2415030381134792E+101},{"$f":"F838","v":-89.541643541999562},{"$f":"(((I838^2)/(1+(TAN(J838*(PI()/180)))^2))^0.5)","v":9.9317064953849269E+98},{"$f":"K838*TAN(J838*(PI()/180))","v":-1.2414633119231066E+101},{"$f":"-(((((C838+H838)^2)+(D838)^2)^0.5)^0.5)","v":-3.5355904731176385E+50},{"$f":"((ATAN(D838/(C838+H838)))*(180/PI()))/2","v":-44.770821770999781},{"$f":"-(((M838^2)/(1+(TAN(N838*(PI()/180)))^2))^0.5)","v":-2.5100199196022536E+50},{"$f":"O838*TAN(N838*(PI()/180))","v":2.4900200795977737E+50},9.9317064953849269E+98,-1.2414633119231066E+101,{"$f":"-O838+K838","v":9.9317064953849269E+98},{"$f":"L838-P838","v":-1.2414633119231066E+101},1,{"$f":"(R838*S838-Q838*T838)/((S838^2)+(T838^2))","v":0},{"$f":"((U838^2)+(V838^2))^0.5","v":1},{"$f":"(ACOS(U838/W838))*(180/PI())","v":0}]
[{"$f":"A838+0.1","v":83.399999999999537},1.4556045961632629,9.9999999999999997E+98,-1.2500000000000001E+101,1.2500399993600206E+101,-89.541643541999562,0.99337276560039556,-1.3210548563421692E-2,1.2417556912753803E+101,-89.541643541999562,9.9337276560040304E+98,-1.2417159570004945E+101,-3.5355904731176385E+50,-44.770821770999781,-2.5100199196022536E+50,2.4900200795977737E+50,9.9337276560040304E+98,-1.2417159570004945E+101,9.9337276560040304E+98,-1.2417159570004945E+101,1,0,1,0]
[83.499999999999531,1.4573499254152571,9.9999999999999997E+98,-1.2500000000000001E+101,1.2500399993600206E+101,-89.541643541999562,0.99357185567658657,-1.2814967607384209E-2,1.2420045618340947E+101,-89.541643541999562,9.9357185567659409E+98,-1.2419648195957332E+101,-3.5355904731176385E+50,-44.770821770999781,-2.5100199196022536E+50,2.4900200795977737E+50,9.9357185567659409E+98,-1.2419648195957332E+101,9.9357185567659409E+98,-1.2419648195957332E+101,1,0,1,0]
[83.599999999999525,1.4590952546672513,9.9999999999999997E+98,-1.2500000000000001E+101,1.2500399993600206E+101,-89.541643541999562,0.99376791916059548,-1.2425322847220201E-2,1.2422496490315198E+101,-89.541643541999562,9.937679191606031E+98,-1.2422098989507445E+101,-3.5355904731176385E+50,-44.770821770999781,-2.5100199196022536E+50,2.4900200795977737E+50,9.937679191606031E+98,-1.2422098989507445E+101,9.937679191606031E+98,-1.2422098989507445E+101,1,0,1,0]
[83.69999999999952,1.4608405839192455,9.9999999999999997E+98,-1.2500000000000001E+101,1.2500399993600206E+101,-89.541643541999562,0.99396095545517882,-1.2041619030628116E-2,1.2424909521210771E+101,-89.541643541999562,9.9396095545518627E+98,-1.2424511943189735E+101,-3.5355904731176385E+50,-44.770821770999781,-2.5100199196022536E+50,2.4900200795977737E+50,9.9396095545518627E+98,-1.2424511943189735E+101,9.9396095545518627E+98,-1.2424511943189735E+101,1,0,1,0]
[83.799999999999514,1.4625859131712395,9.9999999999999997E+98,-1.2500000000000001E+101,1.2500399993600206E+101,-89.541643541999562,0.99415096397231451,-1.1663860832917906E-2,1.2427284703677159E+101,-89.541643541999562,9.9415096397232201E+98,-1.2426887049653931E+101,-3.5355904731176385E+50,-44.770821770999781,-2.5100199196022536E+50,2.4900200795977737E+50,9.9415096397232201E+98,-1.2426887049653931E+101,9.9415096397232201E+98,-1.2426887049653931E+101,1,0,1,0]
[83.899999999999508,1.4643312424232338,9.9999999999999997E+98,-1.2500000000000001E+101,1.2500399993600206E+101,-89.541643541999562,0.99433794413320364,-1.1292052856953909E-2,1.2429622030479141E+101,-89.541643541999562,9.9433794413321118E+98,-1.2429224301665046E+101,-3.5355904731176385E+50,-44.770821770999781,-2.5100199196022536E+50,2.4900200795977737E+50,9.9433794413321118E+98,-1.2429224301665046E+101,9.9433794413321118E+98,-1.2429224301665046E+101,1,0,1,0]
[83.999999999999503,1.466076571675228,9.9999999999999997E+98,-1.2500000000000001E+101,1.2500399993600206E+101,-89.541643541999562,0.9945218953682724,-1.0926199633099024E-2,1.2431921494496816E+101,-89.541643541999562,9.9452189536827989E+98,-1.2431523692103405E+101,-3.5355904731176385E+50,-44.770821770999781,-2.5100199196022536E+50,2.4900200795977737E+50,9.9452189536827989E+98,-1.2431523692103405E+101,9.9452189536827989E+98,-1.2431523692103405E+101,1,0,1,0]
[84.099999999999497,1.4678219009272222,9.9999999999999997E+98,-1.2500000000000001E+101,1.2500399993600206E+101,-89.541643541999562,0.99470281711717323,-1.0566305619159324E-2,1.2434183088725619E+101,-89.541643541999562,9.9470281711718074E+98,-1.2433785213964666E+101,-3.5355904731176385E+50,-44.770821770999781,-2.5100199196022536E+50,2.4900200795977737E+50,9.9470281711718074E+98,-1.2433785213964666E+101,9.9470281711718074E+98,-1.2433785213964666E+101,1,0,1,0]
[84.199999999999491,1.4695672301792166,9.9999999999999997E+98,-1.2500000000000001E+101,1.2500399993600206E+101,-89.541643541999562,0.99488070882878732,-1.0212375200329752E-2,1.2436406806276341E+101,-89.541643541999562,9.9488070882879494E+98,-1.2436008860359844E+101,-3.5355904731176385E+50,-44.770821770999781,-2.5100199196022536E+50,2.4900200795977737E+50,9.9488070882879494E+98,-1.2436008860359844E+101,9.9488070882879494E+98,-1.2436008860359844E+101,1,0,1,0]
[84.299999999999486,1.4713125594312109,9.9999999999999997E+98,-1.2500000000000001E+101,1.2500399993600206E+101,-89.541643541999562,0.99505556996122535,-9.8644126891408532E-3,1.243859264037515E+101,-89.541643541999562,9.9505556996123285E+98,-1.2438194624515318E+101,-3.5355904731176385E+50,-44.770821770999781,-2.5100199196022536E+50,2.4900200795977737E+50,9.9505556996123285E+98,-1.2438194624515318E+101,9.9505556996123285E+98,-1.2438194624515318E+101,1,0,1,0]
[84.39999999999948,1.4730578886832051,9.9999999999999997E+98,-1.2500000000000001E+101,1.2500399993600206E+101,-89.541643541999562,0.9952273999818303,-9.5224223254059756E-3,1.2440740584363621E+101,-89.541643541999562,9.9522739998183786E+98,-1.244034249977288E+101,-3.5355904731176385E+50,-44.770821770999781,-2.5100199196022536E+50,2.4900200795977737E+50,9.9522739998183786E+98,-1.244034249977288E+101,9.9522739998183786E+98,-1.244034249977288E+101,1,0,1,0]
[84.499999999999474,1.4748032179351993,9.9999999999999997E+98,-1.2500000000000001E+101,1.2500399993600206E+101,-89.541643541999562,0.99539619836717796,-9.1864082761697746E-3,1.2442850631698741E+101,-89.541643541999562,9.9539619836718551E+98,-1.2442452479589725E+101,-3.5355904731176385E+50,-44.770821770999781,-2.5100199196022536E+50,2.4900200795977737E+50,9.9539619836718551E+98,-1.2442452479589725E+101,9.9539619836718551E+98,-1.2442452479589725E+101,1,0,1,0]
[84.599999999999469,1.4765485471871935,9.9999999999999997E+98,-1.2500000000000001E+101,1.2500399993600206E+101,-89.541643541999562,0.99556196460307911,-8.8563746356574002E-3,1.2444922775952939E+101,-89.541643541999562,9.9556196460308668E+98,-1.244452455753849E+101,-3.5355904731176385E+50,-44.770821770999781,-2.5100199196022536E+50,2.4900200795977737E+50,9.9556196460308668E+98,-1.244452455753849E+101,9.9556196460308668E+98,-1.244452455753849E+101,1,0,1,0]
[84.699999999999463,1.4782938764391877,9.9999999999999997E+98,-1.2500000000000001E+101,1.2500399993600206E+101,-89.541643541999562,0.9957246981845812,-8.5323254252246111E-3,1.2446957010814106E+101,-89.541643541999562,9.9572469818458867E+98,-1.2446558727307264E+101,-3.5355904731176385E+50,-44.770821770999781,-2.5100199196022536E+50,2.4900200795977737E+50,9.9572469818458867E+98,-1.2446558727307264E+101,9.9572469818458867E+98,-1.2446558727307264E+101,1,0,1,0]
[84.799999999999457,1.4800392056911817,9.9999999999999997E+98,-1.2500000000000001E+101,1.2500399993600206E+101,-89.541643541999562,0.99588439861596945,-8.2142645933088072E-3,1.244895333008561E+101,-89.541643541999562,9.9588439861597713E+98,-1.2448554982699621E+101,-3.5355904731176385E+50,-44.770821770999781,-2.5100199196022536E+50,2.4900200795977737E+50,9.9588439861597713E+98,-1.2448554982699621E+101,9.9588439861597713E+98,-1.2448554982699621E+101,1,0,1,0]
[84.899999999999451,1.481784534943176,9.9999999999999997E+98,-1.2500000000000001E+101,1.2500399993600206E+101,-89.541643541999562,0.99604106541076876,-7.9021960153807785E-3,1.2450911727686316E+101,-89.541643541999562,9.9604106541077621E+98,-1.2450513317634609E+101,-3.5355904731176385E+50,-44.770821770999781,-2.5100199196022536E+50,2.4900200795977737E+50,9.9604106541077621E+98,-1.2450513317634609E+101,9.9604106541077621E+98,-1.2450513317634609E+101,1,0,1,0]
[84.999999999999446,1.4835298641951704,9.9999999999999997E+98,-1.2500000000000001E+101,1.2500399993600206E+101,-89.541643541999562,0.99619469809174466,-7.5961234938976595E-3,1.2452832197650604E+101,-89.541643541999562,9.9619469809175217E+98,-1.2452433726146808E+101,-3.5355904731176385E+50,-44.770821770999781,-2.5100199196022536E+50,2.4900200795977737E+50,9.9619469809175217E+98,-1.2452433726146808E+101,9.9619469809175217E+98,-1.2452433726146808E+101,1,0,1,0]
[85.09999999999944,1.4852751934471646,9.9999999999999997E+98,-1.2500000000000001E+101,1.2500399993600206E+101,-89.541643541999562,0.99634529619090562,-7.2960507582566165E-3,1.2454714734128392E+101,-89.541643541999562,9.9634529619091328E+98,-1.2454316202386322E+101,-3.5355904731176385E+50,-44.770821770999781,-2.5100199196022536E+50,2.4900200795977737E+50,9.9634529619091328E+98,-1.2454316202386322E+101,9.9634529619091328E+98,-1.2454316202386322E+101,1,0,1,0]
[85.199999999999434,1.4870205226991589,9.9999999999999997E+98,-1.2500000000000001E+101,1.2500399993600206E+101,-89.541643541999562,0.99649285924950348,-7.0019814647491949E-3,1.2456559331385144E+101,-89.541643541999562,9.9649285924951104E+98,-1.2456160740618794E+101,-3.5355904731176385E+50,-44.770821770999781,-2.5100199196022536E+50,2.4900200795977737E+50,9.9649285924951104E+98,-1.2456160740618794E+101,9.9649285924951104E+98,-1.2456160740618794E+101,1,0,1,0]
[85.299999999999429,1.4887658519511531,9.9999999999999997E+98,-1.2500000000000001E+101,1.2500399993600206E+101,-89.541643541999562,0.99663738681803582,-6.7139191965169343E-3,1.2458365983801901E+101,-89.541643541999562,9.9663738681804343E+98,-1.245796733522545E+101,-3.5355904731176385E+50,-44.770821770999781,-2.5100199196022536E+50,2.4900200795977737E+50,9.9663738681804343E+98,-1.245796733522545E+101,9.9663738681804343E+98,-1.245796733522545E+101,1,0,1,0]
[85.399999999999423,1.4905111812031473,9.9999999999999997E+98,-1.2500000000000001E+101,1.2500399993600206E+101,-89.541643541999562,0.99677887845624635,-6.4318674635076636E-3,1.2460134685875282E+101,-89.541643541999562,9.9677887845625396E+98,-1.245973598070308E+101,-3.5355904731176385E+50,-44.770821770999781,-2.5100199196022536E+50,2.4900200795977737E+50,9.9677887845625396E+98,-1.245973598070308E+101,9.9677887845625396E+98,-1.245973598070308E+101,1,0,1,0]
[85.499999999999417,1.4922565104551415,9.9999999999999997E+98,-1.2500000000000001E+101,1.2500399993600206E+101,-89.541643541999562,0.99691733373312719,-6.1558297024327437E-3,1.2461865432217517E+101,-89.541643541999562,9.969173337331347E+98,-1.246146667166409E+101,-3.5355904731176385E+50,-44.770821770999781,-2.5100199196022536E+50,2.4900200795977737E+50,9.969173337331347E+98,-1.246146667166409E+101,9.969173337331347E+98,-1.246146667166409E+101,1,0,1,0]
[85.599999999999412,1.494001839707136,9.9999999999999997E+98,-1.2500000000000001E+101,1.2500399993600206E+101,-89.541643541999562,0.99705275222691947,-5.8858092767251451E-3,1.2463558217556453E+101,-89.541643541999562,9.9705275222692715E+98,-1.2463159402836496E+101,-3.5355904731176385E+50,-44.770821770999781,-2.5100199196022536E+50,2.4900200795977737E+50,9.9705275222692715E+98,-1.2463159402836496E+101,9.9705275222692715E+98,-1.2463159402836496E+101,1,0,1,0]
[85.699999999999406,1.4957471689591302,9.9999999999999997E+98,-1.2500000000000001E+101,1.2500399993600206E+101,-89.541643541999562,0.99718513352511495,-5.6218094764986081E-3,1.2465213036735567E+101,-89.541643541999562,9.9718513352512255E+98,-1.2464814169063938E+101,-3.5355904731176385E+50,-44.770821770999781,-2.5100199196022536E+50,2.4900200795977737E+50,9.9718513352512255E+98,-1.2464814169063938E+101,9.9718513352512255E+98,-1.2464814169063938E+101,1,0,1,0]
[85.7999999999994,1.4974924982111244,9.9999999999999997E+98,-1.2500000000000001E+101,1.2500399993600206E+101,-89.541643541999562,0.99731447722445732,-5.3638335185073552E-3,1.2466829884713999E+101,-89.541643541999562,9.9731447722446486E+98,-1.2466430965305717E+101,-3.5355904731176385E+50,-44.770821770999781,-2.5100199196022536E+50,2.4900200795977737E+50,9.9731447722446486E+98,-1.2466430965305717E+101,9.9731447722446486E+98,-1.2466430965305717E+101,1,0,1,0]
[85.899999999999395,1.4992378274631184,9.9999999999999997E+98,-1.2500000000000001E+101,1.2500399993600206E+101,-89.541643541999562,0.99744078293094318,-5.111884546107049E-3,1.2468408756566546E+101,-89.541643541999562,9.9744078293095071E+98,-1.2468009786636791E+101,-3.5355904731176385E+50,-44.770821770999781,-2.5100199196022536E+50,2.4900200795977737E+50,9.9744078293095071E+98,-1.2468009786636791E+101,9.9744078293095071E+98,-1.2468009786636791E+101,1,0,1,0]
[85.999999999999389,1.5009831567151126,9.9999999999999997E+98,-1.2500000000000001E+101,1.2500399993600206E+101,-89.541643541999562,0.99756405025982353,-4.8659656292163473E-3,1.2469949647483693E+101,-89.541643541999562,9.9756405025983101E+98,-1.2469550628247794E+101,-3.5355904731176385E+50,-44.770821770999781,-2.5100199196022536E+50,2.4900200795977737E+50,{"$f":"K865+O865","v":9.9756405025983101E+98},-1.2469550628247794E+101,9.9756405025983101E+98,-1.2469550628247794E+101,1,0,1,0]
[86.099999999999383,1.5027284859671068,9.9999999999999997E+98,-1.2500000000000001E+101,1.2500399993600206E+101,-89.541643541999562,0.99768427883560451,-4.6260797642796768E-3,1.2471452552771617E+101,-89.541643541999562,9.9768427883561203E+98,-1.2471053485445057E+101,-3.5355904731176385E+50,-44.770821770999781,-2.5100199196022536E+50,2.4900200795977737E+50,9.9768427883561203E+98,-1.2471053485445057E+101,9.9768427883561203E+98,-1.2471053485445057E+101,1,0,1,0]
[86.199999999999378,1.5044738152191011,9.9999999999999997E+98,-1.2500000000000001E+101,1.2500399993600206E+101,-89.541643541999562,0.9978014682920493,-4.3922298742305977E-3,1.247291746785221E+101,-89.541643541999562,9.9780146829205696E+98,-1.2472518353650619E+101,-3.5355904731176385E+50,-44.770821770999781,-2.5100199196022536E+50,2.4900200795977737E+50,9.9780146829205696E+98,-1.2472518353650619E+101,9.9780146829205696E+98,-1.2472518353650619E+101,1,0,1,0]
[86.299999999999372,1.5062191444710953,9.9999999999999997E+98,-1.2500000000000001E+101,1.2500399993600206E+101,-89.541643541999562,0.99791561827217823,-4.1644188084562217E-3,1.2474344388263082E+101,-89.541643541999562,9.9791561827218571E+98,-1.2473945228402228E+101,-3.5355904731176385E+50,-44.770821770999781,-2.5100199196022536E+50,2.4900200795977737E+50,9.9791561827218571E+98,-1.2473945228402228E+101,9.9791561827218571E+98,-1.2473945228402228E+101,1,0,1,0]
[86.399999999999366,1.5079644737230897,9.9999999999999997E+98,-1.2500000000000001E+101,1.2500399993600206E+101,-89.541643541999562,0.99802672842827089,-3.9426493427624663E-3,1.2475733309657593E+101,-89.541643541999562,9.9802672842827852E+98,-1.2475334105353388E+101,-3.5355904731176385E+50,-44.770821770999781,-2.5100199196022536E+50,2.4900200795977737E+50,9.9802672842827852E+98,-1.2475334105353388E+101,9.9802672842827852E+98,-1.2475334105353388E+101,1,0,1,0]
[86.499999999999361,1.5097098029750839,9.9999999999999997E+98,-1.2500000000000001E+101,1.2500399993600206E+101,-89.541643541999562,0.99813479842186625,-3.7269241793403398E-3,1.2477084227804839E+101,-89.541643541999562,9.9813479842187377E+98,-1.2476684980273328E+101,-3.5355904731176385E+50,-44.770821770999781,-2.5100199196022536E+50,2.4900200795977737E+50,9.9813479842187377E+98,-1.2476684980273328E+101,9.9813479842187377E+98,-1.2476684980273328E+101,1,0,1,0]
[86.599999999999355,1.5114551322270782,9.9999999999999997E+98,-1.2500000000000001E+101,1.2500399993600206E+101,-89.541643541999562,0.99823982792376464,-3.5172459467328505E-3,1.2478397138589698E+101,-89.541643541999562,9.9823982792377226E+98,-1.247799784904706E+101,-3.5355904731176385E+50,-44.770821770999781,-2.5100199196022536E+50,2.4900200795977737E+50,9.9823982792377226E+98,-1.247799784904706E+101,9.9823982792377226E+98,-1.247799784904706E+101,1,0,1,0]
[86.699999999999349,1.5132004614790724,9.9999999999999997E+98,-1.2500000000000001E+101,1.2500399993600206E+101,-89.541643541999562,0.99834181661402766,-3.3136171998030938E-3,1.247967203801281E+101,-89.541643541999562,9.9834181661403525E+98,-1.2479272707675347E+101,-3.5355904731176385E+50,-44.770821770999781,-2.5100199196022536E+50,2.4900200795977737E+50,9.9834181661403525E+98,-1.2479272707675347E+101,9.9834181661403525E+98,-1.2479272707675347E+101,1,0,1,0]
[86.799999999999343,1.5149457907310666,9.9999999999999997E+98,-1.2500000000000001E+101,1.2500399993600206E+101,-89.541643541999562,0.99844076418198036,-3.1160404197030896E-3,1.2480908922190612E+101,-89.541643541999562,9.9844076418198795E+98,-1.2480509552274756E+101,-3.5355904731176385E+50,-44.770821770999781,-2.5100199196022536E+50,2.4900200795977737E+50,9.9844076418198795E+98,-1.2480509552274756E+101,9.9844076418198795E+98,-1.2480509552274756E+101,1,0,1,0]
[86.899999999999338,1.5166911199830606,9.9999999999999997E+98,-1.2500000000000001E+101,1.2500399993600206E+101,-89.541643541999562,0.99853667032621107,-2.9245180138435744E-3,1.248210778735534E+101,-89.541643541999562,9.9853667032621876E+98,-1.2481708379077641E+101,-3.5355904731176385E+50,-44.770821770999781,-2.5100199196022536E+50,2.4900200795977737E+50,9.9853667032621876E+98,-1.2481708379077641E+101,9.9853667032621876E+98,-1.2481708379077641E+101,1,0,1,0]
[86.999999999999332,1.5184364492350548,9.9999999999999997E+98,-1.2500000000000001E+101,1.2500399993600206E+101,-89.541643541999562,0.99862953475457328,-2.7390523158645759E-3,1.2483268629855044E+101,-89.541643541999562,9.9862953475458084E+98,-1.2482869184432167E+101,-3.5355904731176385E+50,-44.770821770999781,-2.5100199196022536E+50,2.4900200795977737E+50,9.9862953475458084E+98,-1.2482869184432167E+101,9.9862953475458084E+98,-1.2482869184432167E+101,1,0,1,0]
[87.099999999999326,1.5201817784870491,9.9999999999999997E+98,-1.2500000000000001E+101,1.2500399993600206E+101,-89.541643541999562,0.99871935718418559,-2.5596455856071181E-3,1.2484391446153595E+101,-89.541643541999562,9.9871935718419322E+98,-1.2483991964802321E+101,-3.5355904731176385E+50,-44.770821770999781,-2.5100199196022536E+50,2.4900200795977737E+50,9.9871935718419322E+98,-1.2483991964802321E+101,9.9871935718419322E+98,-1.2483991964802321E+101,1,0,1,0]
[87.199999999999321,1.5219271077390435,9.9999999999999997E+98,-1.2500000000000001E+101,1.2500399993600206E+101,-89.541643541999562,0.99880613734143342,-2.3863000090855705E-3,1.2485476232830701E+101,-89.541643541999562,9.9880613734144104E+98,-1.2485076716767919E+101,-3.5355904731176385E+50,-44.770821770999781,-2.5100199196022536E+50,2.4900200795977737E+50,9.9880613734144104E+98,-1.2485076716767919E+101,9.9880613734144104E+98,-1.2485076716767919E+101,1,0,1,0]
[87.299999999999315,1.5236724369910377,9.9999999999999997E+98,-1.2500000000000001E+101,1.2500399993600206E+101,-89.541643541999562,0.99888987496196946,-2.2190176984611238E-3,1.2486522986581914E+101,-89.541643541999562,9.9888987496197697E+98,-1.2486123437024618E+101,-3.5355904731176385E+50,-44.770821770999781,-2.5100199196022536E+50,2.4900200795977737E+50,9.9888987496197697E+98,-1.2486123437024618E+101,9.9888987496197697E+98,-1.2486123437024618E+101,1,0,1,0]
[87.399999999999309,1.5254177662430319,9.9999999999999997E+98,-1.2500000000000001E+101,1.2500399993600206E+101,-89.541643541999562,0.99897056979071419,-2.0578006920159175E-3,1.2487531704218638E+101,-89.541643541999562,9.989705697907218E+98,-1.2487132122383929E+101,-3.5355904731176385E+50,-44.770821770999781,-2.5100199196022536E+50,2.4900200795977737E+50,9.989705697907218E+98,-1.2487132122383929E+101,9.989705697907218E+98,-1.2487132122383929E+101,1,0,1,0]
[87.499999999999304,1.5271630954950262,9.9999999999999997E+98,-1.2500000000000001E+101,1.2500399993600206E+101,-89.541643541999562,0.99904822158185724,-1.9026509541282992E-3,1.2488502382668146E+101,-89.541643541999562,9.9904822158186488E+98,-1.2488102769773218E+101,-3.5355904731176385E+50,-44.770821770999781,-2.5100199196022536E+50,2.4900200795977737E+50,9.9904822158186488E+98,-1.2488102769773218E+101,9.9904822158186488E+98,-1.2488102769773218E+101,1,0,1,0]
[87.599999999999298,1.5289084247470204,9.9999999999999997E+98,-1.2500000000000001E+101,1.2500399993600206E+101,-89.541643541999562,0.99912283009885783,-1.7535703752488625E-3,1.2489435018973582E+101,-89.541643541999562,9.9912283009886541E+98,-1.2489035376235725E+101,-3.5355904731176385E+50,-44.770821770999781,-2.5100199196022536E+50,2.4900200795977737E+50,9.9912283009886541E+98,-1.2489035376235725E+101,9.9912283009886541E+98,-1.2489035376235725E+101,1,0,1,0]
[87.699999999999292,1.5306537539990148,9.9999999999999997E+98,-1.2500000000000001E+101,1.2500399993600206E+101,-89.541643541999562,0.99919439511444552,-1.6105607718773967E-3,1.2490329610293977E+101,-89.541643541999562,9.9919439511445321E+98,-1.2489929938930571E+101,-3.5355904731176385E+50,-44.770821770999781,-2.5100199196022536E+50,2.4900200795977737E+50,9.9919439511445321E+98,-1.2489929938930571E+101,9.9919439511445321E+98,-1.2489929938930571E+101,1,0,1,0]
[87.799999999999287,1.532399083251009,9.9999999999999997E+98,-1.2500000000000001E+101,1.2500399993600206E+101,-89.541643541999562,0.99926291641062071,-1.4736238865408239E-3,1.2491186153904246E+101,-89.541643541999562,9.9926291641062829E+98,-1.249078645513276E+101,-3.5355904731176385E+50,-44.770821770999781,-2.5100199196022536E+50,2.4900200795977737E+50,9.9926291641062829E+98,-1.249078645513276E+101,9.9926291641062829E+98,-1.249078645513276E+101,1,0,1,0]
[87.899999999999281,1.5341444125030033,9.9999999999999997E+98,-1.2500000000000001E+101,1.2500399993600206E+101,-89.541643541999562,0.99932839377865579,-1.3427613877718589E-3,1.2492004647195213E+101,-89.541643541999562,9.993283937786634E+98,-1.2491604922233198E+101,-3.5355904731176385E+50,-44.770821770999781,-2.5100199196022536E+50,2.4900200795977737E+50,9.993283937786634E+98,-1.2491604922233198E+101,9.993283937786634E+98,-1.2491604922233198E+101,1,0,1,0]
[87.999999999999275,1.5358897417549973,9.9999999999999997E+98,-1.2500000000000001E+101,1.2500399993600206E+101,-89.541643541999562,0.99939082701909532,-1.2179748700887668E-3,1.2492785087673603E+101,-89.541643541999562,9.9939082701910289E+98,-1.2492385337738692E+101,-3.5355904731176385E+50,-44.770821770999781,-2.5100199196022536E+50,2.4900200795977737E+50,9.9939082701910289E+98,-1.2492385337738692E+101,9.9939082701910289E+98,-1.2492385337738692E+101,1,0,1,0]
[88.09999999999927,1.5376350710069915,9.9999999999999997E+98,-1.2500000000000001E+101,1.2500399993600206E+101,-89.541643541999562,0.99945021594175676,-1.0992658539758532E-3,1.249352747296206E+101,-89.541643541999562,9.9945021594176433E+98,-1.249312769927196E+101,-3.5355904731176385E+50,-44.770821770999781,-2.5100199196022536E+50,2.4900200795977737E+50,9.9945021594176433E+98,-1.249312769927196E+101,9.9945021594176433E+98,-1.249312769927196E+101,1,0,1,0]
[88.199999999999264,1.5393804002589857,9.9999999999999997E+98,-1.2500000000000001E+101,1.2500399993600206E+101,-89.541643541999562,0.99950656036573116,-9.866357858650341E-4,1.249423180079915E+101,-89.541643541999562,9.9950656036573876E+98,-1.249383200457164E+101,-3.5355904731176385E+50,-44.770821770999781,-2.5100199196022536E+50,2.4900200795977737E+50,9.9950656036573876E+98,-1.249383200457164E+101,9.9950656036573876E+98,-1.249383200457164E+101,1,0,1,0]
[88.299999999999258,1.5411257295109799,9.9999999999999997E+98,-1.2500000000000001E+101,1.2500399993600206E+101,-89.541643541999562,0.99955986011938369,-8.8008603811814544E-4,1.2494898069039366E+101,-89.541643541999562,9.9955986011939124E+98,-1.2494498251492297E+101,-3.5355904731176385E+50,-44.770821770999781,-2.5100199196022536E+50,2.4900200795977737E+50,9.9955986011939124E+98,-1.2494498251492297E+101,9.9955986011939124E+98,-1.2494498251492297E+101,1,0,1,0]
[88.399999999999253,1.5428710587629741,9.9999999999999997E+98,-1.2500000000000001E+101,1.2500399993600206E+101,-89.541643541999562,0.99961011504035402,-7.7961790901023799E-4,1.2495526275653142E+101,-89.541643541999562,9.9961011504036153E+98,-1.2495126438004425E+101,-3.5355904731176385E+50,-44.770821770999781,-2.5100199196022536E+50,2.4900200795977737E+50,9.9961011504036153E+98,-1.2495126438004425E+101,9.9961011504036153E+98,-1.2495126438004425E+101,1,0,1,0]
[88.499999999999247,1.5446163880149686,9.9999999999999997E+98,-1.2500000000000001E+101,1.2500399993600206E+101,-89.541643541999562,0.99965732497555693,-6.8523262271374811E-4,1.2496116418726851E+101,-89.541643541999562,9.9965732497556454E+98,-1.2495716562194463E+101,-3.5355904731176385E+50,-44.770821770999781,-2.5100199196022536E+50,2.4900200795977737E+50,9.9965732497556454E+98,-1.2495716562194463E+101,9.9965732497556454E+98,-1.2495716562194463E+101,1,0,1,0]
[88.599999999999241,1.5463617172669628,9.9999999999999997E+98,-1.2500000000000001E+101,1.2500399993600206E+101,-89.541643541999562,0.99970148978118278,-5.969313292836266E-4,1.2496668496462813E+101,-89.541643541999562,9.9970148978119041E+98,-1.2496268622264786E+101,-3.5355904731176385E+50,-44.770821770999781,-2.5100199196022536E+50,2.4900200795977737E+50,9.9970148978119041E+98,-1.2496268622264786E+101,9.9970148978119041E+98,-1.2496268622264786E+101,1,0,1,0]
[88.699999999999235,1.548107046518957,9.9999999999999997E+98,-1.2500000000000001E+101,1.2500399993600206E+101,-89.541643541999562,0.99974260932269798,-5.1471510464325566E-4,1.2497182507179306E+101,-89.541643541999562,9.9974260932270559E+98,-1.2496782616533726E+101,-3.5355904731176385E+50,-44.770821770999781,-2.5100199196022536E+50,2.4900200795977737E+50,9.9974260932270559E+98,-1.2496782616533726E+101,9.9974260932270559E+98,-1.2496782616533726E+101,1,0,1,0]
[88.79999999999923,1.5498523757709513,9.9999999999999997E+98,-1.2500000000000001E+101,1.2500399993600206E+101,-89.541643541999562,0.99978068347484517,-4.3858495057138663E-4,1.2497658449310564E+101,-89.541643541999562,9.9978068347485284E+98,-1.2497258543435566E+101,-3.5355904731176385E+50,-44.770821770999781,-2.5100199196022536E+50,2.4900200795977737E+50,9.9978068347485284E+98,-1.2497258543435566E+101,9.9978068347485284E+98,-1.2497258543435566E+101,1,0,1,0]
[88.899999999999224,1.5515977050229455,9.9999999999999997E+98,-1.2500000000000001E+101,1.2500399993600206E+101,-89.541643541999562,0.999815712121644,-3.6854179468992162E-4,1.2498096321406784E+101,-89.541643541999562,9.9981571212165167E+98,-1.2497696401520552E+101,-3.5355904731176385E+50,-44.770821770999781,-2.5100199196022536E+50,2.4900200795977737E+50,9.9981571212165167E+98,-1.2497696401520552E+101,9.9981571212165167E+98,-1.2497696401520552E+101,1,0,1,0]
[88.999999999999218,1.5533430342749395,9.9999999999999997E+98,-1.2500000000000001E+101,1.2500399993600206E+101,-89.541643541999562,0.99984769515639105,-3.0458649045261838E-4,1.2498496122134131E+101,-89.541643541999562,9.9984769515639857E+98,-1.2498096189454888E+101,-3.5355904731176385E+50,-44.770821770999781,-2.5100199196022536E+50,2.4900200795977737E+50,9.9984769515639857E+98,-1.2498096189454888E+101,9.9984769515639857E+98,-1.2498096189454888E+101,1,0,1,0]
[89.099999999999213,1.5550883635269337,9.9999999999999997E+98,-1.2500000000000001E+101,1.2500399993600206E+101,-89.541643541999562,0.99987663248166037,-2.4671981713466007E-4,1.2498857850274743E+101,-89.541643541999562,9.9987663248166808E+98,-1.2498457906020758E+101,-3.5355904731176385E+50,-44.770821770999781,-2.5100199196022536E+50,2.4900200795977737E+50,9.9987663248166808E+98,-1.2498457906020758E+101,9.9987663248166808E+98,-1.2498457906020758E+101,1,0,1,0]
[89.199999999999207,1.5568336927789279,9.9999999999999997E+98,-1.2500000000000001E+101,1.2500399993600206E+101,-89.541643541999562,0.99990252400930402,-1.9494247982320759E-4,1.2499181504726733E+101,-89.541643541999562,9.9990252400931149E+98,-1.24987815501163E+101,-3.5355904731176385E+50,-44.770821770999781,-2.5100199196022536E+50,2.4900200795977737E+50,9.9990252400931149E+98,-1.24987815501163E+101,9.9990252400931149E+98,-1.24987815501163E+101,1,0,1,0]
[89.299999999999201,1.5585790220309224,9.9999999999999997E+98,-1.2500000000000001E+101,1.2500399993600206E+101,-89.541643541999562,0.99992536966045187,-1.4925510940877096E-4,1.2499467084504196E+101,-89.541643541999562,9.9992536966045947E+98,-1.249906712075565E+101,-3.5355904731176385E+50,-44.770821770999781,-2.5100199196022536E+50,2.4900200795977737E+50,9.9992536966045947E+98,-1.249906712075565E+101,9.9992536966045947E+98,-1.249906712075565E+101,1,0,1,0]
[89.399999999999196,1.5603243512829166,9.9999999999999997E+98,-1.2500000000000001E+101,1.2500399993600206E+101,-89.541643541999562,0.99994516936551203,-1.0965826257755224E-4,1.2499714588737203E+101,-89.541643541999562,9.9994516936551955E+98,-1.24993146170689E+101,-3.5355904731176385E+50,-44.770821770999781,-2.5100199196022536E+50,2.4900200795977737E+50,9.9994516936551955E+98,-1.24993146170689E+101,9.9994516936551955E+98,-1.24993146170689E+101,1,0,1,0]
[89.49999999999919,1.5620696805349108,9.9999999999999997E+98,-1.2500000000000001E+101,1.2500399993600206E+101,-89.541643541999562,0.9999619230641712,-7.6152421804627778E-5,1.2499924016671815E+101,-89.541643541999562,9.9996192306417879E+98,-1.249952403830214E+101,-3.5355904731176385E+50,-44.770821770999781,-2.5100199196022536E+50,2.4900200795977737E+50,9.9996192306417879E+98,-1.249952403830214E+101,9.9996192306417879E+98,-1.249952403830214E+101,1,0,1,0]
[89.599999999999184,1.563815009786905,9.9999999999999997E+98,-1.2500000000000001E+101,1.2500399993600206E+101,-89.541643541999562,0.99997563070539475,-4.8737995348093624E-5,1.2500095367670079E+101,-89.541643541999562,9.9997563070540229E+98,-1.2499695383817434E+101,-3.5355904731176385E+50,-44.770821770999781,-2.5100199196022536E+50,2.4900200795977737E+50,9.9997563070540229E+98,-1.2499695383817434E+101,9.9997563070540229E+98,-1.2499695383817434E+101,{"$f":"(Q901*S901+T901*R901)/((S901^2)+(T901^2))","v":1},0,1,0]
[89.699999999999179,{"$f":"A902*PI()/180","v":1.5655603390388992},{"$f":"$D$1","v":9.9999999999999997E+98},{"$f":"-(18000*$G$1/$N$1)","v":-1.2500000000000001E+101},{"$f":"(C902^2+D902^2)^0.5","v":1.2500399993600206E+101},{"$f":"(180/PI())*ATAN(D902/C902)","v":-89.541643541999562},{"$f":"SIN(B902)","v":0.99998629224742674},{"$f":"-((COS(B902))^2)","v":-2.7415317244084698E-5},{"$f":"E902*G902","v":1.2500228641210028E+101},{"$f":"F902","v":-89.541643541999562},{"$f":"(((I902^2)/(1+(TAN(J902*(PI()/180)))^2))^0.5)","v":9.9998629224743434E+98},{"$f":"K902*TAN(J902*(PI()/180))","v":-1.2499828653092835E+101},{"$f":"-(((((C902+H902)^2)+(D902)^2)^0.5)^0.5)","v":-3.5355904731176385E+50},{"$f":"((ATAN(D902/(C902+H902)))*(180/PI()))/2","v":-44.770821770999781},{"$f":"-(((M902^2)/(1+(TAN(N902*(PI()/180)))^2))^0.5)","v":-2.5100199196022536E+50},{"$f":"O902*TAN(N902*(PI()/180))","v":2.4900200795977737E+50},9.9998629224743434E+98,-1.2499828653092835E+101,{"$f":"-O902+K902","v":9.9998629224743434E+98},{"$f":"L902-P902","v":-1.2499828653092835E+101},{"$f":"(Q902*S902+T902*R902)/((S902^2)+(T902^2))","v":1},{"$f":"(R902*S902-Q902*T902)/((S902^2)+(T902^2))","v":0},{"$f":"((U902^2)+(V902^2))^0.5","v":1},{"$f":"(ACOS(U902/W902))*(180/PI())","v":0}]
[{"$f":"A902+0.1","v":89.799999999999173},{"$f":"A903*PI()/180","v":1.5673056682908935},{"$f":"$D$1","v":9.9999999999999997E+98},{"$f":"-(18000*$G$1/$N$1)","v":-1.2500000000000001E+101},{"$f":"(C903^2+D903^2)^0.5","v":1.2500399993600206E+101},{"$f":"(180/PI())*ATAN(D903/C903)","v":-89.541643541999562},{"$f":"SIN(B903)","v":0.99999390765779028},{"$f":"-((COS(B903))^2)","v":-1.2184647302704665E-5},{"$f":"E903*G903","v":1.2500323836885686E+101},{"$f":"F903","v":-89.541643541999562},{"$f":"(((I903^2)/(1+(TAN(J903*(PI()/180)))^2))^0.5)","v":9.9999390765779788E+98},{"$f":"K903*TAN(J903*(PI()/180))","v":-1.2499923845722379E+101},{"$f":"-(((((C903+H903)^2)+(D903)^2)^0.5)^0.5)","v":-3.5355904731176385E+50},{"$f":"((ATAN(D903/(C903+H903)))*(180/PI()))/2","v":-44.770821770999781},{"$f":"-(((M903^2)/(1+(TAN(N903*(PI()/180)))^2))^0.5)","v":-2.5100199196022536E+50},{"$f":"O903*TAN(N903*(PI()/180))","v":2.4900200795977737E+50},9.9999390765779788E+98,-1.2499923845722379E+101,{"$f":"-O903+K903","v":9.9999390765779788E+98},{"$f":"L903-P903","v":-1.2499923845722379E+101},{"$f":"(Q903*S903+T903*R903)/((S903^2)+(T903^2))","v":1},{"$f":"(R903*S903-Q903*T903)/((S903^2)+(T903^2))","v":0},{"$f":"((U903^2)+(V903^2))^0.5","v":1},{"$f":"(ACOS(U903/W903))*(180/PI())","v":0}]
[{"$f":"A903+0.1","v":89.899999999999167},{"$f":"A904*PI()/180","v":1.5690509975428879},{"$f":"$D$1","v":9.9999999999999997E+98},{"$f":"-(18000*$G$1/$N$1)","v":-1.2500000000000001E+101},{"$f":"(C904^2+D904^2)^0.5","v":1.2500399993600206E+101},{"$f":"(180/PI())*ATAN(D904/C904)","v":-89.541643541999562},{"$f":"SIN(B904)","v":0.99999847691328769},{"$f":"-((COS(B904))^2)","v":-3.0461711048594762E-6},{"$f":"E904*G904","v":1.2500380954407077E+101},{"$f":"F904","v":-89.541643541999562},{"$f":"(((I904^2)/(1+(TAN(J904*(PI()/180)))^2))^0.5)","v":9.9999847691329526E+98},{"$f":"K904*TAN(J904*(PI()/180))","v":-1.2499980961416096E+101},{"$f":"-(((((C904+H904)^2)+(D904)^2)^0.5)^0.5)","v":-3.5355904731176385E+50},{"$f":"((ATAN(D904/(C904+H904)))*(180/PI()))/2","v":-44.770821770999781},{"$f":"-(((M904^2)/(1+(TAN(N904*(PI()/180)))^2))^0.5)","v":-2.5100199196022536E+50},{"$f":"O904*TAN(N904*(PI()/180))","v":2.4900200795977737E+50},9.9999847691329526E+98,-1.2499980961416096E+101,{"$f":"-O904+K904","v":9.9999847691329526E+98},{"$f":"L904-P904","v":-1.2499980961416096E+101},{"$f":"(Q904*S904+T904*R904)/((S904^2)+(T904^2))","v":1},{"$f":"(R904*S904-Q904*T904)/((S904^2)+(T904^2))","v":0},{"$f":"((U904^2)+(V904^2))^0.5","v":1},{"$f":"(ACOS(U904/W904))*(180/PI())","v":0}]
[{"$f":"A904+0.1","v":89.999999999999162},{"$f":"A905*PI()/180","v":1.5707963267948821},{"$f":"$D$1","v":9.9999999999999997E+98},{"$f":"-(18000*$G$1/$N$1)","v":-1.2500000000000001E+101},{"$f":"(C905^2+D905^2)^0.5","v":1.2500399993600206E+101},{"$f":"(180/PI())*ATAN(D905/C905)","v":-89.541643541999562},{"$f":"SIN(B905)","v":1},{"$f":"-((COS(B905))^2)","v":-2.1008057968695537E-28},{"$f":"E905*G905","v":1.2500399993600206E+101},{"$f":"F905","v":-89.541643541999562},{"$f":"(((I905^2)/(1+(TAN(J905*(PI()/180)))^2))^0.5)","v":1.0000000000000076E+99},{"$f":"K905*TAN(J905*(PI()/180))","v":-1.2500000000000001E+101},{"$f":"-(((((C905+H905)^2)+(D905)^2)^0.5)^0.5)","v":-3.5355904731176385E+50},{"$f":"((ATAN(D905/(C905+H905)))*(180/PI()))/2","v":-44.770821770999781},{"$f":"-(((M905^2)/(1+(TAN(N905*(PI()/180)))^2))^0.5)","v":-2.5100199196022536E+50},{"$f":"O905*TAN(N905*(PI()/180))","v":2.4900200795977737E+50},1.0000000000000076E+99,-1.2500000000000001E+101,{"$f":"-O905+K905","v":1.0000000000000076E+99},{"$f":"L905-P905","v":-1.2500000000000001E+101},{"$f":"(Q905*S905+T905*R905)/((S905^2)+(T905^2))","v":1},{"$f":"(R905*S905-Q905*T905)/((S905^2)+(T905^2))","v":0},{"$f":"((U905^2)+(V905^2))^0.5","v":1},{"$f":"(ACOS(U905/W905))*(180/PI())","v":0}]

{"sheet":"Ref. Coeff. Horiz.","index":6,"n_rows":905,"n_cols":24,"rows_kept":905,"cut":false,"hidden":false,"merged":[[2,16,2,17],[2,18,2,19],[2,20,2,23],[2,0,2,1],[2,2,2,5],[2,8,2,11],[2,12,2,15]]}
[null,null,"Permittivity εr",{"$f":"Home!D5","v":9.9999999999999997E+98},null,"Conductivity σ",{"$f":"Home!D4","v":9.9999999999999997E+98},null,null,null,null,null,"Frequency (MHz)",{"$f":"Home!D6","v":144}]
[]
["Angle α",null,"ε'",null,null,null,null,null,"SIN(α)",null,null,null,"SQRT [ε'-COS²(α)]",null,null,null,"Numerator",null,"Denominator",null,"Num/Denom"]
["Degree","Radian","Re","Im",null,null,"SIN(α)","-COS²(α)",null,null,"Re","Im",null,null,"Re","Im","Re","Im","Re","Im","Re","Im","ρ","θ"]
[0,{"$f":"A5*PI()/180","v":0},{"$f":"$D$1","v":9.9999999999999997E+98},{"$f":"-(18000*$G$1/$N$1)","v":-1.2500000000000001E+101},{"$f":"(C5^2+D5^2)^0.5","v":1.2500399993600206E+101},{"$f":"(180/PI())*ATAN(D5/C5)","v":-89.541643541999562},{"$f":"SIN(B5)","v":0},{"$f":"-((COS(B5))^2)","v":-1},{"$f":"G5","v":0},0,{"$f":"(((I5^2)/(1+(TAN(J5*(PI()/180)))^2))^0.5)","v":0},{"$f":"K5*TAN(J5*(PI()/180))","v":0},{"$f":"-(((((C5+H5)^2)+(D5)^2)^0.5)^0.5)","v":-3.5355904731176385E+50},{"$f":"((ATAN(D5/(C5+H5)))*(180/PI()))/2","v":-44.770821770999781},{"$f":"-(((M5^2)/(1+(TAN(N5*(PI()/180)))^2))^0.5)","v":-2.5100199196022536E+50},{"$f":"O5*TAN(N5*(PI()/180))","v":2.4900200795977737E+50},{"$f":"K5+O5","v":-2.5100199196022536E+50},{"$f":"L5+P5","v":2.4900200795977737E+50},{"$f":"-O5+K5","v":2.5100199196022536E+50},{"$f":"L5-P5","v":-2.4900200795977737E+50},{"$f":"(Q5*S5+T5*R5)/((S5^2)+(T5^2))","v":-1},{"$f":"(R5*S5-Q5*T5)/((S5^2)+(T5^2))","v":0},{"$f":"((U5^2)+(V5^2))^0.5","v":1},{"$f":"(ACOS(U5/W5))*(180/PI())","v":180}]
[{"$f":"A5+0.1","v":0.1},{"$f":"A6*PI()/180","v":1.7453292519943296E-3},{"$f":"$D$1","v":9.9999999999999997E+98},{"$f":"-(18000*$G$1/$N$1)","v":-1.2500000000000001E+101},{"$f":"(C6^2+D6^2)^0.5","v":1.2500399993600206E+101},{"$f":"(180/PI())*ATAN(D6/C6)","v":-89.541643541999562},{"$f":"SIN(B6)","v":1.7453283658983088E-3},{"$f":"-((COS(B6))^2)","v":-0.9999969538288952},{"$f":"G6","v":1.7453283658983088E-3},0,{"$f":"(((I6^2)/(1+(TAN(J6*(PI()/180)))^2))^0.5)","v":1.7453283658983088E-3},{"$f":"K6*TAN(J6*(PI()/180))","v":0},{"$f":"-(((((C6+H6)^2)+(D6)^2)^0.5)^0.5)","v":-3.5355904731176385E+50},{"$f":"((ATAN(D6/(C6+H6)))*(180/PI()))/2","v":-44.770821770999781},{"$f":"-(((M6^2)/(1+(TAN(N6*(PI()/180)))^2))^0.5)","v":-2.5100199196022536E+50},{"$f":"O6*TAN(N6*(PI()/180))","v":2.4900200795977737E+50},{"$f":"K6+O6","v":-2.5100199196022536E+50},2.4900200795977737E+50,{"$f":"-O6+K6","v":2.5100199196022536E+50},{"$f":"L6-P6","v":-2.4900200795977737E+50},{"$f":"(Q6*S6+T6*R6)/((S6^2)+(T6^2))","v":-1},{"$f":"(R6*S6-Q6*T6)/((S6^2)+(T6^2))","v":0},{"$f":"((U6^2)+(V6^2))^0.5","v":1},{"$f":"(ACOS(U6/W6))*(180/PI())","v":180}]
[{"$f":"A6+0.1","v":0.2},3.4906585039886592E-3,9.9999999999999997E+98,-1.2500000000000001E+101,1.2500399993600206E+101,-89.541643541999562,3.4906514152237321E-3,-0.99998781535269743,3.4906514152237321E-3,0,3.4906514152237321E-3,0,-3.5355904731176385E+50,-44.770821770999781,-2.5100199196022536E+50,2.4900200795977737E+50,-2.5100199196022536E+50,2.4900200795977737E+50,2.5100199196022536E+50,-2.4900200795977737E+50,-1,0,1,180]
[0.30000000000000004,5.235987755982989E-3,9.9999999999999997E+98,-1.2500000000000001E+101,1.2500399993600206E+101,-89.541643541999562,5.2359638314195805E-3,-0.99997258468275596,5.2359638314195805E-3,0,5.2359638314195805E-3,0,-3.5355904731176385E+50,-44.770821770999781,-2.5100199196022536E+50,2.4900200795977737E+50,-2.5100199196022536E+50,2.4900200795977737E+50,2.5100199196022536E+50,-2.4900200795977737E+50,-1,0,1,180]
[0.4,6.9813170079773184E-3,9.9999999999999997E+98,-1.2500000000000001E+101,1.2500399993600206E+101,-89.541643541999562,6.9812602979615525E-3,-0.99995126200465201,6.9812602979615525E-3,0,6.9812602979615525E-3,0,-3.5355904731176385E+50,-44.770821770999781,-2.5100199196022536E+50,2.4900200795977737E+50,-2.5100199196022536E+50,2.4900200795977737E+50,2.5100199196022536E+50,-2.4900200795977737E+50,-1,0,1,180]
[0.5,8.7266462599716477E-3,9.9999999999999997E+98,-1.2500000000000001E+101,1.2500399993600206E+101,-89.541643541999562,8.7265354983739347E-3,-0.99992384757819563,8.7265354983739347E-3,0,8.7265354983739347E-3,0,-3.5355904731176385E+50,-44.770821770999781,-2.5100199196022536E+50,2.4900200795977737E+50,-2.5100199196022536E+50,2.4900200795977737E+50,2.5100199196022536E+50,-2.4900200795977737E+50,-1,0,1,180]
[0.6,1.0471975511965976E-2,9.9999999999999997E+98,-1.2500000000000001E+101,1.2500399993600206E+101,-89.541643541999562,1.0471784116245792E-2,-0.99989034173742275,1.0471784116245792E-2,0,1.0471784116245792E-2,0,-3.5355904731176385E+50,-44.770821770999781,-2.5100199196022536E+50,2.4900200795977737E+50,-2.5100199196022536E+50,2.4900200795977737E+50,2.5100199196022536E+50,-2.4900200795977737E+50,-1,0,1,180]
[0.7,1.2217304763960306E-2,9.9999999999999997E+98,-1.2500000000000001E+101,1.2500399993600206E+101,-89.541643541999562,1.2217000835247169E-2,-0.99985074489059156,1.2217000835247169E-2,0,1.2217000835247169E-2,0,-3.5355904731176385E+50,-44.770821770999781,-2.5100199196022536E+50,2.4900200795977737E+50,-2.5100199196022536E+50,2.4900200795977737E+50,2.5100199196022536E+50,-2.4900200795977737E+50,-1,0,1,180]
[0.79999999999999993,1.3962634015954637E-2,9.9999999999999997E+98,-1.2500000000000001E+101,1.2500399993600206E+101,-89.541643541999562,1.3962180339145272E-2,-0.99980505752017723,1.3962180339145272E-2,0,1.3962180339145272E-2,0,-3.5355904731176385E+50,-44.770821770999781,-2.5100199196022536E+50,2.4900200795977737E+50,-2.5100199196022536E+50,2.4900200795977737E+50,2.5100199196022536E+50,-2.4900200795977737E+50,-1,0,1,180]
[0.89999999999999991,1.5707963267948963E-2,9.9999999999999997E+98,-1.2500000000000001E+101,1.2500399993600206E+101,-89.541643541999562,1.5707317311820672E-2,-0.9997532801828658,1.5707317311820672E-2,0,1.5707317311820672E-2,0,-3.5355904731176385E+50,-44.770821770999781,-2.5100199196022536E+50,2.4900200795977737E+50,-2.5100199196022536E+50,2.4900200795977737E+50,2.5100199196022536E+50,-2.4900200795977737E+50,-1,0,1,180]
[0.99999999999999989,1.7453292519943292E-2,9.9999999999999997E+98,-1.2500000000000001E+101,1.2500399993600206E+101,-89.541643541999562,1.7452406437283508E-2,-0.99969541350954794,1.7452406437283508E-2,0,1.7452406437283508E-2,0,-3.5355904731176385E+50,-44.770821770999781,-2.5100199196022536E+50,2.4900200795977737E+50,-2.5100199196022536E+50,2.4900200795977737E+50,2.5100199196022536E+50,-2.4900200795977737E+50,-1,0,1,180]
[1.0999999999999999,1.9198621771937621E-2,9.9999999999999997E+98,-1.2500000000000001E+101,1.2500399993600206E+101,-89.541643541999562,1.9197442399689662E-2,-0.99963145820531052,1.9197442399689662E-2,0,1.9197442399689662E-2,0,-3.5355904731176385E+50,-44.770821770999781,-2.5100199196022536E+50,2.4900200795977737E+50,-2.5100199196022536E+50,2.4900200795977737E+50,2.5100199196022536E+50,-2.4900200795977737E+50,-1,0,1,180]
[1.2,2.0943951023931952E-2,9.9999999999999997E+98,-1.2500000000000001E+101,1.2500399993600206E+101,-89.541643541999562,2.0942419883356957E-2,-0.99956141504942919,2.0942419883356957E-2,0,2.0942419883356957E-2,0,-3.5355904731176385E+50,-44.770821770999781,-2.5100199196022536E+50,2.4900200795977737E+50,-2.5100199196022536E+50,2.4900200795977737E+50,2.5100199196022536E+50,-2.4900200795977737E+50,-1,0,1,180]
[1.3,2.2689280275926284E-2,9.9999999999999997E+98,-1.2500000000000001E+101,1.2500399993600206E+101,-89.541643541999562,2.2687333572781358E-2,-0.99948528489535737,2.2687333572781358E-2,0,2.2687333572781358E-2,0,-3.5355904731176385E+50,-44.770821770999781,-2.5100199196022536E+50,2.4900200795977737E+50,-2.5100199196022536E+50,2.4900200795977737E+50,2.5100199196022536E+50,-2.4900200795977737E+50,-1,0,1,180]
[1.4000000000000001,2.4434609527920613E-2,9.9999999999999997E+98,-1.2500000000000001E+101,1.2500399993600206E+101,-89.541643541999562,2.4432178152653153E-2,-0.99940306867071693,2.4432178152653153E-2,0,2.4432178152653153E-2,0,-3.5355904731176385E+50,-44.770821770999781,-2.5100199196022536E+50,2.4900200795977737E+50,-2.5100199196022536E+50,2.4900200795977737E+50,2.5100199196022536E+50,-2.4900200795977737E+50,-1,0,1,180]
[1.5000000000000002,2.6179938779914948E-2,9.9999999999999997E+98,-1.2500000000000001E+101,1.2500399993600206E+101,-89.541643541999562,2.6176948307873156E-2,-0.99931476737728686,2.6176948307873156E-2,0,2.6176948307873156E-2,0,-3.5355904731176385E+50,-44.770821770999781,-2.5100199196022536E+50,2.4900200795977737E+50,-2.5100199196022536E+50,2.4900200795977737E+50,2.5100199196022536E+50,-2.4900200795977737E+50,-1,0,1,180]
[1.6000000000000003,2.7925268031909277E-2,9.9999999999999997E+98,-1.2500000000000001E+101,1.2500399993600206E+101,-89.541643541999562,2.7921638723568884E-2,-0.99922038209099051,2.7921638723568884E-2,0,2.7921638723568884E-2,0,-3.5355904731176385E+50,-44.770821770999781,-2.5100199196022536E+50,2.4900200795977737E+50,-2.5100199196022536E+50,2.4900200795977737E+50,2.5100199196022536E+50,-2.4900200795977737E+50,-1,0,1,180]
[1.7000000000000004,2.9670597283903605E-2,9.9999999999999997E+98,-1.2500000000000001E+101,1.2500399993600206E+101,-89.541643541999562,2.966624408511076E-2,-0.9991199139618826,2.966624408511076E-2,0,2.966624408511076E-2,0,-3.5355904731176385E+50,-44.770821770999781,-2.5100199196022536E+50,2.4900200795977737E+50,-2.5100199196022536E+50,2.4900200795977737E+50,2.5100199196022536E+50,-2.4900200795977737E+50,-1,0,1,180]
[1.8000000000000005,3.1415926535897941E-2,9.9999999999999997E+98,-1.2500000000000001E+101,1.2500399993600206E+101,-89.541643541999562,3.1410759078128299E-2,-0.99901336421413589,3.1410759078128299E-2,0,3.1410759078128299E-2,0,-3.5355904731176385E+50,-44.770821770999781,-2.5100199196022536E+50,2.4900200795977737E+50,-2.5100199196022536E+50,2.4900200795977737E+50,2.5100199196022536E+50,-2.4900200795977737E+50,-1,0,1,180]
[1.9000000000000006,3.3161255787892273E-2,9.9999999999999997E+98,-1.2500000000000001E+101,1.2500399993600206E+101,-89.541643541999562,3.3155178388526288E-2,-0.99890073414602509,3.3155178388526288E-2,0,3.3155178388526288E-2,0,-3.5355904731176385E+50,-44.770821770999781,-2.5100199196022536E+50,2.4900200795977737E+50,-2.5100199196022536E+50,2.4900200795977737E+50,2.5100199196022536E+50,-2.4900200795977737E+50,-1,0,1,180]
[2.0000000000000004,3.4906585039886598E-2,9.9999999999999997E+98,-1.2500000000000001E+101,1.2500399993600206E+101,-89.541643541999562,3.4899496702500976E-2,-0.99878202512991221,3.4899496702500976E-2,0,3.4899496702500976E-2,0,-3.5355904731176385E+50,-44.770821770999781,-2.5100199196022536E+50,2.4900200795977737E+50,-2.5100199196022536E+50,2.4900200795977737E+50,2.5100199196022536E+50,-2.4900200795977737E+50,-1,0,1,180]
[2.1000000000000005,3.665191429188093E-2,9.9999999999999997E+98,-1.2500000000000001E+101,1.2500399993600206E+101,-89.541643541999562,3.6643708706556283E-2,-0.99865723861222899,3.6643708706556283E-2,0,3.6643708706556283E-2,0,-3.5355904731176385E+50,-44.770821770999781,-2.5100199196022536E+50,2.4900200795977737E+50,-2.5100199196022536E+50,2.4900200795977737E+50,2.5100199196022536E+50,-2.4900200795977737E+50,-1,0,1,180]
[2.2000000000000006,3.8397243543875262E-2,9.9999999999999997E+98,-1.2500000000000001E+101,1.2500399993600206E+101,-89.541643541999562,3.8387809087519952E-2,-0.99852637611346007,3.8387809087519952E-2,0,3.8387809087519952E-2,0,-3.5355904731176385E+50,-44.770821770999781,-2.5100199196022536E+50,2.4900200795977737E+50,-2.5100199196022536E+50,2.4900200795977737E+50,2.5100199196022536E+50,-2.4900200795977737E+50,-1,0,1,180]
[2.3000000000000007,4.0142572795869594E-2,9.9999999999999997E+98,-1.2500000000000001E+101,1.2500399993600206E+101,-89.541643541999562,4.0131792532559746E-2,-0.99838943922812351,4.0131792532559746E-2,0,4.0131792532559746E-2,0,-3.5355904731176385E+50,-44.770821770999781,-2.5100199196022536E+50,2.4900200795977737E+50,-2.5100199196022536E+50,2.4900200795977737E+50,2.5100199196022536E+50,-2.4900200795977737E+50,-1,0,1,180]
[2.4000000000000008,4.1887902047863926E-2,9.9999999999999997E+98,-1.2500000000000001E+101,1.2500399993600206E+101,-89.541643541999562,4.1875653729199644E-2,-0.99824642962475219,4.1875653729199644E-2,0,4.1875653729199644E-2,0,-3.5355904731176385E+50,-44.770821770999781,-2.5100199196022536E+50,2.4900200795977737E+50,-2.5100199196022536E+50,2.4900200795977737E+50,2.5100199196022536E+50,-2.4900200795977737E+50,-1,0,1,180]
[2.5000000000000009,4.3633231299858251E-2,9.9999999999999997E+98,-1.2500000000000001E+101,1.2500399993600206E+101,-89.541643541999562,4.3619387365336014E-2,-0.99809734904587288,4.3619387365336014E-2,0,4.3619387365336014E-2,0,-3.5355904731176385E+50,-44.770821770999781,-2.5100199196022536E+50,2.4900200795977737E+50,-2.5100199196022536E+50,2.4900200795977737E+50,2.5100199196022536E+50,-2.4900200795977737E+50,-1,0,1,180]
[2.600000000000001,4.537856055185259E-2,9.9999999999999997E+98,-1.2500000000000001E+101,1.2500399993600206E+101,-89.541643541999562,4.5362988129253802E-2,-0.99794219930798533,4.5362988129253802E-2,0,4.5362988129253802E-2,0,-3.5355904731176385E+50,-44.770821770999781,-2.5100199196022536E+50,2.4900200795977737E+50,-2.5100199196022536E+50,2.4900200795977737E+50,2.5100199196022536E+50,-2.4900200795977737E+50,-1,0,1,180]
[2.7000000000000011,4.7123889803846915E-2,9.9999999999999997E+98,-1.2500000000000001E+101,1.2500399993600206E+101,-89.541643541999562,4.7106450709642679E-2,-0.99778098230154011,4.7106450709642679E-2,0,4.7106450709642679E-2,0,-3.5355904731176385E+50,-44.770821770999781,-2.5100199196022536E+50,2.4900200795977737E+50,-2.5100199196022536E+50,2.4900200795977737E+50,2.5100199196022536E+50,-2.4900200795977737E+50,-1,0,1,180]
[2.8000000000000012,4.8869219055841247E-2,9.9999999999999997E+98,-1.2500000000000001E+101,1.2500399993600206E+101,-89.541643541999562,4.8849769795613278E-2,-0.99761369999091565,4.8849769795613278E-2,0,4.8849769795613278E-2,0,-3.5355904731176385E+50,-44.770821770999781,-2.5100199196022536E+50,2.4900200795977737E+50,-2.5100199196022536E+50,2.4900200795977737E+50,2.5100199196022536E+50,-2.4900200795977737E+50,-1,0,1,180]
[2.9000000000000012,5.0614548307835579E-2,9.9999999999999997E+98,-1.2500000000000001E+101,1.2500399993600206E+101,-89.541643541999562,5.0592940076713333E-2,-0.99744035441439416,5.0592940076713333E-2,0,5.0592940076713333E-2,0,-3.5355904731176385E+50,-44.770821770999781,-2.5100199196022536E+50,2.4900200795977737E+50,-2.5100199196022536E+50,2.4900200795977737E+50,2.5100199196022536E+50,-2.4900200795977737E+50,-1,0,1,180]
[3.0000000000000013,5.2359877559829904E-2,9.9999999999999997E+98,-1.2500000000000001E+101,1.2500399993600206E+101,-89.541643541999562,5.2335956242943849E-2,-0.99726094768413653,5.2335956242943849E-2,0,5.2335956242943849E-2,0,-3.5355904731176385E+50,-44.770821770999781,-2.5100199196022536E+50,2.4900200795977737E+50,-2.5100199196022536E+50,2.4900200795977737E+50,2.5100199196022536E+50,-2.4900200795977737E+50,-1,0,1,180]
[3.1000000000000014,5.4105206811824243E-2,9.9999999999999997E+98,-1.2500000000000001E+101,1.2500399993600206E+101,-89.541643541999562,5.4078812984775321E-2,-0.9970754819861577,5.4078812984775321E-2,0,5.4078812984775321E-2,0,-3.5355904731176385E+50,-44.770821770999781,-2.5100199196022536E+50,2.4900200795977737E+50,-2.5100199196022536E+50,2.4900200795977737E+50,2.5100199196022536E+50,-2.4900200795977737E+50,-1,0,1,180]
[3.2000000000000015,5.5850536063818575E-2,9.9999999999999997E+98,-1.2500000000000001E+101,1.2500399993600206E+101,-89.541643541999562,5.582150499316383E-2,-0.99688395958029818,{"$f":"G37","v":5.582150499316383E-2},0,5.582150499316383E-2,0,-3.5355904731176385E+50,-44.770821770999781,-2.5100199196022536E+50,2.4900200795977737E+50,-2.5100199196022536E+50,2.4900200795977737E+50,2.5100199196022536E+50,-2.4900200795977737E+50,-1,0,1,180]
[3.3000000000000016,5.7595865315812907E-2,9.9999999999999997E+98,-1.2500000000000001E+101,1.2500399993600206E+101,-89.541643541999562,5.7564026959567312E-2,-0.99668638280019817,5.7564026959567312E-2,0,5.7564026959567312E-2,0,-3.5355904731176385E+50,-44.770821770999781,-2.5100199196022536E+50,2.4900200795977737E+50,-2.5100199196022536E+50,2.4900200795977737E+50,2.5100199196022536E+50,-2.4900200795977737E+50,-1,0,1,180]
[3.4000000000000017,5.9341194567807232E-2,9.9999999999999997E+98,-1.2500000000000001E+101,1.2500399993600206E+101,-89.541643541999562,5.9306373575961649E-2,-0.99648275405326858,5.9306373575961649E-2,0,5.9306373575961649E-2,0,-3.5355904731176385E+50,-44.770821770999781,-2.5100199196022536E+50,2.4900200795977737E+50,-2.5100199196022536E+50,2.4900200795977737E+50,2.5100199196022536E+50,-2.4900200795977737E+50,-1,0,1,180]
[3.5000000000000018,6.1086523819801564E-2,9.9999999999999997E+98,-1.2500000000000001E+101,1.2500399993600206E+101,-89.541643541999562,6.1048539534856901E-2,-0.99627307582066094,6.1048539534856901E-2,0,6.1048539534856901E-2,0,-3.5355904731176385E+50,-44.770821770999781,-2.5100199196022536E+50,2.4900200795977737E+50,-2.5100199196022536E+50,2.4900200795977737E+50,2.5100199196022536E+50,-2.4900200795977737E+50,-1,0,1,180]
[3.6000000000000019,6.2831853071795896E-2,9.9999999999999997E+98,-1.2500000000000001E+101,1.2500399993600206E+101,-89.541643541999562,6.2790519529313402E-2,-0.99605735065723888,6.2790519529313402E-2,0,6.2790519529313402E-2,0,-3.5355904731176385E+50,-44.770821770999781,-2.5100199196022536E+50,2.4900200795977737E+50,-2.5100199196022536E+50,2.4900200795977737E+50,2.5100199196022536E+50,-2.4900200795977737E+50,-1,0,1,180]
[3.700000000000002,6.4577182323790228E-2,9.9999999999999997E+98,-1.2500000000000001E+101,1.2500399993600206E+101,-89.541643541999562,6.4532308252958012E-2,-0.99583558119154525,6.4532308252958012E-2,0,6.4532308252958012E-2,0,-3.5355904731176385E+50,-44.770821770999781,-2.5100199196022536E+50,2.4900200795977737E+50,-2.5100199196022536E+50,2.4900200795977737E+50,2.5100199196022536E+50,-2.4900200795977737E+50,-1,0,1,180]
[3.800000000000002,6.632251157578456E-2,9.9999999999999997E+98,-1.2500000000000001E+101,1.2500399993600206E+101,-89.541643541999562,6.6273900400000182E-2,-0.99560777012577084,6.6273900400000182E-2,0,6.6273900400000182E-2,0,-3.5355904731176385E+50,-44.770821770999781,-2.5100199196022536E+50,2.4900200795977737E+50,-2.5100199196022536E+50,2.4900200795977737E+50,2.5100199196022536E+50,-2.4900200795977737E+50,-1,0,1,180]
[3.9000000000000021,6.8067840827778892E-2,9.9999999999999997E+98,-1.2500000000000001E+101,1.2500399993600206E+101,-89.541643541999562,6.801529066524821E-2,-0.9953739202357218,6.801529066524821E-2,0,6.801529066524821E-2,0,-3.5355904731176385E+50,-44.770821770999781,-2.5100199196022536E+50,2.4900200795977737E+50,-2.5100199196022536E+50,2.4900200795977737E+50,2.5100199196022536E+50,-2.4900200795977737E+50,-1,0,1,180]
[4.0000000000000018,6.981317007977321E-2,9.9999999999999997E+98,-1.2500000000000001E+101,1.2500399993600206E+101,-89.541643541999562,6.975647374412533E-2,-0.99513403437078507,6.975647374412533E-2,0,6.975647374412533E-2,0,-3.5355904731176385E+50,-44.770821770999781,-2.5100199196022536E+50,2.4900200795977737E+50,-2.5100199196022536E+50,2.4900200795977737E+50,2.5100199196022536E+50,-2.4900200795977737E+50,-1,0,1,180]
[4.1000000000000014,7.1558499331767542E-2,9.9999999999999997E+98,-1.2500000000000001E+101,1.2500399993600206E+101,-89.541643541999562,7.1497444332685955E-2,-0.99488811545389444,7.1497444332685955E-2,0,7.1497444332685955E-2,0,-3.5355904731176385E+50,-44.770821770999781,-2.5100199196022536E+50,2.4900200795977737E+50,-2.5100199196022536E+50,2.4900200795977737E+50,2.5100199196022536E+50,-2.4900200795977737E+50,-1,0,1,180]
[4.2000000000000011,7.330382858376186E-2,9.9999999999999997E+98,-1.2500000000000001E+101,1.2500399993600206E+101,-89.541643541999562,7.3238197127631702E-2,-0.99463616648149411,7.3238197127631702E-2,0,7.3238197127631702E-2,0,-3.5355904731176385E+50,-44.770821770999781,-2.5100199196022536E+50,2.4900200795977737E+50,-2.5100199196022536E+50,2.4900200795977737E+50,2.5100199196022536E+50,-2.4900200795977737E+50,-1,0,1,180]
[4.3000000000000007,7.5049157835756178E-2,9.9999999999999997E+98,-1.2500000000000001E+101,1.2500399993600206E+101,-89.541643541999562,7.497872682632771E-2,-0.99437819052350285,7.497872682632771E-2,0,7.497872682632771E-2,0,-3.5355904731176385E+50,-44.770821770999781,-2.5100199196022536E+50,2.4900200795977737E+50,-2.5100199196022536E+50,2.4900200795977737E+50,2.5100199196022536E+50,-2.4900200795977737E+50,-1,0,1,180]
[4.4000000000000004,7.679448708775051E-2,9.9999999999999997E+98,-1.2500000000000001E+101,1.2500399993600206E+101,-89.541643541999562,7.6719028126818647E-2,-0.99411419072327645,7.6719028126818647E-2,0,7.6719028126818647E-2,0,-3.5355904731176385E+50,-44.770821770999781,-2.5100199196022536E+50,2.4900200795977737E+50,-2.5100199196022536E+50,2.4900200795977737E+50,2.5100199196022536E+50,-2.4900200795977737E+50,-1,0,1,180]
[4.5,7.8539816339744828E-2,9.9999999999999997E+98,-1.2500000000000001E+101,1.2500399993600206E+101,-89.541643541999562,7.8459095727844944E-2,-0.99384417029756889,7.8459095727844944E-2,0,7.8459095727844944E-2,0,-3.5355904731176385E+50,-44.770821770999781,-2.5100199196022536E+50,2.4900200795977737E+50,-2.5100199196022536E+50,2.4900200795977737E+50,2.5100199196022536E+50,-2.4900200795977737E+50,-1,0,1,180]
[4.5999999999999996,8.0285145591739146E-2,9.9999999999999997E+98,-1.2500000000000001E+101,1.2500399993600206E+101,-89.541643541999562,8.0198924328858903E-2,-0.9935681325364939,8.0198924328858903E-2,0,8.0198924328858903E-2,0,-3.5355904731176385E+50,-44.770821770999781,-2.5100199196022536E+50,2.4900200795977737E+50,-2.5100199196022536E+50,2.4900200795977737E+50,2.5100199196022536E+50,-2.4900200795977737E+50,-1,0,1,180]
[4.6999999999999993,8.2030474843733478E-2,9.9999999999999997E+98,-1.2500000000000001E+101,1.2500399993600206E+101,-89.541643541999562,8.1938508630040915E-2,-0.99328608080348468,8.1938508630040915E-2,0,8.1938508630040915E-2,0,-3.5355904731176385E+50,-44.770821770999781,-2.5100199196022536E+50,2.4900200795977737E+50,{"$f":"K52+O52","v":-2.5100199196022536E+50},2.4900200795977737E+50,2.5100199196022536E+50,-2.4900200795977737E+50,-1,0,1,180]
[4.7999999999999989,8.3775804095727796E-2,9.9999999999999997E+98,-1.2500000000000001E+101,1.2500399993600206E+101,-89.541643541999562,8.3677843332315469E-2,-0.99299801853525249,8.3677843332315469E-2,0,8.3677843332315469E-2,0,-3.5355904731176385E+50,-44.770821770999781,-2.5100199196022536E+50,2.4900200795977737E+50,-2.5100199196022536E+50,2.4900200795977737E+50,2.5100199196022536E+50,-2.4900200795977737E+50,-1,0,1,180]
[4.8999999999999986,8.5521133347722114E-2,9.9999999999999997E+98,-1.2500000000000001E+101,1.2500399993600206E+101,-89.541643541999562,8.5416923137367429E-2,-0.99270394924174499,8.5416923137367429E-2,0,8.5416923137367429E-2,0,-3.5355904731176385E+50,-44.770821770999781,-2.5100199196022536E+50,2.4900200795977737E+50,-2.5100199196022536E+50,2.4900200795977737E+50,2.5100199196022536E+50,-2.4900200795977737E+50,-1,0,1,180]
[4.9999999999999982,8.7266462599716446E-2,9.9999999999999997E+98,-1.2500000000000001E+101,1.2500399993600206E+101,-89.541643541999562,8.7155742747658138E-2,-0.99240387650610407,8.7155742747658138E-2,0,8.7155742747658138E-2,0,-3.5355904731176385E+50,-44.770821770999781,-2.5100199196022536E+50,2.4900200795977737E+50,-2.5100199196022536E+50,2.4900200795977737E+50,2.5100199196022536E+50,-2.4900200795977737E+50,-1,0,1,180]
[5.0999999999999979,8.9011791851710778E-2,9.9999999999999997E+98,-1.2500000000000001E+101,1.2500399993600206E+101,-89.541643541999562,8.8894296866441486E-2,-0.99209780398462089,8.8894296866441486E-2,0,8.8894296866441486E-2,0,-3.5355904731176385E+50,-44.770821770999781,-2.5100199196022536E+50,2.4900200795977737E+50,-2.5100199196022536E+50,2.4900200795977737E+50,2.5100199196022536E+50,-2.4900200795977737E+50,-1,0,1,180]
[5.1999999999999975,9.0757121103705096E-2,9.9999999999999997E+98,-1.2500000000000001E+101,1.2500399993600206E+101,-89.541643541999562,9.0632580197780116E-2,-0.9917857354066929,9.0632580197780116E-2,0,9.0632580197780116E-2,0,-3.5355904731176385E+50,-44.770821770999781,-2.5100199196022536E+50,2.4900200795977737E+50,-2.5100199196022536E+50,2.4900200795977737E+50,2.5100199196022536E+50,-2.4900200795977737E+50,-1,0,1,180]
[5.2999999999999972,9.2502450355699414E-2,9.9999999999999997E+98,-1.2500000000000001E+101,1.2500399993600206E+101,-89.541643541999562,9.2370587446561528E-2,-0.99146767457477714,9.2370587446561528E-2,0,9.2370587446561528E-2,0,-3.5355904731176385E+50,-44.770821770999781,-2.5100199196022536E+50,2.4900200795977737E+50,-2.5100199196022536E+50,2.4900200795977737E+50,2.5100199196022536E+50,-2.4900200795977737E+50,-1,0,1,180]
[5.3999999999999968,9.4247779607693732E-2,9.9999999999999997E+98,-1.2500000000000001E+101,1.2500399993600206E+101,-89.541643541999562,9.4108313318514256E-2,-0.99114362536434431,9.4108313318514256E-2,0,9.4108313318514256E-2,0,-3.5355904731176385E+50,-44.770821770999781,-2.5100199196022536E+50,2.4900200795977737E+50,-2.5100199196022536E+50,2.4900200795977737E+50,2.5100199196022536E+50,-2.4900200795977737E+50,-1,0,1,180]
[5.4999999999999964,9.5993108859688051E-2,9.9999999999999997E+98,-1.2500000000000001E+101,1.2500399993600206E+101,-89.541643541999562,9.5845752520223912E-2,-0.9908135917238321,9.5845752520223912E-2,0,9.5845752520223912E-2,0,-3.5355904731176385E+50,-44.770821770999781,-2.5100199196022536E+50,2.4900200795977737E+50,-2.5100199196022536E+50,2.4900200795977737E+50,2.5100199196022536E+50,-2.4900200795977737E+50,-1,0,1,180]
[5.5999999999999961,9.7738438111682396E-2,9.9999999999999997E+98,-1.2500000000000001E+101,1.2500399993600206E+101,-89.541643541999562,9.7582899759149411E-2,-0.99047757767459577,9.7582899759149411E-2,0,9.7582899759149411E-2,0,-3.5355904731176385E+50,-44.770821770999781,-2.5100199196022536E+50,2.4900200795977737E+50,-2.5100199196022536E+50,2.4900200795977737E+50,2.5100199196022536E+50,-2.4900200795977737E+50,-1,0,1,180]
[5.6999999999999957,9.9483767363676714E-2,9.9999999999999997E+98,-1.2500000000000001E+101,1.2500399993600206E+101,-89.541643541999562,9.9319749743638941E-2,-0.99013558731086104,9.9319749743638941E-2,0,9.9319749743638941E-2,0,-3.5355904731176385E+50,-44.770821770999781,-2.5100199196022536E+50,2.4900200795977737E+50,-2.5100199196022536E+50,2.4900200795977737E+50,2.5100199196022536E+50,-2.4900200795977737E+50,-1,0,1,180]
[5.7999999999999954,0.10122909661567103,9.9999999999999997E+98,-1.2500000000000001E+101,1.2500399993600206E+101,-89.541643541999562,0.10105629718294626,-0.98978762479967208,0.10105629718294626,0,0.10105629718294626,0,-3.5355904731176385E+50,-44.770821770999781,-2.5100199196022536E+50,2.4900200795977737E+50,-2.5100199196022536E+50,2.4900200795977737E+50,2.5100199196022536E+50,-2.4900200795977737E+50,-1,0,1,180]
[5.899999999999995,0.10297442586766535,9.9999999999999997E+98,-1.2500000000000001E+101,1.2500399993600206E+101,-89.541643541999562,0.10279253678724672,-0.98943369438084261,0.10279253678724672,0,0.10279253678724672,0,-3.5355904731176385E+50,-44.770821770999781,-2.5100199196022536E+50,2.4900200795977737E+50,-2.5100199196022536E+50,2.4900200795977737E+50,2.5100199196022536E+50,-2.4900200795977737E+50,-1,0,1,180]
[5.9999999999999947,0.10471975511965967,9.9999999999999997E+98,-1.2500000000000001E+101,1.2500399993600206E+101,-89.541643541999562,0.10452846326765336,-0.98907380036690296,0.10452846326765336,0,0.10452846326765336,0,-3.5355904731176385E+50,-44.770821770999781,-2.5100199196022536E+50,2.4900200795977737E+50,-2.5100199196022536E+50,2.4900200795977737E+50,2.5100199196022536E+50,-2.4900200795977737E+50,-1,0,1,180]
[6.0999999999999943,0.10646508437165399,9.9999999999999997E+98,-1.2500000000000001E+101,1.2500399993600206E+101,-89.541643541999562,0.1062640713362331,-0.98870794714304799,0.1062640713362331,0,0.1062640713362331,0,-3.5355904731176385E+50,-44.770821770999781,-2.5100199196022536E+50,2.4900200795977737E+50,-2.5100199196022536E+50,2.4900200795977737E+50,2.5100199196022536E+50,-2.4900200795977737E+50,-1,0,1,180]
[6.199999999999994,0.10821041362364833,9.9999999999999997E+98,-1.2500000000000001E+101,1.2500399993600206E+101,-89.541643541999562,0.10799935570602275,-0.98833613916708396,0.10799935570602275,0,0.10799935570602275,0,-3.5355904731176385E+50,-44.770821770999781,-2.5100199196022536E+50,2.4900200795977737E+50,-2.5100199196022536E+50,2.4900200795977737E+50,2.5100199196022536E+50,-2.4900200795977737E+50,-1,0,1,180]
[6.2999999999999936,0.10995574287564265,9.9999999999999997E+98,-1.2500000000000001E+101,1.2500399993600206E+101,-89.541643541999562,0.10973431109104516,-0.98795838096937372,0.10973431109104516,0,0.10973431109104516,0,-3.5355904731176385E+50,-44.770821770999781,-2.5100199196022536E+50,2.4900200795977737E+50,-2.5100199196022536E+50,2.4900200795977737E+50,2.5100199196022536E+50,-2.4900200795977737E+50,-1,0,1,180]
[6.3999999999999932,0.11170107212763697,9.9999999999999997E+98,-1.2500000000000001E+101,1.2500399993600206E+101,-89.541643541999562,0.11146893220632535,-0.98757467715278158,0.11146893220632535,0,0.11146893220632535,0,-3.5355904731176385E+50,-44.770821770999781,-2.5100199196022536E+50,2.4900200795977737E+50,-2.5100199196022536E+50,2.4900200795977737E+50,2.5100199196022536E+50,-2.4900200795977737E+50,-1,0,1,180]
[6.4999999999999929,{"$f":"A70*PI()/180","v":0.11344640137963129},{"$f":"$D$1","v":9.9999999999999997E+98},{"$f":"-(18000*$G$1/$N$1)","v":-1.2500000000000001E+101},{"$f":"(C70^2+D70^2)^0.5","v":1.2500399993600206E+101},{"$f":"(180/PI())*ATAN(D70/C70)","v":-89.541643541999562},{"$f":"SIN(B70)","v":0.11320321376790658},{"$f":"-((COS(B70))^2)","v":-0.98718503239261779},{"$f":"G70","v":0.11320321376790658},0,{"$f":"(((I70^2)/(1+(TAN(J70*(PI()/180)))^2))^0.5)","v":0.11320321376790658},{"$f":"K70*TAN(J70*(PI()/180))","v":0},{"$f":"-(((((C70+H70)^2)+(D70)^2)^0.5)^0.5)","v":-3.5355904731176385E+50},{"$f":"((ATAN(D70/(C70+H70)))*(180/PI()))/2","v":-44.770821770999781},{"$f":"-(((M70^2)/(1+(TAN(N70*(PI()/180)))^2))^0.5)","v":-2.5100199196022536E+50},{"$f":"O70*TAN(N70*(PI()/180))","v":2.4900200795977737E+50},-2.5100199196022536E+50,2.4900200795977737E+50,{"$f":"-O70+K70","v":2.5100199196022536E+50},{"$f":"L70-P70","v":-2.4900200795977737E+50},{"$f":"(Q70*S70+T70*R70)/((S70^2)+(T70^2))","v":-1},{"$f":"(R70*S70-Q70*T70)/((S70^2)+(T70^2))","v":0},{"$f":"((U70^2)+(V70^2))^0.5","v":1},{"$f":"(ACOS(U70/W70))*(180/PI())","v":180}]
[{"$f":"A70+0.1","v":6.5999999999999925},0.11519173063162561,9.9999999999999997E+98,-1.2500000000000001E+101,1.2500399993600206E+101,-89.541643541999562,0.11493715049286646,-0.98678945143658015,0.11493715049286646,0,0.11493715049286646,0,-3.5355904731176385E+50,-44.770821770999781,-2.5100199196022536E+50,2.4900200795977737E+50,-2.5100199196022536E+50,2.4900200795977737E+50,2.5100199196022536E+50,-2.4900200795977737E+50,-1,0,1,180]
[6.6999999999999922,0.11693705988361995,9.9999999999999997E+98,-1.2500000000000001E+101,1.2500399993600206E+101,-89.541643541999562,0.11667073709933304,-0.98638793910469835,0.11667073709933304,0,0.11667073709933304,0,-3.5355904731176385E+50,-44.770821770999781,-2.5100199196022536E+50,2.4900200795977737E+50,-2.5100199196022536E+50,2.4900200795977737E+50,2.5100199196022536E+50,-2.4900200795977737E+50,-1,0,1,180]
[6.7999999999999918,0.11868238913561427,9.9999999999999997E+98,-1.2500000000000001E+101,1.2500399993600206E+101,-89.541643541999562,0.11840396830650081,-0.98598050028927309,0.11840396830650081,0,0.11840396830650081,0,-3.5355904731176385E+50,-44.770821770999781,-2.5100199196022536E+50,2.4900200795977737E+50,-2.5100199196022536E+50,2.4900200795977737E+50,2.5100199196022536E+50,-2.4900200795977737E+50,-1,0,1,180]
[6.8999999999999915,0.12042771838760859,9.9999999999999997E+98,-1.2500000000000001E+101,1.2500399993600206E+101,-89.541643541999562,0.12013683883464694,-0.98556713995481804,0.12013683883464694,0,0.12013683883464694,0,-3.5355904731176385E+50,-44.770821770999781,-2.5100199196022536E+50,2.4900200795977737E+50,-2.5100199196022536E+50,2.4900200795977737E+50,2.5100199196022536E+50,-2.4900200795977737E+50,-1,0,1,180]
[6.9999999999999911,0.12217304763960291,9.9999999999999997E+98,-1.2500000000000001E+101,1.2500399993600206E+101,-89.541643541999562,0.12186934340514732,-0.9851478631379984,0.12186934340514732,0,0.12186934340514732,0,-3.5355904731176385E+50,-44.770821770999781,-2.5100199196022536E+50,2.4900200795977737E+50,-2.5100199196022536E+50,2.4900200795977737E+50,2.5100199196022536E+50,-2.4900200795977737E+50,-1,0,1,180]
[7.0999999999999908,0.12391837689159722,9.9999999999999997E+98,-1.2500000000000001E+101,1.2500399993600206E+101,-89.541643541999562,0.12360147674049253,-0.9847226749475696,0.12360147674049253,0,0.12360147674049253,0,-3.5355904731176385E+50,-44.770821770999781,-2.5100199196022536E+50,2.4900200795977737E+50,-2.5100199196022536E+50,2.4900200795977737E+50,2.5100199196022536E+50,-2.4900200795977737E+50,-1,0,1,180]
[7.1999999999999904,0.12566370614359157,9.9999999999999997E+98,-1.2500000000000001E+101,1.2500399993600206E+101,-89.541643541999562,0.12533323356430409,-0.98429158056431565,0.12533323356430409,0,0.12533323356430409,0,-3.5355904731176385E+50,-44.770821770999781,-2.5100199196022536E+50,2.4900200795977737E+50,-2.5100199196022536E+50,2.4900200795977737E+50,2.5100199196022536E+50,-2.4900200795977737E+50,-1,0,1,180]
[7.2999999999999901,0.12740903539558587,9.9999999999999997E+98,-1.2500000000000001E+101,1.2500399993600206E+101,-89.541643541999562,0.1270646086013503,-0.98385458524098568,0.1270646086013503,0,0.1270646086013503,0,-3.5355904731176385E+50,-44.770821770999781,-2.5100199196022536E+50,2.4900200795977737E+50,-2.5100199196022536E+50,2.4900200795977737E+50,2.5100199196022536E+50,-2.4900200795977737E+50,-1,0,1,180]
[7.3999999999999897,0.12915436464758021,9.9999999999999997E+98,-1.2500000000000001E+101,1.2500399993600206E+101,-89.541643541999562,0.12879559657756259,-0.98341169430222986,0.12879559657756259,0,0.12879559657756259,0,-3.5355904731176385E+50,-44.770821770999781,-2.5100199196022536E+50,2.4900200795977737E+50,-2.5100199196022536E+50,2.4900200795977737E+50,2.5100199196022536E+50,-2.4900200795977737E+50,-1,0,1,180]
[7.4999999999999893,0.13089969389957454,9.9999999999999997E+98,-1.2500000000000001E+101,1.2500399993600206E+101,-89.541643541999562,0.13052619222005141,-0.9829629131445341,0.13052619222005141,0,0.13052619222005141,0,-3.5355904731176385E+50,-44.770821770999781,-2.5100199196022536E+50,2.4900200795977737E+50,-2.5100199196022536E+50,2.4900200795977737E+50,2.5100199196022536E+50,-2.4900200795977737E+50,-1,0,1,180]
[7.599999999999989,0.13264502315156884,9.9999999999999997E+98,-1.2500000000000001E+101,1.2500399993600206E+101,-89.541643541999562,0.13225639025712224,-0.98250824723615582,0.13225639025712224,0,0.13225639025712224,0,-3.5355904731176385E+50,-44.770821770999781,-2.5100199196022536E+50,2.4900200795977737E+50,-2.5100199196022536E+50,2.4900200795977737E+50,2.5100199196022536E+50,-2.4900200795977737E+50,-1,0,1,180]
[7.6999999999999886,0.13439035240356317,9.9999999999999997E+98,-1.2500000000000001E+101,1.2500399993600206E+101,-89.541643541999562,0.13398618541829185,-0.98204770211705505,0.13398618541829185,0,0.13398618541829185,0,-3.5355904731176385E+50,-44.770821770999781,-2.5100199196022536E+50,2.4900200795977737E+50,-2.5100199196022536E+50,2.4900200795977737E+50,2.5100199196022536E+50,-2.4900200795977737E+50,-1,0,1,180]
[7.7999999999999883,0.13613568165555751,9.9999999999999997E+98,-1.2500000000000001E+101,1.2500399993600206E+101,-89.541643541999562,0.13571557243430418,-0.981581283398829,0.13571557243430418,0,0.13571557243430418,0,-3.5355904731176385E+50,-44.770821770999781,-2.5100199196022536E+50,2.4900200795977737E+50,-2.5100199196022536E+50,2.4900200795977737E+50,2.5100199196022536E+50,-2.4900200795977737E+50,-1,0,1,180]
[7.8999999999999879,0.13788101090755184,9.9999999999999997E+98,-1.2500000000000001E+101,1.2500399993600206E+101,-89.541643541999562,0.13744454603714645,-0.9811089967646428,0.13744454603714645,0,0.13744454603714645,0,-3.5355904731176385E+50,-44.770821770999781,-2.5100199196022536E+50,2.4900200795977737E+50,-2.5100199196022536E+50,2.4900200795977737E+50,2.5100199196022536E+50,-2.4900200795977737E+50,-1,0,1,180]
[7.9999999999999876,0.13962634015954614,9.9999999999999997E+98,-1.2500000000000001E+101,1.2500399993600206E+101,-89.541643541999562,0.13917310096006522,-0.98063084796915956,0.13917310096006522,0,0.13917310096006522,0,-3.5355904731176385E+50,-44.770821770999781,-2.5100199196022536E+50,2.4900200795977737E+50,-2.5100199196022536E+50,2.4900200795977737E+50,2.5100199196022536E+50,-2.4900200795977737E+50,-1,0,1,180]
[8.0999999999999872,0.14137166941154047,9.9999999999999997E+98,-1.2500000000000001E+101,1.2500399993600206E+101,-89.541643541999562,0.14090123193758244,-0.98014684283847164,0.14090123193758244,0,0.14090123193758244,0,-3.5355904731176385E+50,-44.770821770999781,-2.5100199196022536E+50,2.4900200795977737E+50,-2.5100199196022536E+50,2.4900200795977737E+50,2.5100199196022536E+50,-2.4900200795977737E+50,-1,0,1,180]
[8.1999999999999869,0.14311699866353478,9.9999999999999997E+98,-1.2500000000000001E+101,1.2500399993600206E+101,-89.541643541999562,0.14262893370551141,-0.97965698727002881,0.14262893370551141,0,0.14262893370551141,0,-3.5355904731176385E+50,-44.770821770999781,-2.5100199196022536E+50,2.4900200795977737E+50,-2.5100199196022536E+50,2.4900200795977737E+50,2.5100199196022536E+50,-2.4900200795977737E+50,-1,0,1,180]
[8.2999999999999865,0.14486232791552911,9.9999999999999997E+98,-1.2500000000000001E+101,1.2500399993600206E+101,-89.541643541999562,0.14435620100097299,-0.97916128723256668,0.14435620100097299,0,0.14435620100097299,0,-3.5355904731176385E+50,-44.770821770999781,-2.5100199196022536E+50,2.4900200795977737E+50,-2.5100199196022536E+50,2.4900200795977737E+50,2.5100199196022536E+50,-2.4900200795977737E+50,-1,0,1,180]
[8.3999999999999861,0.14660765716752344,9.9999999999999997E+98,-1.2500000000000001E+101,1.2500399993600206E+101,-89.541643541999562,0.14608302856241137,-0.97865974876603368,0.14608302856241137,0,0.14608302856241137,0,-3.5355904731176385E+50,-44.770821770999781,-2.5100199196022536E+50,2.4900200795977737E+50,-2.5100199196022536E+50,2.4900200795977737E+50,2.5100199196022536E+50,-2.4900200795977737E+50,-1,0,1,180]
[8.4999999999999858,0.14835298641951777,9.9999999999999997E+98,-1.2500000000000001E+101,1.2500399993600206E+101,-89.541643541999562,0.14780941112961038,-0.97815237798151777,0.14780941112961038,0,0.14780941112961038,0,-3.5355904731176385E+50,-44.770821770999781,-2.5100199196022536E+50,2.4900200795977737E+50,-2.5100199196022536E+50,2.4900200795977737E+50,2.5100199196022536E+50,-2.4900200795977737E+50,-1,0,1,180]
[8.5999999999999854,0.15009831567151208,9.9999999999999997E+98,-1.2500000000000001E+101,1.2500399993600206E+101,-89.541643541999562,0.14953534344370928,-0.97763918106117198,0.14953534344370928,0,0.14953534344370928,0,-3.5355904731176385E+50,-44.770821770999781,-2.5100199196022536E+50,2.4900200795977737E+50,-2.5100199196022536E+50,2.4900200795977737E+50,2.5100199196022536E+50,-2.4900200795977737E+50,-1,0,1,180]
[8.6999999999999851,0.15184364492350641,9.9999999999999997E+98,-1.2500000000000001E+101,1.2500399993600206E+101,-89.541643541999562,0.15126082024721896,-0.97712016425813852,0.15126082024721896,0,0.15126082024721896,0,-3.5355904731176385E+50,-44.770821770999781,-2.5100199196022536E+50,2.4900200795977737E+50,-2.5100199196022536E+50,2.4900200795977737E+50,2.5100199196022536E+50,-2.4900200795977737E+50,-1,0,1,180]
[8.7999999999999847,0.15358897417550071,9.9999999999999997E+98,-1.2500000000000001E+101,1.2500399993600206E+101,-89.541643541999562,0.15298583628403778,-0.97659533389647368,0.15298583628403778,0,0.15298583628403778,0,-3.5355904731176385E+50,-44.770821770999781,-2.5100199196022536E+50,2.4900200795977737E+50,-2.5100199196022536E+50,2.4900200795977737E+50,2.5100199196022536E+50,-2.4900200795977737E+50,-1,0,1,180]
[8.8999999999999844,0.15533430342749505,9.9999999999999997E+98,-1.2500000000000001E+101,1.2500399993600206E+101,-89.541643541999562,0.15471038629946782,-0.97606469637106952,0.15471038629946782,0,0.15471038629946782,0,-3.5355904731176385E+50,-44.770821770999781,-2.5100199196022536E+50,2.4900200795977737E+50,-2.5100199196022536E+50,2.4900200795977737E+50,2.5100199196022536E+50,-2.4900200795977737E+50,-1,0,1,180]
[8.999999999999984,0.15707963267948938,9.9999999999999997E+98,-1.2500000000000001E+101,1.2500399993600206E+101,-89.541643541999562,0.15643446504023059,-0.97552825814757682,0.15643446504023059,0,0.15643446504023059,0,-3.5355904731176385E+50,-44.770821770999781,-2.5100199196022536E+50,2.4900200795977737E+50,-2.5100199196022536E+50,2.4900200795977737E+50,2.5100199196022536E+50,-2.4900200795977737E+50,-1,0,1,180]
[9.0999999999999837,0.15882496193148371,9.9999999999999997E+98,-1.2500000000000001E+101,1.2500399993600206E+101,-89.541643541999562,0.15815806725448325,-0.9749860257623264,0.15815806725448325,0,0.15815806725448325,0,-3.5355904731176385E+50,-44.770821770999781,-2.5100199196022536E+50,2.4900200795977737E+50,-2.5100199196022536E+50,2.4900200795977737E+50,2.5100199196022536E+50,-2.4900200795977737E+50,-1,0,1,180]
[9.1999999999999833,0.16057029118347801,9.9999999999999997E+98,-1.2500000000000001E+101,1.2500399993600206E+101,-89.541643541999562,0.15988118769183457,-0.97443800582224849,0.15988118769183457,0,0.15988118769183457,0,-3.5355904731176385E+50,-44.770821770999781,-2.5100199196022536E+50,2.4900200795977737E+50,{"$f":"K97+O97","v":-2.5100199196022536E+50},2.4900200795977737E+50,2.5100199196022536E+50,-2.4900200795977737E+50,-1,0,1,180]
[9.2999999999999829,0.16231562043547235,9.9999999999999997E+98,-1.2500000000000001E+101,1.2500399993600206E+101,-89.541643541999562,0.16160382110336083,-0.973884205004793,0.16160382110336083,0,0.16160382110336083,0,-3.5355904731176385E+50,-44.770821770999781,-2.5100199196022536E+50,2.4900200795977737E+50,-2.5100199196022536E+50,2.4900200795977737E+50,2.5100199196022536E+50,-2.4900200795977737E+50,-1,0,1,180]
[9.3999999999999826,0.16406094968746668,9.9999999999999997E+98,-1.2500000000000001E+101,1.2500399993600206E+101,-89.541643541999562,0.16332596224162196,-0.97332463005784831,0.16332596224162196,0,0.16332596224162196,0,-3.5355904731176385E+50,-44.770821770999781,-2.5100199196022536E+50,2.4900200795977737E+50,-2.5100199196022536E+50,2.4900200795977737E+50,2.5100199196022536E+50,-2.4900200795977737E+50,-1,0,1,180]
[9.4999999999999822,0.16580627893946101,9.9999999999999997E+98,-1.2500000000000001E+101,1.2500399993600206E+101,-89.541643541999562,0.16504760586067735,-0.97275928779965848,0.16504760586067735,0,0.16504760586067735,0,-3.5355904731176385E+50,-44.770821770999781,-2.5100199196022536E+50,2.4900200795977737E+50,-2.5100199196022536E+50,2.4900200795977737E+50,2.5100199196022536E+50,-2.4900200795977737E+50,-1,0,1,180]
[9.5999999999999819,0.16755160819145531,9.9999999999999997E+98,-1.2500000000000001E+101,1.2500399993600206E+101,-89.541643541999562,0.16676874671610195,-0.97218818511874061,0.16676874671610195,0,0.16676874671610195,0,-3.5355904731176385E+50,-44.770821770999781,-2.5100199196022536E+50,2.4900200795977737E+50,-2.5100199196022536E+50,2.4900200795977737E+50,2.5100199196022536E+50,-2.4900200795977737E+50,-1,0,1,180]
[9.6999999999999815,0.16929693744344965,9.9999999999999997E+98,-1.2500000000000001E+101,1.2500399993600206E+101,-89.541643541999562,0.16848937956500229,-0.97161132897380065,0.16848937956500229,0,0.16848937956500229,0,-3.5355904731176385E+50,-44.770821770999781,-2.5100199196022536E+50,2.4900200795977737E+50,-2.5100199196022536E+50,2.4900200795977737E+50,2.5100199196022536E+50,-2.4900200795977737E+50,-1,0,1,180]
[9.7999999999999812,0.17104226669544395,9.9999999999999997E+98,-1.2500000000000001E+101,1.2500399993600206E+101,-89.541643541999562,0.1702094991660322,-0.97102872639364857,0.1702094991660322,0,0.1702094991660322,0,-3.5355904731176385E+50,-44.770821770999781,-2.5100199196022536E+50,2.4900200795977737E+50,-2.5100199196022536E+50,2.4900200795977737E+50,2.5100199196022536E+50,-2.4900200795977737E+50,-1,0,1,180]
[9.8999999999999808,0.17278759594743828,9.9999999999999997E+98,-1.2500000000000001E+101,1.2500399993600206E+101,-89.541643541999562,0.17192910027940922,-0.97044038447711289,0.17192910027940922,0,0.17192910027940922,0,-3.5355904731176385E+50,-44.770821770999781,-2.5100199196022536E+50,2.4900200795977737E+50,-2.5100199196022536E+50,2.4900200795977737E+50,2.5100199196022536E+50,-2.4900200795977737E+50,-1,0,1,180]
[9.9999999999999805,0.17453292519943261,9.9999999999999997E+98,-1.2500000000000001E+101,1.2500399993600206E+101,-89.541643541999562,0.17364817766693,-0.96984631039295432,0.17364817766693,0,0.17364817766693,0,-3.5355904731176385E+50,-44.770821770999781,-2.5100199196022536E+50,2.4900200795977737E+50,-2.5100199196022536E+50,2.4900200795977737E+50,2.5100199196022536E+50,-2.4900200795977737E+50,-1,0,1,180]
[10.09999999999998,0.17627825445142695,9.9999999999999997E+98,-1.2500000000000001E+101,1.2500399993600206E+101,-89.541643541999562,0.17536672609198678,-0.96924651137977813,0.17536672609198678,0,0.17536672609198678,0,-3.5355904731176385E+50,-44.770821770999781,-2.5100199196022536E+50,2.4900200795977737E+50,-2.5100199196022536E+50,2.4900200795977737E+50,2.5100199196022536E+50,-2.4900200795977737E+50,-1,0,1,180]
[10.19999999999998,0.17802358370342128,9.9999999999999997E+98,-1.2500000000000001E+101,1.2500399993600206E+101,-89.541643541999562,0.17708474031958296,-0.96864099474594589,0.17708474031958296,0,0.17708474031958296,0,-3.5355904731176385E+50,-44.770821770999781,-2.5100199196022536E+50,2.4900200795977737E+50,-2.5100199196022536E+50,2.4900200795977737E+50,2.5100199196022536E+50,-2.4900200795977737E+50,-1,0,1,180]
[10.299999999999979,0.17976891295541558,9.9999999999999997E+98,-1.2500000000000001E+101,1.2500399993600206E+101,-89.541643541999562,0.17880221511634925,-0.96802976786948669,0.17880221511634925,0,0.17880221511634925,0,-3.5355904731176385E+50,-44.770821770999781,-2.5100199196022536E+50,2.4900200795977737E+50,-2.5100199196022536E+50,2.4900200795977737E+50,2.5100199196022536E+50,-2.4900200795977737E+50,-1,0,1,180]
[10.399999999999979,0.18151424220740991,9.9999999999999997E+98,-1.2500000000000001E+101,1.2500399993600206E+101,-89.541643541999562,0.18051914525055962,-0.96741283819800727,0.18051914525055962,0,0.18051914525055962,0,-3.5355904731176385E+50,-44.770821770999781,-2.5100199196022536E+50,2.4900200795977737E+50,-2.5100199196022536E+50,2.4900200795977737E+50,2.5100199196022536E+50,-2.4900200795977737E+50,-1,0,1,180]
[10.499999999999979,0.18325957145940422,9.9999999999999997E+98,-1.2500000000000001E+101,1.2500399993600206E+101,-89.541643541999562,0.18223552549214708,-0.96679021324860093,0.18223552549214708,0,0.18223552549214708,0,-3.5355904731176385E+50,-44.770821770999781,-2.5100199196022536E+50,2.4900200795977737E+50,-2.5100199196022536E+50,2.4900200795977737E+50,2.5100199196022536E+50,-2.4900200795977737E+50,-1,0,1,180]
[10.599999999999978,0.18500490071139855,9.9999999999999997E+98,-1.2500000000000001E+101,1.2500399993600206E+101,-89.541643541999562,0.18395135061271978,-0.9661619006077562,0.18395135061271978,0,0.18395135061271978,0,-3.5355904731176385E+50,-44.770821770999781,-2.5100199196022536E+50,2.4900200795977737E+50,-2.5100199196022536E+50,2.4900200795977737E+50,2.5100199196022536E+50,-2.4900200795977737E+50,-1,0,1,180]
[10.699999999999978,0.18675022996339288,9.9999999999999997E+98,-1.2500000000000001E+101,1.2500399993600206E+101,-89.541643541999562,0.18566661538557683,-0.96552790793126442,0.18566661538557683,0,0.18566661538557683,0,-3.5355904731176385E+50,-44.770821770999781,-2.5100199196022536E+50,2.4900200795977737E+50,-2.5100199196022536E+50,2.4900200795977737E+50,2.5100199196022536E+50,-2.4900200795977737E+50,-1,0,1,180]
[10.799999999999978,0.18849555921538719,9.9999999999999997E+98,-1.2500000000000001E+101,1.2500399993600206E+101,-89.541643541999562,0.18738131458572424,-0.96488824294412578,0.18738131458572424,0,0.18738131458572424,0,-3.5355904731176385E+50,-44.770821770999781,-2.5100199196022536E+50,2.4900200795977737E+50,-2.5100199196022536E+50,2.4900200795977737E+50,2.5100199196022536E+50,-2.4900200795977737E+50,-1,0,1,180]
[10.899999999999977,0.19024088846738152,9.9999999999999997E+98,-1.2500000000000001E+101,1.2500399993600206E+101,-89.541643541999562,0.18909544298989089,-0.96424291344045698,0.18909544298989089,0,0.18909544298989089,0,-3.5355904731176385E+50,-44.770821770999781,-2.5100199196022536E+50,2.4900200795977737E+50,-2.5100199196022536E+50,2.4900200795977737E+50,2.5100199196022536E+50,-2.4900200795977737E+50,-1,0,1,180]
[10.999999999999977,0.19198621771937582,9.9999999999999997E+98,-1.2500000000000001E+101,1.2500399993600206E+101,-89.541643541999562,0.19080899537654439,-0.96359192728339393,0.19080899537654439,0,0.19080899537654439,0,-3.5355904731176385E+50,-44.770821770999781,-2.5100199196022536E+50,2.4900200795977737E+50,-2.5100199196022536E+50,2.4900200795977737E+50,2.5100199196022536E+50,-2.4900200795977737E+50,-1,0,1,180]
[11.099999999999977,0.19373154697137018,9.9999999999999997E+98,-1.2500000000000001E+101,1.2500399993600206E+101,-89.541643541999562,0.19252196652590706,-0.96293529240499753,0.19252196652590706,0,0.19252196652590706,0,-3.5355904731176385E+50,-44.770821770999781,-2.5100199196022536E+50,2.4900200795977737E+50,-2.5100199196022536E+50,2.4900200795977737E+50,2.5100199196022536E+50,-2.4900200795977737E+50,-1,0,1,180]
[11.199999999999976,0.19547687622336446,9.9999999999999997E+98,-1.2500000000000001E+101,1.2500399993600206E+101,-89.541643541999562,0.19423435121997154,-0.96227301680615673,0.19423435121997154,0,0.19423435121997154,0,-3.5355904731176385E+50,-44.770821770999781,-2.5100199196022536E+50,2.4900200795977737E+50,-2.5100199196022536E+50,2.4900200795977737E+50,2.5100199196022536E+50,-2.4900200795977737E+50,-1,0,1,180]
[11.299999999999976,0.19722220547535882,9.9999999999999997E+98,-1.2500000000000001E+101,1.2500399993600206E+101,-89.541643541999562,0.19594614424251727,-0.96160510855649062,0.19594614424251727,0,0.19594614424251727,0,-3.5355904731176385E+50,-44.770821770999781,-2.5100199196022536E+50,2.4900200795977737E+50,-2.5100199196022536E+50,2.4900200795977737E+50,2.5100199196022536E+50,-2.4900200795977737E+50,-1,0,1,180]
[11.399999999999975,0.19896753472735315,9.9999999999999997E+98,-1.2500000000000001E+101,1.2500399993600206E+101,-89.541643541999562,0.19765734037912575,-0.96093157579425048,0.19765734037912575,0,0.19765734037912575,0,-3.5355904731176385E+50,-44.770821770999781,-2.5100199196022536E+50,2.4900200795977737E+50,-2.5100199196022536E+50,2.4900200795977737E+50,2.5100199196022536E+50,-2.4900200795977737E+50,-1,0,1,180]
[11.499999999999975,0.20071286397934746,9.9999999999999997E+98,-1.2500000000000001E+101,1.2500399993600206E+101,-89.541643541999562,0.19936793441719675,-0.96025242672622035,0.19936793441719675,0,0.19936793441719675,0,-3.5355904731176385E+50,-44.770821770999781,-2.5100199196022536E+50,2.4900200795977737E+50,-2.5100199196022536E+50,2.4900200795977737E+50,2.5100199196022536E+50,-2.4900200795977737E+50,-1,0,1,180]
[11.599999999999975,0.20245819323134179,9.9999999999999997E+98,-1.2500000000000001E+101,1.2500399993600206E+101,-89.541643541999562,0.20107792114596423,-0.95956766962761741,0.20107792114596423,0,0.20107792114596423,0,-3.5355904731176385E+50,-44.770821770999781,-2.5100199196022536E+50,2.4900200795977737E+50,-2.5100199196022536E+50,2.4900200795977737E+50,2.5100199196022536E+50,-2.4900200795977737E+50,-1,0,1,180]
[11.699999999999974,0.20420352248333609,9.9999999999999997E+98,-1.2500000000000001E+101,1.2500399993600206E+101,-89.541643541999562,0.20278729535651202,-0.95887731284199074,0.20278729535651202,0,0.20278729535651202,0,-3.5355904731176385E+50,-44.770821770999781,-2.5100199196022536E+50,2.4900200795977737E+50,-2.5100199196022536E+50,2.4900200795977737E+50,2.5100199196022536E+50,-2.4900200795977737E+50,-1,0,1,180]
[11.799999999999974,0.20594885173533042,9.9999999999999997E+98,-1.2500000000000001E+101,1.2500399993600206E+101,-89.541643541999562,0.20449605184178987,-0.95818136478111993,0.20449605184178987,0,0.20449605184178987,0,-3.5355904731176385E+50,-44.770821770999781,-2.5100199196022536E+50,2.4900200795977737E+50,-2.5100199196022536E+50,2.4900200795977737E+50,2.5100199196022536E+50,-2.4900200795977737E+50,-1,0,1,180]
[11.899999999999974,0.20769418098732476,9.9999999999999997E+98,-1.2500000000000001E+101,1.2500399993600206E+101,-89.541643541999562,0.20620418539662919,-0.95747983392491265,0.20620418539662919,0,0.20620418539662919,0,-3.5355904731176385E+50,-44.770821770999781,-2.5100199196022536E+50,2.4900200795977737E+50,-2.5100199196022536E+50,2.4900200795977737E+50,2.5100199196022536E+50,-2.4900200795977737E+50,-1,0,1,180]
[11.999999999999973,0.20943951023931906,9.9999999999999997E+98,-1.2500000000000001E+101,1.2500399993600206E+101,-89.541643541999562,0.20791169081775887,-0.9567727288213006,0.20791169081775887,0,0.20791169081775887,0,-3.5355904731176385E+50,-44.770821770999781,-2.5100199196022536E+50,2.4900200795977737E+50,-2.5100199196022536E+50,2.4900200795977737E+50,2.5100199196022536E+50,-2.4900200795977737E+50,-1,0,1,180]
[12.099999999999973,0.21118483949131342,9.9999999999999997E+98,-1.2500000000000001E+101,1.2500399993600206E+101,-89.541643541999562,0.20961856290382136,-0.95606005808613659,0.20961856290382136,0,0.20961856290382136,0,-3.5355904731176385E+50,-44.770821770999781,-2.5100199196022536E+50,2.4900200795977737E+50,-2.5100199196022536E+50,2.4900200795977737E+50,2.5100199196022536E+50,-2.4900200795977737E+50,-1,0,1,180]
[12.199999999999973,0.2129301687433077,9.9999999999999997E+98,-1.2500000000000001E+101,1.2500399993600206E+101,-89.541643541999562,0.21132479645538815,-0.95534183040308873,0.21132479645538815,0,0.21132479645538815,0,-3.5355904731176385E+50,-44.770821770999781,-2.5100199196022536E+50,2.4900200795977737E+50,-2.5100199196022536E+50,2.4900200795977737E+50,2.5100199196022536E+50,-2.4900200795977737E+50,-1,0,1,180]
[12.299999999999972,0.21467549799530206,9.9999999999999997E+98,-1.2500000000000001E+101,1.2500399993600206E+101,-89.541643541999562,0.21303038627497611,-0.95461805452353454,0.21303038627497611,0,0.21303038627497611,0,-3.5355904731176385E+50,-44.770821770999781,-2.5100199196022536E+50,2.4900200795977737E+50,-2.5100199196022536E+50,2.4900200795977737E+50,2.5100199196022536E+50,-2.4900200795977737E+50,-1,0,1,180]
[12.399999999999972,0.21642082724729639,9.9999999999999997E+98,-1.2500000000000001E+101,1.2500399993600206E+101,-89.541643541999562,0.21473532716706273,-0.95388873926645457,0.21473532716706273,0,0.21473532716706273,0,-3.5355904731176385E+50,-44.770821770999781,-2.5100199196022536E+50,2.4900200795977737E+50,-2.5100199196022536E+50,2.4900200795977737E+50,2.5100199196022536E+50,-2.4900200795977737E+50,-1,0,1,180]
[12.499999999999972,0.21816615649929069,9.9999999999999997E+98,-1.2500000000000001E+101,1.2500399993600206E+101,-89.541643541999562,0.21643961393810238,-0.95315389351832525,0.21643961393810238,0,0.21643961393810238,0,-3.5355904731176385E+50,-44.770821770999781,-2.5100199196022536E+50,2.4900200795977737E+50,-2.5100199196022536E+50,2.4900200795977737E+50,2.5100199196022536E+50,-2.4900200795977737E+50,-1,0,1,180]
[12.599999999999971,0.21991148575128502,9.9999999999999997E+98,-1.2500000000000001E+101,1.2500399993600206E+101,-89.541643541999562,0.21814324139654206,-0.95241352623301001,0.21814324139654206,0,0.21814324139654206,0,-3.5355904731176385E+50,-44.770821770999781,-2.5100199196022536E+50,2.4900200795977737E+50,-2.5100199196022536E+50,2.4900200795977737E+50,2.5100199196022536E+50,-2.4900200795977737E+50,-1,0,1,180]
[12.699999999999971,0.22165681500327933,9.9999999999999997E+98,-1.2500000000000001E+101,1.2500399993600206E+101,-89.541643541999562,0.219846204352837,-0.95166764643165058,0.219846204352837,0,0.219846204352837,0,-3.5355904731176385E+50,-44.770821770999781,-2.5100199196022536E+50,2.4900200795977737E+50,-2.5100199196022536E+50,2.4900200795977737E+50,2.5100199196022536E+50,-2.4900200795977737E+50,-1,0,1,180]
[12.799999999999971,0.22340214425527366,9.9999999999999997E+98,-1.2500000000000001E+101,1.2500399993600206E+101,-89.541643541999562,0.22154849761946679,-0.95091626320255718,0.22154849761946679,0,0.22154849761946679,0,-3.5355904731176385E+50,-44.770821770999781,-2.5100199196022536E+50,2.4900200795977737E+50,-2.5100199196022536E+50,2.4900200795977737E+50,2.5100199196022536E+50,-2.4900200795977737E+50,-1,0,1,180]
[12.89999999999997,{"$f":"A134*PI()/180","v":0.22514747350726799},{"$f":"$D$1","v":9.9999999999999997E+98},{"$f":"-(18000*$G$1/$N$1)","v":-1.2500000000000001E+101},{"$f":"(C134^2+D134^2)^0.5","v":1.2500399993600206E+101},{"$f":"(180/PI())*ATAN(D134/C134)","v":-89.541643541999562},{"$f":"SIN(B134)","v":0.22325011601095085},{"$f":"-((COS(B134))^2)","v":-0.95015938570109693},{"$f":"G134","v":0.22325011601095085},0,{"$f":"(((I134^2)/(1+(TAN(J134*(PI()/180)))^2))^0.5)","v":0.22325011601095085},{"$f":"K134*TAN(J134*(PI()/180))","v":0},{"$f":"-(((((C134+H134)^2)+(D134)^2)^0.5)^0.5)","v":-3.5355904731176385E+50},{"$f":"((ATAN(D134/(C134+H134)))*(180/PI()))/2","v":-44.770821770999781},{"$f":"-(((M134^2)/(1+(TAN(N134*(PI()/180)))^2))^0.5)","v":-2.5100199196022536E+50},{"$f":"O134*TAN(N134*(PI()/180))","v":2.4900200795977737E+50},-2.5100199196022536E+50,2.4900200795977737E+50,{"$f":"-O134+K134","v":2.5100199196022536E+50},{"$f":"L134-P134","v":-2.4900200795977737E+50},{"$f":"(Q134*S134+T134*R134)/((S134^2)+(T134^2))","v":-1},{"$f":"(R134*S134-Q134*T134)/((S134^2)+(T134^2))","v":0},{"$f":"((U134^2)+(V134^2))^0.5","v":1},{"$f":"(ACOS(U134/W134))*(180/PI())","v":180}]
[{"$f":"A134+0.1","v":12.99999999999997},0.2268928027592623,9.9999999999999997E+98,-1.2500000000000001E+101,1.2500399993600206E+101,-89.541643541999562,0.22495105434386448,-0.94939702314958374,0.22495105434386448,0,0.22495105434386448,0,-3.5355904731176385E+50,-44.770821770999781,-2.5100199196022536E+50,2.4900200795977737E+50,-2.5100199196022536E+50,2.4900200795977737E+50,2.5100199196022536E+50,-2.4900200795977737E+50,-1,0,1,180]
[13.099999999999969,0.22863813201125666,9.9999999999999997E+98,-1.2500000000000001E+101,1.2500399993600206E+101,-89.541643541999562,0.22665130743685455,-0.94862918483716452,0.22665130743685455,0,0.22665130743685455,0,-3.5355904731176385E+50,-44.770821770999781,-2.5100199196022536E+50,2.4900200795977737E+50,-2.5100199196022536E+50,2.4900200795977737E+50,2.5100199196022536E+50,-2.4900200795977737E+50,-1,0,1,180]
[13.199999999999969,0.23038346126325093,9.9999999999999997E+98,-1.2500000000000001E+101,1.2500399993600206E+101,-89.541643541999562,0.22835087011065519,-0.94785588011970667,0.22835087011065519,0,0.22835087011065519,0,-3.5355904731176385E+50,-44.770821770999781,-2.5100199196022536E+50,2.4900200795977737E+50,-2.5100199196022536E+50,2.4900200795977737E+50,2.5100199196022536E+50,-2.4900200795977737E+50,-1,0,1,180]
[13.299999999999969,0.23212879051524529,9.9999999999999997E+98,-1.2500000000000001E+101,1.2500399993600206E+101,-89.541643541999562,0.2300497371881039,-0.94707711841968434,0.2300497371881039,0,0.2300497371881039,0,-3.5355904731176385E+50,-44.770821770999781,-2.5100199196022536E+50,2.4900200795977737E+50,-2.5100199196022536E+50,2.4900200795977737E+50,2.5100199196022536E+50,-2.4900200795977737E+50,-1,0,1,180]
[13.399999999999968,0.23387411976723962,9.9999999999999997E+98,-1.2500000000000001E+101,1.2500399993600206E+101,-89.541643541999562,0.2317479034941568,-0.94629290922606302,0.2317479034941568,0,0.2317479034941568,0,-3.5355904731176385E+50,-44.770821770999781,-2.5100199196022536E+50,2.4900200795977737E+50,-2.5100199196022536E+50,2.4900200795977737E+50,2.5100199196022536E+50,-2.4900200795977737E+50,-1,0,1,180]
[13.499999999999968,0.23561944901923393,9.9999999999999997E+98,-1.2500000000000001E+101,1.2500399993600206E+101,-89.541643541999562,0.23344536385590486,-0.94550326209418423,0.23344536385590486,0,0.23344536385590486,0,-3.5355904731176385E+50,-44.770821770999781,-2.5100199196022536E+50,2.4900200795977737E+50,-2.5100199196022536E+50,2.4900200795977737E+50,2.5100199196022536E+50,-2.4900200795977737E+50,-1,0,1,180]
[13.599999999999968,0.23736477827122826,9.9999999999999997E+98,-1.2500000000000001E+101,1.2500399993600206E+101,-89.541643541999562,0.23514211310258948,-0.94470818664564904,0.23514211310258948,0,0.23514211310258948,0,-3.5355904731176385E+50,-44.770821770999781,-2.5100199196022536E+50,2.4900200795977737E+50,-2.5100199196022536E+50,2.4900200795977737E+50,2.5100199196022536E+50,-2.4900200795977737E+50,-1,0,1,180]
[13.699999999999967,0.23911010752322256,9.9999999999999997E+98,-1.2500000000000001E+101,1.2500399993600206E+101,-89.541643541999562,0.23683814606561812,-0.94390769256820084,0.23683814606561812,0,0.23683814606561812,0,-3.5355904731176385E+50,-44.770821770999781,-2.5100199196022536E+50,2.4900200795977737E+50,-2.5100199196022536E+50,2.4900200795977737E+50,2.5100199196022536E+50,-2.4900200795977737E+50,-1,0,1,180]
[13.799999999999967,0.2408554367752169,9.9999999999999997E+98,-1.2500000000000001E+101,1.2500399993600206E+101,-89.541643541999562,0.23853345757858033,-0.94310178961560764,0.23853345757858033,0,0.23853345757858033,0,-3.5355904731176385E+50,-44.770821770999781,-2.5100199196022536E+50,2.4900200795977737E+50,-2.5100199196022536E+50,2.4900200795977737E+50,2.5100199196022536E+50,-2.4900200795977737E+50,-1,0,1,180]
[13.899999999999967,0.2426007660272112,9.9999999999999997E+98,-1.2500000000000001E+101,1.2500399993600206E+101,-89.541643541999562,0.24022804247726312,-0.94229048760754219,0.24022804247726312,0,0.24022804247726312,0,-3.5355904731176385E+50,-44.770821770999781,-2.5100199196022536E+50,2.4900200795977737E+50,-2.5100199196022536E+50,2.4900200795977737E+50,2.5100199196022536E+50,-2.4900200795977737E+50,-1,0,1,180]
[13.999999999999966,0.24434609527920553,9.9999999999999997E+98,-1.2500000000000001E+101,1.2500399993600206E+101,-89.541643541999562,0.24192189559966712,-0.94147379642946372,0.24192189559966712,0,0.24192189559966712,0,-3.5355904731176385E+50,-44.770821770999781,-2.5100199196022536E+50,2.4900200795977737E+50,-2.5100199196022536E+50,2.4900200795977737E+50,2.5100199196022536E+50,-2.4900200795977737E+50,-1,0,1,180]
[14.099999999999966,0.24609142453119986,9.9999999999999997E+98,-1.2500000000000001E+101,1.2500399993600206E+101,-89.541643541999562,0.24361501178602193,-0.94065172603249647,0.24361501178602193,0,0.24361501178602193,0,-3.5355904731176385E+50,-44.770821770999781,-2.5100199196022536E+50,2.4900200795977737E+50,-2.5100199196022536E+50,2.4900200795977737E+50,2.5100199196022536E+50,-2.4900200795977737E+50,-1,0,1,180]
[14.199999999999966,0.24783675378319417,9.9999999999999997E+98,-1.2500000000000001E+101,1.2500399993600206E+101,-89.541643541999562,0.24530738587880196,-0.93982428643330862,0.24530738587880196,0,0.24530738587880196,0,-3.5355904731176385E+50,-44.770821770999781,-2.5100199196022536E+50,2.4900200795977737E+50,-2.5100199196022536E+50,2.4900200795977737E+50,2.5100199196022536E+50,-2.4900200795977737E+50,-1,0,1,180]
[14.299999999999965,0.24958208303518853,9.9999999999999997E+98,-1.2500000000000001E+101,1.2500399993600206E+101,-89.541643541999562,0.24699901272274233,-0.93899148771399066,0.24699901272274233,0,0.24699901272274233,0,-3.5355904731176385E+50,-44.770821770999781,-2.5100199196022536E+50,2.4900200795977737E+50,-2.5100199196022536E+50,2.4900200795977737E+50,2.5100199196022536E+50,-2.4900200795977737E+50,-1,0,1,180]
[14.399999999999965,0.25132741228718281,9.9999999999999997E+98,-1.2500000000000001E+101,1.2500399993600206E+101,-89.541643541999562,0.24868988716485416,-0.93815334002193218,0.24868988716485416,0,0.24868988716485416,0,-3.5355904731176385E+50,-44.770821770999781,-2.5100199196022536E+50,2.4900200795977737E+50,-2.5100199196022536E+50,2.4900200795977737E+50,2.5100199196022536E+50,-2.4900200795977737E+50,-1,0,1,180]
[14.499999999999964,0.25307274153917714,9.9999999999999997E+98,-1.2500000000000001E+101,1.2500399993600206E+101,-89.541643541999562,0.25038000405444077,-0.93730985356969831,0.25038000405444077,0,0.25038000405444077,0,-3.5355904731176385E+50,-44.770821770999781,-2.5100199196022536E+50,2.4900200795977737E+50,-2.5100199196022536E+50,2.4900200795977737E+50,2.5100199196022536E+50,-2.4900200795977737E+50,-1,0,1,180]
[14.599999999999964,0.25481807079117147,9.9999999999999997E+98,-1.2500000000000001E+101,1.2500399993600206E+101,-89.541643541999562,0.252069358243113,-0.93646103863490515,0.252069358243113,0,0.252069358243113,0,-3.5355904731176385E+50,-44.770821770999781,-2.5100199196022536E+50,2.4900200795977737E+50,-2.5100199196022536E+50,2.4900200795977737E+50,2.5100199196022536E+50,-2.4900200795977737E+50,-1,0,1,180]
[14.699999999999964,0.2565634000431658,9.9999999999999997E+98,-1.2500000000000001E+101,1.2500399993600206E+101,-89.541643541999562,0.253757944584805,-0.93560690556009507,0.253757944584805,0,0.253757944584805,0,-3.5355904731176385E+50,-44.770821770999781,-2.5100199196022536E+50,2.4900200795977737E+50,-2.5100199196022536E+50,2.4900200795977737E+50,2.5100199196022536E+50,-2.4900200795977737E+50,-1,0,1,180]
[14.799999999999963,0.25830872929516013,9.9999999999999997E+98,-1.2500000000000001E+101,1.2500399993600206E+101,-89.541643541999562,0.25544575793578994,-0.93474746475260995,0.25544575793578994,0,0.25544575793578994,0,-3.5355904731176385E+50,-44.770821770999781,-2.5100199196022536E+50,2.4900200795977737E+50,-2.5100199196022536E+50,2.4900200795977737E+50,2.5100199196022536E+50,-2.4900200795977737E+50,-1,0,1,180]
[14.899999999999963,0.26005405854715441,9.9999999999999997E+98,-1.2500000000000001E+101,1.2500399993600206E+101,-89.541643541999562,0.2571327931546955,-0.93388272668446459,0.2571327931546955,0,0.2571327931546955,0,-3.5355904731176385E+50,-44.770821770999781,-2.5100199196022536E+50,2.4900200795977737E+50,-2.5100199196022536E+50,2.4900200795977737E+50,2.5100199196022536E+50,-2.4900200795977737E+50,-1,0,1,180]
[14.999999999999963,0.2617993877991488,9.9999999999999997E+98,-1.2500000000000001E+101,1.2500399993600206E+101,-89.541643541999562,0.25881904510252013,-0.93301270189221963,0.25881904510252013,0,0.25881904510252013,0,-3.5355904731176385E+50,-44.770821770999781,-2.5100199196022536E+50,2.4900200795977737E+50,-2.5100199196022536E+50,2.4900200795977737E+50,2.5100199196022536E+50,-2.4900200795977737E+50,-1,0,1,180]
[15.099999999999962,0.26354471705114313,9.9999999999999997E+98,-1.2500000000000001E+101,1.2500399993600206E+101,-89.541643541999562,0.26050450864264774,-0.9321374009768526,0.26050450864264774,0,0.26050450864264774,0,-3.5355904731176385E+50,-44.770821770999781,-2.5100199196022536E+50,2.4900200795977737E+50,-2.5100199196022536E+50,2.4900200795977737E+50,2.5100199196022536E+50,-2.4900200795977737E+50,-1,0,1,180]
[15.199999999999962,0.26529004630313741,9.9999999999999997E+98,-1.2500000000000001E+101,1.2500399993600206E+101,-89.541643541999562,0.26218917864086405,-0.93125683460362907,0.26218917864086405,0,0.26218917864086405,0,-3.5355904731176385E+50,-44.770821770999781,-2.5100199196022536E+50,2.4900200795977737E+50,-2.5100199196022536E+50,2.4900200795977737E+50,2.5100199196022536E+50,-2.4900200795977737E+50,-1,0,1,180]
[15.299999999999962,0.26703537555513174,9.9999999999999997E+98,-1.2500000000000001E+101,1.2500399993600206E+101,-89.541643541999562,0.26387304996537225,-0.93037101350197227,0.26387304996537225,0,0.26387304996537225,0,-3.5355904731176385E+50,-44.770821770999781,-2.5100199196022536E+50,2.4900200795977737E+50,-2.5100199196022536E+50,2.4900200795977737E+50,2.5100199196022536E+50,-2.4900200795977737E+50,-1,0,1,180]
[15.399999999999961,0.26878070480712607,9.9999999999999997E+98,-1.2500000000000001E+101,1.2500399993600206E+101,-89.541643541999562,0.26555611748680813,-0.92947994846533255,0.26555611748680813,0,0.26555611748680813,0,-3.5355904731176385E+50,-44.770821770999781,-2.5100199196022536E+50,2.4900200795977737E+50,-2.5100199196022536E+50,2.4900200795977737E+50,2.5100199196022536E+50,-2.4900200795977737E+50,-1,0,1,180]
[15.499999999999961,0.2705260340591204,9.9999999999999997E+98,-1.2500000000000001E+101,1.2500399993600206E+101,-89.541643541999562,0.26723837607825623,-0.9285836503510565,0.26723837607825623,0,0.26723837607825623,0,-3.5355904731176385E+50,-44.770821770999781,-2.5100199196022536E+50,2.4900200795977737E+50,-2.5100199196022536E+50,2.4900200795977737E+50,2.5100199196022536E+50,-2.4900200795977737E+50,-1,0,1,180]
[15.599999999999961,0.27227136331111473,9.9999999999999997E+98,-1.2500000000000001E+101,1.2500399993600206E+101,-89.541643541999562,0.26891982061526504,-0.92768213008025369,0.26891982061526504,0,0.26891982061526504,0,-3.5355904731176385E+50,-44.770821770999781,-2.5100199196022536E+50,2.4900200795977737E+50,{"$f":"K161+O161","v":-2.5100199196022536E+50},2.4900200795977737E+50,2.5100199196022536E+50,-2.4900200795977737E+50,-1,0,1,180]
[15.69999999999996,0.27401669256310901,9.9999999999999997E+98,-1.2500000000000001E+101,1.2500399993600206E+101,-89.541643541999562,0.27060044597586291,-0.92677539863766401,0.27060044597586291,0,0.27060044597586291,0,-3.5355904731176385E+50,-44.770821770999781,-2.5100199196022536E+50,2.4900200795977737E+50,-2.5100199196022536E+50,2.4900200795977737E+50,2.5100199196022536E+50,-2.4900200795977737E+50,-1,0,1,180]
[15.79999999999996,0.2757620218151034,9.9999999999999997E+98,-1.2500000000000001E+101,1.2500399993600206E+101,-89.541643541999562,0.27228024704057369,-0.92586346707152412,0.27228024704057369,0,0.27228024704057369,0,-3.5355904731176385E+50,-44.770821770999781,-2.5100199196022536E+50,2.4900200795977737E+50,-2.5100199196022536E+50,2.4900200795977737E+50,2.5100199196022536E+50,-2.4900200795977737E+50,-1,0,1,180]
[15.899999999999959,0.27750735106709767,9.9999999999999997E+98,-1.2500000000000001E+101,1.2500399993600206E+101,-89.541643541999562,0.27395921869243178,-0.92494634649343233,0.27395921869243178,0,0.27395921869243178,0,-3.5355904731176385E+50,-44.770821770999781,-2.5100199196022536E+50,2.4900200795977737E+50,-2.5100199196022536E+50,2.4900200795977737E+50,2.5100199196022536E+50,-2.4900200795977737E+50,-1,0,1,180]
[15.999999999999959,0.27925268031909201,9.9999999999999997E+98,-1.2500000000000001E+101,1.2500399993600206E+101,-89.541643541999562,0.2756373558169985,-0.92402404807821348,0.2756373558169985,0,0.2756373558169985,0,-3.5355904731176385E+50,-44.770821770999781,-2.5100199196022536E+50,2.4900200795977737E+50,-2.5100199196022536E+50,2.4900200795977737E+50,2.5100199196022536E+50,-2.4900200795977737E+50,-1,0,1,180]
[16.099999999999959,0.28099800957108634,9.9999999999999997E+98,-1.2500000000000001E+101,1.2500399993600206E+101,-89.541643541999562,0.27731465330237709,-0.92309658306378239,0.27731465330237709,0,0.27731465330237709,0,-3.5355904731176385E+50,-44.770821770999781,-2.5100199196022536E+50,2.4900200795977737E+50,-2.5100199196022536E+50,2.4900200795977737E+50,2.5100199196022536E+50,-2.4900200795977737E+50,-1,0,1,180]
[16.19999999999996,0.28274333882308067,9.9999999999999997E+98,-1.2500000000000001E+101,1.2500399993600206E+101,-89.541643541999562,0.27899110603922855,-0.92216396275100798,0.27899110603922855,0,0.27899110603922855,0,-3.5355904731176385E+50,-44.770821770999781,-2.5100199196022536E+50,2.4900200795977737E+50,-2.5100199196022536E+50,2.4900200795977737E+50,2.5100199196022536E+50,-2.4900200795977737E+50,-1,0,1,180]
[16.299999999999962,0.284488668075075,9.9999999999999997E+98,-1.2500000000000001E+101,1.2500399993600206E+101,-89.541643541999562,0.2806667089207871,-0.92122619850357401,0.2806667089207871,0,0.2806667089207871,0,-3.5355904731176385E+50,-44.770821770999781,-2.5100199196022536E+50,2.4900200795977737E+50,-2.5100199196022536E+50,2.4900200795977737E+50,2.5100199196022536E+50,-2.4900200795977737E+50,-1,0,1,180]
[16.399999999999963,0.28623399732706939,9.9999999999999997E+98,-1.2500000000000001E+101,1.2500399993600206E+101,-89.541643541999562,0.28234145684287582,-0.92028330174784256,0.28234145684287582,0,0.28234145684287582,0,-3.5355904731176385E+50,-44.770821770999781,-2.5100199196022536E+50,2.4900200795977737E+50,-2.5100199196022536E+50,2.4900200795977737E+50,2.5100199196022536E+50,-2.4900200795977737E+50,-1,0,1,180]
[16.499999999999964,0.28797932657906372,9.9999999999999997E+98,-1.2500000000000001E+101,1.2500399993600206E+101,-89.541643541999562,0.28401534470392198,-0.91933528397271247,0.28401534470392198,0,0.28401534470392198,0,-3.5355904731176385E+50,-44.770821770999781,-2.5100199196022536E+50,2.4900200795977737E+50,-2.5100199196022536E+50,2.4900200795977737E+50,2.5100199196022536E+50,-2.4900200795977737E+50,-1,0,1,180]
[16.599999999999966,0.28972465583105811,9.9999999999999997E+98,-1.2500000000000001E+101,1.2500399993600206E+101,-89.541643541999562,0.285688367404973,-0.91838215672948109,0.285688367404973,0,0.285688367404973,0,-3.5355904731176385E+50,-44.770821770999781,-2.5100199196022536E+50,2.4900200795977737E+50,-2.5100199196022536E+50,2.4900200795977737E+50,2.5100199196022536E+50,-2.4900200795977737E+50,-1,0,1,180]
[16.699999999999967,0.29146998508305244,9.9999999999999997E+98,-1.2500000000000001E+101,1.2500399993600206E+101,-89.541643541999562,0.28736051984971145,-0.91742393163170366,0.28736051984971145,0,0.28736051984971145,0,-3.5355904731176385E+50,-44.770821770999781,-2.5100199196022536E+50,2.4900200795977737E+50,-2.5100199196022536E+50,2.4900200795977737E+50,2.5100199196022536E+50,-2.4900200795977737E+50,-1,0,1,180]
[16.799999999999969,0.29321531433504683,9.9999999999999997E+98,-1.2500000000000001E+101,1.2500399993600206E+101,-89.541643541999562,0.28903179694447106,-0.91646062035505016,0.28903179694447106,0,0.28903179694447106,0,-3.5355904731176385E+50,-44.770821770999781,-2.5100199196022536E+50,2.4900200795977737E+50,-2.5100199196022536E+50,2.4900200795977737E+50,2.5100199196022536E+50,-2.4900200795977737E+50,-1,0,1,180]
[16.89999999999997,0.29496064358704116,9.9999999999999997E+98,-1.2500000000000001E+101,1.2500399993600206E+101,-89.541643541999562,0.29070219359825195,-0.91549223463716434,0.29070219359825195,0,0.29070219359825195,0,-3.5355904731176385E+50,-44.770821770999781,-2.5100199196022536E+50,2.4900200795977737E+50,-2.5100199196022536E+50,2.4900200795977737E+50,2.5100199196022536E+50,-2.4900200795977737E+50,-1,0,1,180]
[16.999999999999972,0.29670597283903555,9.9999999999999997E+98,-1.2500000000000001E+101,1.2500399993600206E+101,-89.541643541999562,0.29237170472273627,-0.91451878627752115,0.29237170472273627,0,0.29237170472273627,0,-3.5355904731176385E+50,-44.770821770999781,-2.5100199196022536E+50,2.4900200795977737E+50,-2.5100199196022536E+50,2.4900200795977737E+50,2.5100199196022536E+50,-2.4900200795977737E+50,-1,0,1,180]
[17.099999999999973,0.29845130209102988,9.9999999999999997E+98,-1.2500000000000001E+101,1.2500399993600206E+101,-89.541643541999562,0.2940403252323035,-0.91354028713728108,0.2940403252323035,0,0.2940403252323035,0,-3.5355904731176385E+50,-44.770821770999781,-2.5100199196022536E+50,2.4900200795977737E+50,-2.5100199196022536E+50,2.4900200795977737E+50,2.5100199196022536E+50,-2.4900200795977737E+50,-1,0,1,180]
[17.199999999999974,0.30019663134302427,9.9999999999999997E+98,-1.2500000000000001E+101,1.2500399993600206E+101,-89.541643541999562,0.29570805004404632,-0.91255674913914786,0.29570805004404632,0,0.29570805004404632,0,-3.5355904731176385E+50,-44.770821770999781,-2.5100199196022536E+50,2.4900200795977737E+50,-2.5100199196022536E+50,2.4900200795977737E+50,2.5100199196022536E+50,-2.4900200795977737E+50,-1,0,1,180]
[17.299999999999976,0.3019419605950186,9.9999999999999997E+98,-1.2500000000000001E+101,1.2500399993600206E+101,-89.541643541999562,0.29737487407778557,-0.91156818426722119,0.29737487407778557,0,0.29737487407778557,0,-3.5355904731176385E+50,-44.770821770999781,-2.5100199196022536E+50,2.4900200795977737E+50,-2.5100199196022536E+50,2.4900200795977737E+50,2.5100199196022536E+50,-2.4900200795977737E+50,-1,0,1,180]
[17.399999999999977,0.30368728984701293,9.9999999999999997E+98,-1.2500000000000001E+101,1.2500399993600206E+101,-89.541643541999562,0.29904079225608626,-0.91057460456685235,0.29904079225608626,0,0.29904079225608626,0,-3.5355904731176385E+50,-44.770821770999781,-2.5100199196022536E+50,2.4900200795977737E+50,-2.5100199196022536E+50,2.4900200795977737E+50,2.5100199196022536E+50,-2.4900200795977737E+50,-1,0,1,180]
[17.499999999999979,0.30543261909900732,9.9999999999999997E+98,-1.2500000000000001E+101,1.2500399993600206E+101,-89.541643541999562,0.30070579950427279,-0.90957602214449618,0.30070579950427279,0,0.30070579950427279,0,-3.5355904731176385E+50,-44.770821770999781,-2.5100199196022536E+50,2.4900200795977737E+50,-2.5100199196022536E+50,2.4900200795977737E+50,2.5100199196022536E+50,-2.4900200795977737E+50,-1,0,1,180]
[17.59999999999998,0.30717794835100165,9.9999999999999997E+98,-1.2500000000000001E+101,1.2500399993600206E+101,-89.541643541999562,0.30236989075044418,-0.90857244916756452,0.30236989075044418,0,0.30236989075044418,0,-3.5355904731176385E+50,-44.770821770999781,-2.5100199196022536E+50,2.4900200795977737E+50,-2.5100199196022536E+50,2.4900200795977737E+50,2.5100199196022536E+50,-2.4900200795977737E+50,-1,0,1,180]
[17.699999999999982,0.30892327760299604,9.9999999999999997E+98,-1.2500000000000001E+101,1.2500399993600206E+101,-89.541643541999562,0.30403306092548998,-0.90756389786427738,0.30403306092548998,0,0.30403306092548998,0,-3.5355904731176385E+50,-44.770821770999781,-2.5100199196022536E+50,2.4900200795977737E+50,-2.5100199196022536E+50,2.4900200795977737E+50,2.5100199196022536E+50,-2.4900200795977737E+50,-1,0,1,180]
[17.799999999999983,0.31066860685499037,9.9999999999999997E+98,-1.2500000000000001E+101,1.2500399993600206E+101,-89.541643541999562,0.30569530496310537,-0.906550380523514,0.30569530496310537,0,0.30569530496310537,0,-3.5355904731176385E+50,-44.770821770999781,-2.5100199196022536E+50,2.4900200795977737E+50,-2.5100199196022536E+50,2.4900200795977737E+50,2.5100199196022536E+50,-2.4900200795977737E+50,-1,0,1,180]
[17.899999999999984,0.3124139361069847,9.9999999999999997E+98,-1.2500000000000001E+101,1.2500399993600206E+101,-89.541643541999562,0.30735661779980677,-0.90553190949466345,0.30735661779980677,0,0.30735661779980677,0,-3.5355904731176385E+50,-44.770821770999781,-2.5100199196022536E+50,2.4900200795977737E+50,-2.5100199196022536E+50,2.4900200795977737E+50,2.5100199196022536E+50,-2.4900200795977737E+50,-1,0,1,180]
[17.999999999999986,0.31415926535897909,9.9999999999999997E+98,-1.2500000000000001E+101,1.2500399993600206E+101,-89.541643541999562,0.30901699437494717,-0.90450849718747384,0.30901699437494717,0,0.30901699437494717,0,-3.5355904731176385E+50,-44.770821770999781,-2.5100199196022536E+50,2.4900200795977737E+50,-2.5100199196022536E+50,2.4900200795977737E+50,2.5100199196022536E+50,-2.4900200795977737E+50,-1,0,1,180]
[18.099999999999987,0.31590459461097342,9.9999999999999997E+98,-1.2500000000000001E+101,1.2500399993600206E+101,-89.541643541999562,0.31067642963073155,-0.90348015607190113,0.31067642963073155,0,0.31067642963073155,0,-3.5355904731176385E+50,-44.770821770999781,-2.5100199196022536E+50,2.4900200795977737E+50,-2.5100199196022536E+50,2.4900200795977737E+50,2.5100199196022536E+50,-2.4900200795977737E+50,-1,0,1,180]
[18.199999999999989,0.31764992386296775,9.9999999999999997E+98,-1.2500000000000001E+101,1.2500399993600206E+101,-89.541643541999562,0.31233491851223233,-0.90244689867795713,0.31233491851223233,0,0.31233491851223233,0,-3.5355904731176385E+50,-44.770821770999781,-2.5100199196022536E+50,2.4900200795977737E+50,-2.5100199196022536E+50,2.4900200795977737E+50,2.5100199196022536E+50,-2.4900200795977737E+50,-1,0,1,180]
[18.29999999999999,0.31939525311496214,9.9999999999999997E+98,-1.2500000000000001E+101,1.2500399993600206E+101,-89.541643541999562,0.31399245596740477,-0.90140873759555729,0.31399245596740477,0,0.31399245596740477,0,-3.5355904731176385E+50,-44.770821770999781,-2.5100199196022536E+50,2.4900200795977737E+50,-2.5100199196022536E+50,2.4900200795977737E+50,2.5100199196022536E+50,-2.4900200795977737E+50,-1,0,1,180]
[18.399999999999991,0.32114058236695647,9.9999999999999997E+98,-1.2500000000000001E+101,1.2500399993600206E+101,-89.541643541999562,0.31564903694710228,-0.90036568547436691,0.31564903694710228,0,0.31564903694710228,0,-3.5355904731176385E+50,-44.770821770999781,-2.5100199196022536E+50,2.4900200795977737E+50,-2.5100199196022536E+50,2.4900200795977737E+50,2.5100199196022536E+50,-2.4900200795977737E+50,-1,0,1,180]
[18.499999999999993,0.32288591161895086,9.9999999999999997E+98,-1.2500000000000001E+101,1.2500399993600206E+101,-89.541643541999562,0.31730465640509203,-0.89931775502364641,0.31730465640509203,0,0.31730465640509203,0,-3.5355904731176385E+50,-44.770821770999781,-2.5100199196022536E+50,2.4900200795977737E+50,-2.5100199196022536E+50,2.4900200795977737E+50,2.5100199196022536E+50,-2.4900200795977737E+50,-1,0,1,180]
[18.599999999999994,0.32463124087094519,9.9999999999999997E+98,-1.2500000000000001E+101,1.2500399993600206E+101,-89.541643541999562,0.31895930929806987,-0.89826495901209835,0.31895930929806987,0,0.31895930929806987,0,-3.5355904731176385E+50,-44.770821770999781,-2.5100199196022536E+50,2.4900200795977737E+50,-2.5100199196022536E+50,2.4900200795977737E+50,2.5100199196022536E+50,-2.4900200795977737E+50,-1,0,1,180]
[18.699999999999996,0.32637657012293952,9.9999999999999997E+98,-1.2500000000000001E+101,1.2500399993600206E+101,-89.541643541999562,0.32061299058567616,-0.89720731026770906,0.32061299058567616,0,0.32061299058567616,0,-3.5355904731176385E+50,-44.770821770999781,-2.5100199196022536E+50,2.4900200795977737E+50,-2.5100199196022536E+50,2.4900200795977737E+50,2.5100199196022536E+50,-2.4900200795977737E+50,-1,0,1,180]
[18.799999999999997,0.32812189937493391,9.9999999999999997E+98,-1.2500000000000001E+101,1.2500399993600206E+101,-89.541643541999562,0.32226569523051102,-0.89614482167759535,0.32226569523051102,0,0.32226569523051102,0,-3.5355904731176385E+50,-44.770821770999781,-2.5100199196022536E+50,2.4900200795977737E+50,-2.5100199196022536E+50,2.4900200795977737E+50,2.5100199196022536E+50,-2.4900200795977737E+50,-1,0,1,180]
[18.899999999999999,0.32986722862692824,9.9999999999999997E+98,-1.2500000000000001E+101,1.2500399993600206E+101,-89.541643541999562,0.3239174181981494,-0.8950775061878451,0.3239174181981494,0,0.3239174181981494,0,-3.5355904731176385E+50,-44.770821770999781,-2.5100199196022536E+50,2.4900200795977737E+50,-2.5100199196022536E+50,2.4900200795977737E+50,2.5100199196022536E+50,-2.4900200795977737E+50,-1,0,1,180]
[19,0.33161255787892258,9.9999999999999997E+98,-1.2500000000000001E+101,1.2500399993600206E+101,-89.541643541999562,0.32556815445715664,-0.89400537680336101,0.32556815445715664,0,0.32556815445715664,0,-3.5355904731176385E+50,-44.770821770999781,-2.5100199196022536E+50,2.4900200795977737E+50,-2.5100199196022536E+50,2.4900200795977737E+50,2.5100199196022536E+50,-2.4900200795977737E+50,-1,0,1,180]
[19.100000000000001,0.33335788713091696,9.9999999999999997E+98,-1.2500000000000001E+101,1.2500399993600206E+101,-89.541643541999562,0.32721789897910392,-0.89292844658770099,0.32721789897910392,0,0.32721789897910392,0,-3.5355904731176385E+50,-44.770821770999781,-2.5100199196022536E+50,2.4900200795977737E+50,-2.5100199196022536E+50,2.4900200795977737E+50,2.5100199196022536E+50,-2.4900200795977737E+50,-1,0,1,180]
[19.200000000000003,0.3351032163829113,9.9999999999999997E+98,-1.2500000000000001E+101,1.2500399993600206E+101,-89.541643541999562,0.32886664673858323,-0.89184672866291981,0.32886664673858323,0,0.32886664673858323,0,-3.5355904731176385E+50,-44.770821770999781,-2.5100199196022536E+50,2.4900200795977737E+50,-2.5100199196022536E+50,2.4900200795977737E+50,2.5100199196022536E+50,-2.4900200795977737E+50,-1,0,1,180]
[19.300000000000004,{"$f":"A198*PI()/180","v":0.33684854563490568},{"$f":"$D$1","v":9.9999999999999997E+98},{"$f":"-(18000*$G$1/$N$1)","v":-1.2500000000000001E+101},{"$f":"(C198^2+D198^2)^0.5","v":1.2500399993600206E+101},{"$f":"(180/PI())*ATAN(D198/C198)","v":-89.541643541999562},{"$f":"SIN(B198)","v":0.33051439271322308},{"$f":"-((COS(B198))^2)","v":-0.89076023620940936},{"$f":"G198","v":0.33051439271322308},0,{"$f":"(((I198^2)/(1+(TAN(J198*(PI()/180)))^2))^0.5)","v":0.33051439271322308},{"$f":"K198*TAN(J198*(PI()/180))","v":0},{"$f":"-(((((C198+H198)^2)+(D198)^2)^0.5)^0.5)","v":-3.5355904731176385E+50},{"$f":"((ATAN(D198/(C198+H198)))*(180/PI()))/2","v":-44.770821770999781},{"$f":"-(((M198^2)/(1+(TAN(N198*(PI()/180)))^2))^0.5)","v":-2.5100199196022536E+50},{"$f":"O198*TAN(N198*(PI()/180))","v":2.4900200795977737E+50},-2.5100199196022536E+50,2.4900200795977737E+50,{"$f":"-O198+K198","v":2.5100199196022536E+50},{"$f":"L198-P198","v":-2.4900200795977737E+50},{"$f":"(Q198*S198+T198*R198)/((S198^2)+(T198^2))","v":-1},{"$f":"(R198*S198-Q198*T198)/((S198^2)+(T198^2))","v":0},{"$f":"((U198^2)+(V198^2))^0.5","v":1},{"$f":"(ACOS(U198/W198))*(180/PI())","v":180}]
[{"$f":"A198+0.1","v":19.400000000000006},0.33859387488690001,9.9999999999999997E+98,-1.2500000000000001E+101,1.2500399993600206E+101,-89.541643541999562,0.33216113188370339,-0.889668982465737,0.33216113188370339,0,0.33216113188370339,0,-3.5355904731176385E+50,-44.770821770999781,-2.5100199196022536E+50,2.4900200795977737E+50,-2.5100199196022536E+50,2.4900200795977737E+50,2.5100199196022536E+50,-2.4900200795977737E+50,-1,0,1,180]
[19.500000000000007,0.34033920413889435,9.9999999999999997E+98,-1.2500000000000001E+101,1.2500399993600206E+101,-89.541643541999562,0.33380685923377101,-0.88857298072848534,0.33380685923377101,0,0.33380685923377101,0,-3.5355904731176385E+50,-44.770821770999781,-2.5100199196022536E+50,2.4900200795977737E+50,-2.5100199196022536E+50,2.4900200795977737E+50,2.5100199196022536E+50,-2.4900200795977737E+50,-1,0,1,180]
[19.600000000000009,0.34208453339088873,9.9999999999999997E+98,-1.2500000000000001E+101,1.2500399993600206E+101,-89.541643541999562,0.33545156975025514,-0.88747224435208971,0.33545156975025514,0,0.33545156975025514,0,-3.5355904731176385E+50,-44.770821770999781,-2.5100199196022536E+50,2.4900200795977737E+50,-2.5100199196022536E+50,2.4900200795977737E+50,2.5100199196022536E+50,-2.4900200795977737E+50,-1,0,1,180]
[19.70000000000001,0.34382986264288307,9.9999999999999997E+98,-1.2500000000000001E+101,1.2500399993600206E+101,-89.541643541999562,0.33709525842308219,-0.88636678674867542,0.33709525842308219,0,0.33709525842308219,0,-3.5355904731176385E+50,-44.770821770999781,-2.5100199196022536E+50,2.4900200795977737E+50,-2.5100199196022536E+50,2.4900200795977737E+50,2.5100199196022536E+50,-2.4900200795977737E+50,-1,0,1,180]
[19.800000000000011,0.34557519189487745,9.9999999999999997E+98,-1.2500000000000001E+101,1.2500399993600206E+101,-89.541643541999562,0.33873792024529159,-0.88525662138789463,0.33873792024529159,0,0.33873792024529159,0,-3.5355904731176385E+50,-44.770821770999781,-2.5100199196022536E+50,2.4900200795977737E+50,-2.5100199196022536E+50,2.4900200795977737E+50,2.5100199196022536E+50,-2.4900200795977737E+50,-1,0,1,180]
[19.900000000000013,0.34732052114687179,9.9999999999999997E+98,-1.2500000000000001E+101,1.2500399993600206E+101,-89.541643541999562,0.34037955021305033,-0.88414176179676163,0.34037955021305033,0,0.34037955021305033,0,-3.5355904731176385E+50,-44.770821770999781,-2.5100199196022536E+50,2.4900200795977737E+50,-2.5100199196022536E+50,2.4900200795977737E+50,2.5100199196022536E+50,-2.4900200795977737E+50,-1,0,1,180]
[20.000000000000014,0.34906585039886612,9.9999999999999997E+98,-1.2500000000000001E+101,1.2500399993600206E+101,-89.541643541999562,0.34202014332566893,-0.88302222155948884,0.34202014332566893,0,0.34202014332566893,0,-3.5355904731176385E+50,-44.770821770999781,-2.5100199196022536E+50,2.4900200795977737E+50,-2.5100199196022536E+50,2.4900200795977737E+50,2.5100199196022536E+50,-2.4900200795977737E+50,-1,0,1,180]
[20.100000000000016,0.35081117965086051,9.9999999999999997E+98,-1.2500000000000001E+101,1.2500399993600206E+101,-89.541643541999562,0.34365969458561629,-0.88189801431732084,0.34365969458561629,0,0.34365969458561629,0,-3.5355904731176385E+50,-44.770821770999781,-2.5100199196022536E+50,2.4900200795977737E+50,-2.5100199196022536E+50,2.4900200795977737E+50,2.5100199196022536E+50,-2.4900200795977737E+50,-1,0,1,180]
[20.200000000000017,0.35255650890285484,9.9999999999999997E+98,-1.2500000000000001E+101,1.2500399993600206E+101,-89.541643541999562,0.34529819899853487,-0.88076915376836817,0.34529819899853487,0,0.34529819899853487,0,-3.5355904731176385E+50,-44.770821770999781,-2.5100199196022536E+50,2.4900200795977737E+50,-2.5100199196022536E+50,2.4900200795977737E+50,2.5100199196022536E+50,-2.4900200795977737E+50,-1,0,1,180]
[20.300000000000018,0.35430183815484917,9.9999999999999997E+98,-1.2500000000000001E+101,1.2500399993600206E+101,-89.541643541999562,0.34693565157325612,-0.87963565366744034,0.34693565157325612,0,0.34693565157325612,0,-3.5355904731176385E+50,-44.770821770999781,-2.5100199196022536E+50,2.4900200795977737E+50,-2.5100199196022536E+50,2.4900200795977737E+50,2.5100199196022536E+50,-2.4900200795977737E+50,-1,0,1,180]
[20.40000000000002,0.35604716740684356,9.9999999999999997E+98,-1.2500000000000001E+101,1.2500399993600206E+101,-89.541643541999562,0.34857204732181551,-0.87849752782587787,0.34857204732181551,0,0.34857204732181551,0,-3.5355904731176385E+50,-44.770821770999781,-2.5100199196022536E+50,2.4900200795977737E+50,-2.5100199196022536E+50,2.4900200795977737E+50,2.5100199196022536E+50,-2.4900200795977737E+50,-1,0,1,180]
[20.500000000000021,0.35779249665883789,9.9999999999999997E+98,-1.2500000000000001E+101,1.2500399993600206E+101,-89.541643541999562,0.35020738125946776,-0.87735479011138573,0.35020738125946776,0,0.35020738125946776,0,-3.5355904731176385E+50,-44.770821770999781,-2.5100199196022536E+50,2.4900200795977737E+50,-2.5100199196022536E+50,2.4900200795977737E+50,2.5100199196022536E+50,-2.4900200795977737E+50,-1,0,1,180]
[20.600000000000023,0.35953782591083228,9.9999999999999997E+98,-1.2500000000000001E+101,1.2500399993600206E+101,-89.541643541999562,0.35184164840470217,-0.87620745444786197,0.35184164840470217,0,0.35184164840470217,0,-3.5355904731176385E+50,-44.770821770999781,-2.5100199196022536E+50,2.4900200795977737E+50,-2.5100199196022536E+50,2.4900200795977737E+50,2.5100199196022536E+50,-2.4900200795977737E+50,-1,0,1,180]
[20.700000000000024,0.36128315516282661,9.9999999999999997E+98,-1.2500000000000001E+101,1.2500399993600206E+101,-89.541643541999562,0.35347484377925747,-0.87505553481522946,0.35347484377925747,0,0.35347484377925747,0,-3.5355904731176385E+50,-44.770821770999781,-2.5100199196022536E+50,2.4900200795977737E+50,-2.5100199196022536E+50,2.4900200795977737E+50,2.5100199196022536E+50,-2.4900200795977737E+50,-1,0,1,180]
[20.800000000000026,0.363028484414821,9.9999999999999997E+98,-1.2500000000000001E+101,1.2500399993600206E+101,-89.541643541999562,0.35510696240813744,-0.87389904524926565,0.35510696240813744,0,0.35510696240813744,0,-3.5355904731176385E+50,-44.770821770999781,-2.5100199196022536E+50,2.4900200795977737E+50,-2.5100199196022536E+50,2.4900200795977737E+50,2.5100199196022536E+50,-2.4900200795977737E+50,-1,0,1,180]
[20.900000000000027,0.36477381366681533,9.9999999999999997E+98,-1.2500000000000001E+101,1.2500399993600206E+101,-89.541643541999562,0.35673799931962563,-0.87273799984143086,0.35673799931962563,0,0.35673799931962563,0,-3.5355904731176385E+50,-44.770821770999781,-2.5100199196022536E+50,2.4900200795977737E+50,-2.5100199196022536E+50,2.4900200795977737E+50,2.5100199196022536E+50,-2.4900200795977737E+50,-1,0,1,180]
[21.000000000000028,0.36651914291880971,9.9999999999999997E+98,-1.2500000000000001E+101,1.2500399993600206E+101,-89.541643541999562,0.35836794954530077,-0.87157241273869668,0.35836794954530077,0,0.35836794954530077,0,-3.5355904731176385E+50,-44.770821770999781,-2.5100199196022536E+50,2.4900200795977737E+50,-2.5100199196022536E+50,2.4900200795977737E+50,2.5100199196022536E+50,-2.4900200795977737E+50,-1,0,1,180]
[21.10000000000003,0.36826447217080405,9.9999999999999997E+98,-1.2500000000000001E+101,1.2500399993600206E+101,-89.541643541999562,0.35999680812005169,-0.87040229814337478,0.35999680812005169,0,0.35999680812005169,0,-3.5355904731176385E+50,-44.770821770999781,-2.5100199196022536E+50,2.4900200795977737E+50,-2.5100199196022536E+50,2.4900200795977737E+50,2.5100199196022536E+50,-2.4900200795977737E+50,-1,0,1,180]
[21.200000000000031,0.37000980142279838,9.9999999999999997E+98,-1.2500000000000001E+101,1.2500399993600206E+101,-89.541643541999562,0.36162457008209281,-0.86922767031294168,0.36162457008209281,0,0.36162457008209281,0,-3.5355904731176385E+50,-44.770821770999781,-2.5100199196022536E+50,2.4900200795977737E+50,-2.5100199196022536E+50,2.4900200795977737E+50,2.5100199196022536E+50,-2.4900200795977737E+50,-1,0,1,180]
[21.300000000000033,0.37175513067479277,9.9999999999999997E+98,-1.2500000000000001E+101,1.2500399993600206E+101,-89.541643541999562,0.36325123047297886,-0.86804854355986683,0.36325123047297886,0,0.36325123047297886,0,-3.5355904731176385E+50,-44.770821770999781,-2.5100199196022536E+50,2.4900200795977737E+50,-2.5100199196022536E+50,2.4900200795977737E+50,2.5100199196022536E+50,-2.4900200795977737E+50,-1,0,1,180]
[21.400000000000034,0.37350045992678715,9.9999999999999997E+98,-1.2500000000000001E+101,1.2500399993600206E+101,-89.541643541999562,0.36487678433762027,-0.86686493225143779,0.36487678433762027,0,0.36487678433762027,0,-3.5355904731176385E+50,-44.770821770999781,-2.5100199196022536E+50,2.4900200795977737E+50,-2.5100199196022536E+50,2.4900200795977737E+50,2.5100199196022536E+50,-2.4900200795977737E+50,-1,0,1,180]
[21.500000000000036,0.37524578917878149,9.9999999999999997E+98,-1.2500000000000001E+101,1.2500399993600206E+101,-89.541643541999562,0.36650122672429786,-0.8656768508095849,0.36650122672429786,0,0.36650122672429786,0,-3.5355904731176385E+50,-44.770821770999781,-2.5100199196022536E+50,2.4900200795977737E+50,-2.5100199196022536E+50,2.4900200795977737E+50,2.5100199196022536E+50,-2.4900200795977737E+50,-1,0,1,180]
[21.600000000000037,0.37699111843077582,9.9999999999999997E+98,-1.2500000000000001E+101,1.2500399993600206E+101,-89.541643541999562,0.36812455268467853,-0.86448431371070522,0.36812455268467853,0,0.36812455268467853,0,-3.5355904731176385E+50,-44.770821770999781,-2.5100199196022536E+50,2.4900200795977737E+50,-2.5100199196022536E+50,2.4900200795977737E+50,2.5100199196022536E+50,-2.4900200795977737E+50,-1,0,1,180]
[21.700000000000038,0.37873644768277015,9.9999999999999997E+98,-1.2500000000000001E+101,1.2500399993600206E+101,-89.541643541999562,0.36974675727382988,-0.86328733548548753,0.36974675727382988,0,0.36974675727382988,0,-3.5355904731176385E+50,-44.770821770999781,-2.5100199196022536E+50,2.4900200795977737E+50,-2.5100199196022536E+50,2.4900200795977737E+50,2.5100199196022536E+50,-2.4900200795977737E+50,-1,0,1,180]
[21.80000000000004,0.38048177693476454,9.9999999999999997E+98,-1.2500000000000001E+101,1.2500399993600206E+101,-89.541643541999562,0.37136783555023545,-0.8620859307187333,0.37136783555023545,0,0.37136783555023545,0,-3.5355904731176385E+50,-44.770821770999781,-2.5100199196022536E+50,2.4900200795977737E+50,-2.5100199196022536E+50,2.4900200795977737E+50,2.5100199196022536E+50,-2.4900200795977737E+50,-1,0,1,180]
[21.900000000000041,0.38222710618675892,9.9999999999999997E+98,-1.2500000000000001E+101,1.2500399993600206E+101,-89.541643541999562,0.37298778257580961,-0.86088011404918052,0.37298778257580961,0,0.37298778257580961,0,-3.5355904731176385E+50,-44.770821770999781,-2.5100199196022536E+50,2.4900200795977737E+50,-2.5100199196022536E+50,2.4900200795977737E+50,2.5100199196022536E+50,-2.4900200795977737E+50,-1,0,1,180]
[22.000000000000043,0.38397243543875326,9.9999999999999997E+98,-1.2500000000000001E+101,1.2500399993600206E+101,-89.541643541999562,0.37460659341591274,-0.85966990016932499,0.37460659341591274,0,0.37460659341591274,0,-3.5355904731176385E+50,-44.770821770999781,-2.5100199196022536E+50,2.4900200795977737E+50,{"$f":"K225+O225","v":-2.5100199196022536E+50},2.4900200795977737E+50,2.5100199196022536E+50,-2.4900200795977737E+50,-1,0,1,180]
[22.100000000000044,0.38571776469074759,9.9999999999999997E+98,-1.2500000000000001E+101,1.2500399993600206E+101,-89.541643541999562,0.3762242631393663,-0.85845530382524082,0.3762242631393663,0,0.3762242631393663,0,-3.5355904731176385E+50,-44.770821770999781,-2.5100199196022536E+50,2.4900200795977737E+50,-2.5100199196022536E+50,2.4900200795977737E+50,2.5100199196022536E+50,-2.4900200795977737E+50,-1,0,1,180]
[22.200000000000045,0.38746309394274192,9.9999999999999997E+98,-1.2500000000000001E+101,1.2500399993600206E+101,-89.541643541999562,0.37784078681846783,-0.85723633981640124,0.37784078681846783,0,0.37784078681846783,0,-3.5355904731176385E+50,-44.770821770999781,-2.5100199196022536E+50,2.4900200795977737E+50,-2.5100199196022536E+50,2.4900200795977737E+50,2.5100199196022536E+50,-2.4900200795977737E+50,-1,0,1,180]
[22.300000000000047,0.38920842319473625,9.9999999999999997E+98,-1.2500000000000001E+101,1.2500399993600206E+101,-89.541643541999562,0.3794561595290058,-0.85601302299549764,0.3794561595290058,0,0.3794561595290058,0,-3.5355904731176385E+50,-44.770821770999781,-2.5100199196022536E+50,2.4900200795977737E+50,-2.5100199196022536E+50,2.4900200795977737E+50,2.5100199196022536E+50,-2.4900200795977737E+50,-1,0,1,180]
[22.400000000000048,0.3909537524467307,9.9999999999999997E+98,-1.2500000000000001E+101,1.2500399993600206E+101,-89.541643541999562,0.38107037635027491,-0.85478536826825979,0.38107037635027491,0,0.38107037635027491,0,-3.5355904731176385E+50,-44.770821770999781,-2.5100199196022536E+50,2.4900200795977737E+50,-2.5100199196022536E+50,2.4900200795977737E+50,2.5100199196022536E+50,-2.4900200795977737E+50,-1,0,1,180]
[22.50000000000005,0.39269908169872503,9.9999999999999997E+98,-1.2500000000000001E+101,1.2500399993600206E+101,-89.541643541999562,0.38268343236509056,-0.85355339059327306,0.38268343236509056,0,0.38268343236509056,0,-3.5355904731176385E+50,-44.770821770999781,-2.5100199196022536E+50,2.4900200795977737E+50,-2.5100199196022536E+50,2.4900200795977737E+50,2.5100199196022536E+50,-2.4900200795977737E+50,-1,0,1,180]
[22.600000000000051,0.39444441095071936,9.9999999999999997E+98,-1.2500000000000001E+101,1.2500399993600206E+101,-89.541643541999562,0.38429532265980454,-0.85231710498179669,0.38429532265980454,0,0.38429532265980454,0,-3.5355904731176385E+50,-44.770821770999781,-2.5100199196022536E+50,2.4900200795977737E+50,-2.5100199196022536E+50,2.4900200795977737E+50,2.5100199196022536E+50,-2.4900200795977737E+50,-1,0,1,180]
[22.700000000000053,0.39618974020271369,9.9999999999999997E+98,-1.2500000000000001E+101,1.2500399993600206E+101,-89.541643541999562,0.38590604232431941,-0.85107652649758059,0.38590604232431941,0,0.38590604232431941,0,-3.5355904731176385E+50,-44.770821770999781,-2.5100199196022536E+50,2.4900200795977737E+50,-2.5100199196022536E+50,2.4900200795977737E+50,2.5100199196022536E+50,-2.4900200795977737E+50,-1,0,1,180]
[22.800000000000054,0.39793506945470802,9.9999999999999997E+98,-1.2500000000000001E+101,1.2500399993600206E+101,-89.541643541999562,0.38751558645210377,-0.84983167025668205,0.38751558645210377,0,0.38751558645210377,0,-3.5355904731176385E+50,-44.770821770999781,-2.5100199196022536E+50,2.4900200795977737E+50,-2.5100199196022536E+50,2.4900200795977737E+50,2.5100199196022536E+50,-2.4900200795977737E+50,-1,0,1,180]
[22.900000000000055,0.39968039870670247,9.9999999999999997E+98,-1.2500000000000001E+101,1.2500399993600206E+101,-89.541643541999562,0.38912395014020718,-0.84858255142728156,0.38912395014020718,0,0.38912395014020718,0,-3.5355904731176385E+50,-44.770821770999781,-2.5100199196022536E+50,2.4900200795977737E+50,-2.5100199196022536E+50,2.4900200795977737E+50,2.5100199196022536E+50,-2.4900200795977737E+50,-1,0,1,180]
[23.000000000000057,0.4014257279586968,9.9999999999999997E+98,-1.2500000000000001E+101,1.2500399993600206E+101,-89.541643541999562,0.39073112848927466,-0.84732918522949796,0.39073112848927466,0,0.39073112848927466,0,-3.5355904731176385E+50,-44.770821770999781,-2.5100199196022536E+50,2.4900200795977737E+50,-2.5100199196022536E+50,2.4900200795977737E+50,2.5100199196022536E+50,-2.4900200795977737E+50,-1,0,1,180]
[23.100000000000058,0.40317105721069113,9.9999999999999997E+98,-1.2500000000000001E+101,1.2500399993600206E+101,-89.541643541999562,0.39233711660356241,-0.84607158693520268,0.39233711660356241,0,0.39233711660356241,0,-3.5355904731176385E+50,-44.770821770999781,-2.5100199196022536E+50,2.4900200795977737E+50,-2.5100199196022536E+50,2.4900200795977737E+50,2.5100199196022536E+50,-2.4900200795977737E+50,-1,0,1,180]
[23.20000000000006,0.40491638646268546,9.9999999999999997E+98,-1.2500000000000001E+101,1.2500399993600206E+101,-89.541643541999562,0.39394190959095204,-0.84480977186783424,0.39394190959095204,0,0.39394190959095204,0,-3.5355904731176385E+50,-44.770821770999781,-2.5100199196022536E+50,2.4900200795977737E+50,-2.5100199196022536E+50,2.4900200795977737E+50,2.5100199196022536E+50,-2.4900200795977737E+50,-1,0,1,180]
[23.300000000000061,0.40666171571467979,9.9999999999999997E+98,-1.2500000000000001E+101,1.2500399993600206E+101,-89.541643541999562,0.39554550256296583,-0.84354375540221072,0.39554550256296583,0,0.39554550256296583,0,-3.5355904731176385E+50,-44.770821770999781,-2.5100199196022536E+50,2.4900200795977737E+50,-2.5100199196022536E+50,2.4900200795977737E+50,2.5100199196022536E+50,-2.4900200795977737E+50,-1,0,1,180]
[23.400000000000063,0.40840704496667424,9.9999999999999997E+98,-1.2500000000000001E+101,1.2500399993600206E+101,-89.541643541999562,0.39714789063478162,-0.84227355296434347,0.39714789063478162,0,0.39714789063478162,0,-3.5355904731176385E+50,-44.770821770999781,-2.5100199196022536E+50,2.4900200795977737E+50,-2.5100199196022536E+50,2.4900200795977737E+50,2.5100199196022536E+50,-2.4900200795977737E+50,-1,0,1,180]
[23.500000000000064,0.41015237421866857,9.9999999999999997E+98,-1.2500000000000001E+101,1.2500399993600206E+101,-89.541643541999562,0.39874906892524725,-0.84099918003124841,0.39874906892524725,0,0.39874906892524725,0,-3.5355904731176385E+50,-44.770821770999781,-2.5100199196022536E+50,2.4900200795977737E+50,-2.5100199196022536E+50,2.4900200795977737E+50,2.5100199196022536E+50,-2.4900200795977737E+50,-1,0,1,180]
[23.600000000000065,0.4118977034706629,9.9999999999999997E+98,-1.2500000000000001E+101,1.2500399993600206E+101,-89.541643541999562,0.40034903255689597,-0.83972065213075753,0.40034903255689597,0,0.40034903255689597,0,-3.5355904731176385E+50,-44.770821770999781,-2.5100199196022536E+50,2.4900200795977737E+50,-2.5100199196022536E+50,2.4900200795977737E+50,2.5100199196022536E+50,-2.4900200795977737E+50,-1,0,1,180]
[23.700000000000067,0.41364303272265723,9.9999999999999997E+98,-1.2500000000000001E+101,1.2500399993600206E+101,-89.541643541999562,0.40194777665596121,-0.83843798484132948,0.40194777665596121,0,0.40194777665596121,0,-3.5355904731176385E+50,-44.770821770999781,-2.5100199196022536E+50,2.4900200795977737E+50,-2.5100199196022536E+50,2.4900200795977737E+50,2.5100199196022536E+50,-2.4900200795977737E+50,-1,0,1,180]
[23.800000000000068,0.41538836197465157,9.9999999999999997E+98,-1.2500000000000001E+101,1.2500399993600206E+101,-89.541643541999562,0.40354529635239106,-0.83715119379186076,0.40354529635239106,0,0.40354529635239106,0,-3.5355904731176385E+50,-44.770821770999781,-2.5100199196022536E+50,2.4900200795977737E+50,-2.5100199196022536E+50,2.4900200795977737E+50,2.5100199196022536E+50,-2.4900200795977737E+50,-1,0,1,180]
[23.90000000000007,0.41713369122664601,9.9999999999999997E+98,-1.2500000000000001E+101,1.2500399993600206E+101,-89.541643541999562,0.40514158677986367,-0.83586029466149414,0.40514158677986367,0,0.40514158677986367,0,-3.5355904731176385E+50,-44.770821770999781,-2.5100199196022536E+50,2.4900200795977737E+50,-2.5100199196022536E+50,2.4900200795977737E+50,2.5100199196022536E+50,-2.4900200795977737E+50,-1,0,1,180]
[24.000000000000071,0.41887902047864034,9.9999999999999997E+98,-1.2500000000000001E+101,1.2500399993600206E+101,-89.541643541999562,0.40673664307580132,-0.83456530317942823,0.40673664307580132,0,0.40673664307580132,0,-3.5355904731176385E+50,-44.770821770999781,-2.5100199196022536E+50,2.4900200795977737E+50,-2.5100199196022536E+50,2.4900200795977737E+50,2.5100199196022536E+50,-2.4900200795977737E+50,-1,0,1,180]
[24.100000000000072,0.42062434973063467,9.9999999999999997E+98,-1.2500000000000001E+101,1.2500399993600206E+101,-89.541643541999562,0.40833046038138604,-0.8332662351247252,0.40833046038138604,0,0.40833046038138604,0,-3.5355904731176385E+50,-44.770821770999781,-2.5100199196022536E+50,2.4900200795977737E+50,-2.5100199196022536E+50,2.4900200795977737E+50,2.5100199196022536E+50,-2.4900200795977737E+50,-1,0,1,180]
[24.200000000000074,0.422369678982629,9.9999999999999997E+98,-1.2500000000000001E+101,1.2500399993600206E+101,-89.541643541999562,0.40992303384157391,-0.83196310632611992,0.40992303384157391,0,0.40992303384157391,0,-3.5355904731176385E+50,-44.770821770999781,-2.5100199196022536E+50,2.4900200795977737E+50,-2.5100199196022536E+50,2.4900200795977737E+50,2.5100199196022536E+50,-2.4900200795977737E+50,-1,0,1,180]
[24.300000000000075,0.42411500823462334,9.9999999999999997E+98,-1.2500000000000001E+101,1.2500399993600206E+101,-89.541643541999562,0.41151435860510993,-0.83065593266182502,0.41151435860510993,0,0.41151435860510993,0,-3.5355904731176385E+50,-44.770821770999781,-2.5100199196022536E+50,2.4900200795977737E+50,-2.5100199196022536E+50,2.4900200795977737E+50,2.5100199196022536E+50,-2.4900200795977737E+50,-1,0,1,180]
[24.400000000000077,0.42586033748661772,9.9999999999999997E+98,-1.2500000000000001E+101,1.2500399993600206E+101,-89.541643541999562,0.41310442982454298,-0.82934473005933929,0.41310442982454298,0,0.41310442982454298,0,-3.5355904731176385E+50,-44.770821770999781,-2.5100199196022536E+50,2.4900200795977737E+50,-2.5100199196022536E+50,2.4900200795977737E+50,2.5100199196022536E+50,-2.4900200795977737E+50,-1,0,1,180]
[24.500000000000078,0.42760566673861211,9.9999999999999997E+98,-1.2500000000000001E+101,1.2500399993600206E+101,-89.541643541999562,0.4146932426562403,-0.82802951449525264,0.4146932426562403,0,0.4146932426562403,0,-3.5355904731176385E+50,-44.770821770999781,-2.5100199196022536E+50,2.4900200795977737E+50,-2.5100199196022536E+50,2.4900200795977737E+50,2.5100199196022536E+50,-2.4900200795977737E+50,-1,0,1,180]
[24.60000000000008,0.42935099599060644,9.9999999999999997E+98,-1.2500000000000001E+101,1.2500399993600206E+101,-89.541643541999562,0.41628079226040243,-0.82671030199505169,0.41628079226040243,0,0.41628079226040243,0,-3.5355904731176385E+50,-44.770821770999781,-2.5100199196022536E+50,2.4900200795977737E+50,-2.5100199196022536E+50,2.4900200795977737E+50,2.5100199196022536E+50,-2.4900200795977737E+50,-1,0,1,180]
[24.700000000000081,0.43109632524260078,9.9999999999999997E+98,-1.2500000000000001E+101,1.2500399993600206E+101,-89.541643541999562,0.41786707380107802,-0.8253871086329243,0.41786707380107802,0,0.41786707380107802,0,-3.5355904731176385E+50,-44.770821770999781,-2.5100199196022536E+50,2.4900200795977737E+50,-2.5100199196022536E+50,2.4900200795977737E+50,2.5100199196022536E+50,-2.4900200795977737E+50,-1,0,1,180]
[24.800000000000082,0.43284165449459516,9.9999999999999997E+98,-1.2500000000000001E+101,1.2500399993600206E+101,-89.541643541999562,0.41945208244617838,-0.82405995053156433,0.41945208244617838,0,0.41945208244617838,0,-3.5355904731176385E+50,-44.770821770999781,-2.5100199196022536E+50,2.4900200795977737E+50,-2.5100199196022536E+50,2.4900200795977737E+50,2.5100199196022536E+50,-2.4900200795977737E+50,-1,0,1,180]
[24.900000000000084,0.43458698374658949,9.9999999999999997E+98,-1.2500000000000001E+101,1.2500399993600206E+101,-89.541643541999562,0.4210358133674923,-0.82272884386197409,0.4210358133674923,0,0.4210358133674923,0,-3.5355904731176385E+50,-44.770821770999781,-2.5100199196022536E+50,2.4900200795977737E+50,-2.5100199196022536E+50,2.4900200795977737E+50,2.5100199196022536E+50,-2.4900200795977737E+50,-1,0,1,180]
[25.000000000000085,0.43633231299858388,9.9999999999999997E+98,-1.2500000000000001E+101,1.2500399993600206E+101,-89.541643541999562,0.42261826174070077,-0.82139380484326863,0.42261826174070077,0,0.42261826174070077,0,-3.5355904731176385E+50,-44.770821770999781,-2.5100199196022536E+50,2.4900200795977737E+50,-2.5100199196022536E+50,2.4900200795977737E+50,2.5100199196022536E+50,-2.4900200795977737E+50,-1,0,1,180]
[25.100000000000087,0.43807764225057821,9.9999999999999997E+98,-1.2500000000000001E+101,1.2500399993600206E+101,-89.541643541999562,0.42419942274539152,-0.82005484974247655,0.42419942274539152,0,0.42419942274539152,0,-3.5355904731176385E+50,-44.770821770999781,-2.5100199196022536E+50,2.4900200795977737E+50,-2.5100199196022536E+50,2.4900200795977737E+50,2.5100199196022536E+50,-2.4900200795977737E+50,-1,0,1,180]
[25.200000000000088,0.4398229715025726,9.9999999999999997E+98,-1.2500000000000001E+101,1.2500399993600206E+101,-89.541643541999562,0.42577929156507405,-0.81871199487434376,0.42577929156507405,0,0.42577929156507405,0,-3.5355904731176385E+50,-44.770821770999781,-2.5100199196022536E+50,2.4900200795977737E+50,-2.5100199196022536E+50,2.4900200795977737E+50,2.5100199196022536E+50,-2.4900200795977737E+50,-1,0,1,180]
[25.30000000000009,0.44156830075456693,9.9999999999999997E+98,-1.2500000000000001E+101,1.2500399993600206E+101,-89.541643541999562,0.42735786338719378,-0.81736525660113257,0.42735786338719378,0,0.42735786338719378,0,-3.5355904731176385E+50,-44.770821770999781,-2.5100199196022536E+50,2.4900200795977737E+50,-2.5100199196022536E+50,2.4900200795977737E+50,2.5100199196022536E+50,-2.4900200795977737E+50,-1,0,1,180]
[25.400000000000091,0.44331363000656127,9.9999999999999997E+98,-1.2500000000000001E+101,1.2500399993600206E+101,-89.541643541999562,0.42893513340314732,-0.81601465133242423,0.42893513340314732,0,0.42893513340314732,0,-3.5355904731176385E+50,-44.770821770999781,-2.5100199196022536E+50,2.4900200795977737E+50,-2.5100199196022536E+50,2.4900200795977737E+50,2.5100199196022536E+50,-2.4900200795977737E+50,-1,0,1,180]
[25.500000000000092,0.44505895925855565,9.9999999999999997E+98,-1.2500000000000001E+101,1.2500399993600206E+101,-89.541643541999562,0.43051109680829658,-0.81466019552491753,0.43051109680829658,0,0.43051109680829658,0,-3.5355904731176385E+50,-44.770821770999781,-2.5100199196022536E+50,2.4900200795977737E+50,-2.5100199196022536E+50,2.4900200795977737E+50,2.5100199196022536E+50,-2.4900200795977737E+50,-1,0,1,180]
[25.600000000000094,0.44680428851054999,9.9999999999999997E+98,-1.2500000000000001E+101,1.2500399993600206E+101,-89.541643541999562,0.43208574880198375,-0.81330190568222904,0.43208574880198375,0,0.43208574880198375,0,-3.5355904731176385E+50,-44.770821770999781,-2.5100199196022536E+50,2.4900200795977737E+50,-2.5100199196022536E+50,2.4900200795977737E+50,2.5100199196022536E+50,-2.4900200795977737E+50,-1,0,1,180]
[25.700000000000095,{"$f":"A262*PI()/180","v":0.44854961776254437},{"$f":"$D$1","v":9.9999999999999997E+98},{"$f":"-(18000*$G$1/$N$1)","v":-1.2500000000000001E+101},{"$f":"(C262^2+D262^2)^0.5","v":1.2500399993600206E+101},{"$f":"(180/PI())*ATAN(D262/C262)","v":-89.541643541999562},{"$f":"SIN(B262)","v":0.43365908458754582},{"$f":"-((COS(B262))^2)","v":-0.81193979835469188},{"$f":"G262","v":0.43365908458754582},0,{"$f":"(((I262^2)/(1+(TAN(J262*(PI()/180)))^2))^0.5)","v":0.43365908458754582},{"$f":"K262*TAN(J262*(PI()/180))","v":0},{"$f":"-(((((C262+H262)^2)+(D262)^2)^0.5)^0.5)","v":-3.5355904731176385E+50},{"$f":"((ATAN(D262/(C262+H262)))*(180/PI()))/2","v":-44.770821770999781},{"$f":"-(((M262^2)/(1+(TAN(N262*(PI()/180)))^2))^0.5)","v":-2.5100199196022536E+50},{"$f":"O262*TAN(N262*(PI()/180))","v":2.4900200795977737E+50},-2.5100199196022536E+50,2.4900200795977737E+50,{"$f":"-O262+K262","v":2.5100199196022536E+50},{"$f":"L262-P262","v":-2.4900200795977737E+50},{"$f":"(Q262*S262+T262*R262)/((S262^2)+(T262^2))","v":-1},{"$f":"(R262*S262-Q262*T262)/((S262^2)+(T262^2))","v":0},{"$f":"((U262^2)+(V262^2))^0.5","v":1},{"$f":"(ACOS(U262/W262))*(180/PI())","v":180}]
[{"$f":"A262+0.1","v":25.800000000000097},0.4502949470145387,9.9999999999999997E+98,-1.2500000000000001E+101,1.2500399993600206E+101,-89.541643541999562,0.43523109937232901,-0.81057389013915382,0.43523109937232901,0,0.43523109937232901,0,-3.5355904731176385E+50,-44.770821770999781,-2.5100199196022536E+50,2.4900200795977737E+50,-2.5100199196022536E+50,2.4900200795977737E+50,2.5100199196022536E+50,-2.4900200795977737E+50,-1,0,1,180]
[25.900000000000098,0.45204027626653304,9.9999999999999997E+98,-1.2500000000000001E+101,1.2500399993600206E+101,-89.541643541999562,0.43680178836770372,-0.80920419767877583,0.43680178836770372,0,0.43680178836770372,0,-3.5355904731176385E+50,-44.770821770999781,-2.5100199196022536E+50,2.4900200795977737E+50,-2.5100199196022536E+50,2.4900200795977737E+50,2.5100199196022536E+50,-2.4900200795977737E+50,-1,0,1,180]
[26.000000000000099,0.45378560551852737,9.9999999999999997E+98,-1.2500000000000001E+101,1.2500399993600206E+101,-89.541643541999562,0.4383711467890789,-0.80783073766282787,0.4383711467890789,0,0.4383711467890789,0,-3.5355904731176385E+50,-44.770821770999781,-2.5100199196022536E+50,2.4900200795977737E+50,-2.5100199196022536E+50,2.4900200795977737E+50,2.5100199196022536E+50,-2.4900200795977737E+50,-1,0,1,180]
[26.100000000000101,0.45553093477052181,9.9999999999999997E+98,-1.2500000000000001E+101,1.2500399993600206E+101,-89.541643541999562,0.43993916985591675,-0.80645352682648686,0.43993916985591675,0,0.43993916985591675,0,-3.5355904731176385E+50,-44.770821770999781,-2.5100199196022536E+50,2.4900200795977737E+50,-2.5100199196022536E+50,2.4900200795977737E+50,2.5100199196022536E+50,-2.4900200795977737E+50,-1,0,1,180]
[26.200000000000102,0.45727626402251614,9.9999999999999997E+98,-1.2500000000000001E+101,1.2500399993600206E+101,-89.541643541999562,0.44150585279174681,-0.80507258195063236,0.44150585279174681,0,0.44150585279174681,0,-3.5355904731176385E+50,-44.770821770999781,-2.5100199196022536E+50,2.4900200795977737E+50,-2.5100199196022536E+50,2.4900200795977737E+50,2.5100199196022536E+50,-2.4900200795977737E+50,-1,0,1,180]
[26.300000000000104,0.45902159327451048,9.9999999999999997E+98,-1.2500000000000001E+101,1.2500399993600206E+101,-89.541643541999562,0.44307119082418128,-0.80368791986164179,0.44307119082418128,0,0.44307119082418128,0,-3.5355904731176385E+50,-44.770821770999781,-2.5100199196022536E+50,2.4900200795977737E+50,-2.5100199196022536E+50,2.4900200795977737E+50,2.5100199196022536E+50,-2.4900200795977737E+50,-1,0,1,180]
[26.400000000000105,0.46076692252650481,9.9999999999999997E+98,-1.2500000000000001E+101,1.2500399993600206E+101,-89.541643541999562,0.44463517918492912,-0.80229955743118586,0.44463517918492912,0,0.44463517918492912,0,-3.5355904731176385E+50,-44.770821770999781,-2.5100199196022536E+50,2.4900200795977737E+50,-2.5100199196022536E+50,2.4900200795977737E+50,2.5100199196022536E+50,-2.4900200795977737E+50,-1,0,1,180]
[26.500000000000107,0.46251225177849914,9.9999999999999997E+98,-1.2500000000000001E+101,1.2500399993600206E+101,-89.541643541999562,0.44619781310981044,-0.80090751157602269,0.44619781310981044,0,0.44619781310981044,0,-3.5355904731176385E+50,-44.770821770999781,-2.5100199196022536E+50,2.4900200795977737E+50,-2.5100199196022536E+50,2.4900200795977737E+50,2.5100199196022536E+50,-2.4900200795977737E+50,-1,0,1,180]
[26.600000000000108,0.46425758103049358,9.9999999999999997E+98,-1.2500000000000001E+101,1.2500399993600206E+101,-89.541643541999562,0.44775908783877139,-0.79951179925779148,0.44775908783877139,0,0.44775908783877139,0,-3.5355904731176385E+50,-44.770821770999781,-2.5100199196022536E+50,2.4900200795977737E+50,-2.5100199196022536E+50,2.4900200795977737E+50,2.5100199196022536E+50,-2.4900200795977737E+50,-1,0,1,180]
[26.700000000000109,0.46600291028248791,9.9999999999999997E+98,-1.2500000000000001E+101,1.2500399993600206E+101,-89.541643541999562,0.4493189986158983,-0.79811243748280636,0.4493189986158983,0,0.4493189986158983,0,-3.5355904731176385E+50,-44.770821770999781,-2.5100199196022536E+50,2.4900200795977737E+50,-2.5100199196022536E+50,2.4900200795977737E+50,2.5100199196022536E+50,-2.4900200795977737E+50,-1,0,1,180]
[26.800000000000111,0.46774823953448225,9.9999999999999997E+98,-1.2500000000000001E+101,1.2500399993600206E+101,-89.541643541999562,0.45087754068943248,-0.79670944330184912,0.45087754068943248,0,0.45087754068943248,0,-3.5355904731176385E+50,-44.770821770999781,-2.5100199196022536E+50,2.4900200795977737E+50,-2.5100199196022536E+50,2.4900200795977737E+50,2.5100199196022536E+50,-2.4900200795977737E+50,-1,0,1,180]
[26.900000000000112,0.46949356878647658,9.9999999999999997E+98,-1.2500000000000001E+101,1.2500399993600206E+101,-89.541643541999562,0.45243470931178442,-0.79530283380996114,0.45243470931178442,0,0.45243470931178442,0,-3.5355904731176385E+50,-44.770821770999781,-2.5100199196022536E+50,2.4900200795977737E+50,-2.5100199196022536E+50,2.4900200795977737E+50,2.5100199196022536E+50,-2.4900200795977737E+50,-1,0,1,180]
[27.000000000000114,0.47123889803847091,9.9999999999999997E+98,-1.2500000000000001E+101,1.2500399993600206E+101,-89.541643541999562,0.45399049973954853,-0.79389262614623501,0.45399049973954853,0,0.45399049973954853,0,-3.5355904731176385E+50,-44.770821770999781,-2.5100199196022536E+50,2.4900200795977737E+50,-2.5100199196022536E+50,2.4900200795977737E+50,2.5100199196022536E+50,-2.4900200795977737E+50,-1,0,1,180]
[27.100000000000115,0.47298422729046535,9.9999999999999997E+98,-1.2500000000000001E+101,1.2500399993600206E+101,-89.541643541999562,0.45554490723351737,-0.79247883749360615,0.45554490723351737,0,0.45554490723351737,0,-3.5355904731176385E+50,-44.770821770999781,-2.5100199196022536E+50,2.4900200795977737E+50,-2.5100199196022536E+50,2.4900200795977737E+50,2.5100199196022536E+50,-2.4900200795977737E+50,-1,0,1,180]
[27.200000000000117,0.47472955654245969,9.9999999999999997E+98,-1.2500000000000001E+101,1.2500399993600206E+101,-89.541643541999562,0.45709792705869601,-0.79106148507864316,0.45709792705869601,0,0.45709792705869601,0,-3.5355904731176385E+50,-44.770821770999781,-2.5100199196022536E+50,2.4900200795977737E+50,-2.5100199196022536E+50,2.4900200795977737E+50,2.5100199196022536E+50,-2.4900200795977737E+50,-1,0,1,180]
[27.300000000000118,0.47647488579445402,9.9999999999999997E+98,-1.2500000000000001E+101,1.2500399993600206E+101,-89.541643541999562,0.45864955448431677,-0.7896405861713377,0.45864955448431677,0,0.45864955448431677,0,-3.5355904731176385E+50,-44.770821770999781,-2.5100199196022536E+50,2.4900200795977737E+50,-2.5100199196022536E+50,2.4900200795977737E+50,2.5100199196022536E+50,-2.4900200795977737E+50,-1,0,1,180]
[27.400000000000119,0.47822021504644835,9.9999999999999997E+98,-1.2500000000000001E+101,1.2500399993600206E+101,-89.541643541999562,0.46019978478385348,-0.78821615808489487,0.46019978478385348,0,0.46019978478385348,0,-3.5355904731176385E+50,-44.770821770999781,-2.5100199196022536E+50,2.4900200795977737E+50,-2.5100199196022536E+50,2.4900200795977737E+50,2.5100199196022536E+50,-2.4900200795977737E+50,-1,0,1,180]
[27.500000000000121,0.47996554429844268,9.9999999999999997E+98,-1.2500000000000001E+101,1.2500399993600206E+101,-89.541643541999562,0.46174861323503574,-0.78678821817552125,0.46174861323503574,0,0.46174861323503574,0,-3.5355904731176385E+50,-44.770821770999781,-2.5100199196022536E+50,2.4900200795977737E+50,-2.5100199196022536E+50,2.4900200795977737E+50,2.5100199196022536E+50,-2.4900200795977737E+50,-1,0,1,180]
[27.600000000000122,0.48171087355043712,9.9999999999999997E+98,-1.2500000000000001E+101,1.2500399993600206E+101,-89.541643541999562,0.46329603511986367,-0.78535678384221408,0.46329603511986367,0,0.46329603511986367,0,-3.5355904731176385E+50,-44.770821770999781,-2.5100199196022536E+50,2.4900200795977737E+50,-2.5100199196022536E+50,2.4900200795977737E+50,2.5100199196022536E+50,-2.4900200795977737E+50,-1,0,1,180]
[27.700000000000124,0.48345620280243146,9.9999999999999997E+98,-1.2500000000000001E+101,1.2500399993600206E+101,-89.541643541999562,0.46484204572462157,-0.78392187252654877,0.46484204572462157,0,0.46484204572462157,0,-3.5355904731176385E+50,-44.770821770999781,-2.5100199196022536E+50,2.4900200795977737E+50,-2.5100199196022536E+50,2.4900200795977737E+50,2.5100199196022536E+50,-2.4900200795977737E+50,-1,0,1,180]
[27.800000000000125,0.48520153205442579,9.9999999999999997E+98,-1.2500000000000001E+101,1.2500399993600206E+101,-89.541643541999562,0.46638664033989313,-0.78248350171246717,0.46638664033989313,0,0.46638664033989313,0,-3.5355904731176385E+50,-44.770821770999781,-2.5100199196022536E+50,2.4900200795977737E+50,-2.5100199196022536E+50,2.4900200795977737E+50,2.5100199196022536E+50,-2.4900200795977737E+50,-1,0,1,180]
[27.900000000000126,0.48694686130642012,9.9999999999999997E+98,-1.2500000000000001E+101,1.2500399993600206E+101,-89.541643541999562,0.46792981426057528,-0.7810416889260634,0.46792981426057528,0,0.46792981426057528,0,-3.5355904731176385E+50,-44.770821770999781,-2.5100199196022536E+50,2.4900200795977737E+50,-2.5100199196022536E+50,2.4900200795977737E+50,2.5100199196022536E+50,-2.4900200795977737E+50,-1,0,1,180]
[28.000000000000128,0.48869219055841445,9.9999999999999997E+98,-1.2500000000000001E+101,1.2500399993600206E+101,-89.541643541999562,0.46947156278589269,-0.77959645173537151,0.46947156278589269,0,0.46947156278589269,0,-3.5355904731176385E+50,-44.770821770999781,-2.5100199196022536E+50,2.4900200795977737E+50,-2.5100199196022536E+50,2.4900200795977737E+50,2.5100199196022536E+50,-2.4900200795977737E+50,-1,0,1,180]
[28.100000000000129,0.49043751981040884,9.9999999999999997E+98,-1.2500000000000001E+101,1.2500399993600206E+101,-89.541643541999562,0.47101188121941195,-0.77814780775015058,0.47101188121941195,0,0.47101188121941195,0,-3.5355904731176385E+50,-44.770821770999781,-2.5100199196022536E+50,2.4900200795977737E+50,-2.5100199196022536E+50,2.4900200795977737E+50,2.5100199196022536E+50,-2.4900200795977737E+50,-1,0,1,180]
[28.200000000000131,0.49218284906240323,9.9999999999999997E+98,-1.2500000000000001E+101,1.2500399993600206E+101,-89.541643541999562,0.47255076486905601,-0.77669577462167017,0.47255076486905601,0,0.47255076486905601,0,-3.5355904731176385E+50,-44.770821770999781,-2.5100199196022536E+50,2.4900200795977737E+50,-2.5100199196022536E+50,2.4900200795977737E+50,2.5100199196022536E+50,-2.4900200795977737E+50,-1,0,1,180]
[28.300000000000132,0.49392817831439756,9.9999999999999997E+98,-1.2500000000000001E+101,1.2500399993600206E+101,-89.541643541999562,0.47408820904711829,-0.77524037004249591,0.47408820904711829,0,0.47408820904711829,0,-3.5355904731176385E+50,-44.770821770999781,-2.5100199196022536E+50,2.4900200795977737E+50,-2.5100199196022536E+50,2.4900200795977737E+50,2.5100199196022536E+50,-2.4900200795977737E+50,-1,0,1,180]
[28.400000000000134,0.49567350756639189,9.9999999999999997E+98,-1.2500000000000001E+101,1.2500399993600206E+101,-89.541643541999562,0.47562420907027725,-0.77378161174627325,0.47562420907027725,0,0.47562420907027725,0,-3.5355904731176385E+50,-44.770821770999781,-2.5100199196022536E+50,2.4900200795977737E+50,{"$f":"K289+O289","v":-2.5100199196022536E+50},2.4900200795977737E+50,2.5100199196022536E+50,-2.4900200795977737E+50,-1,0,1,180]
[28.500000000000135,0.49741883681838622,9.9999999999999997E+98,-1.2500000000000001E+101,1.2500399993600206E+101,-89.541643541999562,0.4771587602596104,-0.7723195175075116,0.4771587602596104,0,0.4771587602596104,0,-3.5355904731176385E+50,-44.770821770999781,-2.5100199196022536E+50,2.4900200795977737E+50,-2.5100199196022536E+50,2.4900200795977737E+50,2.5100199196022536E+50,-2.4900200795977737E+50,-1,0,1,180]
[28.600000000000136,0.49916416607038061,9.9999999999999997E+98,-1.2500000000000001E+101,1.2500399993600206E+101,-89.541643541999562,0.47869185794060887,-0.77085410514136787,0.47869185794060887,0,0.47869185794060887,0,-3.5355904731176385E+50,-44.770821770999781,-2.5100199196022536E+50,2.4900200795977737E+50,-2.5100199196022536E+50,2.4900200795977737E+50,2.5100199196022536E+50,-2.4900200795977737E+50,-1,0,1,180]
[28.700000000000138,0.50090949532237505,9.9999999999999997E+98,-1.2500000000000001E+101,1.2500399993600206E+101,-89.541643541999562,0.48022349744319109,-0.76938539250342952,0.48022349744319109,0,0.48022349744319109,0,-3.5355904731176385E+50,-44.770821770999781,-2.5100199196022536E+50,2.4900200795977737E+50,-2.5100199196022536E+50,2.4900200795977737E+50,2.5100199196022536E+50,-2.4900200795977737E+50,-1,0,1,180]
[28.800000000000139,0.50265482457436939,9.9999999999999997E+98,-1.2500000000000001E+101,1.2500399993600206E+101,-89.541643541999562,0.48175367410171743,-0.76791339748949616,0.48175367410171743,0,0.48175367410171743,0,-3.5355904731176385E+50,-44.770821770999781,-2.5100199196022536E+50,2.4900200795977737E+50,-2.5100199196022536E+50,2.4900200795977737E+50,2.5100199196022536E+50,-2.4900200795977737E+50,-1,0,1,180]
[28.900000000000141,0.50440015382636372,9.9999999999999997E+98,-1.2500000000000001E+101,1.2500399993600206E+101,-89.541643541999562,0.48328238325500456,-0.76643813803536287,0.48328238325500456,0,0.48328238325500456,0,-3.5355904731176385E+50,-44.770821770999781,-2.5100199196022536E+50,2.4900200795977737E+50,-2.5100199196022536E+50,2.4900200795977737E+50,2.5100199196022536E+50,-2.4900200795977737E+50,-1,0,1,180]
[29.000000000000142,0.50614548307835805,9.9999999999999997E+98,-1.2500000000000001E+101,1.2500399993600206E+101,-89.541643541999562,0.48480962024633917,-0.76495963211660045,0.48480962024633917,0,0.48480962024633917,0,-3.5355904731176385E+50,-44.770821770999781,-2.5100199196022536E+50,2.4900200795977737E+50,-2.5100199196022536E+50,2.4900200795977737E+50,2.5100199196022536E+50,-2.4900200795977737E+50,-1,0,1,180]
[29.100000000000144,0.50789081233035238,9.9999999999999997E+98,-1.2500000000000001E+101,1.2500399993600206E+101,-89.541643541999562,0.48633538042349267,-0.76347789774833663,0.48633538042349267,0,0.48633538042349267,0,-3.5355904731176385E+50,-44.770821770999781,-2.5100199196022536E+50,2.4900200795977737E+50,-2.5100199196022536E+50,2.4900200795977737E+50,2.5100199196022536E+50,-2.4900200795977737E+50,-1,0,1,180]
[29.200000000000145,0.50963614158234682,9.9999999999999997E+98,-1.2500000000000001E+101,1.2500399993600206E+101,-89.541643541999562,0.48785965913873491,-0.76199295298503733,0.48785965913873491,0,0.48785965913873491,0,-3.5355904731176385E+50,-44.770821770999781,-2.5100199196022536E+50,2.4900200795977737E+50,-2.5100199196022536E+50,2.4900200795977737E+50,2.5100199196022536E+50,-2.4900200795977737E+50,-1,0,1,180]
[29.300000000000146,0.51138147083434116,9.9999999999999997E+98,-1.2500000000000001E+101,1.2500399993600206E+101,-89.541643541999562,0.48938245174884848,-0.76050481592028585,0.48938245174884848,0,0.48938245174884848,0,-3.5355904731176385E+50,-44.770821770999781,-2.5100199196022536E+50,2.4900200795977737E+50,-2.5100199196022536E+50,2.4900200795977737E+50,2.5100199196022536E+50,-2.4900200795977737E+50,-1,0,1,180]
[29.400000000000148,0.51312680008633549,9.9999999999999997E+98,-1.2500000000000001E+101,1.2500399993600206E+101,-89.541643541999562,0.4909037536151431,-0.75901350468656281,0.4909037536151431,0,0.4909037536151431,0,-3.5355904731176385E+50,-44.770821770999781,-2.5100199196022536E+50,2.4900200795977737E+50,-2.5100199196022536E+50,2.4900200795977737E+50,2.5100199196022536E+50,-2.4900200795977737E+50,-1,0,1,180]
[29.500000000000149,0.51487212933832982,9.9999999999999997E+98,-1.2500000000000001E+101,1.2500399993600206E+101,-89.541643541999562,0.49242356010346938,-0.7575190374550248,0.49242356010346938,0,0.49242356010346938,0,-3.5355904731176385E+50,-44.770821770999781,-2.5100199196022536E+50,2.4900200795977737E+50,-2.5100199196022536E+50,2.4900200795977737E+50,2.5100199196022536E+50,-2.4900200795977737E+50,-1,0,1,180]
[29.600000000000151,0.51661745859032415,9.9999999999999997E+98,-1.2500000000000001E+101,1.2500399993600206E+101,-89.541643541999562,0.49394186658423322,-0.75602143243528341,0.49394186658423322,0,0.49394186658423322,0,-3.5355904731176385E+50,-44.770821770999781,-2.5100199196022536E+50,2.4900200795977737E+50,-2.5100199196022536E+50,2.4900200795977737E+50,2.5100199196022536E+50,-2.4900200795977737E+50,-1,0,1,180]
[29.700000000000152,0.51836278784231848,9.9999999999999997E+98,-1.2500000000000001E+101,1.2500399993600206E+101,-89.541643541999562,0.49545866843240982,-0.75452070787518344,0.49545866843240982,0,0.49545866843240982,0,-3.5355904731176385E+50,-44.770821770999781,-2.5100199196022536E+50,2.4900200795977737E+50,-2.5100199196022536E+50,2.4900200795977737E+50,2.5100199196022536E+50,-2.4900200795977737E+50,-1,0,1,180]
[29.800000000000153,0.52010811709431293,9.9999999999999997E+98,-1.2500000000000001E+101,1.2500399993600206E+101,-89.541643541999562,0.4969739610275577,-0.7530168820605796,0.4969739610275577,0,0.4969739610275577,0,-3.5355904731176385E+50,-44.770821770999781,-2.5100199196022536E+50,2.4900200795977737E+50,-2.5100199196022536E+50,2.4900200795977737E+50,2.5100199196022536E+50,-2.4900200795977737E+50,-1,0,1,180]
[29.900000000000155,0.52185344634630726,9.9999999999999997E+98,-1.2500000000000001E+101,1.2500399993600206E+101,-89.541643541999562,0.4984877397538327,-0.75150997331511515,0.4984877397538327,0,0.4984877397538327,0,-3.5355904731176385E+50,-44.770821770999781,-2.5100199196022536E+50,2.4900200795977737E+50,-2.5100199196022536E+50,2.4900200795977737E+50,2.5100199196022536E+50,-2.4900200795977737E+50,-1,0,1,180]
[30.000000000000156,0.52359877559830159,9.9999999999999997E+98,-1.2500000000000001E+101,1.2500399993600206E+101,-89.541643541999562,0.50000000000000233,-0.74999999999999756,0.50000000000000233,0,0.50000000000000233,0,-3.5355904731176385E+50,-44.770821770999781,-2.5100199196022536E+50,2.4900200795977737E+50,-2.5100199196022536E+50,2.4900200795977737E+50,2.5100199196022536E+50,-2.4900200795977737E+50,-1,0,1,180]
[30.100000000000158,0.52534410485029592,9.9999999999999997E+98,-1.2500000000000001E+101,1.2500399993600206E+101,-89.541643541999562,0.50151073715945971,-0.74848698051377527,0.50151073715945971,0,0.50151073715945971,0,-3.5355904731176385E+50,-44.770821770999781,-2.5100199196022536E+50,2.4900200795977737E+50,-2.5100199196022536E+50,2.4900200795977737E+50,2.5100199196022536E+50,-2.4900200795977737E+50,-1,0,1,180]
[30.200000000000159,0.52708943410229026,9.9999999999999997E+98,-1.2500000000000001E+101,1.2500399993600206E+101,-89.541643541999562,0.50301994663023741,-0.74697093329211306,0.50301994663023741,0,0.50301994663023741,0,-3.5355904731176385E+50,-44.770821770999781,-2.5100199196022536E+50,2.4900200795977737E+50,-2.5100199196022536E+50,2.4900200795977737E+50,2.5100199196022536E+50,-2.4900200795977737E+50,-1,0,1,180]
[30.300000000000161,0.5288347633542847,9.9999999999999997E+98,-1.2500000000000001E+101,1.2500399993600206E+101,-89.541643541999562,0.5045276238150217,-0.74545187680756786,0.5045276238150217,0,0.5045276238150217,0,-3.5355904731176385E+50,-44.770821770999781,-2.5100199196022536E+50,2.4900200795977737E+50,-2.5100199196022536E+50,2.4900200795977737E+50,2.5100199196022536E+50,-2.4900200795977737E+50,-1,0,1,180]
[30.400000000000162,0.53058009260627903,9.9999999999999997E+98,-1.2500000000000001E+101,1.2500399993600206E+101,-89.541643541999562,0.5060337641211663,-0.74392982956936382,0.5060337641211663,0,0.5060337641211663,0,-3.5355904731176385E+50,-44.770821770999781,-2.5100199196022536E+50,2.4900200795977737E+50,-2.5100199196022536E+50,2.4900200795977737E+50,2.5100199196022536E+50,-2.4900200795977737E+50,-1,0,1,180]
[30.500000000000163,0.53232542185827336,9.9999999999999997E+98,-1.2500000000000001E+101,1.2500399993600206E+101,-89.541643541999562,0.50753836296070665,-0.74240481012316595,0.50753836296070665,0,0.50753836296070665,0,-3.5355904731176385E+50,-44.770821770999781,-2.5100199196022536E+50,2.4900200795977737E+50,-2.5100199196022536E+50,2.4900200795977737E+50,2.5100199196022536E+50,-2.4900200795977737E+50,-1,0,1,180]
[30.600000000000165,0.53407075111026769,9.9999999999999997E+98,-1.2500000000000001E+101,1.2500399993600206E+101,-89.541643541999562,0.50904141575037376,-0.74087683705085516,0.50904141575037376,0,0.50904141575037376,0,-3.5355904731176385E+50,-44.770821770999781,-2.5100199196022536E+50,2.4900200795977737E+50,-2.5100199196022536E+50,2.4900200795977737E+50,2.5100199196022536E+50,-2.4900200795977737E+50,-1,0,1,180]
[30.700000000000166,0.53581608036226203,9.9999999999999997E+98,-1.2500000000000001E+101,1.2500399993600206E+101,-89.541643541999562,0.51054291791160822,-0.73934592897030083,0.51054291791160822,0,0.51054291791160822,0,-3.5355904731176385E+50,-44.770821770999781,-2.5100199196022536E+50,2.4900200795977737E+50,-2.5100199196022536E+50,2.4900200795977737E+50,2.5100199196022536E+50,-2.4900200795977737E+50,-1,0,1,180]
[30.800000000000168,0.53756140961425647,9.9999999999999997E+98,-1.2500000000000001E+101,1.2500399993600206E+101,-89.541643541999562,0.51204286487057404,-0.73781210453513502,0.51204286487057404,0,0.51204286487057404,0,-3.5355904731176385E+50,-44.770821770999781,-2.5100199196022536E+50,2.4900200795977737E+50,-2.5100199196022536E+50,2.4900200795977737E+50,2.5100199196022536E+50,-2.4900200795977737E+50,-1,0,1,180]
[30.900000000000169,0.5393067388662508,9.9999999999999997E+98,-1.2500000000000001E+101,1.2500399993600206E+101,-89.541643541999562,0.51354125205817269,-0.73627538243452439,0.51354125205817269,0,0.51354125205817269,0,-3.5355904731176385E+50,-44.770821770999781,-2.5100199196022536E+50,2.4900200795977737E+50,-2.5100199196022536E+50,2.4900200795977737E+50,2.5100199196022536E+50,-2.4900200795977737E+50,-1,0,1,180]
[31.000000000000171,0.54105206811824513,9.9999999999999997E+98,-1.2500000000000001E+101,1.2500399993600206E+101,-89.541643541999562,0.51503807491005671,-0.73473578139294282,0.51503807491005671,0,0.51503807491005671,0,-3.5355904731176385E+50,-44.770821770999781,-2.5100199196022536E+50,2.4900200795977737E+50,-2.5100199196022536E+50,2.4900200795977737E+50,2.5100199196022536E+50,-2.4900200795977737E+50,-1,0,1,180]
[31.100000000000172,0.54279739737023946,9.9999999999999997E+98,-1.2500000000000001E+101,1.2500399993600206E+101,-89.541643541999562,0.51653332886664438,-0.73319332016994287,0.51653332886664438,0,0.51653332886664438,0,-3.5355904731176385E+50,-44.770821770999781,-2.5100199196022536E+50,2.4900200795977737E+50,-2.5100199196022536E+50,2.4900200795977737E+50,2.5100199196022536E+50,-2.4900200795977737E+50,-1,0,1,180]
[31.200000000000173,0.5445427266222338,9.9999999999999997E+98,-1.2500000000000001E+101,1.2500399993600206E+101,-89.541643541999562,0.51802700937313273,-0.73164801755992814,0.51802700937313273,0,0.51802700937313273,0,-3.5355904731176385E+50,-44.770821770999781,-2.5100199196022536E+50,2.4900200795977737E+50,-2.5100199196022536E+50,2.4900200795977737E+50,2.5100199196022536E+50,-2.4900200795977737E+50,-1,0,1,180]
[31.300000000000175,0.54628805587422824,9.9999999999999997E+98,-1.2500000000000001E+101,1.2500399993600206E+101,-89.541643541999562,0.51951911187951205,-0.73009989239192308,0.51951911187951205,0,0.51951911187951205,0,-3.5355904731176385E+50,-44.770821770999781,-2.5100199196022536E+50,2.4900200795977737E+50,-2.5100199196022536E+50,2.4900200795977737E+50,2.5100199196022536E+50,-2.4900200795977737E+50,-1,0,1,180]
[31.400000000000176,0.54803338512622257,9.9999999999999997E+98,-1.2500000000000001E+101,1.2500399993600206E+101,-89.541643541999562,0.52100963184057902,-0.72854896352934428,0.52100963184057902,0,0.52100963184057902,0,-3.5355904731176385E+50,-44.770821770999781,-2.5100199196022536E+50,2.4900200795977737E+50,-2.5100199196022536E+50,2.4900200795977737E+50,2.5100199196022536E+50,-2.4900200795977737E+50,-1,0,1,180]
[31.500000000000178,0.5497787143782169,9.9999999999999997E+98,-1.2500000000000001E+101,1.2500399993600206E+101,-89.541643541999562,0.52249856471595146,-0.72699524986977071,0.52249856471595146,0,0.52249856471595146,0,-3.5355904731176385E+50,-44.770821770999781,-2.5100199196022536E+50,2.4900200795977737E+50,-2.5100199196022536E+50,2.4900200795977737E+50,2.5100199196022536E+50,-2.4900200795977737E+50,-1,0,1,180]
[31.600000000000179,0.55152404363021124,9.9999999999999997E+98,-1.2500000000000001E+101,1.2500399993600206E+101,-89.541643541999562,0.52398590597008177,-0.7254387703447126,0.52398590597008177,0,0.52398590597008177,0,-3.5355904731176385E+50,-44.770821770999781,-2.5100199196022536E+50,2.4900200795977737E+50,-2.5100199196022536E+50,2.4900200795977737E+50,2.5100199196022536E+50,-2.4900200795977737E+50,-1,0,1,180]
[31.70000000000018,0.55326937288220557,9.9999999999999997E+98,-1.2500000000000001E+101,1.2500399993600206E+101,-89.541643541999562,0.52547165107227045,-0.72387954391938203,0.52547165107227045,0,0.52547165107227045,0,-3.5355904731176385E+50,-44.770821770999781,-2.5100199196022536E+50,2.4900200795977737E+50,-2.5100199196022536E+50,2.4900200795977737E+50,2.5100199196022536E+50,-2.4900200795977737E+50,-1,0,1,180]
[31.800000000000182,0.5550147021341999,9.9999999999999997E+98,-1.2500000000000001E+101,1.2500399993600206E+101,-89.541643541999562,0.52695579549668015,-0.72231758959246106,0.52695579549668015,0,0.52695579549668015,0,-3.5355904731176385E+50,-44.770821770999781,-2.5100199196022536E+50,2.4900200795977737E+50,-2.5100199196022536E+50,2.4900200795977737E+50,2.5100199196022536E+50,-2.4900200795977737E+50,-1,0,1,180]
[31.900000000000183,0.55676003138619434,9.9999999999999997E+98,-1.2500000000000001E+101,1.2500399993600206E+101,-89.541643541999562,0.52843833472234991,-0.72075292639586963,0.52843833472234991,0,0.52843833472234991,0,-3.5355904731176385E+50,-44.770821770999781,-2.5100199196022536E+50,2.4900200795977737E+50,-2.5100199196022536E+50,2.4900200795977737E+50,2.5100199196022536E+50,-2.4900200795977737E+50,-1,0,1,180]
[32.000000000000185,0.55850536063818867,9.9999999999999997E+98,-1.2500000000000001E+101,1.2500399993600206E+101,-89.541643541999562,0.52991926423320768,-0.71918557339453582,0.52991926423320768,0,0.52991926423320768,0,-3.5355904731176385E+50,-44.770821770999781,-2.5100199196022536E+50,2.4900200795977737E+50,-2.5100199196022536E+50,2.4900200795977737E+50,2.5100199196022536E+50,-2.4900200795977737E+50,-1,0,1,180]
[32.100000000000186,{"$f":"A326*PI()/180","v":0.56025068989018301},{"$f":"$D$1","v":9.9999999999999997E+98},{"$f":"-(18000*$G$1/$N$1)","v":-1.2500000000000001E+101},{"$f":"(C326^2+D326^2)^0.5","v":1.2500399993600206E+101},{"$f":"(180/PI())*ATAN(D326/C326)","v":-89.541643541999562},{"$f":"SIN(B326)","v":0.53139857951808556},{"$f":"-((COS(B326))^2)","v":-0.71761554968616093},{"$f":"G326","v":0.53139857951808556},0,{"$f":"(((I326^2)/(1+(TAN(J326*(PI()/180)))^2))^0.5)","v":0.53139857951808556},{"$f":"K326*TAN(J326*(PI()/180))","v":0},{"$f":"-(((((C326+H326)^2)+(D326)^2)^0.5)^0.5)","v":-3.5355904731176385E+50},{"$f":"((ATAN(D326/(C326+H326)))*(180/PI()))/2","v":-44.770821770999781},{"$f":"-(((M326^2)/(1+(TAN(N326*(PI()/180)))^2))^0.5)","v":-2.5100199196022536E+50},{"$f":"O326*TAN(N326*(PI()/180))","v":2.4900200795977737E+50},-2.5100199196022536E+50,2.4900200795977737E+50,{"$f":"-O326+K326","v":2.5100199196022536E+50},{"$f":"L326-P326","v":-2.4900200795977737E+50},{"$f":"(Q326*S326+T326*R326)/((S326^2)+(T326^2))","v":-1},{"$f":"(R326*S326-Q326*T326)/((S326^2)+(T326^2))","v":0},{"$f":"((U326^2)+(V326^2))^0.5","v":1},{"$f":"(ACOS(U326/W326))*(180/PI())","v":180}]
[{"$f":"A326+0.1","v":32.200000000000188},0.56199601914217734,9.9999999999999997E+98,-1.2500000000000001E+101,1.2500399993600206E+101,-89.541643541999562,0.53287627607073274,-0.71604287440098835,0.53287627607073274,0,0.53287627607073274,0,-3.5355904731176385E+50,-44.770821770999781,-2.5100199196022536E+50,2.4900200795977737E+50,-2.5100199196022536E+50,2.4900200795977737E+50,2.5100199196022536E+50,-2.4900200795977737E+50,-1,0,1,180]
[32.300000000000189,0.56374134839417167,9.9999999999999997E+98,-1.2500000000000001E+101,1.2500399993600206E+101,-89.541643541999562,0.53435234938982912,-0.71446756670157008,0.53435234938982912,0,0.53435234938982912,0,-3.5355904731176385E+50,-44.770821770999781,-2.5100199196022536E+50,2.4900200795977737E+50,-2.5100199196022536E+50,2.4900200795977737E+50,2.5100199196022536E+50,-2.4900200795977737E+50,-1,0,1,180]
[32.40000000000019,0.56548667764616611,9.9999999999999997E+98,-1.2500000000000001E+101,1.2500399993600206E+101,-89.541643541999562,0.53582679497899943,-0.71288964578253333,0.53582679497899943,0,0.53582679497899943,0,-3.5355904731176385E+50,-44.770821770999781,-2.5100199196022536E+50,2.4900200795977737E+50,-2.5100199196022536E+50,2.4900200795977737E+50,2.5100199196022536E+50,-2.4900200795977737E+50,-1,0,1,180]
[32.500000000000192,0.56723200689816045,9.9999999999999997E+98,-1.2500000000000001E+101,1.2500399993600206E+101,-89.541643541999562,0.53729960834682666,-0.71130913087034675,0.53729960834682666,0,0.53729960834682666,0,-3.5355904731176385E+50,-44.770821770999781,-2.5100199196022536E+50,2.4900200795977737E+50,-2.5100199196022536E+50,2.4900200795977737E+50,2.5100199196022536E+50,-2.4900200795977737E+50,-1,0,1,180]
[32.600000000000193,0.56897733615015478,9.9999999999999997E+98,-1.2500000000000001E+101,1.2500399993600206E+101,-89.541643541999562,0.53877078500686582,-0.70972604122308558,0.53877078500686582,0,0.53877078500686582,0,-3.5355904731176385E+50,-44.770821770999781,-2.5100199196022536E+50,2.4900200795977737E+50,-2.5100199196022536E+50,2.4900200795977737E+50,2.5100199196022536E+50,-2.4900200795977737E+50,-1,0,1,180]
[32.700000000000195,0.57072266540214911,9.9999999999999997E+98,-1.2500000000000001E+101,1.2500399993600206E+101,-89.541643541999562,0.5402403204776578,-0.70814039613019764,0.5402403204776578,0,0.5402403204776578,0,-3.5355904731176385E+50,-44.770821770999781,-2.5100199196022536E+50,2.4900200795977737E+50,-2.5100199196022536E+50,2.4900200795977737E+50,2.5100199196022536E+50,-2.4900200795977737E+50,-1,0,1,180]
[32.800000000000196,0.57246799465414344,9.9999999999999997E+98,-1.2500000000000001E+101,1.2500399993600206E+101,-89.541643541999562,0.54170821028274263,-0.70655221491226783,0.54170821028274263,0,0.54170821028274263,0,-3.5355904731176385E+50,-44.770821770999781,-2.5100199196022536E+50,2.4900200795977737E+50,-2.5100199196022536E+50,2.4900200795977737E+50,2.5100199196022536E+50,-2.4900200795977737E+50,-1,0,1,180]
[32.900000000000198,0.57421332390613788,9.9999999999999997E+98,-1.2500000000000001E+101,1.2500399993600206E+101,-89.541643541999562,0.54317444995067354,-0.70496151692078313,0.54317444995067354,0,0.54317444995067354,0,-3.5355904731176385E+50,-44.770821770999781,-2.5100199196022536E+50,2.4900200795977737E+50,-2.5100199196022536E+50,2.4900200795977737E+50,2.5100199196022536E+50,-2.4900200795977737E+50,-1,0,1,180]
[33.000000000000199,0.57595865315813222,9.9999999999999997E+98,-1.2500000000000001E+101,1.2500399993600206E+101,-89.541643541999562,0.54463903501502997,-0.70336832153789697,0.54463903501502997,0,0.54463903501502997,0,-3.5355904731176385E+50,-44.770821770999781,-2.5100199196022536E+50,2.4900200795977737E+50,-2.5100199196022536E+50,2.4900200795977737E+50,2.5100199196022536E+50,-2.4900200795977737E+50,-1,0,1,180]
[33.1000000000002,0.57770398241012655,9.9999999999999997E+98,-1.2500000000000001E+101,1.2500399993600206E+101,-89.541643541999562,0.54610196101443198,-0.70177264817619178,0.54610196101443198,0,0.54610196101443198,0,-3.5355904731176385E+50,-44.770821770999781,-2.5100199196022536E+50,2.4900200795977737E+50,-2.5100199196022536E+50,2.4900200795977737E+50,2.5100199196022536E+50,-2.4900200795977737E+50,-1,0,1,180]
[33.200000000000202,0.57944931166212088,9.9999999999999997E+98,-1.2500000000000001E+101,1.2500399993600206E+101,-89.541643541999562,0.54756322349255315,-0.70017451627844418,0.54756322349255315,0,0.54756322349255315,0,-3.5355904731176385E+50,-44.770821770999781,-2.5100199196022536E+50,2.4900200795977737E+50,-2.5100199196022536E+50,2.4900200795977737E+50,2.5100199196022536E+50,-2.4900200795977737E+50,-1,0,1,180]
[33.300000000000203,0.58119464091411521,9.9999999999999997E+98,-1.2500000000000001E+101,1.2500399993600206E+101,-89.541643541999562,0.54902281799813468,-0.69857394531738715,0.54902281799813468,0,0.54902281799813468,0,-3.5355904731176385E+50,-44.770821770999781,-2.5100199196022536E+50,2.4900200795977737E+50,-2.5100199196022536E+50,2.4900200795977737E+50,2.5100199196022536E+50,-2.4900200795977737E+50,-1,0,1,180]
[33.400000000000205,0.58293997016610954,9.9999999999999997E+98,-1.2500000000000001E+101,1.2500399993600206E+101,-89.541643541999562,0.55048074008499848,-0.69697095479547244,0.55048074008499848,0,0.55048074008499848,0,-3.5355904731176385E+50,-44.770821770999781,-2.5100199196022536E+50,2.4900200795977737E+50,-2.5100199196022536E+50,2.4900200795977737E+50,2.5100199196022536E+50,-2.4900200795977737E+50,-1,0,1,180]
[33.500000000000206,0.58468529941810399,9.9999999999999997E+98,-1.2500000000000001E+101,1.2500399993600206E+101,-89.541643541999562,0.55193698531206115,-0.69536556424463358,0.55193698531206115,0,0.55193698531206115,0,-3.5355904731176385E+50,-44.770821770999781,-2.5100199196022536E+50,2.4900200795977737E+50,-2.5100199196022536E+50,2.4900200795977737E+50,2.5100199196022536E+50,-2.4900200795977737E+50,-1,0,1,180]
[33.600000000000207,0.58643062867009832,9.9999999999999997E+98,-1.2500000000000001E+101,1.2500399993600206E+101,-89.541643541999562,0.5533915492433471,-0.69375779322604825,0.5533915492433471,0,0.5533915492433471,0,-3.5355904731176385E+50,-44.770821770999781,-2.5100199196022536E+50,2.4900200795977737E+50,-2.5100199196022536E+50,2.4900200795977737E+50,2.5100199196022536E+50,-2.4900200795977737E+50,-1,0,1,180]
[33.700000000000209,0.58817595792209265,9.9999999999999997E+98,-1.2500000000000001E+101,1.2500399993600206E+101,-89.541643541999562,0.55484442744800222,-0.69214766132989858,0.55484442744800222,0,0.55484442744800222,0,-3.5355904731176385E+50,-44.770821770999781,-2.5100199196022536E+50,2.4900200795977737E+50,-2.5100199196022536E+50,2.4900200795977737E+50,2.5100199196022536E+50,-2.4900200795977737E+50,-1,0,1,180]
[33.80000000000021,0.58992128717408698,9.9999999999999997E+98,-1.2500000000000001E+101,1.2500399993600206E+101,-89.541643541999562,0.55629561550030782,-0.69053518817513382,0.55629561550030782,0,0.55629561550030782,0,-3.5355904731176385E+50,-44.770821770999781,-2.5100199196022536E+50,2.4900200795977737E+50,-2.5100199196022536E+50,2.4900200795977737E+50,2.5100199196022536E+50,-2.4900200795977737E+50,-1,0,1,180]
[33.900000000000212,0.59166661642608132,9.9999999999999997E+98,-1.2500000000000001E+101,1.2500399993600206E+101,-89.541643541999562,0.55774510897969309,-0.68892039340923028,0.55774510897969309,0,0.55774510897969309,0,-3.5355904731176385E+50,-44.770821770999781,-2.5100199196022536E+50,2.4900200795977737E+50,-2.5100199196022536E+50,2.4900200795977737E+50,2.5100199196022536E+50,-2.4900200795977737E+50,-1,0,1,180]
[34.000000000000213,0.59341194567807576,9.9999999999999997E+98,-1.2500000000000001E+101,1.2500399993600206E+101,-89.541643541999562,0.5591929034707499,-0.68730329670795254,0.5591929034707499,0,0.5591929034707499,0,-3.5355904731176385E+50,-44.770821770999781,-2.5100199196022536E+50,2.4900200795977737E+50,-2.5100199196022536E+50,2.4900200795977737E+50,2.5100199196022536E+50,-2.4900200795977737E+50,-1,0,1,180]
[34.100000000000215,0.59515727493007009,9.9999999999999997E+98,-1.2500000000000001E+101,1.2500399993600206E+101,-89.541643541999562,0.56063899456324484,-0.68568391777511395,0.56063899456324484,0,0.56063899456324484,0,-3.5355904731176385E+50,-44.770821770999781,-2.5100199196022536E+50,2.4900200795977737E+50,-2.5100199196022536E+50,2.4900200795977737E+50,2.5100199196022536E+50,-2.4900200795977737E+50,-1,0,1,180]
[34.200000000000216,0.59690260418206442,9.9999999999999997E+98,-1.2500000000000001E+101,1.2500399993600206E+101,-89.541643541999562,0.56208337785213369,-0.68406227634233552,0.56208337785213369,0,0.56208337785213369,0,-3.5355904731176385E+50,-44.770821770999781,-2.5100199196022536E+50,2.4900200795977737E+50,-2.5100199196022536E+50,2.4900200795977737E+50,2.5100199196022536E+50,-2.4900200795977737E+50,-1,0,1,180]
[34.300000000000217,0.59864793343405875,9.9999999999999997E+98,-1.2500000000000001E+101,1.2500399993600206E+101,-89.541643541999562,0.56352604893757452,-0.68243839216880631,0.56352604893757452,0,0.56352604893757452,0,-3.5355904731176385E+50,-44.770821770999781,-2.5100199196022536E+50,2.4900200795977737E+50,-2.5100199196022536E+50,2.4900200795977737E+50,2.5100199196022536E+50,-2.4900200795977737E+50,-1,0,1,180]
[34.400000000000219,0.60039326268605309,9.9999999999999997E+98,-1.2500000000000001E+101,1.2500399993600206E+101,-89.541643541999562,0.56496700342494099,-0.68081228504104274,0.56496700342494099,0,0.56496700342494099,0,-3.5355904731176385E+50,-44.770821770999781,-2.5100199196022536E+50,2.4900200795977737E+50,-2.5100199196022536E+50,2.4900200795977737E+50,2.5100199196022536E+50,-2.4900200795977737E+50,-1,0,1,180]
[34.50000000000022,0.60213859193804753,9.9999999999999997E+98,-1.2500000000000001E+101,1.2500399993600206E+101,-89.541643541999562,0.56640623692483594,-0.67918397477264658,0.56640623692483594,0,0.56640623692483594,0,-3.5355904731176385E+50,-44.770821770999781,-2.5100199196022536E+50,2.4900200795977737E+50,-2.5100199196022536E+50,2.4900200795977737E+50,2.5100199196022536E+50,-2.4900200795977737E+50,-1,0,1,180]
[34.600000000000222,0.60388392119004186,9.9999999999999997E+98,-1.2500000000000001E+101,1.2500399993600206E+101,-89.541643541999562,0.56784374505310442,-0.677553481204065,0.56784374505310442,0,0.56784374505310442,0,-3.5355904731176385E+50,-44.770821770999781,-2.5100199196022536E+50,2.4900200795977737E+50,-2.5100199196022536E+50,2.4900200795977737E+50,2.5100199196022536E+50,-2.4900200795977737E+50,-1,0,1,180]
[34.700000000000223,0.60562925044203619,9.9999999999999997E+98,-1.2500000000000001E+101,1.2500399993600206E+101,-89.541643541999562,0.56927952343084731,-0.67592082420234723,0.56927952343084731,0,0.56927952343084731,0,-3.5355904731176385E+50,-44.770821770999781,-2.5100199196022536E+50,2.4900200795977737E+50,-2.5100199196022536E+50,2.4900200795977737E+50,2.5100199196022536E+50,-2.4900200795977737E+50,-1,0,1,180]
[34.800000000000225,0.60737457969403053,9.9999999999999997E+98,-1.2500000000000001E+101,1.2500399993600206E+101,-89.541643541999562,0.57071356768443482,-0.67428602366090395,0.57071356768443482,0,0.57071356768443482,0,-3.5355904731176385E+50,-44.770821770999781,-2.5100199196022536E+50,2.4900200795977737E+50,{"$f":"K353+O353","v":-2.5100199196022536E+50},2.4900200795977737E+50,2.5100199196022536E+50,-2.4900200795977737E+50,-1,0,1,180]
[34.900000000000226,0.60911990894602497,9.9999999999999997E+98,-1.2500000000000001E+101,1.2500399993600206E+101,-89.541643541999562,0.57214587344551948,-0.67264909949926366,0.57214587344551948,0,0.57214587344551948,0,-3.5355904731176385E+50,-44.770821770999781,-2.5100199196022536E+50,2.4900200795977737E+50,-2.5100199196022536E+50,2.4900200795977737E+50,2.5100199196022536E+50,-2.4900200795977737E+50,-1,0,1,180]
[35.000000000000227,0.6108652381980193,9.9999999999999997E+98,-1.2500000000000001E+101,1.2500399993600206E+101,-89.541643541999562,0.57357643635104938,-0.67101007166283078,0.57357643635104938,0,0.57357643635104938,0,-3.5355904731176385E+50,-44.770821770999781,-2.5100199196022536E+50,2.4900200795977737E+50,-2.5100199196022536E+50,2.4900200795977737E+50,2.5100199196022536E+50,-2.4900200795977737E+50,-1,0,1,180]
[35.100000000000229,0.61261056745001363,9.9999999999999997E+98,-1.2500000000000001E+101,1.2500399993600206E+101,-89.541643541999562,0.57500525204328179,-0.66936896012264202,0.57500525204328179,0,0.57500525204328179,0,-3.5355904731176385E+50,-44.770821770999781,-2.5100199196022536E+50,2.4900200795977737E+50,-2.5100199196022536E+50,2.4900200795977737E+50,2.5100199196022536E+50,-2.4900200795977737E+50,-1,0,1,180]
[35.20000000000023,0.61435589670200796,9.9999999999999997E+98,-1.2500000000000001E+101,1.2500399993600206E+101,-89.541643541999562,0.57643231616979651,-0.6677257848751238,0.57643231616979651,0,0.57643231616979651,0,-3.5355904731176385E+50,-44.770821770999781,-2.5100199196022536E+50,2.4900200795977737E+50,-2.5100199196022536E+50,2.4900200795977737E+50,2.5100199196022536E+50,-2.4900200795977737E+50,-1,0,1,180]
[35.300000000000232,0.61610122595400241,9.9999999999999997E+98,-1.2500000000000001E+101,1.2500399993600206E+101,-89.541643541999562,0.57785762438350863,-0.66608056594184772,0.57785762438350863,0,0.57785762438350863,0,-3.5355904731176385E+50,-44.770821770999781,-2.5100199196022536E+50,2.4900200795977737E+50,-2.5100199196022536E+50,2.4900200795977737E+50,2.5100199196022536E+50,-2.4900200795977737E+50,-1,0,1,180]
[35.400000000000233,0.61784655520599674,9.9999999999999997E+98,-1.2500000000000001E+101,1.2500399993600206E+101,-89.541643541999562,0.57928117234268217,-0.66443332336928784,0.57928117234268217,0,0.57928117234268217,0,-3.5355904731176385E+50,-44.770821770999781,-2.5100199196022536E+50,2.4900200795977737E+50,-2.5100199196022536E+50,2.4900200795977737E+50,2.5100199196022536E+50,-2.4900200795977737E+50,-1,0,1,180]
[35.500000000000234,0.61959188445799107,9.9999999999999997E+98,-1.2500000000000001E+101,1.2500399993600206E+101,-89.541643541999562,0.5807029557109431,-0.66278407722857458,0.5807029557109431,0,0.5807029557109431,0,-3.5355904731176385E+50,-44.770821770999781,-2.5100199196022536E+50,2.4900200795977737E+50,-2.5100199196022536E+50,2.4900200795977737E+50,2.5100199196022536E+50,-2.4900200795977737E+50,-1,0,1,180]
[35.600000000000236,0.6213372137099854,9.9999999999999997E+98,-1.2500000000000001E+101,1.2500399993600206E+101,-89.541643541999562,0.58212297015729275,-0.6611328476152516,0.58212297015729275,0,0.58212297015729275,0,-3.5355904731176385E+50,-44.770821770999781,-2.5100199196022536E+50,2.4900200795977737E+50,-2.5100199196022536E+50,2.4900200795977737E+50,2.5100199196022536E+50,-2.4900200795977737E+50,-1,0,1,180]
[35.700000000000237,0.62308254296197974,9.9999999999999997E+98,-1.2500000000000001E+101,1.2500399993600206E+101,-89.541643541999562,0.5835412113561208,-0.65947965464903113,0.5835412113561208,0,0.5835412113561208,0,-3.5355904731176385E+50,-44.770821770999781,-2.5100199196022536E+50,2.4900200795977737E+50,-2.5100199196022536E+50,2.4900200795977737E+50,2.5100199196022536E+50,-2.4900200795977737E+50,-1,0,1,180]
[35.800000000000239,0.62482787221397418,9.9999999999999997E+98,-1.2500000000000001E+101,1.2500399993600206E+101,-89.541643541999562,0.58495767498721885,-0.65782451847354728,0.58495767498721885,0,0.58495767498721885,0,-3.5355904731176385E+50,-44.770821770999781,-2.5100199196022536E+50,2.4900200795977737E+50,-2.5100199196022536E+50,2.4900200795977737E+50,2.5100199196022536E+50,-2.4900200795977737E+50,-1,0,1,180]
[35.90000000000024,0.62657320146596851,9.9999999999999997E+98,-1.2500000000000001E+101,1.2500399993600206E+101,-89.541643541999562,0.58637235673579269,-0.6561674592561122,0.58637235673579269,0,0.58637235673579269,0,-3.5355904731176385E+50,-44.770821770999781,-2.5100199196022536E+50,2.4900200795977737E+50,-2.5100199196022536E+50,2.4900200795977737E+50,2.5100199196022536E+50,-2.4900200795977737E+50,-1,0,1,180]
[36.000000000000242,0.62831853071796284,9.9999999999999997E+98,-1.2500000000000001E+101,1.2500399993600206E+101,-89.541643541999562,0.58778525229247647,-0.65450849718746984,0.58778525229247647,0,0.58778525229247647,0,-3.5355904731176385E+50,-44.770821770999781,-2.5100199196022536E+50,2.4900200795977737E+50,-2.5100199196022536E+50,2.4900200795977737E+50,2.5100199196022536E+50,-2.4900200795977737E+50,-1,0,1,180]
[36.100000000000243,0.63006385996995717,9.9999999999999997E+98,-1.2500000000000001E+101,1.2500399993600206E+101,-89.541643541999562,0.58919635735334541,-0.65284765248154886,0.58919635735334541,0,0.58919635735334541,0,-3.5355904731176385E+50,-44.770821770999781,-2.5100199196022536E+50,2.4900200795977737E+50,-2.5100199196022536E+50,2.4900200795977737E+50,2.5100199196022536E+50,-2.4900200795977737E+50,-1,0,1,180]
[36.200000000000244,0.63180918922195162,9.9999999999999997E+98,-1.2500000000000001E+101,1.2500399993600206E+101,-89.541643541999562,0.59060566761992883,-0.65118494537521809,0.59060566761992883,0,0.59060566761992883,0,-3.5355904731176385E+50,-44.770821770999781,-2.5100199196022536E+50,2.4900200795977737E+50,-2.5100199196022536E+50,2.4900200795977737E+50,2.5100199196022536E+50,-2.4900200795977737E+50,-1,0,1,180]
[36.300000000000246,0.63355451847394595,9.9999999999999997E+98,-1.2500000000000001E+101,1.2500399993600206E+101,-89.541643541999562,0.59201317879922299,-0.64952039612803913,0.59201317879922299,0,0.59201317879922299,0,-3.5355904731176385E+50,-44.770821770999781,-2.5100199196022536E+50,2.4900200795977737E+50,-2.5100199196022536E+50,2.4900200795977737E+50,2.5100199196022536E+50,-2.4900200795977737E+50,-1,0,1,180]
[36.400000000000247,0.63529984772594028,9.9999999999999997E+98,-1.2500000000000001E+101,1.2500399993600206E+101,-89.541643541999562,0.5934188866037049,-0.64785402502201928,0.5934188866037049,0,0.5934188866037049,0,-3.5355904731176385E+50,-44.770821770999781,-2.5100199196022536E+50,2.4900200795977737E+50,-2.5100199196022536E+50,2.4900200795977737E+50,2.5100199196022536E+50,-2.4900200795977737E+50,-1,0,1,180]
[36.500000000000249,0.63704517697793461,9.9999999999999997E+98,-1.2500000000000001E+101,1.2500399993600206E+101,-89.541643541999562,0.59482278675134481,-0.64618585236136417,0.59482278675134481,0,0.59482278675134481,0,-3.5355904731176385E+50,-44.770821770999781,-2.5100199196022536E+50,2.4900200795977737E+50,-2.5100199196022536E+50,2.4900200795977737E+50,2.5100199196022536E+50,-2.4900200795977737E+50,-1,0,1,180]
[36.60000000000025,0.63879050622992906,9.9999999999999997E+98,-1.2500000000000001E+101,1.2500399993600206E+101,-89.541643541999562,0.59622487496561938,-0.64451589847223156,0.59622487496561938,0,0.59622487496561938,0,-3.5355904731176385E+50,-44.770821770999781,-2.5100199196022536E+50,2.4900200795977737E+50,-2.5100199196022536E+50,2.4900200795977737E+50,2.5100199196022536E+50,-2.4900200795977737E+50,-1,0,1,180]
[36.700000000000252,0.64053583548192339,9.9999999999999997E+98,-1.2500000000000001E+101,1.2500399993600206E+101,-89.541643541999562,0.59762514697552471,-0.64284418370248253,0.59762514697552471,0,0.59762514697552471,0,-3.5355904731176385E+50,-44.770821770999781,-2.5100199196022536E+50,2.4900200795977737E+50,-2.5100199196022536E+50,2.4900200795977737E+50,2.5100199196022536E+50,-2.4900200795977737E+50,-1,0,1,180]
[36.800000000000253,0.64228116473391772,9.9999999999999997E+98,-1.2500000000000001E+101,1.2500399993600206E+101,-89.541643541999562,0.59902359851558939,-0.64117072842143397,0.59902359851558939,0,0.59902359851558939,0,-3.5355904731176385E+50,-44.770821770999781,-2.5100199196022536E+50,2.4900200795977737E+50,-2.5100199196022536E+50,2.4900200795977737E+50,2.5100199196022536E+50,-2.4900200795977737E+50,-1,0,1,180]
[36.900000000000254,0.64402649398591205,9.9999999999999997E+98,-1.2500000000000001E+101,1.2500399993600206E+101,-89.541643541999562,0.60042022532588757,-0.63949555301961047,0.60042022532588757,0,0.60042022532588757,0,-3.5355904731176385E+50,-44.770821770999781,-2.5100199196022536E+50,2.4900200795977737E+50,-2.5100199196022536E+50,2.4900200795977737E+50,2.5100199196022536E+50,-2.4900200795977737E+50,-1,0,1,180]
[37.000000000000256,0.64577182323790638,9.9999999999999997E+98,-1.2500000000000001E+101,1.2500399993600206E+101,-89.541643541999562,0.60181502315205182,-0.63781867790849534,0.60181502315205182,0,0.60181502315205182,0,-3.5355904731176385E+50,-44.770821770999781,-2.5100199196022536E+50,2.4900200795977737E+50,-2.5100199196022536E+50,2.4900200795977737E+50,2.5100199196022536E+50,-2.4900200795977737E+50,-1,0,1,180]
[37.100000000000257,0.64751715248990072,9.9999999999999997E+98,-1.2500000000000001E+101,1.2500399993600206E+101,-89.541643541999562,0.60320798774528606,-0.63614012352028282,0.60320798774528606,0,0.60320798774528606,0,-3.5355904731176385E+50,-44.770821770999781,-2.5100199196022536E+50,2.4900200795977737E+50,-2.5100199196022536E+50,2.4900200795977737E+50,2.5100199196022536E+50,-2.4900200795977737E+50,-1,0,1,180]
[37.200000000000259,0.64926248174189516,9.9999999999999997E+98,-1.2500000000000001E+101,1.2500399993600206E+101,-89.541643541999562,0.60459911486237849,-0.63445991030762838,0.60459911486237849,0,0.60459911486237849,0,-3.5355904731176385E+50,-44.770821770999781,-2.5100199196022536E+50,2.4900200795977737E+50,-2.5100199196022536E+50,2.4900200795977737E+50,2.5100199196022536E+50,-2.4900200795977737E+50,-1,0,1,180]
[37.30000000000026,0.65100781099388949,9.9999999999999997E+98,-1.2500000000000001E+101,1.2500399993600206E+101,-89.541643541999562,0.60598840026571466,-0.63277805874339998,0.60598840026571466,0,0.60598840026571466,0,-3.5355904731176385E+50,-44.770821770999781,-2.5100199196022536E+50,2.4900200795977737E+50,-2.5100199196022536E+50,2.4900200795977737E+50,2.5100199196022536E+50,-2.4900200795977737E+50,-1,0,1,180]
[37.400000000000261,0.65275314024588382,9.9999999999999997E+98,-1.2500000000000001E+101,1.2500399993600206E+101,-89.541643541999562,0.60737583972329034,-0.63109458932042795,0.60737583972329034,0,0.60737583972329034,0,-3.5355904731176385E+50,-44.770821770999781,-2.5100199196022536E+50,2.4900200795977737E+50,-2.5100199196022536E+50,2.4900200795977737E+50,2.5100199196022536E+50,-2.4900200795977737E+50,-1,0,1,180]
[37.500000000000263,0.65449846949787815,9.9999999999999997E+98,-1.2500000000000001E+101,1.2500399993600206E+101,-89.541643541999562,0.60876142900872421,-0.62940952255125593,0.60876142900872421,0,0.60876142900872421,0,-3.5355904731176385E+50,-44.770821770999781,-2.5100199196022536E+50,2.4900200795977737E+50,-2.5100199196022536E+50,2.4900200795977737E+50,2.5100199196022536E+50,-2.4900200795977737E+50,-1,0,1,180]
[37.600000000000264,0.65624379874987249,9.9999999999999997E+98,-1.2500000000000001E+101,1.2500399993600206E+101,-89.541643541999562,0.61014516390127127,-0.62772287896789092,0.61014516390127127,0,0.61014516390127127,0,-3.5355904731176385E+50,-44.770821770999781,-2.5100199196022536E+50,2.4900200795977737E+50,-2.5100199196022536E+50,2.4900200795977737E+50,2.5100199196022536E+50,-2.4900200795977737E+50,-1,0,1,180]
[37.700000000000266,0.65798912800186693,9.9999999999999997E+98,-1.2500000000000001E+101,1.2500399993600206E+101,-89.541643541999562,0.61152704018583492,-0.6260346791215522,0.61152704018583492,0,0.61152704018583492,0,-3.5355904731176385E+50,-44.770821770999781,-2.5100199196022536E+50,2.4900200795977737E+50,-2.5100199196022536E+50,2.4900200795977737E+50,2.5100199196022536E+50,-2.4900200795977737E+50,-1,0,1,180]
[37.800000000000267,0.65973445725386126,9.9999999999999997E+98,-1.2500000000000001E+101,1.2500399993600206E+101,-89.541643541999562,0.61290705365298015,-0.62434494358242287,0.61290705365298015,0,0.61290705365298015,0,-3.5355904731176385E+50,-44.770821770999781,-2.5100199196022536E+50,2.4900200795977737E+50,-2.5100199196022536E+50,2.4900200795977737E+50,2.5100199196022536E+50,-2.4900200795977737E+50,-1,0,1,180]
[37.900000000000269,0.66147978650585559,9.9999999999999997E+98,-1.2500000000000001E+101,1.2500399993600206E+101,-89.541643541999562,0.61428520009894694,-0.62265369293939687,0.61428520009894694,0,0.61428520009894694,0,-3.5355904731176385E+50,-44.770821770999781,-2.5100199196022536E+50,2.4900200795977737E+50,-2.5100199196022536E+50,2.4900200795977737E+50,2.5100199196022536E+50,-2.4900200795977737E+50,-1,0,1,180]
[38.00000000000027,0.66322511575784993,9.9999999999999997E+98,-1.2500000000000001E+101,1.2500399993600206E+101,-89.541643541999562,0.61566147532566196,-0.62096094779982924,0.61566147532566196,0,0.61566147532566196,0,-3.5355904731176385E+50,-44.770821770999781,-2.5100199196022536E+50,2.4900200795977737E+50,-2.5100199196022536E+50,2.4900200795977737E+50,2.5100199196022536E+50,-2.4900200795977737E+50,-1,0,1,180]
[38.100000000000271,0.66497044500984426,9.9999999999999997E+98,-1.2500000000000001E+101,1.2500399993600206E+101,-89.541643541999562,0.61703587514075231,-0.61926672878928601,0.61703587514075231,0,0.61703587514075231,0,-3.5355904731176385E+50,-44.770821770999781,-2.5100199196022536E+50,2.4900200795977737E+50,-2.5100199196022536E+50,2.4900200795977737E+50,2.5100199196022536E+50,-2.4900200795977737E+50,-1,0,1,180]
[38.200000000000273,0.6667157742618387,9.9999999999999997E+98,-1.2500000000000001E+101,1.2500399993600206E+101,-89.541643541999562,0.61840839535755787,-0.6175710565512903,0.61840839535755787,0,0.61840839535755787,0,-3.5355904731176385E+50,-44.770821770999781,-2.5100199196022536E+50,2.4900200795977737E+50,-2.5100199196022536E+50,2.4900200795977737E+50,2.5100199196022536E+50,-2.4900200795977737E+50,-1,0,1,180]
[38.300000000000274,0.66846110351383303,9.9999999999999997E+98,-1.2500000000000001E+101,1.2500399993600206E+101,-89.541643541999562,0.61977903179514393,-0.61587395174707393,0.61977903179514393,0,0.61977903179514393,0,-3.5355904731176385E+50,-44.770821770999781,-2.5100199196022536E+50,2.4900200795977737E+50,-2.5100199196022536E+50,2.4900200795977737E+50,2.5100199196022536E+50,-2.4900200795977737E+50,-1,0,1,180]
[38.400000000000276,0.67020643276582736,9.9999999999999997E+98,-1.2500000000000001E+101,1.2500399993600206E+101,-89.541643541999562,0.62114778027831408,-0.61417543505532324,0.62114778027831408,0,0.62114778027831408,0,-3.5355904731176385E+50,-44.770821770999781,-2.5100199196022536E+50,2.4900200795977737E+50,-2.5100199196022536E+50,2.4900200795977737E+50,2.5100199196022536E+50,-2.4900200795977737E+50,-1,0,1,180]
[38.500000000000277,{"$f":"A390*PI()/180","v":0.6719517620178217},{"$f":"$D$1","v":9.9999999999999997E+98},{"$f":"-(18000*$G$1/$N$1)","v":-1.2500000000000001E+101},{"$f":"(C390^2+D390^2)^0.5","v":1.2500399993600206E+101},{"$f":"(180/PI())*ATAN(D390/C390)","v":-89.541643541999562},{"$f":"SIN(B390)","v":0.6225146366376233},{"$f":"-((COS(B390))^2)","v":-0.61247552717192777},{"$f":"G390","v":0.6225146366376233},0,{"$f":"(((I390^2)/(1+(TAN(J390*(PI()/180)))^2))^0.5)","v":0.6225146366376233},{"$f":"K390*TAN(J390*(PI()/180))","v":0},{"$f":"-(((((C390+H390)^2)+(D390)^2)^0.5)^0.5)","v":-3.5355904731176385E+50},{"$f":"((ATAN(D390/(C390+H390)))*(180/PI()))/2","v":-44.770821770999781},{"$f":"-(((M390^2)/(1+(TAN(N390*(PI()/180)))^2))^0.5)","v":-2.5100199196022536E+50},{"$f":"O390*TAN(N390*(PI()/180))","v":2.4900200795977737E+50},-2.5100199196022536E+50,2.4900200795977737E+50,{"$f":"-O390+K390","v":2.5100199196022536E+50},{"$f":"L390-P390","v":-2.4900200795977737E+50},{"$f":"(Q390*S390+T390*R390)/((S390^2)+(T390^2))","v":-1},{"$f":"(R390*S390-Q390*T390)/((S390^2)+(T390^2))","v":0},{"$f":"((U390^2)+(V390^2))^0.5","v":1},{"$f":"(ACOS(U390/W390))*(180/PI())","v":180}]
[{"$f":"A390+0.1","v":38.600000000000279},0.67369709126981603,9.9999999999999997E+98,-1.2500000000000001E+101,1.2500399993600206E+101,-89.541643541999562,0.62387959670938997,-0.61077424880972886,0.62387959670938997,0,0.62387959670938997,0,-3.5355904731176385E+50,-44.770821770999781,-2.5100199196022536E+50,2.4900200795977737E+50,-2.5100199196022536E+50,2.4900200795977737E+50,2.5100199196022536E+50,-2.4900200795977737E+50,-1,0,1,180]
[38.70000000000028,0.67544242052181047,9.9999999999999997E+98,-1.2500000000000001E+101,1.2500399993600206E+101,-89.541643541999562,0.62524265633570897,-0.60907162069826648,0.62524265633570897,0,0.62524265633570897,0,-3.5355904731176385E+50,-44.770821770999781,-2.5100199196022536E+50,2.4900200795977737E+50,-2.5100199196022536E+50,2.4900200795977737E+50,2.5100199196022536E+50,-2.4900200795977737E+50,-1,0,1,180]
[38.800000000000281,0.6771877497738048,9.9999999999999997E+98,-1.2500000000000001E+101,1.2500399993600206E+101,-89.541643541999562,0.6266038113644643,-0.60736766358352678,0.6266038113644643,0,0.6266038113644643,0,-3.5355904731176385E+50,-44.770821770999781,-2.5100199196022536E+50,2.4900200795977737E+50,-2.5100199196022536E+50,2.4900200795977737E+50,2.5100199196022536E+50,-2.4900200795977737E+50,-1,0,1,180]
[38.900000000000283,0.67893307902579914,9.9999999999999997E+98,-1.2500000000000001E+101,1.2500399993600206E+101,-89.541643541999562,0.62796305764934168,-0.60566239822768941,0.62796305764934168,0,0.62796305764934168,0,-3.5355904731176385E+50,-44.770821770999781,-2.5100199196022536E+50,2.4900200795977737E+50,-2.5100199196022536E+50,2.4900200795977737E+50,2.5100199196022536E+50,-2.4900200795977737E+50,-1,0,1,180]
[39.000000000000284,0.68067840827779347,9.9999999999999997E+98,-1.2500000000000001E+101,1.2500399993600206E+101,-89.541643541999562,0.62932039104984128,-0.60395584540887493,0.62932039104984128,0,0.62932039104984128,0,-3.5355904731176385E+50,-44.770821770999781,-2.5100199196022536E+50,2.4900200795977737E+50,-2.5100199196022536E+50,2.4900200795977737E+50,2.5100199196022536E+50,-2.4900200795977737E+50,-1,0,1,180]
[39.100000000000286,0.6824237375297878,9.9999999999999997E+98,-1.2500000000000001E+101,1.2500399993600206E+101,-89.541643541999562,0.63067580743129004,-0.60224802592089033,0.63067580743129004,0,0.63067580743129004,0,-3.5355904731176385E+50,-44.770821770999781,-2.5100199196022536E+50,2.4900200795977737E+50,-2.5100199196022536E+50,2.4900200795977737E+50,2.5100199196022536E+50,-2.4900200795977737E+50,-1,0,1,180]
[39.200000000000287,0.68416906678178213,9.9999999999999997E+98,-1.2500000000000001E+101,1.2500399993600206E+101,-89.541643541999562,0.63202930266485469,-0.6005389605729774,0.63202930266485469,0,0.63202930266485469,0,-3.5355904731176385E+50,-44.770821770999781,-2.5100199196022536E+50,2.4900200795977737E+50,-2.5100199196022536E+50,2.4900200795977737E+50,2.5100199196022536E+50,-2.4900200795977737E+50,-1,0,1,180]
[39.300000000000288,0.68591439603377657,9.9999999999999997E+98,-1.2500000000000001E+101,1.2500399993600206E+101,-89.541643541999562,0.63338087262755405,-0.59882867018955821,0.63338087262755405,0,0.63338087262755405,0,-3.5355904731176385E+50,-44.770821770999781,-2.5100199196022536E+50,2.4900200795977737E+50,-2.5100199196022536E+50,2.4900200795977737E+50,2.5100199196022536E+50,-2.4900200795977737E+50,-1,0,1,180]
[39.40000000000029,0.68765972528577091,9.9999999999999997E+98,-1.2500000000000001E+101,1.2500399993600206E+101,-89.541643541999562,0.63473051320227147,-0.59711717560998112,0.63473051320227147,0,0.63473051320227147,0,-3.5355904731176385E+50,-44.770821770999781,-2.5100199196022536E+50,2.4900200795977737E+50,-2.5100199196022536E+50,2.4900200795977737E+50,2.5100199196022536E+50,-2.4900200795977737E+50,-1,0,1,180]
[39.500000000000291,0.68940505453776524,9.9999999999999997E+98,-1.2500000000000001E+101,1.2500399993600206E+101,-89.541643541999562,0.63607822027776784,-0.59540449768826753,0.63607822027776784,0,0.63607822027776784,0,-3.5355904731176385E+50,-44.770821770999781,-2.5100199196022536E+50,2.4900200795977737E+50,-2.5100199196022536E+50,2.4900200795977737E+50,2.5100199196022536E+50,-2.4900200795977737E+50,-1,0,1,180]
[39.600000000000293,0.69115038378975957,9.9999999999999997E+98,-1.2500000000000001E+101,1.2500399993600206E+101,-89.541643541999562,0.63742398974869363,-0.59369065729285742,0.63742398974869363,0,0.63742398974869363,0,-3.5355904731176385E+50,-44.770821770999781,-2.5100199196022536E+50,2.4900200795977737E+50,-2.5100199196022536E+50,2.4900200795977737E+50,2.5100199196022536E+50,-2.4900200795977737E+50,-1,0,1,180]
[39.700000000000294,0.6928957130417539,9.9999999999999997E+98,-1.2500000000000001E+101,1.2500399993600206E+101,-89.541643541999562,0.63876781751560163,-0.59197567530635509,0.63876781751560163,0,0.63876781751560163,0,-3.5355904731176385E+50,-44.770821770999781,-2.5100199196022536E+50,2.4900200795977737E+50,-2.5100199196022536E+50,2.4900200795977737E+50,2.5100199196022536E+50,-2.4900200795977737E+50,-1,0,1,180]
[39.800000000000296,0.69464104229374835,9.9999999999999997E+98,-1.2500000000000001E+101,1.2500399993600206E+101,-89.541643541999562,0.64010969948495944,-0.59025957262527484,0.64010969948495944,0,0.64010969948495944,0,-3.5355904731176385E+50,-44.770821770999781,-2.5100199196022536E+50,2.4900200795977737E+50,-2.5100199196022536E+50,2.4900200795977737E+50,2.5100199196022536E+50,-2.4900200795977737E+50,-1,0,1,180]
[39.900000000000297,0.69638637154574268,9.9999999999999997E+98,-1.2500000000000001E+101,1.2500399993600206E+101,-89.541643541999562,0.64144963156916179,-0.5885423701597865,0.64144963156916179,0,0.64144963156916179,0,-3.5355904731176385E+50,-44.770821770999781,-2.5100199196022536E+50,2.4900200795977737E+50,-2.5100199196022536E+50,2.4900200795977737E+50,2.5100199196022536E+50,-2.4900200795977737E+50,-1,0,1,180]
[40.000000000000298,0.69813170079773701,9.9999999999999997E+98,-1.2500000000000001E+101,1.2500399993600206E+101,-89.541643541999562,0.64278760968654325,-0.58682408883346004,0.64278760968654325,0,0.64278760968654325,0,-3.5355904731176385E+50,-44.770821770999781,-2.5100199196022536E+50,2.4900200795977737E+50,-2.5100199196022536E+50,2.4900200795977737E+50,2.5100199196022536E+50,-2.4900200795977737E+50,-1,0,1,180]
[40.1000000000003,0.69987703004973134,9.9999999999999997E+98,-1.2500000000000001E+101,1.2500399993600206E+101,-89.541643541999562,0.64412362976139048,-0.58510474958301106,0.64412362976139048,0,0.64412362976139048,0,-3.5355904731176385E+50,-44.770821770999781,-2.5100199196022536E+50,2.4900200795977737E+50,-2.5100199196022536E+50,2.4900200795977737E+50,2.5100199196022536E+50,-2.4900200795977737E+50,-1,0,1,180]
[40.200000000000301,0.70162235930172567,9.9999999999999997E+98,-1.2500000000000001E+101,1.2500399993600206E+101,-89.541643541999562,0.64545768772395451,-0.58338437335804594,0.64545768772395451,0,0.64545768772395451,0,-3.5355904731176385E+50,-44.770821770999781,-2.5100199196022536E+50,2.4900200795977737E+50,-2.5100199196022536E+50,2.4900200795977737E+50,2.5100199196022536E+50,-2.4900200795977737E+50,-1,0,1,180]
[40.300000000000303,0.70336768855372012,9.9999999999999997E+98,-1.2500000000000001E+101,1.2500399993600206E+101,-89.541643541999562,0.64678977951046357,-0.58166298112080583,0.64678977951046357,0,0.64678977951046357,0,-3.5355904731176385E+50,-44.770821770999781,-2.5100199196022536E+50,2.4900200795977737E+50,-2.5100199196022536E+50,2.4900200795977737E+50,2.5100199196022536E+50,-2.4900200795977737E+50,-1,0,1,180]
[40.400000000000304,0.70511301780571445,9.9999999999999997E+98,-1.2500000000000001E+101,1.2500399993600206E+101,-89.541643541999562,0.64811990106313488,-0.57994059384591223,0.64811990106313488,0,0.64811990106313488,0,-3.5355904731176385E+50,-44.770821770999781,-2.5100199196022536E+50,2.4900200795977737E+50,-2.5100199196022536E+50,2.4900200795977737E+50,2.5100199196022536E+50,-2.4900200795977737E+50,-1,0,1,180]
[40.500000000000306,0.70685834705770878,9.9999999999999997E+98,-1.2500000000000001E+101,1.2500399993600206E+101,-89.541643541999562,0.64944804833018765,-0.57821723252011015,0.64944804833018765,0,0.64944804833018765,0,-3.5355904731176385E+50,-44.770821770999781,-2.5100199196022536E+50,2.4900200795977737E+50,-2.5100199196022536E+50,2.4900200795977737E+50,2.5100199196022536E+50,-2.4900200795977737E+50,-1,0,1,180]
[40.600000000000307,0.70860367630970311,9.9999999999999997E+98,-1.2500000000000001E+101,1.2500399993600206E+101,-89.541643541999562,0.65077421726585494,-0.57649291814201375,0.65077421726585494,0,0.65077421726585494,0,-3.5355904731176385E+50,-44.770821770999781,-2.5100199196022536E+50,2.4900200795977737E+50,-2.5100199196022536E+50,2.4900200795977737E+50,2.5100199196022536E+50,-2.4900200795977737E+50,-1,0,1,180]
[40.700000000000308,0.71034900556169744,9.9999999999999997E+98,-1.2500000000000001E+101,1.2500399993600206E+101,-89.541643541999562,0.65209840383039619,-0.57476767172184962,0.65209840383039619,0,0.65209840383039619,0,-3.5355904731176385E+50,-44.770821770999781,-2.5100199196022536E+50,2.4900200795977737E+50,-2.5100199196022536E+50,2.4900200795977737E+50,2.5100199196022536E+50,-2.4900200795977737E+50,-1,0,1,180]
[40.80000000000031,0.71209433481369189,9.9999999999999997E+98,-1.2500000000000001E+101,1.2500399993600206E+101,-89.541643541999562,0.65342060399010959,-0.57304151428120043,0.65342060399010959,0,0.65342060399010959,0,-3.5355904731176385E+50,-44.770821770999781,-2.5100199196022536E+50,2.4900200795977737E+50,-2.5100199196022536E+50,2.4900200795977737E+50,2.5100199196022536E+50,-2.4900200795977737E+50,-1,0,1,180]
[40.900000000000311,0.71383966406568611,9.9999999999999997E+98,-1.2500000000000001E+101,1.2500399993600206E+101,-89.541643541999562,0.65474081371734372,-0.57131446685275056,0.65474081371734372,0,0.65474081371734372,0,-3.5355904731176385E+50,-44.770821770999781,-2.5100199196022536E+50,2.4900200795977737E+50,-2.5100199196022536E+50,2.4900200795977737E+50,2.5100199196022536E+50,-2.4900200795977737E+50,-1,0,1,180]
[41.000000000000313,0.71558499331768055,9.9999999999999997E+98,-1.2500000000000001E+101,1.2500399993600206E+101,-89.541643541999562,0.65605902899051138,-0.56958655048002738,0.65605902899051138,0,0.65605902899051138,0,-3.5355904731176385E+50,-44.770821770999781,-2.5100199196022536E+50,2.4900200795977737E+50,-2.5100199196022536E+50,2.4900200795977737E+50,2.5100199196022536E+50,-2.4900200795977737E+50,-1,0,1,180]
[41.100000000000314,0.71733032256967499,9.9999999999999997E+98,-1.2500000000000001E+101,1.2500399993600206E+101,-89.541643541999562,0.65737524579409989,-0.56785778621714678,0.65737524579409989,0,0.65737524579409989,0,-3.5355904731176385E+50,-44.770821770999781,-2.5100199196022536E+50,2.4900200795977737E+50,-2.5100199196022536E+50,2.4900200795977737E+50,2.5100199196022536E+50,-2.4900200795977737E+50,-1,0,1,180]
[41.200000000000315,0.71907565182166922,9.9999999999999997E+98,-1.2500000000000001E+101,1.2500399993600206E+101,-89.541643541999562,0.65868946011868457,-0.56612819512855583,0.65868946011868457,0,0.65868946011868457,0,-3.5355904731176385E+50,-44.770821770999781,-2.5100199196022536E+50,2.4900200795977737E+50,{"$f":"K417+O417","v":-2.5100199196022536E+50},2.4900200795977737E+50,2.5100199196022536E+50,-2.4900200795977737E+50,-1,0,1,180]
[41.300000000000317,0.72082098107366366,9.9999999999999997E+98,-1.2500000000000001E+101,1.2500399993600206E+101,-89.541643541999562,0.66000166796094095,-0.56439779828877601,0.66000166796094095,0,0.66000166796094095,0,-3.5355904731176385E+50,-44.770821770999781,-2.5100199196022536E+50,2.4900200795977737E+50,-2.5100199196022536E+50,2.4900200795977737E+50,2.5100199196022536E+50,-2.4900200795977737E+50,-1,0,1,180]
[41.400000000000318,0.72256631032565788,9.9999999999999997E+98,-1.2500000000000001E+101,1.2500399993600206E+101,-89.541643541999562,0.66131186532365593,-0.56266661678214669,0.66131186532365593,0,0.66131186532365593,0,-3.5355904731176385E+50,-44.770821770999781,-2.5100199196022536E+50,2.4900200795977737E+50,-2.5100199196022536E+50,2.4900200795977737E+50,2.5100199196022536E+50,-2.4900200795977737E+50,-1,0,1,180]
[41.50000000000032,0.72431163957765232,9.9999999999999997E+98,-1.2500000000000001E+101,1.2500399993600206E+101,-89.541643541999562,0.66262004821574161,-0.56093467170256828,0.66262004821574161,0,0.66262004821574161,0,-3.5355904731176385E+50,-44.770821770999781,-2.5100199196022536E+50,2.4900200795977737E+50,-2.5100199196022536E+50,2.4900200795977737E+50,2.5100199196022536E+50,-2.4900200795977737E+50,-1,0,1,180]
[41.600000000000321,0.72605696882964676,9.9999999999999997E+98,-1.2500000000000001E+101,1.2500399993600206E+101,-89.541643541999562,0.66392621265224583,-0.55920198415324474,0.66392621265224583,0,0.66392621265224583,0,-3.5355904731176385E+50,-44.770821770999781,-2.5100199196022536E+50,2.4900200795977737E+50,-2.5100199196022536E+50,2.4900200795977737E+50,2.5100199196022536E+50,-2.4900200795977737E+50,-1,0,1,180]
[41.700000000000323,0.72780229808164099,9.9999999999999997E+98,-1.2500000000000001E+101,1.2500399993600206E+101,-89.541643541999562,0.66523035465436497,-0.55746857524642779,0.66523035465436497,0,0.66523035465436497,0,-3.5355904731176385E+50,-44.770821770999781,-2.5100199196022536E+50,2.4900200795977737E+50,-2.5100199196022536E+50,2.4900200795977737E+50,2.5100199196022536E+50,-2.4900200795977737E+50,-1,0,1,180]
[41.800000000000324,0.72954762733363543,9.9999999999999997E+98,-1.2500000000000001E+101,1.2500399993600206E+101,-89.541643541999562,0.66653247024945672,-0.55573446610315702,0.66653247024945672,0,0.66653247024945672,0,-3.5355904731176385E+50,-44.770821770999781,-2.5100199196022536E+50,2.4900200795977737E+50,-2.5100199196022536E+50,2.4900200795977737E+50,2.5100199196022536E+50,-2.4900200795977737E+50,-1,0,1,180]
[41.900000000000325,0.73129295658562965,9.9999999999999997E+98,-1.2500000000000001E+101,1.2500399993600206E+101,-89.541643541999562,0.6678325554710508,-0.55399967785300586,0.6678325554710508,0,0.6678325554710508,0,-3.5355904731176385E+50,-44.770821770999781,-2.5100199196022536E+50,2.4900200795977737E+50,-2.5100199196022536E+50,2.4900200795977737E+50,2.5100199196022536E+50,-2.4900200795977737E+50,-1,0,1,180]
[42.000000000000327,0.73303828583762409,9.9999999999999997E+98,-1.2500000000000001E+101,1.2500399993600206E+101,-89.541643541999562,0.66913060635886246,-0.5522642316338211,0.66913060635886246,0,0.66913060635886246,0,-3.5355904731176385E+50,-44.770821770999781,-2.5100199196022536E+50,2.4900200795977737E+50,-2.5100199196022536E+50,2.4900200795977737E+50,2.5100199196022536E+50,-2.4900200795977737E+50,-1,0,1,180]
[42.100000000000328,0.73478361508961842,9.9999999999999997E+98,-1.2500000000000001E+101,1.2500399993600206E+101,-89.541643541999562,0.67042661895880329,-0.55052814859146748,0.67042661895880329,0,0.67042661895880329,0,-3.5355904731176385E+50,-44.770821770999781,-2.5100199196022536E+50,2.4900200795977737E+50,-2.5100199196022536E+50,2.4900200795977737E+50,2.5100199196022536E+50,-2.4900200795977737E+50,-1,0,1,180]
[42.20000000000033,0.73652894434161276,9.9999999999999997E+98,-1.2500000000000001E+101,1.2500399993600206E+101,-89.541643541999562,0.67172058932299439,-0.54879144987956907,0.67172058932299439,0,0.67172058932299439,0,-3.5355904731176385E+50,-44.770821770999781,-2.5100199196022536E+50,2.4900200795977737E+50,-2.5100199196022536E+50,2.4900200795977737E+50,2.5100199196022536E+50,-2.4900200795977737E+50,-1,0,1,180]
[42.300000000000331,0.7382742735936072,9.9999999999999997E+98,-1.2500000000000001E+101,1.2500399993600206E+101,-89.541643541999562,0.67301251350977764,-0.54705415665925139,0.67301251350977764,0,0.67301251350977764,0,-3.5355904731176385E+50,-44.770821770999781,-2.5100199196022536E+50,2.4900200795977737E+50,-2.5100199196022536E+50,2.4900200795977737E+50,2.5100199196022536E+50,-2.4900200795977737E+50,-1,0,1,180]
[42.400000000000333,0.74001960284560142,9.9999999999999997E+98,-1.2500000000000001E+101,1.2500399993600206E+101,-89.541643541999562,0.67430238758372762,-0.54531629009888438,0.67430238758372762,0,0.67430238758372762,0,-3.5355904731176385E+50,-44.770821770999781,-2.5100199196022536E+50,2.4900200795977737E+50,-2.5100199196022536E+50,2.4900200795977737E+50,2.5100199196022536E+50,-2.4900200795977737E+50,-1,0,1,180]
[42.500000000000334,0.74176493209759586,9.9999999999999997E+98,-1.2500000000000001E+101,1.2500399993600206E+101,-89.541643541999562,0.67559020761566446,-0.5435778713738233,0.67559020761566446,0,0.67559020761566446,0,-3.5355904731176385E+50,-44.770821770999781,-2.5100199196022536E+50,2.4900200795977737E+50,-2.5100199196022536E+50,2.4900200795977737E+50,2.5100199196022536E+50,-2.4900200795977737E+50,-1,0,1,180]
[42.600000000000335,0.7435102613495902,9.9999999999999997E+98,-1.2500000000000001E+101,1.2500399993600206E+101,-89.541643541999562,0.67687596968266495,-0.541838921666152,0.67687596968266495,0,0.67687596968266495,0,-3.5355904731176385E+50,-44.770821770999781,-2.5100199196022536E+50,2.4900200795977737E+50,-2.5100199196022536E+50,2.4900200795977737E+50,2.5100199196022536E+50,-2.4900200795977737E+50,-1,0,1,180]
[42.700000000000337,0.74525559060158453,9.9999999999999997E+98,-1.2500000000000001E+101,1.2500399993600206E+101,-89.541643541999562,0.67815966986807485,-0.54009946216442362,0.67815966986807485,0,0.67815966986807485,0,-3.5355904731176385E+50,-44.770821770999781,-2.5100199196022536E+50,2.4900200795977737E+50,-2.5100199196022536E+50,2.4900200795977737E+50,2.5100199196022536E+50,-2.4900200795977737E+50,-1,0,1,180]
[42.800000000000338,0.74700091985357897,9.9999999999999997E+98,-1.2500000000000001E+101,1.2500399993600206E+101,-89.541643541999562,0.67944130426152083,-0.53835951406340343,0.67944130426152083,0,0.67944130426152083,0,-3.5355904731176385E+50,-44.770821770999781,-2.5100199196022536E+50,2.4900200795977737E+50,-2.5100199196022536E+50,2.4900200795977737E+50,2.5100199196022536E+50,-2.4900200795977737E+50,-1,0,1,180]
[42.90000000000034,0.7487462491055733,9.9999999999999997E+98,-1.2500000000000001E+101,1.2500399993600206E+101,-89.541643541999562,0.68072086895892214,-0.53661909856380996,0.68072086895892214,0,0.68072086895892214,0,-3.5355904731176385E+50,-44.770821770999781,-2.5100199196022536E+50,2.4900200795977737E+50,-2.5100199196022536E+50,2.4900200795977737E+50,2.5100199196022536E+50,-2.4900200795977737E+50,-1,0,1,180]
[43.000000000000341,0.75049157835756763,9.9999999999999997E+98,-1.2500000000000001E+101,1.2500399993600206E+101,-89.541643541999562,0.68199836006250281,-0.53487823687205682,0.68199836006250281,0,0.68199836006250281,0,-3.5355904731176385E+50,-44.770821770999781,-2.5100199196022536E+50,2.4900200795977737E+50,-2.5100199196022536E+50,2.4900200795977737E+50,2.5100199196022536E+50,-2.4900200795977737E+50,-1,0,1,180]
[43.100000000000342,0.75223690760956197,9.9999999999999997E+98,-1.2500000000000001E+101,1.2500399993600206E+101,-89.541643541999562,0.68327377368080344,-0.53313695019999419,0.68327377368080344,0,0.68327377368080344,0,-3.5355904731176385E+50,-44.770821770999781,-2.5100199196022536E+50,2.4900200795977737E+50,-2.5100199196022536E+50,2.4900200795977737E+50,2.5100199196022536E+50,-2.4900200795977737E+50,-1,0,1,180]
[43.200000000000344,0.7539822368615563,9.9999999999999997E+98,-1.2500000000000001E+101,1.2500399993600206E+101,-89.541643541999562,0.68454710592869294,-0.53139525976465074,0.68454710592869294,0,0.68454710592869294,0,-3.5355904731176385E+50,-44.770821770999781,-2.5100199196022536E+50,2.4900200795977737E+50,-2.5100199196022536E+50,2.4900200795977737E+50,2.5100199196022536E+50,-2.4900200795977737E+50,-1,0,1,180]
[43.300000000000345,0.75572756611355074,9.9999999999999997E+98,-1.2500000000000001E+101,1.2500399993600206E+101,-89.541643541999562,0.68581835292738058,-0.52965318678797491,0.68581835292738058,0,0.68581835292738058,0,-3.5355904731176385E+50,-44.770821770999781,-2.5100199196022536E+50,2.4900200795977737E+50,-2.5100199196022536E+50,2.4900200795977737E+50,2.5100199196022536E+50,-2.4900200795977737E+50,-1,0,1,180]
[43.400000000000347,0.75747289536554507,9.9999999999999997E+98,-1.2500000000000001E+101,1.2500399993600206E+101,-89.541643541999562,0.68708751080442743,-0.52791075249657582,0.68708751080442743,0,0.68708751080442743,0,-3.5355904731176385E+50,-44.770821770999781,-2.5100199196022536E+50,2.4900200795977737E+50,-2.5100199196022536E+50,2.4900200795977737E+50,2.5100199196022536E+50,-2.4900200795977737E+50,-1,0,1,180]
[43.500000000000348,0.75921822461753941,9.9999999999999997E+98,-1.2500000000000001E+101,1.2500399993600206E+101,-89.541643541999562,0.68835457569375835,-0.52616797812146598,0.68835457569375835,0,0.68835457569375835,0,-3.5355904731176385E+50,-44.770821770999781,-2.5100199196022536E+50,2.4900200795977737E+50,-2.5100199196022536E+50,2.4900200795977737E+50,2.5100199196022536E+50,-2.4900200795977737E+50,-1,0,1,180]
[43.60000000000035,0.76096355386953374,9.9999999999999997E+98,-1.2500000000000001E+101,1.2500399993600206E+101,-89.541643541999562,0.68961954373567413,-0.5244248848978007,0.68961954373567413,0,0.68961954373567413,0,-3.5355904731176385E+50,-44.770821770999781,-2.5100199196022536E+50,2.4900200795977737E+50,-2.5100199196022536E+50,2.4900200795977737E+50,2.5100199196022536E+50,-2.4900200795977737E+50,-1,0,1,180]
[43.700000000000351,0.76270888312152807,9.9999999999999997E+98,-1.2500000000000001E+101,1.2500399993600206E+101,-89.541643541999562,0.69088241107686277,-0.52268149406462083,0.69088241107686277,0,0.69088241107686277,0,-3.5355904731176385E+50,-44.770821770999781,-2.5100199196022536E+50,2.4900200795977737E+50,-2.5100199196022536E+50,2.4900200795977737E+50,2.5100199196022536E+50,-2.4900200795977737E+50,-1,0,1,180]
[43.800000000000352,0.76445421237352251,9.9999999999999997E+98,-1.2500000000000001E+101,1.2500399993600206E+101,-89.541643541999562,0.69214317387041124,-0.52093782686459367,0.69214317387041124,0,0.69214317387041124,0,-3.5355904731176385E+50,-44.770821770999781,-2.5100199196022536E+50,2.4900200795977737E+50,-2.5100199196022536E+50,2.4900200795977737E+50,2.5100199196022536E+50,-2.4900200795977737E+50,-1,0,1,180]
[43.900000000000354,0.76619954162551684,9.9999999999999997E+98,-1.2500000000000001E+101,1.2500399993600206E+101,-89.541643541999562,0.69340182827581742,-0.5191939045437538,0.69340182827581742,0,0.69340182827581742,0,-3.5355904731176385E+50,-44.770821770999781,-2.5100199196022536E+50,2.4900200795977737E+50,-2.5100199196022536E+50,2.4900200795977737E+50,2.5100199196022536E+50,-2.4900200795977737E+50,-1,0,1,180]
[44.000000000000355,0.76794487087751118,9.9999999999999997E+98,-1.2500000000000001E+101,1.2500399993600206E+101,-89.541643541999562,0.69465837045900169,-0.51744974835124435,0.69465837045900169,0,0.69465837045900169,0,-3.5355904731176385E+50,-44.770821770999781,-2.5100199196022536E+50,2.4900200795977737E+50,-2.5100199196022536E+50,2.4900200795977737E+50,2.5100199196022536E+50,-2.4900200795977737E+50,-1,0,1,180]
[44.100000000000357,0.76969020012950551,9.9999999999999997E+98,-1.2500000000000001E+101,1.2500399993600206E+101,-89.541643541999562,0.69591279659231875,-0.51570537953905793,0.69591279659231875,0,0.69591279659231875,0,-3.5355904731176385E+50,-44.770821770999781,-2.5100199196022536E+50,2.4900200795977737E+50,-2.5100199196022536E+50,2.4900200795977737E+50,2.5100199196022536E+50,-2.4900200795977737E+50,-1,0,1,180]
[44.200000000000358,0.77143552938149995,9.9999999999999997E+98,-1.2500000000000001E+101,1.2500399993600206E+101,-89.541643541999562,0.69716510285456901,-0.51396081936177818,0.69716510285456901,0,0.69716510285456901,0,-3.5355904731176385E+50,-44.770821770999781,-2.5100199196022536E+50,2.4900200795977737E+50,-2.5100199196022536E+50,2.4900200795977737E+50,2.5100199196022536E+50,-2.4900200795977737E+50,-1,0,1,180]
[44.30000000000036,0.77318085863349428,9.9999999999999997E+98,-1.2500000000000001E+101,1.2500399993600206E+101,-89.541643541999562,0.69841528543101039,-0.51221608907632021,0.69841528543101039,0,0.69841528543101039,0,-3.5355904731176385E+50,-44.770821770999781,-2.5100199196022536E+50,2.4900200795977737E+50,-2.5100199196022536E+50,2.4900200795977737E+50,2.5100199196022536E+50,-2.4900200795977737E+50,-1,0,1,180]
[44.400000000000361,0.77492618788548862,9.9999999999999997E+98,-1.2500000000000001E+101,1.2500399993600206E+101,-89.541643541999562,0.69966334051336987,-0.51047120994167217,0.69966334051336987,0,0.69966334051336987,0,-3.5355904731176385E+50,-44.770821770999781,-2.5100199196022536E+50,2.4900200795977737E+50,-2.5100199196022536E+50,2.4900200795977737E+50,2.5100199196022536E+50,-2.4900200795977737E+50,-1,0,1,180]
[44.500000000000362,0.77667151713748295,9.9999999999999997E+98,-1.2500000000000001E+101,1.2500399993600206E+101,-89.541643541999562,0.70090926429985534,-0.50872620321863538,0.70090926429985534,0,0.70090926429985534,0,-3.5355904731176385E+50,-44.770821770999781,-2.5100199196022536E+50,2.4900200795977737E+50,-2.5100199196022536E+50,2.4900200795977737E+50,2.5100199196022536E+50,-2.4900200795977737E+50,-1,0,1,180]
[44.600000000000364,0.77841684638947728,9.9999999999999997E+98,-1.2500000000000001E+101,1.2500399993600206E+101,-89.541643541999562,0.70215305299516695,-0.50698109016956638,0.70215305299516695,0,0.70215305299516695,0,-3.5355904731176385E+50,-44.770821770999781,-2.5100199196022536E+50,2.4900200795977737E+50,-2.5100199196022536E+50,2.4900200795977737E+50,2.5100199196022536E+50,-2.4900200795977737E+50,-1,0,1,180]
[44.700000000000365,0.78016217564147172,9.9999999999999997E+98,-1.2500000000000001E+101,1.2500399993600206E+101,-89.541643541999562,0.70339470281050842,-0.50523589205811648,0.70339470281050842,0,0.70339470281050842,0,-3.5355904731176385E+50,-44.770821770999781,-2.5100199196022536E+50,2.4900200795977737E+50,-2.5100199196022536E+50,2.4900200795977737E+50,2.5100199196022536E+50,-2.4900200795977737E+50,-1,0,1,180]
[44.800000000000367,0.78190750489346605,9.9999999999999997E+98,-1.2500000000000001E+101,1.2500399993600206E+101,-89.541643541999562,0.70463420996359927,-0.50349063014897433,0.70463420996359927,0,0.70463420996359927,0,-3.5355904731176385E+50,-44.770821770999781,-2.5100199196022536E+50,2.4900200795977737E+50,-2.5100199196022536E+50,2.4900200795977737E+50,2.5100199196022536E+50,-2.4900200795977737E+50,-1,0,1,180]
[44.900000000000368,{"$f":"A454*PI()/180","v":0.78365283414546039},{"$f":"$D$1","v":9.9999999999999997E+98},{"$f":"-(18000*$G$1/$N$1)","v":-1.2500000000000001E+101},{"$f":"(C454^2+D454^2)^0.5","v":1.2500399993600206E+101},{"$f":"(180/PI())*ATAN(D454/C454)","v":-89.541643541999562},{"$f":"SIN(B454)","v":0.70587157067868556},{"$f":"-((COS(B454))^2)","v":-0.50174532570760555},{"$f":"G454","v":0.70587157067868556},0,{"$f":"(((I454^2)/(1+(TAN(J454*(PI()/180)))^2))^0.5)","v":0.70587157067868556},{"$f":"K454*TAN(J454*(PI()/180))","v":0},{"$f":"-(((((C454+H454)^2)+(D454)^2)^0.5)^0.5)","v":-3.5355904731176385E+50},{"$f":"((ATAN(D454/(C454+H454)))*(180/PI()))/2","v":-44.770821770999781},{"$f":"-(((M454^2)/(1+(TAN(N454*(PI()/180)))^2))^0.5)","v":-2.5100199196022536E+50},{"$f":"O454*TAN(N454*(PI()/180))","v":2.4900200795977737E+50},-2.5100199196022536E+50,2.4900200795977737E+50,{"$f":"-O454+K454","v":2.5100199196022536E+50},{"$f":"L454-P454","v":-2.4900200795977737E+50},{"$f":"(Q454*S454+T454*R454)/((S454^2)+(T454^2))","v":-1},{"$f":"(R454*S454-Q454*T454)/((S454^2)+(T454^2))","v":0},{"$f":"((U454^2)+(V454^2))^0.5","v":1},{"$f":"(ACOS(U454/W454))*(180/PI())","v":180}]
[{"$f":"A454+0.1","v":45.000000000000369},0.78539816339745472,9.9999999999999997E+98,-1.2500000000000001E+101,1.2500399993600206E+101,-89.541643541999562,0.70710678118655201,-0.49999999999999362,0.70710678118655201,0,0.70710678118655201,0,-3.5355904731176385E+50,-44.770821770999781,-2.5100199196022536E+50,2.4900200795977737E+50,-2.5100199196022536E+50,2.4900200795977737E+50,2.5100199196022536E+50,-2.4900200795977737E+50,-1,0,1,180]
[45.100000000000371,0.78714349264944905,9.9999999999999997E+98,-1.2500000000000001E+101,1.2500399993600206E+101,-89.541643541999562,0.70833983772453335,-0.49825467429238174,0.70833983772453335,0,0.70833983772453335,0,-3.5355904731176385E+50,-44.770821770999781,-2.5100199196022536E+50,2.4900200795977737E+50,-2.5100199196022536E+50,2.4900200795977737E+50,2.5100199196022536E+50,-2.4900200795977737E+50,-1,0,1,180]
[45.200000000000372,0.78888882190144349,9.9999999999999997E+98,-1.2500000000000001E+101,1.2500399993600206E+101,-89.541643541999562,0.70957073653652547,-0.49650936985101274,0.70957073653652547,0,0.70957073653652547,0,-3.5355904731176385E+50,-44.770821770999781,-2.5100199196022536E+50,2.4900200795977737E+50,-2.5100199196022536E+50,2.4900200795977737E+50,2.5100199196022536E+50,-2.4900200795977737E+50,-1,0,1,180]
[45.300000000000374,0.79063415115343771,9.9999999999999997E+98,-1.2500000000000001E+101,1.2500399993600206E+101,-89.541643541999562,0.71079947387299702,-0.49476410794187065,0.71079947387299702,0,0.71079947387299702,0,-3.5355904731176385E+50,-44.770821770999781,-2.5100199196022536E+50,2.4900200795977737E+50,-2.5100199196022536E+50,2.4900200795977737E+50,2.5100199196022536E+50,-2.4900200795977737E+50,-1,0,1,180]
[45.400000000000375,0.79237948040543216,9.9999999999999997E+98,-1.2500000000000001E+101,1.2500399993600206E+101,-89.541643541999562,0.71202604599100106,-0.49301890983042079,0.71202604599100106,0,0.71202604599100106,0,-3.5355904731176385E+50,-44.770821770999781,-2.5100199196022536E+50,2.4900200795977737E+50,-2.5100199196022536E+50,2.4900200795977737E+50,2.5100199196022536E+50,-2.4900200795977737E+50,-1,0,1,180]
[45.500000000000377,0.7941248096574266,9.9999999999999997E+98,-1.2500000000000001E+101,1.2500399993600206E+101,-89.541643541999562,0.71325044915418623,-0.49127379678135152,0.71325044915418623,0,0.71325044915418623,0,-3.5355904731176385E+50,-44.770821770999781,-2.5100199196022536E+50,2.4900200795977737E+50,-2.5100199196022536E+50,2.4900200795977737E+50,2.5100199196022536E+50,-2.4900200795977737E+50,-1,0,1,180]
[45.600000000000378,0.79587013890942082,9.9999999999999997E+98,-1.2500000000000001E+101,1.2500399993600206E+101,-89.541643541999562,0.71447267963280792,-0.48952879005831501,0.71447267963280792,0,0.71447267963280792,0,-3.5355904731176385E+50,-44.770821770999781,-2.5100199196022536E+50,2.4900200795977737E+50,-2.5100199196022536E+50,2.4900200795977737E+50,2.5100199196022536E+50,-2.4900200795977737E+50,-1,0,1,180]
[45.700000000000379,0.79761546816141526,9.9999999999999997E+98,-1.2500000000000001E+101,1.2500399993600206E+101,-89.541643541999562,0.71569273370374054,-0.48778391092366685,0.71569273370374054,0,0.71569273370374054,0,-3.5355904731176385E+50,-44.770821770999781,-2.5100199196022536E+50,2.4900200795977737E+50,-2.5100199196022536E+50,2.4900200795977737E+50,2.5100199196022536E+50,-2.4900200795977737E+50,-1,0,1,180]
[45.800000000000381,0.79936079741340949,9.9999999999999997E+98,-1.2500000000000001E+101,1.2500399993600206E+101,-89.541643541999562,0.71691060765048731,-0.48603918063820911,0.71691060765048731,0,0.71691060765048731,0,-3.5355904731176385E+50,-44.770821770999781,-2.5100199196022536E+50,2.4900200795977737E+50,-2.5100199196022536E+50,2.4900200795977737E+50,2.5100199196022536E+50,-2.4900200795977737E+50,-1,0,1,180]
[45.900000000000382,0.80110612666540393,9.9999999999999997E+98,-1.2500000000000001E+101,1.2500399993600206E+101,-89.541643541999562,0.71812629776319348,-0.48429462046092919,0.71812629776319348,0,0.71812629776319348,0,-3.5355904731176385E+50,-44.770821770999781,-2.5100199196022536E+50,2.4900200795977737E+50,-2.5100199196022536E+50,2.4900200795977737E+50,2.5100199196022536E+50,-2.4900200795977737E+50,-1,0,1,180]
[46.000000000000384,0.80285145591739837,9.9999999999999997E+98,-1.2500000000000001E+101,1.2500399993600206E+101,-89.541643541999562,0.71933980033865585,-0.48255025164874266,0.71933980033865585,0,0.71933980033865585,0,-3.5355904731176385E+50,-44.770821770999781,-2.5100199196022536E+50,2.4900200795977737E+50,-2.5100199196022536E+50,2.4900200795977737E+50,2.5100199196022536E+50,-2.4900200795977737E+50,-1,0,1,180]
[46.100000000000385,0.80459678516939259,9.9999999999999997E+98,-1.2500000000000001E+101,1.2500399993600206E+101,-89.541643541999562,0.72055111168033503,-0.48080609545623343,0.72055111168033503,0,0.72055111168033503,0,-3.5355904731176385E+50,-44.770821770999781,-2.5100199196022536E+50,2.4900200795977737E+50,-2.5100199196022536E+50,2.4900200795977737E+50,2.5100199196022536E+50,-2.4900200795977737E+50,-1,0,1,180]
[46.200000000000387,0.80634211442138704,9.9999999999999997E+98,-1.2500000000000001E+101,1.2500399993600206E+101,-89.541643541999562,0.72176022809836693,-0.4790621731353934,0.72176022809836693,0,0.72176022809836693,0,-3.5355904731176385E+50,-44.770821770999781,-2.5100199196022536E+50,2.4900200795977737E+50,-2.5100199196022536E+50,2.4900200795977737E+50,2.5100199196022536E+50,-2.4900200795977737E+50,-1,0,1,180]
[46.300000000000388,0.80808744367338126,9.9999999999999997E+98,-1.2500000000000001E+101,1.2500399993600206E+101,-89.541643541999562,0.72296714590957278,-0.47731850593536645,0.72296714590957278,0,0.72296714590957278,0,-3.5355904731176385E+50,-44.770821770999781,-2.5100199196022536E+50,2.4900200795977737E+50,-2.5100199196022536E+50,2.4900200795977737E+50,2.5100199196022536E+50,-2.4900200795977737E+50,-1,0,1,180]
[46.400000000000389,0.8098327729253757,9.9999999999999997E+98,-1.2500000000000001E+101,1.2500399993600206E+101,-89.541643541999562,0.72417186143747214,-0.47557511510218664,0.72417186143747214,0,0.72417186143747214,0,-3.5355904731176385E+50,-44.770821770999781,-2.5100199196022536E+50,2.4900200795977737E+50,-2.5100199196022536E+50,2.4900200795977737E+50,2.5100199196022536E+50,-2.4900200795977737E+50,-1,0,1,180]
[46.500000000000391,0.81157810217737014,9.9999999999999997E+98,-1.2500000000000001E+101,1.2500399993600206E+101,-89.541643541999562,0.72537437101229241,-0.47383202187852125,0.72537437101229241,0,0.72537437101229241,0,-3.5355904731176385E+50,-44.770821770999781,-2.5100199196022536E+50,2.4900200795977737E+50,-2.5100199196022536E+50,2.4900200795977737E+50,2.5100199196022536E+50,-2.4900200795977737E+50,-1,0,1,180]
[46.600000000000392,0.81332343142936436,9.9999999999999997E+98,-1.2500000000000001E+101,1.2500399993600206E+101,-89.541643541999562,0.72657467097098061,-0.47208924750341136,0.72657467097098061,0,0.72657467097098061,0,-3.5355904731176385E+50,-44.770821770999781,-2.5100199196022536E+50,2.4900200795977737E+50,-2.5100199196022536E+50,2.4900200795977737E+50,2.5100199196022536E+50,-2.4900200795977737E+50,-1,0,1,180]
[46.700000000000394,0.81506876068135881,9.9999999999999997E+98,-1.2500000000000001E+101,1.2500399993600206E+101,-89.541643541999562,0.72777275765721516,-0.47034681321201238,0.72777275765721516,0,0.72777275765721516,0,-3.5355904731176385E+50,-44.770821770999781,-2.5100199196022536E+50,2.4900200795977737E+50,-2.5100199196022536E+50,2.4900200795977737E+50,2.5100199196022536E+50,-2.4900200795977737E+50,-1,0,1,180]
[46.800000000000395,0.81681408993335303,9.9999999999999997E+98,-1.2500000000000001E+101,1.2500399993600206E+101,-89.541643541999562,0.72896862742141622,-0.46860474023533655,0.72896862742141622,0,0.72896862742141622,0,-3.5355904731176385E+50,-44.770821770999781,-2.5100199196022536E+50,2.4900200795977737E+50,-2.5100199196022536E+50,2.4900200795977737E+50,2.5100199196022536E+50,-2.4900200795977737E+50,-1,0,1,180]
[46.900000000000396,0.81855941918534747,9.9999999999999997E+98,-1.2500000000000001E+101,1.2500399993600206E+101,-89.541643541999562,0.73016227662075706,-0.46686304979999305,0.73016227662075706,0,0.73016227662075706,0,-3.5355904731176385E+50,-44.770821770999781,-2.5100199196022536E+50,2.4900200795977737E+50,-2.5100199196022536E+50,2.4900200795977737E+50,2.5100199196022536E+50,-2.4900200795977737E+50,-1,0,1,180]
[47.000000000000398,0.82030474843734191,9.9999999999999997E+98,-1.2500000000000001E+101,1.2500399993600206E+101,-89.541643541999562,0.73135370161917523,-0.46512176312793035,0.73135370161917523,0,0.73135370161917523,0,-3.5355904731176385E+50,-44.770821770999781,-2.5100199196022536E+50,2.4900200795977737E+50,-2.5100199196022536E+50,2.4900200795977737E+50,2.5100199196022536E+50,-2.4900200795977737E+50,-1,0,1,180]
[47.100000000000399,0.82205007768933613,9.9999999999999997E+98,-1.2500000000000001E+101,1.2500399993600206E+101,-89.541643541999562,0.73254289878738343,-0.46338090143617722,0.73254289878738343,0,0.73254289878738343,0,-3.5355904731176385E+50,-44.770821770999781,-2.5100199196022536E+50,2.4900200795977737E+50,-2.5100199196022536E+50,2.4900200795977737E+50,2.5100199196022536E+50,-2.4900200795977737E+50,-1,0,1,180]
[47.200000000000401,0.82379540694133058,9.9999999999999997E+98,-1.2500000000000001E+101,1.2500399993600206E+101,-89.541643541999562,0.73372986450288114,-0.46164048593658369,0.73372986450288114,0,0.73372986450288114,0,-3.5355904731176385E+50,-44.770821770999781,-2.5100199196022536E+50,2.4900200795977737E+50,-2.5100199196022536E+50,2.4900200795977737E+50,2.5100199196022536E+50,-2.4900200795977737E+50,-1,0,1,180]
[47.300000000000402,0.8255407361933248,9.9999999999999997E+98,-1.2500000000000001E+101,1.2500399993600206E+101,-89.541643541999562,0.7349145951499646,-0.45990053783556362,0.7349145951499646,0,0.7349145951499646,0,-3.5355904731176385E+50,-44.770821770999781,-2.5100199196022536E+50,2.4900200795977737E+50,-2.5100199196022536E+50,2.4900200795977737E+50,2.5100199196022536E+50,-2.4900200795977737E+50,-1,0,1,180]
[47.400000000000404,0.82728606544531924,9.9999999999999997E+98,-1.2500000000000001E+101,1.2500399993600206E+101,-89.541643541999562,0.73609708711973909,-0.45816107833383535,0.73609708711973909,0,0.73609708711973909,0,-3.5355904731176385E+50,-44.770821770999781,-2.5100199196022536E+50,2.4900200795977737E+50,-2.5100199196022536E+50,2.4900200795977737E+50,2.5100199196022536E+50,-2.4900200795977737E+50,-1,0,1,180]
[47.500000000000405,0.82903139469731368,9.9999999999999997E+98,-1.2500000000000001E+101,1.2500399993600206E+101,-89.541643541999562,0.73727733681012886,-0.45642212862616388,0.73727733681012886,0,0.73727733681012886,0,-3.5355904731176385E+50,-44.770821770999781,-2.5100199196022536E+50,2.4900200795977737E+50,-2.5100199196022536E+50,2.4900200795977737E+50,2.5100199196022536E+50,-2.4900200795977737E+50,-1,0,1,180]
[47.600000000000406,0.8307767239493079,9.9999999999999997E+98,-1.2500000000000001E+101,1.2500399993600206E+101,-89.541643541999562,0.73845534062588858,-0.45468370990110291,0.73845534062588858,0,0.73845534062588858,0,-3.5355904731176385E+50,-44.770821770999781,-2.5100199196022536E+50,2.4900200795977737E+50,{"$f":"K481+O481","v":-2.5100199196022536E+50},2.4900200795977737E+50,2.5100199196022536E+50,-2.4900200795977737E+50,-1,0,1,180]
[47.700000000000408,0.83252205320130235,9.9999999999999997E+98,-1.2500000000000001E+101,1.2500399993600206E+101,-89.541643541999562,0.73963109497861446,-0.45294584334073579,0.73963109497861446,0,0.73963109497861446,0,-3.5355904731176385E+50,-44.770821770999781,-2.5100199196022536E+50,2.4900200795977737E+50,-2.5100199196022536E+50,2.4900200795977737E+50,2.5100199196022536E+50,-2.4900200795977737E+50,-1,0,1,180]
[47.800000000000409,0.83426738245329657,9.9999999999999997E+98,-1.2500000000000001E+101,1.2500399993600206E+101,-89.541643541999562,0.74080459628675477,-0.45120855012041822,0.74080459628675477,0,0.74080459628675477,0,-3.5355904731176385E+50,-44.770821770999781,-2.5100199196022536E+50,2.4900200795977737E+50,-2.5100199196022536E+50,2.4900200795977737E+50,2.5100199196022536E+50,-2.4900200795977737E+50,-1,0,1,180]
[47.900000000000411,0.83601271170529101,9.9999999999999997E+98,-1.2500000000000001E+101,1.2500399993600206E+101,-89.541643541999562,0.74197584097562119,-0.44947185140851975,0.74197584097562119,0,0.74197584097562119,0,-3.5355904731176385E+50,-44.770821770999781,-2.5100199196022536E+50,2.4900200795977737E+50,-2.5100199196022536E+50,2.4900200795977737E+50,2.5100199196022536E+50,-2.4900200795977737E+50,-1,0,1,180]
[48.000000000000412,0.83775804095728545,9.9999999999999997E+98,-1.2500000000000001E+101,1.2500399993600206E+101,-89.541643541999562,0.74314482547739913,-0.44773576836616602,0.74314482547739913,0,0.74314482547739913,0,-3.5355904731176385E+50,-44.770821770999781,-2.5100199196022536E+50,2.4900200795977737E+50,-2.5100199196022536E+50,2.4900200795977737E+50,2.5100199196022536E+50,-2.4900200795977737E+50,-1,0,1,180]
[48.100000000000414,0.83950337020927968,9.9999999999999997E+98,-1.2500000000000001E+101,1.2500399993600206E+101,-89.541643541999562,0.7443115462311588,-0.44600032214698138,0.7443115462311588,0,0.7443115462311588,0,-3.5355904731176385E+50,-44.770821770999781,-2.5100199196022536E+50,2.4900200795977737E+50,-2.5100199196022536E+50,2.4900200795977737E+50,2.5100199196022536E+50,-2.4900200795977737E+50,-1,0,1,180]
[48.200000000000415,0.84124869946127412,9.9999999999999997E+98,-1.2500000000000001E+101,1.2500399993600206E+101,-89.541643541999562,0.74547599968286704,-0.44426553389683004,0.74547599968286704,0,0.74547599968286704,0,-3.5355904731176385E+50,-44.770821770999781,-2.5100199196022536E+50,2.4900200795977737E+50,-2.5100199196022536E+50,2.4900200795977737E+50,2.5100199196022536E+50,-2.4900200795977737E+50,-1,0,1,180]
[48.300000000000416,0.84299402871326834,9.9999999999999997E+98,-1.2500000000000001E+101,1.2500399993600206E+101,-89.541643541999562,0.74663818228539613,-0.44253142475355967,0.74663818228539613,0,0.74663818228539613,0,-3.5355904731176385E+50,-44.770821770999781,-2.5100199196022536E+50,2.4900200795977737E+50,-2.5100199196022536E+50,2.4900200795977737E+50,2.5100199196022536E+50,-2.4900200795977737E+50,-1,0,1,180]
[48.400000000000418,0.84473935796526278,9.9999999999999997E+98,-1.2500000000000001E+101,1.2500399993600206E+101,-89.541643541999562,0.74779809049853674,-0.44079801584674233,0.74779809049853674,0,0.74779809049853674,0,-3.5355904731176385E+50,-44.770821770999781,-2.5100199196022536E+50,2.4900200795977737E+50,-2.5100199196022536E+50,2.4900200795977737E+50,2.5100199196022536E+50,-2.4900200795977737E+50,-1,0,1,180]
[48.500000000000419,0.84648468721725723,9.9999999999999997E+98,-1.2500000000000001E+101,1.2500399993600206E+101,-89.541643541999562,0.74895572078900707,-0.43906532829741896,0.74895572078900707,0,0.74895572078900707,0,-3.5355904731176385E+50,-44.770821770999781,-2.5100199196022536E+50,2.4900200795977737E+50,-2.5100199196022536E+50,2.4900200795977737E+50,2.5100199196022536E+50,-2.4900200795977737E+50,-1,0,1,180]
[48.600000000000421,0.84823001646925145,9.9999999999999997E+98,-1.2500000000000001E+101,1.2500399993600206E+101,-89.541643541999562,0.75011106963046437,-0.4373333832178406,0.75011106963046437,0,0.75011106963046437,0,-3.5355904731176385E+50,-44.770821770999781,-2.5100199196022536E+50,2.4900200795977737E+50,-2.5100199196022536E+50,2.4900200795977737E+50,2.5100199196022536E+50,-2.4900200795977737E+50,-1,0,1,180]
[48.700000000000422,0.84997534572124589,9.9999999999999997E+98,-1.2500000000000001E+101,1.2500399993600206E+101,-89.541643541999562,0.75126413350351595,-0.43560220171121128,0.75126413350351595,0,0.75126413350351595,0,-3.5355904731176385E+50,-44.770821770999781,-2.5100199196022536E+50,2.4900200795977737E+50,-2.5100199196022536E+50,2.4900200795977737E+50,2.5100199196022536E+50,-2.4900200795977737E+50,-1,0,1,180]
[48.800000000000423,0.85172067497324011,9.9999999999999997E+98,-1.2500000000000001E+101,1.2500399993600206E+101,-89.541643541999562,0.75241490889572915,-0.43387180487143157,0.75241490889572915,0,0.75241490889572915,0,-3.5355904731176385E+50,-44.770821770999781,-2.5100199196022536E+50,2.4900200795977737E+50,-2.5100199196022536E+50,2.4900200795977737E+50,2.5100199196022536E+50,-2.4900200795977737E+50,-1,0,1,180]
[48.900000000000425,0.85346600422523455,9.9999999999999997E+98,-1.2500000000000001E+101,1.2500399993600206E+101,-89.541643541999562,0.75356339230164271,-0.43214221378284057,0.75356339230164271,0,0.75356339230164271,0,-3.5355904731176385E+50,-44.770821770999781,-2.5100199196022536E+50,2.4900200795977737E+50,-2.5100199196022536E+50,2.4900200795977737E+50,2.5100199196022536E+50,-2.4900200795977737E+50,-1,0,1,180]
[49.000000000000426,0.85521133347722877,9.9999999999999997E+98,-1.2500000000000001E+101,1.2500399993600206E+101,-89.541643541999562,0.75470958022277679,-0.43041344951996013,0.75470958022277679,0,0.75470958022277679,0,-3.5355904731176385E+50,-44.770821770999781,-2.5100199196022536E+50,2.4900200795977737E+50,-2.5100199196022536E+50,2.4900200795977737E+50,2.5100199196022536E+50,-2.4900200795977737E+50,-1,0,1,180]
[49.100000000000428,0.85695666272922322,9.9999999999999997E+98,-1.2500000000000001E+101,1.2500399993600206E+101,-89.541643541999562,0.7558534691676444,-0.4286855331472369,0.7558534691676444,0,0.7558534691676444,0,-3.5355904731176385E+50,-44.770821770999781,-2.5100199196022536E+50,2.4900200795977737E+50,-2.5100199196022536E+50,2.4900200795977737E+50,2.5100199196022536E+50,-2.4900200795977737E+50,-1,0,1,180]
[49.200000000000429,0.85870199198121766,9.9999999999999997E+98,-1.2500000000000001E+101,1.2500399993600206E+101,-89.541643541999562,0.75699505565176128,-0.4269584857187867,0.75699505565176128,0,0.75699505565176128,0,-3.5355904731176385E+50,-44.770821770999781,-2.5100199196022536E+50,2.4900200795977737E+50,-2.5100199196022536E+50,2.4900200795977737E+50,2.5100199196022536E+50,-2.4900200795977737E+50,-1,0,1,180]
[49.300000000000431,0.86044732123321188,9.9999999999999997E+98,-1.2500000000000001E+101,1.2500399993600206E+101,-89.541643541999562,0.75813433619765702,-0.42523232827813789,0.75813433619765702,0,0.75813433619765702,0,-3.5355904731176385E+50,-44.770821770999781,-2.5100199196022536E+50,2.4900200795977737E+50,-2.5100199196022536E+50,2.4900200795977737E+50,2.5100199196022536E+50,-2.4900200795977737E+50,-1,0,1,180]
[49.400000000000432,0.86219265048520632,9.9999999999999997E+98,-1.2500000000000001E+101,1.2500399993600206E+101,-89.541643541999562,0.75927130733488568,-0.42350708185797359,0.75927130733488568,0,0.75927130733488568,0,-3.5355904731176385E+50,-44.770821770999781,-2.5100199196022536E+50,2.4900200795977737E+50,-2.5100199196022536E+50,2.4900200795977737E+50,2.5100199196022536E+50,-2.4900200795977737E+50,-1,0,1,180]
[49.500000000000433,0.86393797973720055,9.9999999999999997E+98,-1.2500000000000001E+101,1.2500399993600206E+101,-89.541643541999562,0.7604059656000357,-0.4217827674798772,0.7604059656000357,0,0.7604059656000357,0,-3.5355904731176385E+50,-44.770821770999781,-2.5100199196022536E+50,2.4900200795977737E+50,-2.5100199196022536E+50,2.4900200795977737E+50,2.5100199196022536E+50,-2.4900200795977737E+50,-1,0,1,180]
[49.600000000000435,0.86568330898919499,9.9999999999999997E+98,-1.2500000000000001E+101,1.2500399993600206E+101,-89.541643541999562,0.76153830753674157,-0.42005940615407511,0.76153830753674157,0,0.76153830753674157,0,-3.5355904731176385E+50,-44.770821770999781,-2.5100199196022536E+50,2.4900200795977737E+50,-2.5100199196022536E+50,2.4900200795977737E+50,2.5100199196022536E+50,-2.4900200795977737E+50,-1,0,1,180]
[49.700000000000436,0.86742863824118943,9.9999999999999997E+98,-1.2500000000000001E+101,1.2500399993600206E+101,-89.541643541999562,0.7626683296956932,-0.41833701887918129,0.7626683296956932,0,0.7626683296956932,0,-3.5355904731176385E+50,-44.770821770999781,-2.5100199196022536E+50,2.4900200795977737E+50,-2.5100199196022536E+50,2.4900200795977737E+50,2.5100199196022536E+50,-2.4900200795977737E+50,-1,0,1,180]
[49.800000000000438,0.86917396749318365,9.9999999999999997E+98,-1.2500000000000001E+101,1.2500399993600206E+101,-89.541643541999562,0.76379602863464702,-0.41661562664194152,0.76379602863464702,0,0.76379602863464702,0,-3.5355904731176385E+50,-44.770821770999781,-2.5100199196022536E+50,2.4900200795977737E+50,-2.5100199196022536E+50,2.4900200795977737E+50,2.5100199196022536E+50,-2.4900200795977737E+50,-1,0,1,180]
[49.900000000000439,0.8709192967451781,9.9999999999999997E+98,-1.2500000000000001E+101,1.2500399993600206E+101,-89.541643541999562,0.76492140091843674,-0.41489525041697628,0.76492140091843674,0,0.76492140091843674,0,-3.5355904731176385E+50,-44.770821770999781,-2.5100199196022536E+50,2.4900200795977737E+50,-2.5100199196022536E+50,2.4900200795977737E+50,2.5100199196022536E+50,-2.4900200795977737E+50,-1,0,1,180]
[50.000000000000441,0.87266462599717243,9.9999999999999997E+98,-1.2500000000000001E+101,1.2500399993600206E+101,-89.541643541999562,0.7660444431189829,-0.4131759111665273,0.7660444431189829,0,0.7660444431189829,0,-3.5355904731176385E+50,-44.770821770999781,-2.5100199196022536E+50,2.4900200795977737E+50,-2.5100199196022536E+50,2.4900200795977737E+50,2.5100199196022536E+50,-2.4900200795977737E+50,-1,0,1,180]
[50.100000000000442,0.87440995524916676,9.9999999999999997E+98,-1.2500000000000001E+101,1.2500399993600206E+101,-89.541643541999562,0.76716515181530442,-0.41145762984020084,0.76716515181530442,0,0.76716515181530442,0,-3.5355904731176385E+50,-44.770821770999781,-2.5100199196022536E+50,2.4900200795977737E+50,-2.5100199196022536E+50,2.4900200795977737E+50,2.5100199196022536E+50,-2.4900200795977737E+50,-1,0,1,180]
[50.200000000000443,0.8761552845011612,9.9999999999999997E+98,-1.2500000000000001E+101,1.2500399993600206E+101,-89.541643541999562,0.76828352359352836,-0.40974042737471245,0.76828352359352836,0,0.76828352359352836,0,-3.5355904731176385E+50,-44.770821770999781,-2.5100199196022536E+50,2.4900200795977737E+50,-2.5100199196022536E+50,2.4900200795977737E+50,2.5100199196022536E+50,-2.4900200795977737E+50,-1,0,1,180]
[50.300000000000445,0.87790061375315542,9.9999999999999997E+98,-1.2500000000000001E+101,1.2500399993600206E+101,-89.541643541999562,0.76939955504689994,-0.40802432469363248,0.76939955504689994,0,0.76939955504689994,0,-3.5355904731176385E+50,-44.770821770999781,-2.5100199196022536E+50,2.4900200795977737E+50,-2.5100199196022536E+50,2.4900200795977737E+50,2.5100199196022536E+50,-2.4900200795977737E+50,-1,0,1,180]
[50.400000000000446,0.87964594300514987,9.9999999999999997E+98,-1.2500000000000001E+101,1.2500399993600206E+101,-89.541643541999562,0.77051324277579414,-0.40630934270713009,0.77051324277579414,0,0.77051324277579414,0,-3.5355904731176385E+50,-44.770821770999781,-2.5100199196022536E+50,2.4900200795977737E+50,-2.5100199196022536E+50,2.4900200795977737E+50,2.5100199196022536E+50,-2.4900200795977737E+50,-1,0,1,180]
[50.500000000000448,0.8813912722571442,9.9999999999999997E+98,-1.2500000000000001E+101,1.2500399993600206E+101,-89.541643541999562,0.77162458338772488,-0.40459550231171998,0.77162458338772488,0,0.77162458338772488,0,-3.5355904731176385E+50,-44.770821770999781,-2.5100199196022536E+50,2.4900200795977737E+50,-2.5100199196022536E+50,2.4900200795977737E+50,2.5100199196022536E+50,-2.4900200795977737E+50,-1,0,1,180]
[50.600000000000449,0.88313660150913853,9.9999999999999997E+98,-1.2500000000000001E+101,1.2500399993600206E+101,-89.541643541999562,0.77273357349735594,-0.40288282439000639,0.77273357349735594,0,0.77273357349735594,0,-3.5355904731176385E+50,-44.770821770999781,-2.5100199196022536E+50,2.4900200795977737E+50,-2.5100199196022536E+50,2.4900200795977737E+50,2.5100199196022536E+50,-2.4900200795977737E+50,-1,0,1,180]
[50.70000000000045,0.88488193076113297,9.9999999999999997E+98,-1.2500000000000001E+101,1.2500399993600206E+101,-89.541643541999562,0.77384020972651113,-0.40117132981042919,0.77384020972651113,0,0.77384020972651113,0,-3.5355904731176385E+50,-44.770821770999781,-2.5100199196022536E+50,2.4900200795977737E+50,-2.5100199196022536E+50,2.4900200795977737E+50,2.5100199196022536E+50,-2.4900200795977737E+50,-1,0,1,180]
[50.800000000000452,0.88662726001312719,9.9999999999999997E+98,-1.2500000000000001E+101,1.2500399993600206E+101,-89.541643541999562,0.77494448870418453,-0.39946103942701,0.77494448870418453,0,0.77494448870418453,0,-3.5355904731176385E+50,-44.770821770999781,-2.5100199196022536E+50,2.4900200795977737E+50,-2.5100199196022536E+50,2.4900200795977737E+50,2.5100199196022536E+50,-2.4900200795977737E+50,-1,0,1,180]
[50.900000000000453,0.88837258926512164,9.9999999999999997E+98,-1.2500000000000001E+101,1.2500399993600206E+101,-89.541643541999562,0.77604640706655093,-0.39775197407909718,0.77604640706655093,0,0.77604640706655093,0,-3.5355904731176385E+50,-44.770821770999781,-2.5100199196022536E+50,2.4900200795977737E+50,-2.5100199196022536E+50,2.4900200795977737E+50,2.5100199196022536E+50,-2.4900200795977737E+50,-1,0,1,180]
[51.000000000000455,0.89011791851711597,9.9999999999999997E+98,-1.2500000000000001E+101,1.2500399993600206E+101,-89.541643541999562,0.77714596145697579,-0.39604415459111258,0.77714596145697579,0,0.77714596145697579,0,-3.5355904731176385E+50,-44.770821770999781,-2.5100199196022536E+50,2.4900200795977737E+50,-2.5100199196022536E+50,2.4900200795977737E+50,2.5100199196022536E+50,-2.4900200795977737E+50,-1,0,1,180]
[51.100000000000456,0.8918632477691103,9.9999999999999997E+98,-1.2500000000000001E+101,1.2500399993600206E+101,-89.541643541999562,0.77824314852602594,-0.39433760177229804,0.77824314852602594,0,0.77824314852602594,0,-3.5355904731176385E+50,-44.770821770999781,-2.5100199196022536E+50,2.4900200795977737E+50,-2.5100199196022536E+50,2.4900200795977737E+50,2.5100199196022536E+50,-2.4900200795977737E+50,-1,0,1,180]
[51.200000000000458,0.89360857702110474,9.9999999999999997E+98,-1.2500000000000001E+101,1.2500399993600206E+101,-89.541643541999562,0.77933796493147911,-0.39263233641646061,0.77933796493147911,0,0.77933796493147911,0,-3.5355904731176385E+50,-44.770821770999781,-2.5100199196022536E+50,2.4900200795977737E+50,-2.5100199196022536E+50,2.4900200795977737E+50,2.5100199196022536E+50,-2.4900200795977737E+50,-1,0,1,180]
[51.300000000000459,{"$f":"A518*PI()/180","v":0.89535390627309908},{"$f":"$D$1","v":9.9999999999999997E+98},{"$f":"-(18000*$G$1/$N$1)","v":-1.2500000000000001E+101},{"$f":"(C518^2+D518^2)^0.5","v":1.2500399993600206E+101},{"$f":"(180/PI())*ATAN(D518/C518)","v":-89.541643541999562},{"$f":"SIN(B518)","v":0.78043040733833469},{"$f":"-((COS(B518))^2)","v":-0.39092837930172097},{"$f":"G518","v":0.78043040733833469},0,{"$f":"(((I518^2)/(1+(TAN(J518*(PI()/180)))^2))^0.5)","v":0.78043040733833469},{"$f":"K518*TAN(J518*(PI()/180))","v":0},{"$f":"-(((((C518+H518)^2)+(D518)^2)^0.5)^0.5)","v":-3.5355904731176385E+50},{"$f":"((ATAN(D518/(C518+H518)))*(180/PI()))/2","v":-44.770821770999781},{"$f":"-(((M518^2)/(1+(TAN(N518*(PI()/180)))^2))^0.5)","v":-2.5100199196022536E+50},{"$f":"O518*TAN(N518*(PI()/180))","v":2.4900200795977737E+50},-2.5100199196022536E+50,2.4900200795977737E+50,{"$f":"-O518+K518","v":2.5100199196022536E+50},{"$f":"L518-P518","v":-2.4900200795977737E+50},{"$f":"(Q518*S518+T518*R518)/((S518^2)+(T518^2))","v":-1},{"$f":"(R518*S518-Q518*T518)/((S518^2)+(T518^2))","v":0},{"$f":"((U518^2)+(V518^2))^0.5","v":1},{"$f":"(ACOS(U518/W518))*(180/PI())","v":180}]
[{"$f":"A518+0.1","v":51.40000000000046},0.89709923552509341,9.9999999999999997E+98,-1.2500000000000001E+101,1.2500399993600206E+101,-89.541643541999562,0.78152047241882372,-0.3892257511902586,0.78152047241882372,0,0.78152047241882372,0,-3.5355904731176385E+50,-44.770821770999781,-2.5100199196022536E+50,2.4900200795977737E+50,-2.5100199196022536E+50,2.4900200795977737E+50,2.5100199196022536E+50,-2.4900200795977737E+50,-1,0,1,180]
[51.500000000000462,0.89884456477708774,9.9999999999999997E+98,-1.2500000000000001E+101,1.2500399993600206E+101,-89.541643541999562,0.78260815685241891,-0.38752447282805974,0.78260815685241891,0,0.78260815685241891,0,-3.5355904731176385E+50,-44.770821770999781,-2.5100199196022536E+50,2.4900200795977737E+50,-2.5100199196022536E+50,2.4900200795977737E+50,2.5100199196022536E+50,-2.4900200795977737E+50,-1,0,1,180]
[51.600000000000463,0.90058989402908207,9.9999999999999997E+98,-1.2500000000000001E+101,1.2500399993600206E+101,-89.541643541999562,0.78369345732584472,-0.38582456494466433,0.78369345732584472,0,0.78369345732584472,0,-3.5355904731176385E+50,-44.770821770999781,-2.5100199196022536E+50,2.4900200795977737E+50,-2.5100199196022536E+50,2.4900200795977737E+50,2.5100199196022536E+50,-2.4900200795977737E+50,-1,0,1,180]
[51.700000000000465,0.90233522328107652,9.9999999999999997E+98,-1.2500000000000001E+101,1.2500399993600206E+101,-89.541643541999562,0.78477637053308791,-0.38412604825291335,0.78477637053308791,0,0.78477637053308791,0,-3.5355904731176385E+50,-44.770821770999781,-2.5100199196022536E+50,2.4900200795977737E+50,-2.5100199196022536E+50,2.4900200795977737E+50,2.5100199196022536E+50,-2.4900200795977737E+50,-1,0,1,180]
[51.800000000000466,0.90408055253307085,9.9999999999999997E+98,-1.2500000000000001E+101,1.2500399993600206E+101,-89.541643541999562,0.78585689317540686,-0.3824289434486971,0.78585689317540686,0,0.78585689317540686,0,-3.5355904731176385E+50,-44.770821770999781,-2.5100199196022536E+50,2.4900200795977737E+50,-2.5100199196022536E+50,2.4900200795977737E+50,2.5100199196022536E+50,-2.4900200795977737E+50,-1,0,1,180]
[51.900000000000468,0.90582588178506518,9.9999999999999997E+98,-1.2500000000000001E+101,1.2500399993600206E+101,-89.541643541999562,0.78693502196134235,-0.38073327121070161,0.78693502196134235,0,0.78693502196134235,0,-3.5355904731176385E+50,-44.770821770999781,-2.5100199196022536E+50,2.4900200795977737E+50,-2.5100199196022536E+50,2.4900200795977737E+50,2.5100199196022536E+50,-2.4900200795977737E+50,-1,0,1,180]
[52.000000000000469,0.90757121103705951,9.9999999999999997E+98,-1.2500000000000001E+101,1.2500399993600206E+101,-89.541643541999562,0.78801075360672701,-0.37903905220015821,0.78801075360672701,0,0.78801075360672701,0,-3.5355904731176385E+50,-44.770821770999781,-2.5100199196022536E+50,2.4900200795977737E+50,-2.5100199196022536E+50,2.4900200795977737E+50,2.5100199196022536E+50,-2.4900200795977737E+50,-1,0,1,180]
[52.10000000000047,0.90931654028905384,9.9999999999999997E+98,-1.2500000000000001E+101,1.2500399993600206E+101,-89.541643541999562,0.78908408483469561,-0.37734630706059086,0.78908408483469561,0,0.78908408483469561,0,-3.5355904731176385E+50,-44.770821770999781,-2.5100199196022536E+50,2.4900200795977737E+50,-2.5100199196022536E+50,2.4900200795977737E+50,2.5100199196022536E+50,-2.4900200795977737E+50,-1,0,1,180]
[52.200000000000472,0.91106186954104829,9.9999999999999997E+98,-1.2500000000000001E+101,1.2500399993600206E+101,-89.541643541999562,0.79015501237569541,-0.37565505641756458,0.79015501237569541,0,0.79015501237569541,0,-3.5355904731176385E+50,-44.770821770999781,-2.5100199196022536E+50,2.4900200795977737E+50,-2.5100199196022536E+50,2.4900200795977737E+50,2.5100199196022536E+50,-2.4900200795977737E+50,-1,0,1,180]
[52.300000000000473,0.91280719879304262,9.9999999999999997E+98,-1.2500000000000001E+101,1.2500399993600206E+101,-89.541643541999562,0.79122353296749515,-0.37396532087843515,0.79122353296749515,0,0.79122353296749515,0,-3.5355904731176385E+50,-44.770821770999781,-2.5100199196022536E+50,2.4900200795977737E+50,-2.5100199196022536E+50,2.4900200795977737E+50,2.5100199196022536E+50,-2.4900200795977737E+50,-1,0,1,180]
[52.400000000000475,0.91455252804503695,9.9999999999999997E+98,-1.2500000000000001E+101,1.2500399993600206E+101,-89.541643541999562,0.79228964335519569,-0.3722771210320967,0.79228964335519569,0,0.79228964335519569,0,-3.5355904731176385E+50,-44.770821770999781,-2.5100199196022536E+50,2.4900200795977737E+50,-2.5100199196022536E+50,2.4900200795977737E+50,2.5100199196022536E+50,-2.4900200795977737E+50,-1,0,1,180]
[52.500000000000476,0.91629785729703128,9.9999999999999997E+98,-1.2500000000000001E+101,1.2500399993600206E+101,-89.541643541999562,0.79335334029124016,-0.37059047744873164,0.79335334029124016,0,0.79335334029124016,0,-3.5355904731176385E+50,-44.770821770999781,-2.5100199196022536E+50,2.4900200795977737E+50,-2.5100199196022536E+50,2.4900200795977737E+50,2.5100199196022536E+50,-2.4900200795977737E+50,-1,0,1,180]
[52.600000000000477,0.91804318654902572,9.9999999999999997E+98,-1.2500000000000001E+101,1.2500399993600206E+101,-89.541643541999562,0.79441462053542322,-0.36890541067955956,0.79441462053542322,0,0.79441462053542322,0,-3.5355904731176385E+50,-44.770821770999781,-2.5100199196022536E+50,2.4900200795977737E+50,-2.5100199196022536E+50,2.4900200795977737E+50,2.5100199196022536E+50,-2.4900200795977737E+50,-1,0,1,180]
[52.700000000000479,0.91978851580101995,9.9999999999999997E+98,-1.2500000000000001E+101,1.2500399993600206E+101,-89.541643541999562,0.79547348085490088,-0.36722194125658764,0.79547348085490088,0,0.79547348085490088,0,-3.5355904731176385E+50,-44.770821770999781,-2.5100199196022536E+50,2.4900200795977737E+50,-2.5100199196022536E+50,2.4900200795977737E+50,2.5100199196022536E+50,-2.4900200795977737E+50,-1,0,1,180]
[52.80000000000048,0.92153384505301439,9.9999999999999997E+98,-1.2500000000000001E+101,1.2500399993600206E+101,-89.541643541999562,0.79652991802420137,-0.36554008969235907,0.79652991802420137,0,0.79652991802420137,0,-3.5355904731176385E+50,-44.770821770999781,-2.5100199196022536E+50,2.4900200795977737E+50,-2.5100199196022536E+50,2.4900200795977737E+50,2.5100199196022536E+50,-2.4900200795977737E+50,-1,0,1,180]
[52.900000000000482,0.92327917430500872,9.9999999999999997E+98,-1.2500000000000001E+101,1.2500399993600206E+101,-89.541643541999562,0.79758392882523355,-0.36385987647970469,0.79758392882523355,0,0.79758392882523355,0,-3.5355904731176385E+50,-44.770821770999781,-2.5100199196022536E+50,2.4900200795977737E+50,-2.5100199196022536E+50,2.4900200795977737E+50,2.5100199196022536E+50,-2.4900200795977737E+50,-1,0,1,180]
[53.000000000000483,0.92502450355700305,9.9999999999999997E+98,-1.2500000000000001E+101,1.2500399993600206E+101,-89.541643541999562,0.79863551004729794,-0.3621813220914924,0.79863551004729794,0,0.79863551004729794,0,-3.5355904731176385E+50,-44.770821770999781,-2.5100199196022536E+50,2.4900200795977737E+50,-2.5100199196022536E+50,2.4900200795977737E+50,2.5100199196022536E+50,-2.4900200795977737E+50,-1,0,1,180]
[53.100000000000485,0.9267698328089975,9.9999999999999997E+98,-1.2500000000000001E+101,1.2500399993600206E+101,-89.541643541999562,0.79968465848709569,-0.3605044469803772,0.79968465848709569,0,0.79968465848709569,0,-3.5355904731176385E+50,-44.770821770999781,-2.5100199196022536E+50,2.4900200795977737E+50,-2.5100199196022536E+50,2.4900200795977737E+50,2.5100199196022536E+50,-2.4900200795977737E+50,-1,0,1,180]
[53.200000000000486,0.92851516206099172,9.9999999999999997E+98,-1.2500000000000001E+101,1.2500399993600206E+101,-89.541643541999562,0.80073137094873847,-0.35882927157855382,0.80073137094873847,0,0.80073137094873847,0,-3.5355904731176385E+50,-44.770821770999781,-2.5100199196022536E+50,2.4900200795977737E+50,-2.5100199196022536E+50,2.4900200795977737E+50,2.5100199196022536E+50,-2.4900200795977737E+50,-1,0,1,180]
[53.300000000000487,0.93026049131298616,9.9999999999999997E+98,-1.2500000000000001E+101,1.2500399993600206E+101,-89.541643541999562,0.80177564424375913,-0.35715581629750504,0.80177564424375913,0,0.80177564424375913,0,-3.5355904731176385E+50,-44.770821770999781,-2.5100199196022536E+50,2.4900200795977737E+50,-2.5100199196022536E+50,2.4900200795977737E+50,2.5100199196022536E+50,-2.4900200795977737E+50,-1,0,1,180]
[53.400000000000489,0.93200582056498049,9.9999999999999997E+98,-1.2500000000000001E+101,1.2500399993600206E+101,-89.541643541999562,0.80281747519111957,-0.355484101527756,0.80281747519111957,0,0.80281747519111957,0,-3.5355904731176385E+50,-44.770821770999781,-2.5100199196022536E+50,2.4900200795977737E+50,-2.5100199196022536E+50,2.4900200795977737E+50,2.5100199196022536E+50,-2.4900200795977737E+50,-1,0,1,180]
[53.50000000000049,0.93375114981697482,9.9999999999999997E+98,-1.2500000000000001E+101,1.2500399993600206E+101,-89.541643541999562,0.80385686061722239,-0.35381414763862357,0.80385686061722239,0,0.80385686061722239,0,-3.5355904731176385E+50,-44.770821770999781,-2.5100199196022536E+50,2.4900200795977737E+50,-2.5100199196022536E+50,2.4900200795977737E+50,2.5100199196022536E+50,-2.4900200795977737E+50,-1,0,1,180]
[53.600000000000492,0.93549647906896927,9.9999999999999997E+98,-1.2500000000000001E+101,1.2500399993600206E+101,-89.541643541999562,0.80489379735591926,-0.3521459749779684,0.80489379735591926,0,0.80489379735591926,0,-3.5355904731176385E+50,-44.770821770999781,-2.5100199196022536E+50,2.4900200795977737E+50,-2.5100199196022536E+50,2.4900200795977737E+50,2.5100199196022536E+50,-2.4900200795977737E+50,-1,0,1,180]
[53.700000000000493,0.93724180832096349,9.9999999999999997E+98,-1.2500000000000001E+101,1.2500399993600206E+101,-89.541643541999562,0.80592828224852087,-0.35047960387194854,0.80592828224852087,0,0.80592828224852087,0,-3.5355904731176385E+50,-44.770821770999781,-2.5100199196022536E+50,2.4900200795977737E+50,-2.5100199196022536E+50,2.4900200795977737E+50,2.5100199196022536E+50,-2.4900200795977737E+50,-1,0,1,180]
[53.800000000000495,0.93898713757295793,9.9999999999999997E+98,-1.2500000000000001E+101,1.2500399993600206E+101,-89.541643541999562,0.80696031214380703,-0.34881505462476953,0.80696031214380703,0,0.80696031214380703,0,-3.5355904731176385E+50,-44.770821770999781,-2.5100199196022536E+50,2.4900200795977737E+50,-2.5100199196022536E+50,2.4900200795977737E+50,2.5100199196022536E+50,-2.4900200795977737E+50,-1,0,1,180]
[53.900000000000496,0.94073246682495237,9.9999999999999997E+98,-1.2500000000000001E+101,1.2500399993600206E+101,-89.541643541999562,0.80798988389803561,-0.34715234751843882,0.80798988389803561,0,0.80798988389803561,0,-3.5355904731176385E+50,-44.770821770999781,-2.5100199196022536E+50,2.4900200795977737E+50,-2.5100199196022536E+50,2.4900200795977737E+50,2.5100199196022536E+50,-2.4900200795977737E+50,-1,0,1,180]
[54.000000000000497,0.94247779607694659,9.9999999999999997E+98,-1.2500000000000001E+101,1.2500399993600206E+101,-89.541643541999562,0.80901699437495245,-0.34549150281251806,0.80901699437495245,0,0.80901699437495245,0,-3.5355904731176385E+50,-44.770821770999781,-2.5100199196022536E+50,2.4900200795977737E+50,{"$f":"K545+O545","v":-2.5100199196022536E+50},2.4900200795977737E+50,2.5100199196022536E+50,-2.4900200795977737E+50,-1,0,1,180]
[54.100000000000499,0.94422312532894104,9.9999999999999997E+98,-1.2500000000000001E+101,1.2500399993600206E+101,-89.541643541999562,0.81004164044580118,-0.34383254074387548,0.81004164044580118,0,0.81004164044580118,0,-3.5355904731176385E+50,-44.770821770999781,-2.5100199196022536E+50,2.4900200795977737E+50,-2.5100199196022536E+50,2.4900200795977737E+50,2.5100199196022536E+50,-2.4900200795977737E+50,-1,0,1,180]
[54.2000000000005,0.94596845458093526,9.9999999999999997E+98,-1.2500000000000001E+101,1.2500399993600206E+101,-89.541643541999562,0.81106381898933166,-0.34217548152644056,0.81106381898933166,0,0.81106381898933166,0,-3.5355904731176385E+50,-44.770821770999781,-2.5100199196022536E+50,2.4900200795977737E+50,-2.5100199196022536E+50,2.4900200795977737E+50,2.5100199196022536E+50,-2.4900200795977737E+50,-1,0,1,180]
[54.300000000000502,0.9477137838329297,9.9999999999999997E+98,-1.2500000000000001E+101,1.2500399993600206E+101,-89.541643541999562,0.81208352689181129,-0.34052034535095665,0.81208352689181129,0,0.81208352689181129,0,-3.5355904731176385E+50,-44.770821770999781,-2.5100199196022536E+50,2.4900200795977737E+50,-2.5100199196022536E+50,2.4900200795977737E+50,2.5100199196022536E+50,-2.4900200795977737E+50,-1,0,1,180]
[54.400000000000503,0.94945911308492414,9.9999999999999997E+98,-1.2500000000000001E+101,1.2500399993600206E+101,-89.541643541999562,0.81310076104703277,-0.33886715238473608,0.81310076104703277,0,0.81310076104703277,0,-3.5355904731176385E+50,-44.770821770999781,-2.5100199196022536E+50,2.4900200795977737E+50,-2.5100199196022536E+50,2.4900200795977737E+50,2.5100199196022536E+50,-2.4900200795977737E+50,-1,0,1,180]
[54.500000000000504,0.95120444233691837,9.9999999999999997E+98,-1.2500000000000001E+101,1.2500399993600206E+101,-89.541643541999562,0.81411551835632434,-0.33721592277141343,0.81411551835632434,0,0.81411551835632434,0,-3.5355904731176385E+50,-44.770821770999781,-2.5100199196022536E+50,2.4900200795977737E+50,-2.5100199196022536E+50,2.4900200795977737E+50,2.5100199196022536E+50,-2.4900200795977737E+50,-1,0,1,180]
[54.600000000000506,0.95294977158891281,9.9999999999999997E+98,-1.2500000000000001E+101,1.2500399993600206E+101,-89.541643541999562,0.81512779572855931,-0.3355666766307,0.81512779572855931,0,0.81512779572855931,0,-3.5355904731176385E+50,-44.770821770999781,-2.5100199196022536E+50,2.4900200795977737E+50,-2.5100199196022536E+50,2.4900200795977737E+50,2.5100199196022536E+50,-2.4900200795977737E+50,-1,0,1,180]
[54.700000000000507,0.95469510084090703,9.9999999999999997E+98,-1.2500000000000001E+101,1.2500399993600206E+101,-89.541643541999562,0.81613759008016529,-0.33391943405814006,0.81613759008016529,0,0.81613759008016529,0,-3.5355904731176385E+50,-44.770821770999781,-2.5100199196022536E+50,2.4900200795977737E+50,-2.5100199196022536E+50,2.4900200795977737E+50,2.5100199196022536E+50,-2.4900200795977737E+50,-1,0,1,180]
[54.800000000000509,0.95644043009290147,9.9999999999999997E+98,-1.2500000000000001E+101,1.2500399993600206E+101,-89.541643541999562,0.8171448983351336,-0.3322742151248641,0.8171448983351336,0,0.8171448983351336,0,-3.5355904731176385E+50,-44.770821770999781,-2.5100199196022536E+50,2.4900200795977737E+50,-2.5100199196022536E+50,2.4900200795977737E+50,2.5100199196022536E+50,-2.4900200795977737E+50,-1,0,1,180]
[54.90000000000051,0.95818575934489592,9.9999999999999997E+98,-1.2500000000000001E+101,1.2500399993600206E+101,-89.541643541999562,0.81814971742502862,-0.33063103987734588,0.81814971742502862,0,0.81814971742502862,0,-3.5355904731176385E+50,-44.770821770999781,-2.5100199196022536E+50,2.4900200795977737E+50,-2.5100199196022536E+50,2.4900200795977737E+50,2.5100199196022536E+50,-2.4900200795977737E+50,-1,0,1,180]
[55.000000000000512,0.95993108859689014,9.9999999999999997E+98,-1.2500000000000001E+101,1.2500399993600206E+101,-89.541643541999562,0.81915204428899691,-0.32898992833715729,0.81915204428899691,0,0.81915204428899691,0,-3.5355904731176385E+50,-44.770821770999781,-2.5100199196022536E+50,2.4900200795977737E+50,-2.5100199196022536E+50,2.4900200795977737E+50,2.5100199196022536E+50,-2.4900200795977737E+50,-1,0,1,180]
[55.100000000000513,0.96167641784888458,9.9999999999999997E+98,-1.2500000000000001E+101,1.2500399993600206E+101,-89.541643541999562,0.82015187587377725,-0.32735090050072418,0.82015187587377725,0,0.82015187587377725,0,-3.5355904731176385E+50,-44.770821770999781,-2.5100199196022536E+50,2.4900200795977737E+50,-2.5100199196022536E+50,2.4900200795977737E+50,2.5100199196022536E+50,-2.4900200795977737E+50,-1,0,1,180]
[55.200000000000514,0.9634217471008788,9.9999999999999997E+98,-1.2500000000000001E+101,1.2500399993600206E+101,-89.541643541999562,0.82114920913370915,-0.32571397633908405,0.82114920913370915,0,0.82114920913370915,0,-3.5355904731176385E+50,-44.770821770999781,-2.5100199196022536E+50,2.4900200795977737E+50,-2.5100199196022536E+50,2.4900200795977737E+50,2.5100199196022536E+50,-2.4900200795977737E+50,-1,0,1,180]
[55.300000000000516,0.96516707635287324,9.9999999999999997E+98,-1.2500000000000001E+101,1.2500399993600206E+101,-89.541643541999562,0.82214404103074257,-0.32407917579764062,0.82214404103074257,0,0.82214404103074257,0,-3.5355904731176385E+50,-44.770821770999781,-2.5100199196022536E+50,2.4900200795977737E+50,-2.5100199196022536E+50,2.4900200795977737E+50,2.5100199196022536E+50,-2.4900200795977737E+50,-1,0,1,180]
[55.400000000000517,0.96691240560486769,9.9999999999999997E+98,-1.2500000000000001E+101,1.2500399993600206E+101,-89.541643541999562,0.82313636853444705,-0.32244651879592295,0.82313636853444705,0,0.82313636853444705,0,-3.5355904731176385E+50,-44.770821770999781,-2.5100199196022536E+50,2.4900200795977737E+50,-2.5100199196022536E+50,2.4900200795977737E+50,2.5100199196022536E+50,-2.4900200795977737E+50,-1,0,1,180]
[55.500000000000519,0.96865773485686191,9.9999999999999997E+98,-1.2500000000000001E+101,1.2500399993600206E+101,-89.541643541999562,0.82412618862202081,-0.32081602522734143,0.82412618862202081,0,0.82412618862202081,0,-3.5355904731176385E+50,-44.770821770999781,-2.5100199196022536E+50,2.4900200795977737E+50,-2.5100199196022536E+50,2.4900200795977737E+50,2.5100199196022536E+50,-2.4900200795977737E+50,-1,0,1,180]
[55.60000000000052,0.97040306410885635,9.9999999999999997E+98,-1.2500000000000001E+101,1.2500399993600206E+101,-89.541643541999562,0.82511349827830027,-0.31918771495894538,0.82511349827830027,0,0.82511349827830027,0,-3.5355904731176385E+50,-44.770821770999781,-2.5100199196022536E+50,2.4900200795977737E+50,-2.5100199196022536E+50,2.4900200795977737E+50,2.5100199196022536E+50,-2.4900200795977737E+50,-1,0,1,180]
[55.700000000000522,0.97214839336085057,9.9999999999999997E+98,-1.2500000000000001E+101,1.2500399993600206E+101,-89.541643541999562,0.82609829449576899,-0.31756160783118176,0.82609829449576899,0,0.82609829449576899,0,-3.5355904731176385E+50,-44.770821770999781,-2.5100199196022536E+50,2.4900200795977737E+50,-2.5100199196022536E+50,2.4900200795977737E+50,2.5100199196022536E+50,-2.4900200795977737E+50,-1,0,1,180]
[55.800000000000523,0.97389372261284501,9.9999999999999997E+98,-1.2500000000000001E+101,1.2500399993600206E+101,-89.541643541999562,0.82708057427456694,-0.31593772365765249,0.82708057427456694,0,0.82708057427456694,0,-3.5355904731176385E+50,-44.770821770999781,-2.5100199196022536E+50,2.4900200795977737E+50,-2.5100199196022536E+50,2.4900200795977737E+50,2.5100199196022536E+50,-2.4900200795977737E+50,-1,0,1,180]
[55.900000000000524,0.97563905186483946,9.9999999999999997E+98,-1.2500000000000001E+101,1.2500399993600206E+101,-89.541643541999562,0.82806033462249962,-0.314316082224874,0.82806033462249962,0,0.82806033462249962,0,-3.5355904731176385E+50,-44.770821770999781,-2.5100199196022536E+50,2.4900200795977737E+50,-2.5100199196022536E+50,2.4900200795977737E+50,2.5100199196022536E+50,-2.4900200795977737E+50,-1,0,1,180]
[56.000000000000526,0.97738438111683368,9.9999999999999997E+98,-1.2500000000000001E+101,1.2500399993600206E+101,-89.541643541999562,0.82903757255504684,-0.31269670329203547,0.82903757255504684,0,0.82903757255504684,0,-3.5355904731176385E+50,-44.770821770999781,-2.5100199196022536E+50,2.4900200795977737E+50,-2.5100199196022536E+50,2.4900200795977737E+50,2.5100199196022536E+50,-2.4900200795977737E+50,-1,0,1,180]
[56.100000000000527,0.97912971036882812,9.9999999999999997E+98,-1.2500000000000001E+101,1.2500399993600206E+101,-89.541643541999562,0.83001228509537262,-0.31107960659075784,0.83001228509537262,0,0.83001228509537262,0,-3.5355904731176385E+50,-44.770821770999781,-2.5100199196022536E+50,2.4900200795977737E+50,-2.5100199196022536E+50,2.4900200795977737E+50,2.5100199196022536E+50,-2.4900200795977737E+50,-1,0,1,180]
[56.200000000000529,0.98087503962082234,9.9999999999999997E+98,-1.2500000000000001E+101,1.2500399993600206E+101,-89.541643541999562,0.83098446927433334,-0.30946481182485458,0.83098446927433334,0,0.83098446927433334,0,-3.5355904731176385E+50,-44.770821770999781,-2.5100199196022536E+50,2.4900200795977737E+50,-2.5100199196022536E+50,2.4900200795977737E+50,2.5100199196022536E+50,-2.4900200795977737E+50,-1,0,1,180]
[56.30000000000053,0.98262036887281679,9.9999999999999997E+98,-1.2500000000000001E+101,1.2500399993600206E+101,-89.541643541999562,0.83195412213048769,-0.3078523386700896,0.83195412213048769,0,0.83195412213048769,0,-3.5355904731176385E+50,-44.770821770999781,-2.5100199196022536E+50,2.4900200795977737E+50,-2.5100199196022536E+50,2.4900200795977737E+50,2.5100199196022536E+50,-2.4900200795977737E+50,-1,0,1,180]
[56.400000000000531,0.98436569812481101,9.9999999999999997E+98,-1.2500000000000001E+101,1.2500399993600206E+101,-89.541643541999562,0.83292124071010454,-0.30624220677394004,0.83292124071010454,0,0.83292124071010454,0,-3.5355904731176385E+50,-44.770821770999781,-2.5100199196022536E+50,2.4900200795977737E+50,-2.5100199196022536E+50,2.4900200795977737E+50,2.5100199196022536E+50,-2.4900200795977737E+50,-1,0,1,180]
[56.500000000000533,0.98611102737680545,9.9999999999999997E+98,-1.2500000000000001E+101,1.2500399993600206E+101,-89.541643541999562,0.83388582206717332,-0.30463443575535465,0.83388582206717332,0,0.83388582206717332,0,-3.5355904731176385E+50,-44.770821770999781,-2.5100199196022536E+50,2.4900200795977737E+50,-2.5100199196022536E+50,2.4900200795977737E+50,2.5100199196022536E+50,-2.4900200795977737E+50,-1,0,1,180]
[56.600000000000534,0.98785635662879989,9.9999999999999997E+98,-1.2500000000000001E+101,1.2500399993600206E+101,-89.541643541999562,0.83484786326341165,-0.30302904520451579,0.83484786326341165,0,0.83484786326341165,0,-3.5355904731176385E+50,-44.770821770999781,-2.5100199196022536E+50,2.4900200795977737E+50,-2.5100199196022536E+50,2.4900200795977737E+50,2.5100199196022536E+50,-2.4900200795977737E+50,-1,0,1,180]
[56.700000000000536,0.98960168588079411,9.9999999999999997E+98,-1.2500000000000001E+101,1.2500399993600206E+101,-89.541643541999562,0.83580736136827538,-0.3014260546826012,0.83580736136827538,0,0.83580736136827538,0,-3.5355904731176385E+50,-44.770821770999781,-2.5100199196022536E+50,2.4900200795977737E+50,-2.5100199196022536E+50,2.4900200795977737E+50,2.5100199196022536E+50,-2.4900200795977737E+50,-1,0,1,180]
[56.800000000000537,0.99134701513278856,9.9999999999999997E+98,-1.2500000000000001E+101,1.2500399993600206E+101,-89.541643541999562,0.83676431345896685,-0.29982548372154394,0.83676431345896685,0,0.83676431345896685,0,-3.5355904731176385E+50,-44.770821770999781,-2.5100199196022536E+50,2.4900200795977737E+50,-2.5100199196022536E+50,2.4900200795977737E+50,2.5100199196022536E+50,-2.4900200795977737E+50,-1,0,1,180]
[56.900000000000539,0.99309234438478278,9.9999999999999997E+98,-1.2500000000000001E+101,1.2500399993600206E+101,-89.541643541999562,0.83771871662044384,-0.29822735182379656,0.83771871662044384,0,0.83771871662044384,0,-3.5355904731176385E+50,-44.770821770999781,-2.5100199196022536E+50,2.4900200795977737E+50,-2.5100199196022536E+50,2.4900200795977737E+50,2.5100199196022536E+50,-2.4900200795977737E+50,-1,0,1,180]
[57.00000000000054,0.99483767363677722,9.9999999999999997E+98,-1.2500000000000001E+101,1.2500399993600206E+101,-89.541643541999562,0.83867056794542916,-0.29663167846209132,0.83867056794542916,0,0.83867056794542916,0,-3.5355904731176385E+50,-44.770821770999781,-2.5100199196022536E+50,2.4900200795977737E+50,-2.5100199196022536E+50,2.4900200795977737E+50,2.5100199196022536E+50,-2.4900200795977737E+50,-1,0,1,180]
[57.100000000000541,0.99658300288877166,9.9999999999999997E+98,-1.2500000000000001E+101,1.2500399993600206E+101,-89.541643541999562,0.83961986453441839,-0.29503848307920494,0.83961986453441839,0,0.83961986453441839,0,-3.5355904731176385E+50,-44.770821770999781,-2.5100199196022536E+50,2.4900200795977737E+50,-2.5100199196022536E+50,2.4900200795977737E+50,2.5100199196022536E+50,-2.4900200795977737E+50,-1,0,1,180]
[57.200000000000543,0.99832833214076588,9.9999999999999997E+98,-1.2500000000000001E+101,1.2500399993600206E+101,-89.541643541999562,0.84056660349568935,-0.29344778508772057,0.84056660349568935,0,0.84056660349568935,0,-3.5355904731176385E+50,-44.770821770999781,-2.5100199196022536E+50,2.4900200795977737E+50,-2.5100199196022536E+50,2.4900200795977737E+50,2.5100199196022536E+50,-2.4900200795977737E+50,-1,0,1,180]
[57.300000000000544,1.0000736613927603,9.9999999999999997E+98,-1.2500000000000001E+101,1.2500399993600206E+101,-89.541643541999562,0.84151078194531126,-0.29185960386979076,0.84151078194531126,0,0.84151078194531126,0,-3.5355904731176385E+50,-44.770821770999781,-2.5100199196022536E+50,2.4900200795977737E+50,-2.5100199196022536E+50,2.4900200795977737E+50,2.5100199196022536E+50,-2.4900200795977737E+50,-1,0,1,180]
[57.400000000000546,1.0018189906447545,9.9999999999999997E+98,-1.2500000000000001E+101,1.2500399993600206E+101,-89.541643541999562,0.84245239700715258,-0.29027395877690293,0.84245239700715258,0,0.84245239700715258,0,-3.5355904731176385E+50,-44.770821770999781,-2.5100199196022536E+50,2.4900200795977737E+50,-2.5100199196022536E+50,2.4900200795977737E+50,2.5100199196022536E+50,-2.4900200795977737E+50,-1,0,1,180]
[57.500000000000547,1.003564319896749,9.9999999999999997E+98,-1.2500000000000001E+101,1.2500399993600206E+101,-89.541643541999562,0.84339144581289083,-0.28869086912964165,0.84339144581289083,0,0.84339144581289083,0,-3.5355904731176385E+50,-44.770821770999781,-2.5100199196022536E+50,2.4900200795977737E+50,-2.5100199196022536E+50,2.4900200795977737E+50,2.5100199196022536E+50,-2.4900200795977737E+50,-1,0,1,180]
[57.600000000000549,1.0053096491487434,9.9999999999999997E+98,-1.2500000000000001E+101,1.2500399993600206E+101,-89.541643541999562,0.84432792550202018,-0.28711035421745501,0.84432792550202018,0,0.84432792550202018,0,-3.5355904731176385E+50,-44.770821770999781,-2.5100199196022536E+50,2.4900200795977737E+50,-2.5100199196022536E+50,2.4900200795977737E+50,2.5100199196022536E+50,-2.4900200795977737E+50,-1,0,1,180]
[57.70000000000055,{"$f":"A582*PI()/180","v":1.0070549784007377},{"$f":"$D$1","v":9.9999999999999997E+98},{"$f":"-(18000*$G$1/$N$1)","v":-1.2500000000000001E+101},{"$f":"(C582^2+D582^2)^0.5","v":1.2500399993600206E+101},{"$f":"(180/PI())*ATAN(D582/C582)","v":-89.541643541999562},{"$f":"SIN(B582)","v":0.84526183322186121},{"$f":"-((COS(B582))^2)","v":-0.28553243329841849},{"$f":"G582","v":0.84526183322186121},0,{"$f":"(((I582^2)/(1+(TAN(J582*(PI()/180)))^2))^0.5)","v":0.84526183322186121},{"$f":"K582*TAN(J582*(PI()/180))","v":0},{"$f":"-(((((C582+H582)^2)+(D582)^2)^0.5)^0.5)","v":-3.5355904731176385E+50},{"$f":"((ATAN(D582/(C582+H582)))*(180/PI()))/2","v":-44.770821770999781},{"$f":"-(((M582^2)/(1+(TAN(N582*(PI()/180)))^2))^0.5)","v":-2.5100199196022536E+50},{"$f":"O582*TAN(N582*(PI()/180))","v":2.4900200795977737E+50},-2.5100199196022536E+50,2.4900200795977737E+50,{"$f":"-O582+K582","v":2.5100199196022536E+50},{"$f":"L582-P582","v":-2.4900200795977737E+50},{"$f":"(Q582*S582+T582*R582)/((S582^2)+(T582^2))","v":-1},{"$f":"(R582*S582-Q582*T582)/((S582^2)+(T582^2))","v":0},{"$f":"((U582^2)+(V582^2))^0.5","v":1},{"$f":"(ACOS(U582/W582))*(180/PI())","v":180}]
[{"$f":"A582+0.1","v":57.800000000000551},1.0088003076527321,9.9999999999999997E+98,-1.2500000000000001E+101,1.2500399993600206E+101,-89.541643541999562,0.84619316612756912,-0.28395712559900016,0.84619316612756912,0,0.84619316612756912,0,-3.5355904731176385E+50,-44.770821770999781,-2.5100199196022536E+50,2.4900200795977737E+50,-2.5100199196022536E+50,2.4900200795977737E+50,2.5100199196022536E+50,-2.4900200795977737E+50,-1,0,1,180]
[57.900000000000553,1.0105456369047263,9.9999999999999997E+98,-1.2500000000000001E+101,1.2500399993600206E+101,-89.541643541999562,0.84712192138214215,-0.28238445031382764,0.84712192138214215,0,0.84712192138214215,0,-3.5355904731176385E+50,-44.770821770999781,-2.5100199196022536E+50,2.4900200795977737E+50,-2.5100199196022536E+50,2.4900200795977737E+50,2.5100199196022536E+50,-2.4900200795977737E+50,-1,0,1,180]
[58.000000000000554,1.0122909661567208,9.9999999999999997E+98,-1.2500000000000001E+101,1.2500399993600206E+101,-89.541643541999562,0.84804809615643106,-0.28081442660545264,0.84804809615643106,0,0.84804809615643106,0,-3.5355904731176385E+50,-44.770821770999781,-2.5100199196022536E+50,2.4900200795977737E+50,-2.5100199196022536E+50,2.4900200795977737E+50,2.5100199196022536E+50,-2.4900200795977737E+50,-1,0,1,180]
[58.100000000000556,1.0140362954087152,9.9999999999999997E+98,-1.2500000000000001E+101,1.2500399993600206E+101,-89.541643541999562,0.84897168762914665,-0.27924707360411871,0.84897168762914665,0,0.84897168762914665,0,-3.5355904731176385E+50,-44.770821770999781,-2.5100199196022536E+50,2.4900200795977737E+50,-2.5100199196022536E+50,2.4900200795977737E+50,2.5100199196022536E+50,-2.4900200795977737E+50,-1,0,1,180]
[58.200000000000557,1.0157816246607094,9.9999999999999997E+98,-1.2500000000000001E+101,1.2500399993600206E+101,-89.541643541999562,0.84989269298686898,-0.27768241040752761,0.84989269298686898,0,0.84989269298686898,0,-3.5355904731176385E+50,-44.770821770999781,-2.5100199196022536E+50,2.4900200795977737E+50,-2.5100199196022536E+50,2.4900200795977737E+50,2.5100199196022536E+50,-2.4900200795977737E+50,-1,0,1,180]
[58.300000000000558,1.0175269539127039,9.9999999999999997E+98,-1.2500000000000001E+101,1.2500399993600206E+101,-89.541643541999562,0.85081110942405636,-0.27612045608060637,0.85081110942405636,0,0.85081110942405636,0,-3.5355904731176385E+50,-44.770821770999781,-2.5100199196022536E+50,2.4900200795977737E+50,-2.5100199196022536E+50,2.4900200795977737E+50,2.5100199196022536E+50,-2.4900200795977737E+50,-1,0,1,180]
[58.40000000000056,1.0192722831646981,9.9999999999999997E+98,-1.2500000000000001E+101,1.2500399993600206E+101,-89.541643541999562,0.85172693414305267,-0.27456122965527607,0.85172693414305267,0,0.85172693414305267,0,-3.5355904731176385E+50,-44.770821770999781,-2.5100199196022536E+50,2.4900200795977737E+50,-2.5100199196022536E+50,2.4900200795977737E+50,2.5100199196022536E+50,-2.4900200795977737E+50,-1,0,1,180]
[58.500000000000561,1.0210176124166925,9.9999999999999997E+98,-1.2500000000000001E+101,1.2500399993600206E+101,-89.541643541999562,0.85264016435409729,-0.27300475013021797,0.85264016435409729,0,0.85264016435409729,0,-3.5355904731176385E+50,-44.770821770999781,-2.5100199196022536E+50,2.4900200795977737E+50,-2.5100199196022536E+50,2.4900200795977737E+50,2.5100199196022536E+50,-2.4900200795977737E+50,-1,0,1,180]
[58.600000000000563,1.022762941668687,9.9999999999999997E+98,-1.2500000000000001E+101,1.2500399993600206E+101,-89.541643541999562,0.85355079727533256,-0.27145103647064411,0.85355079727533256,0,0.85355079727533256,0,-3.5355904731176385E+50,-44.770821770999781,-2.5100199196022536E+50,2.4900200795977737E+50,-2.5100199196022536E+50,2.4900200795977737E+50,2.5100199196022536E+50,-2.4900200795977737E+50,-1,0,1,180]
[58.700000000000564,1.0245082709206812,9.9999999999999997E+98,-1.2500000000000001E+101,1.2500399993600206E+101,-89.541643541999562,0.85445883013281243,-0.26990010760806554,0.85445883013281243,0,0.85445883013281243,0,-3.5355904731176385E+50,-44.770821770999781,-2.5100199196022536E+50,2.4900200795977737E+50,-2.5100199196022536E+50,2.4900200795977737E+50,2.5100199196022536E+50,-2.4900200795977737E+50,-1,0,1,180]
[58.800000000000566,1.0262536001726756,9.9999999999999997E+98,-1.2500000000000001E+101,1.2500399993600206E+101,-89.541643541999562,0.8553642601605117,-0.26835198244006037,0.8553642601605117,0,0.8553642601605117,0,-3.5355904731176385E+50,-44.770821770999781,-2.5100199196022536E+50,2.4900200795977737E+50,-2.5100199196022536E+50,2.4900200795977737E+50,2.5100199196022536E+50,-2.4900200795977737E+50,-1,0,1,180]
[58.900000000000567,1.0279989294246699,9.9999999999999997E+98,-1.2500000000000001E+101,1.2500399993600206E+101,-89.541643541999562,0.85626708460033318,-0.26680667983004575,0.85626708460033318,0,0.85626708460033318,0,-3.5355904731176385E+50,-44.770821770999781,-2.5100199196022536E+50,2.4900200795977737E+50,-2.5100199196022536E+50,2.4900200795977737E+50,2.5100199196022536E+50,-2.4900200795977737E+50,-1,0,1,180]
[59.000000000000568,1.0297442586766643,9.9999999999999997E+98,-1.2500000000000001E+101,1.2500399993600206E+101,-89.541643541999562,0.85716730070211733,-0.26526421860704585,0.85716730070211733,0,0.85716730070211733,0,-3.5355904731176385E+50,-44.770821770999781,-2.5100199196022536E+50,2.4900200795977737E+50,-2.5100199196022536E+50,2.4900200795977737E+50,2.5100199196022536E+50,-2.4900200795977737E+50,-1,0,1,180]
[59.10000000000057,1.0314895879286587,9.9999999999999997E+98,-1.2500000000000001E+101,1.2500399993600206E+101,-89.541643541999562,0.85806490572364968,-0.26372461756546428,0.85806490572364968,0,0.85806490572364968,0,-3.5355904731176385E+50,-44.770821770999781,-2.5100199196022536E+50,2.4900200795977737E+50,-2.5100199196022536E+50,2.4900200795977737E+50,2.5100199196022536E+50,-2.4900200795977737E+50,-1,0,1,180]
[59.200000000000571,1.033234917180653,9.9999999999999997E+98,-1.2500000000000001E+101,1.2500399993600206E+101,-89.541643541999562,0.85895989693066943,-0.26218789546485372,0.85895989693066943,0,0.85895989693066943,0,-3.5355904731176385E+50,-44.770821770999781,-2.5100199196022536E+50,2.4900200795977737E+50,-2.5100199196022536E+50,2.4900200795977737E+50,2.5100199196022536E+50,-2.4900200795977737E+50,-1,0,1,180]
[59.300000000000573,1.0349802464326474,9.9999999999999997E+98,-1.2500000000000001E+101,1.2500399993600206E+101,-89.541643541999562,0.85985227159687849,-0.26065407102968791,0.85985227159687849,0,0.85985227159687849,0,-3.5355904731176385E+50,-44.770821770999781,-2.5100199196022536E+50,2.4900200795977737E+50,-2.5100199196022536E+50,2.4900200795977737E+50,2.5100199196022536E+50,-2.4900200795977737E+50,-1,0,1,180]
[59.400000000000574,1.0367255756846416,9.9999999999999997E+98,-1.2500000000000001E+101,1.2500399993600206E+101,-89.541643541999562,0.86074202700394864,-0.25912316294913368,0.86074202700394864,0,0.86074202700394864,0,-3.5355904731176385E+50,-44.770821770999781,-2.5100199196022536E+50,2.4900200795977737E+50,-2.5100199196022536E+50,2.4900200795977737E+50,2.5100199196022536E+50,-2.4900200795977737E+50,-1,0,1,180]
[59.500000000000576,1.0384709049366361,9.9999999999999997E+98,-1.2500000000000001E+101,1.2500399993600206E+101,-89.541643541999562,0.86162916044153082,-0.25759518987682273,0.86162916044153082,0,0.86162916044153082,0,-3.5355904731176385E+50,-44.770821770999781,-2.5100199196022536E+50,2.4900200795977737E+50,-2.5100199196022536E+50,2.4900200795977737E+50,2.5100199196022536E+50,-2.4900200795977737E+50,-1,0,1,180]
[59.600000000000577,1.0402162341886305,9.9999999999999997E+98,-1.2500000000000001E+101,1.2500399993600206E+101,-89.541643541999562,0.86251366920726258,-0.2560701704306248,0.86251366920726258,0,0.86251366920726258,0,-3.5355904731176385E+50,-44.770821770999781,-2.5100199196022536E+50,2.4900200795977737E+50,-2.5100199196022536E+50,2.4900200795977737E+50,2.5100199196022536E+50,-2.4900200795977737E+50,-1,0,1,180]
[59.700000000000578,1.0419615634406247,9.9999999999999997E+98,-1.2500000000000001E+101,1.2500399993600206E+101,-89.541643541999562,0.86339555060677675,-0.25454812319242087,0.86339555060677675,0,0.86339555060677675,0,-3.5355904731176385E+50,-44.770821770999781,-2.5100199196022536E+50,2.4900200795977737E+50,-2.5100199196022536E+50,2.4900200795977737E+50,2.5100199196022536E+50,-2.4900200795977737E+50,-1,0,1,180]
[59.80000000000058,1.0437068926926192,9.9999999999999997E+98,-1.2500000000000001E+101,1.2500399993600206E+101,-89.541643541999562,0.86427480195370976,-0.25302906670787573,0.86427480195370976,0,0.86427480195370976,0,-3.5355904731176385E+50,-44.770821770999781,-2.5100199196022536E+50,2.4900200795977737E+50,-2.5100199196022536E+50,2.4900200795977737E+50,2.5100199196022536E+50,-2.4900200795977737E+50,-1,0,1,180]
[59.900000000000581,1.0454522219446134,9.9999999999999997E+98,-1.2500000000000001E+101,1.2500399993600206E+101,-89.541643541999562,0.86515142056970951,-0.25151301948621363,0.86515142056970951,0,0.86515142056970951,0,-3.5355904731176385E+50,-44.770821770999781,-2.5100199196022536E+50,2.4900200795977737E+50,-2.5100199196022536E+50,2.4900200795977737E+50,2.5100199196022536E+50,-2.4900200795977737E+50,-1,0,1,180]
[60.000000000000583,1.0471975511966078,9.9999999999999997E+98,-1.2500000000000001E+101,1.2500399993600206E+101,-89.541643541999562,0.8660254037844437,-0.24999999999999123,0.8660254037844437,0,0.8660254037844437,0,-3.5355904731176385E+50,-44.770821770999781,-2.5100199196022536E+50,2.4900200795977737E+50,-2.5100199196022536E+50,2.4900200795977737E+50,2.5100199196022536E+50,-2.4900200795977737E+50,-1,0,1,180]
[60.100000000000584,1.0489428804486021,9.9999999999999997E+98,-1.2500000000000001E+101,1.2500399993600206E+101,-89.541643541999562,0.86689674893560775,-0.24849002668487383,0.86689674893560775,0,0.86689674893560775,0,-3.5355904731176385E+50,-44.770821770999781,-2.5100199196022536E+50,2.4900200795977737E+50,-2.5100199196022536E+50,2.4900200795977737E+50,2.5100199196022536E+50,-2.4900200795977737E+50,-1,0,1,180]
[60.200000000000585,1.0506882097005965,9.9999999999999997E+98,-1.2500000000000001E+101,1.2500399993600206E+101,-89.541643541999562,0.8677654533689334,-0.24698311793940936,0.8677654533689334,0,0.8677654533689334,0,-3.5355904731176385E+50,-44.770821770999781,-2.5100199196022536E+50,2.4900200795977737E+50,-2.5100199196022536E+50,2.4900200795977737E+50,2.5100199196022536E+50,-2.4900200795977737E+50,-1,0,1,180]
[60.300000000000587,1.052433538952591,9.9999999999999997E+98,-1.2500000000000001E+101,1.2500399993600206E+101,-89.541643541999562,0.86863151443819631,-0.24547929212480554,0.86863151443819631,0,0.86863151443819631,0,-3.5355904731176385E+50,-44.770821770999781,-2.5100199196022536E+50,2.4900200795977737E+50,-2.5100199196022536E+50,2.4900200795977737E+50,2.5100199196022536E+50,-2.4900200795977737E+50,-1,0,1,180]
[60.400000000000588,1.0541788682045852,9.9999999999999997E+98,-1.2500000000000001E+101,1.2500399993600206E+101,-89.541643541999562,0.869494929505224,-0.24397856756470554,0.869494929505224,0,0.869494929505224,0,-3.5355904731176385E+50,-44.770821770999781,-2.5100199196022536E+50,2.4900200795977737E+50,{"$f":"K609+O609","v":-2.5100199196022536E+50},2.4900200795977737E+50,2.5100199196022536E+50,-2.4900200795977737E+50,-1,0,1,180]
[60.50000000000059,1.0559241974565796,9.9999999999999997E+98,-1.2500000000000001E+101,1.2500399993600206E+101,-89.541643541999562,0.87035569593990469,-0.24248096254496412,0.87035569593990469,0,0.87035569593990469,0,-3.5355904731176385E+50,-44.770821770999781,-2.5100199196022536E+50,2.4900200795977737E+50,-2.5100199196022536E+50,2.4900200795977737E+50,2.5100199196022536E+50,-2.4900200795977737E+50,-1,0,1,180]
[60.600000000000591,1.0576695267085738,9.9999999999999997E+98,-1.2500000000000001E+101,1.2500399993600206E+101,-89.541643541999562,0.87121381112019436,-0.24098649531342622,0.87121381112019436,0,0.87121381112019436,0,-3.5355904731176385E+50,-44.770821770999781,-2.5100199196022536E+50,2.4900200795977737E+50,-2.5100199196022536E+50,2.4900200795977737E+50,2.5100199196022536E+50,-2.4900200795977737E+50,-1,0,1,180]
[60.700000000000593,1.0594148559605683,9.9999999999999997E+98,-1.2500000000000001E+101,1.2500399993600206E+101,-89.541643541999562,0.87206927243212562,-0.23949518407970308,0.87206927243212562,0,0.87206927243212562,0,-3.5355904731176385E+50,-44.770821770999781,-2.5100199196022536E+50,2.4900200795977737E+50,-2.5100199196022536E+50,2.4900200795977737E+50,2.5100199196022536E+50,-2.4900200795977737E+50,-1,0,1,180]
[60.800000000000594,1.0611601852125627,9.9999999999999997E+98,-1.2500000000000001E+101,1.2500399993600206E+101,-89.541643541999562,0.87292207726981474,-0.23800704701495162,0.87292207726981474,0,0.87292207726981474,0,-3.5355904731176385E+50,-44.770821770999781,-2.5100199196022536E+50,2.4900200795977737E+50,-2.5100199196022536E+50,2.4900200795977737E+50,2.5100199196022536E+50,-2.4900200795977737E+50,-1,0,1,180]
[60.900000000000595,1.0629055144645569,9.9999999999999997E+98,-1.2500000000000001E+101,1.2500399993600206E+101,-89.541643541999562,0.8737722230354702,-0.23652210225165254,0.8737722230354702,0,0.8737722230354702,0,-3.5355904731176385E+50,-44.770821770999781,-2.5100199196022536E+50,2.4900200795977737E+50,-2.5100199196022536E+50,2.4900200795977737E+50,2.5100199196022536E+50,-2.4900200795977737E+50,-1,0,1,180]
[61.000000000000597,1.0646508437165514,9.9999999999999997E+98,-1.2500000000000001E+101,1.2500399993600206E+101,-89.541643541999562,0.87461970713940085,-0.23504036788338872,0.87461970713940085,0,0.87461970713940085,0,-3.5355904731176385E+50,-44.770821770999781,-2.5100199196022536E+50,2.4900200795977737E+50,-2.5100199196022536E+50,2.4900200795977737E+50,2.5100199196022536E+50,-2.4900200795977737E+50,-1,0,1,180]
[61.100000000000598,1.0663961729685456,9.9999999999999997E+98,-1.2500000000000001E+101,1.2500399993600206E+101,-89.541643541999562,0.87546452700002275,-0.23356186196462633,0.87546452700002275,0,0.87546452700002275,0,-3.5355904731176385E+50,-44.770821770999781,-2.5100199196022536E+50,2.4900200795977737E+50,-2.5100199196022536E+50,2.4900200795977737E+50,2.5100199196022536E+50,-2.4900200795977737E+50,-1,0,1,180]
[61.2000000000006,1.0681415022205401,9.9999999999999997E+98,-1.2500000000000001E+101,1.2500399993600206E+101,-89.541643541999562,0.87630668004386858,-0.23208660251049296,0.87630668004386858,0,0.87630668004386858,0,-3.5355904731176385E+50,-44.770821770999781,-2.5100199196022536E+50,2.4900200795977737E+50,-2.5100199196022536E+50,2.4900200795977737E+50,2.5100199196022536E+50,-2.4900200795977737E+50,-1,0,1,180]
[61.300000000000601,1.0698868314725345,9.9999999999999997E+98,-1.2500000000000001E+101,1.2500399993600206E+101,-89.541643541999562,0.87714616370559384,-0.23061460749655963,0.87714616370559384,0,0.87714616370559384,0,-3.5355904731176385E+50,-44.770821770999781,-2.5100199196022536E+50,2.4900200795977737E+50,-2.5100199196022536E+50,2.4900200795977737E+50,2.5100199196022536E+50,-2.4900200795977737E+50,-1,0,1,180]
[61.400000000000603,1.0716321607245287,9.9999999999999997E+98,-1.2500000000000001E+101,1.2500399993600206E+101,-89.541643541999562,0.87798297542798553,-0.22914589485862139,0.87798297542798553,0,0.87798297542798553,0,-3.5355904731176385E+50,-44.770821770999781,-2.5100199196022536E+50,2.4900200795977737E+50,-2.5100199196022536E+50,2.4900200795977737E+50,2.5100199196022536E+50,-2.4900200795977737E+50,-1,0,1,180]
[61.500000000000604,1.0733774899765232,9.9999999999999997E+98,-1.2500000000000001E+101,1.2500399993600206E+101,-89.541643541999562,0.87881711266197038,-0.22768048249247766,0.87881711266197038,0,0.87881711266197038,0,-3.5355904731176385E+50,-44.770821770999781,-2.5100199196022536E+50,2.4900200795977737E+50,-2.5100199196022536E+50,2.4900200795977737E+50,2.5100199196022536E+50,-2.4900200795977737E+50,-1,0,1,180]
[61.600000000000605,1.0751228192285174,9.9999999999999997E+98,-1.2500000000000001E+101,1.2500399993600206E+101,-89.541643541999562,0.87964857286662146,-0.22621838825371618,0.87964857286662146,0,0.87964857286662146,0,-3.5355904731176385E+50,-44.770821770999781,-2.5100199196022536E+50,2.4900200795977737E+50,-2.5100199196022536E+50,2.4900200795977737E+50,2.5100199196022536E+50,-2.4900200795977737E+50,-1,0,1,180]
[61.700000000000607,1.0768681484805118,9.9999999999999997E+98,-1.2500000000000001E+101,1.2500399993600206E+101,-89.541643541999562,0.88047735350916689,-0.22475962995749349,0.88047735350916689,0,0.88047735350916689,0,-3.5355904731176385E+50,-44.770821770999781,-2.5100199196022536E+50,2.4900200795977737E+50,-2.5100199196022536E+50,2.4900200795977737E+50,2.5100199196022536E+50,-2.4900200795977737E+50,-1,0,1,180]
[61.800000000000608,1.0786134777325063,9.9999999999999997E+98,-1.2500000000000001E+101,1.2500399993600206E+101,-89.541643541999562,0.88130345206499727,-0.22330422537831915,0.88130345206499727,0,0.88130345206499727,0,-3.5355904731176385E+50,-44.770821770999781,-2.5100199196022536E+50,2.4900200795977737E+50,-2.5100199196022536E+50,2.4900200795977737E+50,2.5100199196022536E+50,-2.4900200795977737E+50,-1,0,1,180]
[61.90000000000061,1.0803588069845005,9.9999999999999997E+98,-1.2500000000000001E+101,1.2500399993600206E+101,-89.541643541999562,0.88212686601767276,-0.22185219224983888,0.88212686601767276,0,0.88212686601767276,0,-3.5355904731176385E+50,-44.770821770999781,-2.5100199196022536E+50,2.4900200795977737E+50,-2.5100199196022536E+50,2.4900200795977737E+50,2.5100199196022536E+50,-2.4900200795977737E+50,-1,0,1,180]
[62.000000000000611,1.0821041362364949,9.9999999999999997E+98,-1.2500000000000001E+101,1.2500399993600206E+101,-89.541643541999562,0.88294759285893187,-0.2204035482646178,0.88294759285893187,0,0.88294759285893187,0,-3.5355904731176385E+50,-44.770821770999781,-2.5100199196022536E+50,2.4900200795977737E+50,-2.5100199196022536E+50,2.4900200795977737E+50,2.5100199196022536E+50,-2.4900200795977737E+50,-1,0,1,180]
[62.100000000000612,1.0838494654884891,9.9999999999999997E+98,-1.2500000000000001E+101,1.2500399993600206E+101,-89.541643541999562,0.88376563008869835,-0.21895831107392605,0.88376563008869835,0,0.88376563008869835,0,-3.5355904731176385E+50,-44.770821770999781,-2.5100199196022536E+50,2.4900200795977737E+50,-2.5100199196022536E+50,2.4900200795977737E+50,2.5100199196022536E+50,-2.4900200795977737E+50,-1,0,1,180]
[62.200000000000614,1.0855947947404836,9.9999999999999997E+98,-1.2500000000000001E+101,1.2500399993600206E+101,-89.541643541999562,0.88458097521508894,-0.21751649828752226,0.88458097521508894,0,0.88458097521508894,0,-3.5355904731176385E+50,-44.770821770999781,-2.5100199196022536E+50,2.4900200795977737E+50,-2.5100199196022536E+50,2.4900200795977737E+50,2.5100199196022536E+50,-2.4900200795977737E+50,-1,0,1,180]
[62.300000000000615,1.087340123992478,9.9999999999999997E+98,-1.2500000000000001E+101,1.2500399993600206E+101,-89.541643541999562,0.88539362575442082,-0.21607812747344055,0.88539362575442082,0,0.88539362575442082,0,-3.5355904731176385E+50,-44.770821770999781,-2.5100199196022536E+50,2.4900200795977737E+50,-2.5100199196022536E+50,2.4900200795977737E+50,2.5100199196022536E+50,-2.4900200795977737E+50,-1,0,1,180]
[62.400000000000617,1.0890854532444723,9.9999999999999997E+98,-1.2500000000000001E+101,1.2500399993600206E+101,-89.541643541999562,0.88620357923121962,-0.21464321615777546,0.88620357923121962,0,0.88620357923121962,0,-3.5355904731176385E+50,-44.770821770999781,-2.5100199196022536E+50,2.4900200795977737E+50,-2.5100199196022536E+50,2.4900200795977737E+50,2.5100199196022536E+50,-2.4900200795977737E+50,-1,0,1,180]
[62.500000000000618,1.0908307824964667,9.9999999999999997E+98,-1.2500000000000001E+101,1.2500399993600206E+101,-89.541643541999562,0.8870108331782266,-0.21321178182446818,0.8870108331782266,0,0.8870108331782266,0,-3.5355904731176385E+50,-44.770821770999781,-2.5100199196022536E+50,2.4900200795977737E+50,-2.5100199196022536E+50,2.4900200795977737E+50,2.5100199196022536E+50,-2.4900200795977737E+50,-1,0,1,180]
[62.60000000000062,1.0925761117484609,9.9999999999999997E+98,-1.2500000000000001E+101,1.2500399993600206E+101,-89.541643541999562,0.88781538513640623,-0.21178384191509469,0.88781538513640623,0,0.88781538513640623,0,-3.5355904731176385E+50,-44.770821770999781,-2.5100199196022536E+50,2.4900200795977737E+50,-2.5100199196022536E+50,2.4900200795977737E+50,2.5100199196022536E+50,-2.4900200795977737E+50,-1,0,1,180]
[62.700000000000621,1.0943214410004554,9.9999999999999997E+98,-1.2500000000000001E+101,1.2500399993600206E+101,-89.541643541999562,0.88861723265495374,-0.21035941382865186,0.88861723265495374,0,0.88861723265495374,0,-3.5355904731176385E+50,-44.770821770999781,-2.5100199196022536E+50,2.4900200795977737E+50,-2.5100199196022536E+50,2.4900200795977737E+50,2.5100199196022536E+50,-2.4900200795977737E+50,-1,0,1,180]
[62.800000000000622,1.0960667702524498,9.9999999999999997E+98,-1.2500000000000001E+101,1.2500399993600206E+101,-89.541643541999562,0.88941637329130252,-0.20893851492134646,0.88941637329130252,0,0.88941637329130252,0,-3.5355904731176385E+50,-44.770821770999781,-2.5100199196022536E+50,2.4900200795977737E+50,-2.5100199196022536E+50,2.4900200795977737E+50,2.5100199196022536E+50,-2.4900200795977737E+50,-1,0,1,180]
[62.900000000000624,1.097812099504444,9.9999999999999997E+98,-1.2500000000000001E+101,1.2500399993600206E+101,-89.541643541999562,0.89021280461113139,-0.20752116250638358,0.89021280461113139,0,0.89021280461113139,0,-3.5355904731176385E+50,-44.770821770999781,-2.5100199196022536E+50,2.4900200795977737E+50,-2.5100199196022536E+50,2.4900200795977737E+50,2.5100199196022536E+50,-2.4900200795977737E+50,-1,0,1,180]
[63.000000000000625,1.0995574287564385,9.9999999999999997E+98,-1.2500000000000001E+101,1.2500399993600206E+101,-89.541643541999562,0.89100652418837278,-0.20610737385375469,0.89100652418837278,0,0.89100652418837278,0,-3.5355904731176385E+50,-44.770821770999781,-2.5100199196022536E+50,2.4900200795977737E+50,-2.5100199196022536E+50,2.4900200795977737E+50,2.5100199196022536E+50,-2.4900200795977737E+50,-1,0,1,180]
[63.100000000000627,1.1013027580084329,9.9999999999999997E+98,-1.2500000000000001E+101,1.2500399993600206E+101,-89.541643541999562,0.89179752960521907,-0.20469716619002848,0.89179752960521907,0,0.89179752960521907,0,-3.5355904731176385E+50,-44.770821770999781,-2.5100199196022536E+50,2.4900200795977737E+50,-2.5100199196022536E+50,2.4900200795977737E+50,2.5100199196022536E+50,-2.4900200795977737E+50,-1,0,1,180]
[63.200000000000628,1.1030480872604271,9.9999999999999997E+98,-1.2500000000000001E+101,1.2500399993600206E+101,-89.541643541999562,0.89258581845213036,-0.20329055669814058,0.89258581845213036,0,0.89258581845213036,0,-3.5355904731176385E+50,-44.770821770999781,-2.5100199196022536E+50,2.4900200795977737E+50,-2.5100199196022536E+50,2.4900200795977737E+50,2.5100199196022536E+50,-2.4900200795977737E+50,-1,0,1,180]
[63.30000000000063,1.1047934165124216,9.9999999999999997E+98,-1.2500000000000001E+101,1.2500399993600206E+101,-89.541643541999562,0.89337138832784246,-0.20188756251718329,0.89337138832784246,0,0.89337138832784246,0,-3.5355904731176385E+50,-44.770821770999781,-2.5100199196022536E+50,2.4900200795977737E+50,-2.5100199196022536E+50,2.4900200795977737E+50,2.5100199196022536E+50,-2.4900200795977737E+50,-1,0,1,180]
[63.400000000000631,1.1065387457644158,9.9999999999999997E+98,-1.2500000000000001E+101,1.2500399993600206E+101,-89.541643541999562,0.89415423683937301,-0.20048820074219839,0.89415423683937301,0,0.89415423683937301,0,-3.5355904731176385E+50,-44.770821770999781,-2.5100199196022536E+50,2.4900200795977737E+50,-2.5100199196022536E+50,2.4900200795977737E+50,2.5100199196022536E+50,-2.4900200795977737E+50,-1,0,1,180]
[63.500000000000632,1.1082840750164102,9.9999999999999997E+98,-1.2500000000000001E+101,1.2500399993600206E+101,-89.541643541999562,0.89493436160202999,-0.19909248842396712,0.89493436160202999,0,0.89493436160202999,0,-3.5355904731176385E+50,-44.770821770999781,-2.5100199196022536E+50,2.4900200795977737E+50,-2.5100199196022536E+50,2.4900200795977737E+50,2.5100199196022536E+50,-2.4900200795977737E+50,-1,0,1,180]
[63.600000000000634,1.1100294042684047,9.9999999999999997E+98,-1.2500000000000001E+101,1.2500399993600206E+101,-89.541643541999562,0.89571176023941779,-0.19770044256880376,0.89571176023941779,0,0.89571176023941779,0,-3.5355904731176385E+50,-44.770821770999781,-2.5100199196022536E+50,2.4900200795977737E+50,-2.5100199196022536E+50,2.4900200795977737E+50,2.5100199196022536E+50,-2.4900200795977737E+50,-1,0,1,180]
[63.700000000000635,1.1117747335203989,9.9999999999999997E+98,-1.2500000000000001E+101,1.2500399993600206E+101,-89.541643541999562,0.89648643038344533,-0.19631208013834794,0.89648643038344533,0,0.89648643038344533,0,-3.5355904731176385E+50,-44.770821770999781,-2.5100199196022536E+50,2.4900200795977737E+50,-2.5100199196022536E+50,2.4900200795977737E+50,2.5100199196022536E+50,-2.4900200795977737E+50,-1,0,1,180]
[63.800000000000637,1.1135200627723933,9.9999999999999997E+98,-1.2500000000000001E+101,1.2500399993600206E+101,-89.541643541999562,0.89725836967433337,-0.1949274180493574,0.89725836967433337,0,0.89725836967433337,0,-3.5355904731176385E+50,-44.770821770999781,-2.5100199196022536E+50,2.4900200795977737E+50,-2.5100199196022536E+50,2.4900200795977737E+50,2.5100199196022536E+50,-2.4900200795977737E+50,-1,0,1,180]
[63.900000000000638,1.1152653920243876,9.9999999999999997E+98,-1.2500000000000001E+101,1.2500399993600206E+101,-89.541643541999562,0.89802757576062042,-0.1935464731735031,0.89802757576062042,0,0.89802757576062042,0,-3.5355904731176385E+50,-44.770821770999781,-2.5100199196022536E+50,2.4900200795977737E+50,-2.5100199196022536E+50,2.4900200795977737E+50,2.5100199196022536E+50,-2.4900200795977737E+50,-1,0,1,180]
[64.000000000000639,1.117010721276382,9.9999999999999997E+98,-1.2500000000000001E+101,1.2500399993600206E+101,-89.541643541999562,0.89879404629917181,-0.19216926233716214,0.89879404629917181,0,0.89879404629917181,0,-3.5355904731176385E+50,-44.770821770999781,-2.5100199196022536E+50,2.4900200795977737E+50,-2.5100199196022536E+50,2.4900200795977737E+50,2.5100199196022536E+50,-2.4900200795977737E+50,-1,0,1,180]
[64.100000000000634,{"$f":"A646*PI()/180","v":1.1187560505283762},{"$f":"$D$1","v":9.9999999999999997E+98},{"$f":"-(18000*$G$1/$N$1)","v":-1.2500000000000001E+101},{"$f":"(C646^2+D646^2)^0.5","v":1.2500399993600206E+101},{"$f":"(180/PI())*ATAN(D646/C646)","v":-89.541643541999562},{"$f":"SIN(B646)","v":0.89955777895518507},{"$f":"-((COS(B646))^2)","v":-0.19079580232121429},{"$f":"G646","v":0.89955777895518507},0,{"$f":"(((I646^2)/(1+(TAN(J646*(PI()/180)))^2))^0.5)","v":0.89955777895518507},{"$f":"K646*TAN(J646*(PI()/180))","v":0},{"$f":"-(((((C646+H646)^2)+(D646)^2)^0.5)^0.5)","v":-3.5355904731176385E+50},{"$f":"((ATAN(D646/(C646+H646)))*(180/PI()))/2","v":-44.770821770999781},{"$f":"-(((M646^2)/(1+(TAN(N646*(PI()/180)))^2))^0.5)","v":-2.5100199196022536E+50},{"$f":"O646*TAN(N646*(PI()/180))","v":2.4900200795977737E+50},-2.5100199196022536E+50,2.4900200795977737E+50,{"$f":"-O646+K646","v":2.5100199196022536E+50},{"$f":"L646-P646","v":-2.4900200795977737E+50},{"$f":"(Q646*S646+T646*R646)/((S646^2)+(T646^2))","v":-1},{"$f":"(R646*S646-Q646*T646)/((S646^2)+(T646^2))","v":0},{"$f":"((U646^2)+(V646^2))^0.5","v":1},{"$f":"(ACOS(U646/W646))*(180/PI())","v":180}]
[{"$f":"A646+0.1","v":64.200000000000628},1.1205013797803705,9.9999999999999997E+98,-1.2500000000000001E+101,1.2500399993600206E+101,-89.541643541999562,0.90031877140219829,-0.18942610986083633,0.90031877140219829,0,0.90031877140219829,0,-3.5355904731176385E+50,-44.770821770999781,-2.5100199196022536E+50,2.4900200795977737E+50,-2.5100199196022536E+50,2.4900200795977737E+50,2.5100199196022536E+50,-2.4900200795977737E+50,-1,0,1,180]
[64.300000000000622,1.1222467090323647,9.9999999999999997E+98,-1.2500000000000001E+101,1.2500399993600206E+101,-89.541643541999562,0.90107702132209622,-0.18806020164529849,0.90107702132209622,0,0.90107702132209622,0,-3.5355904731176385E+50,-44.770821770999781,-2.5100199196022536E+50,2.4900200795977737E+50,-2.5100199196022536E+50,2.4900200795977737E+50,2.5100199196022536E+50,-2.4900200795977737E+50,-1,0,1,180]
[64.400000000000617,1.1239920382843589,9.9999999999999997E+98,-1.2500000000000001E+101,1.2500399993600206E+101,-89.541643541999562,0.90183252640511835,-0.18669809431776146,0.90183252640511835,0,0.90183252640511835,0,-3.5355904731176385E+50,-44.770821770999781,-2.5100199196022536E+50,2.4900200795977737E+50,-2.5100199196022536E+50,2.4900200795977737E+50,2.5100199196022536E+50,-2.4900200795977737E+50,-1,0,1,180]
[64.500000000000611,1.1257373675363533,9.9999999999999997E+98,-1.2500000000000001E+101,1.2500399993600206E+101,-89.541643541999562,0.90258528434986529,-0.18533980447507289,0.90258528434986529,0,0.90258528434986529,0,-3.5355904731176385E+50,-44.770821770999781,-2.5100199196022536E+50,2.4900200795977737E+50,-2.5100199196022536E+50,2.4900200795977737E+50,2.5100199196022536E+50,-2.4900200795977737E+50,-1,0,1,180]
[64.600000000000605,1.1274826967883476,9.9999999999999997E+98,-1.2500000000000001E+101,1.2500399993600206E+101,-89.541643541999562,0.90333529286330538,-0.1839853486675663,0.90333529286330538,0,0.90333529286330538,0,-3.5355904731176385E+50,-44.770821770999781,-2.5100199196022536E+50,2.4900200795977737E+50,-2.5100199196022536E+50,2.4900200795977737E+50,2.5100199196022536E+50,-2.4900200795977737E+50,-1,0,1,180]
[64.7000000000006,1.1292280260403416,9.9999999999999997E+98,-1.2500000000000001E+101,1.2500399993600206E+101,-89.541643541999562,0.90408254966078283,-0.18263474339885821,0.90408254966078283,0,0.90408254966078283,0,-3.5355904731176385E+50,-44.770821770999781,-2.5100199196022536E+50,2.4900200795977737E+50,-2.5100199196022536E+50,2.4900200795977737E+50,2.5100199196022536E+50,-2.4900200795977737E+50,-1,0,1,180]
[64.800000000000594,1.1309733552923358,9.9999999999999997E+98,-1.2500000000000001E+101,1.2500399993600206E+101,-89.541643541999562,0.90482705246602391,-0.18128800512564727,0.90482705246602391,0,0.90482705246602391,0,-3.5355904731176385E+50,-44.770821770999781,-2.5100199196022536E+50,2.4900200795977737E+50,-2.5100199196022536E+50,2.4900200795977737E+50,2.5100199196022536E+50,-2.4900200795977737E+50,-1,0,1,180]
[64.900000000000588,1.1327186845443302,9.9999999999999997E+98,-1.2500000000000001E+101,1.2500399993600206E+101,-89.541643541999562,0.90556879901114395,-0.17994515025751434,0.90556879901114395,0,0.90556879901114395,0,-3.5355904731176385E+50,-44.770821770999781,-2.5100199196022536E+50,2.4900200795977737E+50,-2.5100199196022536E+50,2.4900200795977737E+50,2.5100199196022536E+50,-2.4900200795977737E+50,-1,0,1,180]
[65.000000000000583,1.1344640137963244,9.9999999999999997E+98,-1.2500000000000001E+101,1.2500399993600206E+101,-89.541643541999562,0.90630778703665427,-0.17860619515672252,0.90630778703665427,0,0.90630778703665427,0,-3.5355904731176385E+50,-44.770821770999781,-2.5100199196022536E+50,2.4900200795977737E+50,-2.5100199196022536E+50,2.4900200795977737E+50,2.5100199196022536E+50,-2.4900200795977737E+50,-1,0,1,180]
[65.100000000000577,1.1362093430483187,9.9999999999999997E+98,-1.2500000000000001E+101,1.2500399993600206E+101,-89.541643541999562,0.90704401429146919,-0.17727115613801703,0.90704401429146919,0,0.90704401429146919,0,-3.5355904731176385E+50,-44.770821770999781,-2.5100199196022536E+50,2.4900200795977737E+50,-2.5100199196022536E+50,2.4900200795977737E+50,2.5100199196022536E+50,-2.4900200795977737E+50,-1,0,1,180]
[65.200000000000571,1.1379546723003127,9.9999999999999997E+98,-1.2500000000000001E+101,1.2500399993600206E+101,-89.541643541999562,0.9077774785329128,-0.17594004946842709,0.9077774785329128,0,0.9077774785329128,0,-3.5355904731176385E+50,-44.770821770999781,-2.5100199196022536E+50,2.4900200795977737E+50,-2.5100199196022536E+50,2.4900200795977737E+50,2.5100199196022536E+50,-2.4900200795977737E+50,-1,0,1,180]
[65.300000000000566,1.1397000015523071,9.9999999999999997E+98,-1.2500000000000001E+101,1.2500399993600206E+101,-89.541643541999562,0.90850817752672597,-0.17461289136706701,0.90850817752672597,0,0.90850817752672597,0,-3.5355904731176385E+50,-44.770821770999781,-2.5100199196022536E+50,2.4900200795977737E+50,-2.5100199196022536E+50,2.4900200795977737E+50,2.5100199196022536E+50,-2.4900200795977737E+50,-1,0,1,180]
[65.40000000000056,1.1414453308043013,9.9999999999999997E+98,-1.2500000000000001E+101,1.2500399993600206E+101,-89.541643541999562,0.90923610904707264,-0.17328969800493987,0.90923610904707264,0,0.90923610904707264,0,-3.5355904731176385E+50,-44.770821770999781,-2.5100199196022536E+50,2.4900200795977737E+50,-2.5100199196022536E+50,2.4900200795977737E+50,2.5100199196022536E+50,-2.4900200795977737E+50,-1,0,1,180]
[65.500000000000554,1.1431906600562955,9.9999999999999997E+98,-1.2500000000000001E+101,1.2500399993600206E+101,-89.541643541999562,0.90996127087654721,-0.17197048550473906,0.90996127087654721,0,0.90996127087654721,0,-3.5355904731176385E+50,-44.770821770999781,-2.5100199196022536E+50,2.4900200795977737E+50,-2.5100199196022536E+50,2.4900200795977737E+50,2.5100199196022536E+50,-2.4900200795977737E+50,-1,0,1,180]
[65.600000000000549,1.1449359893082898,9.9999999999999997E+98,-1.2500000000000001E+101,1.2500399993600206E+101,-89.541643541999562,0.91068366080618102,-0.17065526994065255,0.91068366080618102,0,0.91068366080618102,0,-3.5355904731176385E+50,-44.770821770999781,-2.5100199196022536E+50,2.4900200795977737E+50,-2.5100199196022536E+50,2.4900200795977737E+50,2.5100199196022536E+50,-2.4900200795977737E+50,-1,0,1,180]
[65.700000000000543,1.146681318560284,9.9999999999999997E+98,-1.2500000000000001E+101,1.2500399993600206E+101,-89.541643541999562,0.91140327663544918,-0.16934406733816698,0.91140327663544918,0,0.91140327663544918,0,-3.5355904731176385E+50,-44.770821770999781,-2.5100199196022536E+50,2.4900200795977737E+50,-2.5100199196022536E+50,2.4900200795977737E+50,2.5100199196022536E+50,-2.4900200795977737E+50,-1,0,1,180]
[65.800000000000537,1.1484266478122782,9.9999999999999997E+98,-1.2500000000000001E+101,1.2500399993600206E+101,-89.541643541999562,0.91212011617227684,-0.1680368936738722,0.91212011617227684,0,0.91212011617227684,0,-3.5355904731176385E+50,-44.770821770999781,-2.5100199196022536E+50,2.4900200795977737E+50,-2.5100199196022536E+50,2.4900200795977737E+50,2.5100199196022536E+50,-2.4900200795977737E+50,-1,0,1,180]
[65.900000000000531,1.1501719770642724,9.9999999999999997E+98,-1.2500000000000001E+101,1.2500399993600206E+101,-89.541643541999562,0.91283417723304661,-0.16673376487526687,0.91283417723304661,0,0.91283417723304661,0,-3.5355904731176385E+50,-44.770821770999781,-2.5100199196022536E+50,2.4900200795977737E+50,-2.5100199196022536E+50,2.4900200795977737E+50,2.5100199196022536E+50,-2.4900200795977737E+50,-1,0,1,180]
[66.000000000000526,1.1519173063162667,9.9999999999999997E+98,-1.2500000000000001E+101,1.2500399993600206E+101,-89.541643541999562,0.91354545764260464,-0.16543469682056411,0.91354545764260464,0,0.91354545764260464,0,-3.5355904731176385E+50,-44.770821770999781,-2.5100199196022536E+50,2.4900200795977737E+50,-2.5100199196022536E+50,2.4900200795977737E+50,2.5100199196022536E+50,-2.4900200795977737E+50,-1,0,1,180]
[66.10000000000052,1.1536626355682609,9.9999999999999997E+98,-1.2500000000000001E+101,1.2500399993600206E+101,-89.541643541999562,0.91425395523426733,-0.1641397053384982,0.91425395523426733,0,0.91425395523426733,0,-3.5355904731176385E+50,-44.770821770999781,-2.5100199196022536E+50,2.4900200795977737E+50,-2.5100199196022536E+50,2.4900200795977737E+50,2.5100199196022536E+50,-2.4900200795977737E+50,-1,0,1,180]
[66.200000000000514,1.1554079648202551,9.9999999999999997E+98,-1.2500000000000001E+101,1.2500399993600206E+101,-89.541643541999562,0.91495966784982841,-0.16284880620813172,0.91495966784982841,0,0.91495966784982841,0,-3.5355904731176385E+50,-44.770821770999781,-2.5100199196022536E+50,2.4900200795977737E+50,-2.5100199196022536E+50,2.4900200795977737E+50,2.5100199196022536E+50,-2.4900200795977737E+50,-1,0,1,180]
[66.300000000000509,1.1571532940722493,9.9999999999999997E+98,-1.2500000000000001E+101,1.2500399993600206E+101,-89.541643541999562,0.91566259333956457,-0.16156201515866317,0.91566259333956457,0,0.91566259333956457,0,-3.5355904731176385E+50,-44.770821770999781,-2.5100199196022536E+50,2.4900200795977737E+50,-2.5100199196022536E+50,2.4900200795977737E+50,2.5100199196022536E+50,-2.4900200795977737E+50,-1,0,1,180]
[66.400000000000503,1.1588986233242435,9.9999999999999997E+98,-1.2500000000000001E+101,1.2500399993600206E+101,-89.541643541999562,0.91636272956224307,-0.16027934786923534,0.91636272956224307,0,0.91636272956224307,0,-3.5355904731176385E+50,-44.770821770999781,-2.5100199196022536E+50,2.4900200795977737E+50,-2.5100199196022536E+50,2.4900200795977737E+50,2.5100199196022536E+50,-2.4900200795977737E+50,-1,0,1,180]
[66.500000000000497,1.1606439525762378,9.9999999999999997E+98,-1.2500000000000001E+101,1.2500399993600206E+101,-89.541643541999562,0.91706007438512749,-0.15900081996874446,0.91706007438512749,0,0.91706007438512749,0,-3.5355904731176385E+50,-44.770821770999781,-2.5100199196022536E+50,2.4900200795977737E+50,-2.5100199196022536E+50,2.4900200795977737E+50,2.5100199196022536E+50,-2.4900200795977737E+50,-1,0,1,180]
[66.600000000000492,1.162389281828232,9.9999999999999997E+98,-1.2500000000000001E+101,1.2500399993600206E+101,-89.541643541999562,0.91775462568398447,-0.1577264470356495,0.91775462568398447,0,0.91775462568398447,0,-3.5355904731176385E+50,-44.770821770999781,-2.5100199196022536E+50,2.4900200795977737E+50,-2.5100199196022536E+50,2.4900200795977737E+50,2.5100199196022536E+50,-2.4900200795977737E+50,-1,0,1,180]
[66.700000000000486,1.1641346110802264,9.9999999999999997E+98,-1.2500000000000001E+101,1.2500399993600206E+101,-89.541643541999562,0.91844638134309053,-0.15645624459778226,0.91844638134309053,0,0.91844638134309053,0,-3.5355904731176385E+50,-44.770821770999781,-2.5100199196022536E+50,2.4900200795977737E+50,-2.5100199196022536E+50,2.4900200795977737E+50,2.5100199196022536E+50,-2.4900200795977737E+50,-1,0,1,180]
[66.80000000000048,1.1658799403322204,9.9999999999999997E+98,-1.2500000000000001E+101,1.2500399993600206E+101,-89.541643541999562,0.91913533925523772,-0.15519022813215913,0.91913533925523772,0,0.91913533925523772,0,-3.5355904731176385E+50,-44.770821770999781,-2.5100199196022536E+50,2.4900200795977737E+50,{"$f":"K673+O673","v":-2.5100199196022536E+50},2.4900200795977737E+50,2.5100199196022536E+50,-2.4900200795977737E+50,-1,0,1,180]
[66.900000000000475,1.1676252695842146,9.9999999999999997E+98,-1.2500000000000001E+101,1.2500399993600206E+101,-89.541643541999562,0.91982149732174079,-0.15392841306479071,0.91982149732174079,0,0.91982149732174079,0,-3.5355904731176385E+50,-44.770821770999781,-2.5100199196022536E+50,2.4900200795977737E+50,-2.5100199196022536E+50,2.4900200795977737E+50,2.5100199196022536E+50,-2.4900200795977737E+50,-1,0,1,180]
[67.000000000000469,1.1693705988362089,9.9999999999999997E+98,-1.2500000000000001E+101,1.2500399993600206E+101,-89.541643541999562,0.92050485345244348,-0.15267081477049554,0.92050485345244348,0,0.92050485345244348,0,-3.5355904731176385E+50,-44.770821770999781,-2.5100199196022536E+50,2.4900200795977737E+50,-2.5100199196022536E+50,2.4900200795977737E+50,2.5100199196022536E+50,-2.4900200795977737E+50,-1,0,1,180]
[67.100000000000463,1.1711159280882033,9.9999999999999997E+98,-1.2500000000000001E+101,1.2500399993600206E+101,-89.541643541999562,0.92118540556572437,-0.15141744857271186,0.92118540556572437,0,0.92118540556572437,0,-3.5355904731176385E+50,-44.770821770999781,-2.5100199196022536E+50,2.4900200795977737E+50,-2.5100199196022536E+50,2.4900200795977737E+50,2.5100199196022536E+50,-2.4900200795977737E+50,-1,0,1,180]
[67.200000000000458,1.1728612573401975,9.9999999999999997E+98,-1.2500000000000001E+101,1.2500399993600206E+101,-89.541643541999562,0.92186315158850363,-0.15016832974331154,0.92186315158850363,0,0.92186315158850363,0,-3.5355904731176385E+50,-44.770821770999781,-2.5100199196022536E+50,2.4900200795977737E+50,-2.5100199196022536E+50,2.4900200795977737E+50,2.5100199196022536E+50,-2.4900200795977737E+50,-1,0,1,180]
[67.300000000000452,1.1746065865921915,9.9999999999999997E+98,-1.2500000000000001E+101,1.2500399993600206E+101,-89.541643541999562,0.92253808945624938,-0.14892347350241328,0.92253808945624938,0,0.92253808945624938,0,-3.5355904731176385E+50,-44.770821770999781,-2.5100199196022536E+50,2.4900200795977737E+50,-2.5100199196022536E+50,2.4900200795977737E+50,2.5100199196022536E+50,-2.4900200795977737E+50,-1,0,1,180]
[67.400000000000446,1.1763519158441857,9.9999999999999997E+98,-1.2500000000000001E+101,1.2500399993600206E+101,-89.541643541999562,0.92321021711298379,-0.14768289501819726,0.92321021711298379,0,0.92321021711298379,0,-3.5355904731176385E+50,-44.770821770999781,-2.5100199196022536E+50,2.4900200795977737E+50,-2.5100199196022536E+50,2.4900200795977737E+50,2.5100199196022536E+50,-2.4900200795977737E+50,-1,0,1,180]
[67.500000000000441,1.1780972450961802,9.9999999999999997E+98,-1.2500000000000001E+101,1.2500399993600206E+101,-89.541643541999562,0.92387953251128974,-0.14644660940672077,0.92387953251128974,0,0.92387953251128974,0,-3.5355904731176385E+50,-44.770821770999781,-2.5100199196022536E+50,2.4900200795977737E+50,-2.5100199196022536E+50,2.4900200795977737E+50,2.5100199196022536E+50,-2.4900200795977737E+50,-1,0,1,180]
[67.600000000000435,1.1798425743481744,9.9999999999999997E+98,-1.2500000000000001E+101,1.2500399993600206E+101,-89.541643541999562,0.92454603361231602,-0.14521463173173418,0.92454603361231602,0,0.92454603361231602,0,-3.5355904731176385E+50,-44.770821770999781,-2.5100199196022536E+50,2.4900200795977737E+50,-2.5100199196022536E+50,2.4900200795977737E+50,2.5100199196022536E+50,-2.4900200795977737E+50,-1,0,1,180]
[67.700000000000429,1.1815879036001686,9.9999999999999997E+98,-1.2500000000000001E+101,1.2500399993600206E+101,-89.541643541999562,0.92520971838578492,-0.14398697700449647,0.92520971838578492,0,0.92520971838578492,0,-3.5355904731176385E+50,-44.770821770999781,-2.5100199196022536E+50,2.4900200795977737E+50,-2.5100199196022536E+50,2.4900200795977737E+50,2.5100199196022536E+50,-2.4900200795977737E+50,-1,0,1,180]
[67.800000000000423,1.1833332328521626,9.9999999999999997E+98,-1.2500000000000001E+101,1.2500399993600206E+101,-89.541643541999562,0.92587058480999751,-0.14276366018359327,0.92587058480999751,0,0.92587058480999751,0,-3.5355904731176385E+50,-44.770821770999781,-2.5100199196022536E+50,2.4900200795977737E+50,-2.5100199196022536E+50,2.4900200795977737E+50,2.5100199196022536E+50,-2.4900200795977737E+50,-1,0,1,180]
[67.900000000000418,1.1850785621041571,9.9999999999999997E+98,-1.2500000000000001E+101,1.2500399993600206E+101,-89.541643541999562,0.92652863087184012,-0.14154469617475354,0.92652863087184012,0,0.92652863087184012,0,-3.5355904731176385E+50,-44.770821770999781,-2.5100199196022536E+50,2.4900200795977737E+50,-2.5100199196022536E+50,2.4900200795977737E+50,2.5100199196022536E+50,-2.4900200795977737E+50,-1,0,1,180]
[68.000000000000412,1.1868238913561513,9.9999999999999997E+98,-1.2500000000000001E+101,1.2500399993600206E+101,-89.541643541999562,0.92718385456679009,-0.14033009983066944,0.92718385456679009,0,0.92718385456679009,0,-3.5355904731176385E+50,-44.770821770999781,-2.5100199196022536E+50,2.4900200795977737E+50,-2.5100199196022536E+50,2.4900200795977737E+50,2.5100199196022536E+50,-2.4900200795977737E+50,-1,0,1,180]
[68.100000000000406,1.1885692206081455,9.9999999999999997E+98,-1.2500000000000001E+101,1.2500399993600206E+101,-89.541643541999562,0.92783625389892266,-0.13911988595081401,0.92783625389892266,0,0.92783625389892266,0,-3.5355904731176385E+50,-44.770821770999781,-2.5100199196022536E+50,2.4900200795977737E+50,-2.5100199196022536E+50,2.4900200795977737E+50,2.5100199196022536E+50,-2.4900200795977737E+50,-1,0,1,180]
[68.200000000000401,1.1903145498601397,9.9999999999999997E+98,-1.2500000000000001E+101,1.2500399993600206E+101,-89.541643541999562,0.92848582688091608,-0.13791406928126143,0.92848582688091608,0,0.92848582688091608,0,-3.5355904731176385E+50,-44.770821770999781,-2.5100199196022536E+50,2.4900200795977737E+50,-2.5100199196022536E+50,2.4900200795977737E+50,2.5100199196022536E+50,-2.4900200795977737E+50,-1,0,1,180]
[68.300000000000395,1.192059879112134,9.9999999999999997E+98,-1.2500000000000001E+101,1.2500399993600206E+101,-89.541643541999562,0.9291325715340587,-0.13671266451450734,0.9291325715340587,0,0.9291325715340587,0,-3.5355904731176385E+50,-44.770821770999781,-2.5100199196022536E+50,2.4900200795977737E+50,-2.5100199196022536E+50,2.4900200795977737E+50,2.5100199196022536E+50,-2.4900200795977737E+50,-1,0,1,180]
[68.400000000000389,1.1938052083641282,9.9999999999999997E+98,-1.2500000000000001E+101,1.2500399993600206E+101,-89.541643541999562,0.9297764858882539,-0.13551568628928964,0.9297764858882539,0,0.9297764858882539,0,-3.5355904731176385E+50,-44.770821770999781,-2.5100199196022536E+50,2.4900200795977737E+50,-2.5100199196022536E+50,2.4900200795977737E+50,2.5100199196022536E+50,-2.4900200795977737E+50,-1,0,1,180]
[68.500000000000384,1.1955505376161224,9.9999999999999997E+98,-1.2500000000000001E+101,1.2500399993600206E+101,-89.541643541999562,0.93041756798202702,-0.13432314919041022,0.93041756798202702,0,0.93041756798202702,0,-3.5355904731176385E+50,-44.770821770999781,-2.5100199196022536E+50,2.4900200795977737E+50,-2.5100199196022536E+50,2.4900200795977737E+50,2.5100199196022536E+50,-2.4900200795977737E+50,-1,0,1,180]
[68.600000000000378,1.1972958668681166,9.9999999999999997E+98,-1.2500000000000001E+101,1.2500399993600206E+101,-89.541643541999562,0.93105581586253072,-0.13313506774855741,0.93105581586253072,0,0.93105581586253072,0,-3.5355904731176385E+50,-44.770821770999781,-2.5100199196022536E+50,2.4900200795977737E+50,-2.5100199196022536E+50,2.4900200795977737E+50,2.5100199196022536E+50,-2.4900200795977737E+50,-1,0,1,180]
[68.700000000000372,1.1990411961201108,9.9999999999999997E+98,-1.2500000000000001E+101,1.2500399993600206E+101,-89.541643541999562,0.93169122758555123,-0.13195145644012848,0.93169122758555123,0,0.93169122758555123,0,-3.5355904731176385E+50,-44.770821770999781,-2.5100199196022536E+50,2.4900200795977737E+50,-2.5100199196022536E+50,2.4900200795977737E+50,2.5100199196022536E+50,-2.4900200795977737E+50,-1,0,1,180]
[68.800000000000367,1.2007865253721053,9.9999999999999997E+98,-1.2500000000000001E+101,1.2500399993600206E+101,-89.541643541999562,0.93232380121551461,-0.13077232968705368,0.93232380121551461,0,0.93232380121551461,0,-3.5355904731176385E+50,-44.770821770999781,-2.5100199196022536E+50,2.4900200795977737E+50,-2.5100199196022536E+50,2.4900200795977737E+50,2.5100199196022536E+50,-2.4900200795977737E+50,-1,0,1,180]
[68.900000000000361,1.2025318546240993,9.9999999999999997E+98,-1.2500000000000001E+101,1.2500399993600206E+101,-89.541643541999562,0.93295353482549126,-0.12959770185662081,0.93295353482549126,0,0.93295353482549126,0,-3.5355904731176385E+50,-44.770821770999781,-2.5100199196022536E+50,2.4900200795977737E+50,-2.5100199196022536E+50,2.4900200795977737E+50,2.5100199196022536E+50,-2.4900200795977737E+50,-1,0,1,180]
[69.000000000000355,1.2042771838760935,9.9999999999999997E+98,-1.2500000000000001E+101,1.2500399993600206E+101,-89.541643541999562,0.93358042649720396,-0.12842758726129883,0.93358042649720396,0,0.93358042649720396,0,-3.5355904731176385E+50,-44.770821770999781,-2.5100199196022536E+50,2.4900200795977737E+50,-2.5100199196022536E+50,2.4900200795977737E+50,2.5100199196022536E+50,-2.4900200795977737E+50,-1,0,1,180]
[69.10000000000035,1.2060225131280877,9.9999999999999997E+98,-1.2500000000000001E+101,1.2500399993600206E+101,-89.541643541999562,0.9342044743210316,-0.1272620001585649,0.9342044743210316,0,0.9342044743210316,0,-3.5355904731176385E+50,-44.770821770999781,-2.5100199196022536E+50,2.4900200795977737E+50,-2.5100199196022536E+50,2.4900200795977737E+50,2.5100199196022536E+50,-2.4900200795977737E+50,-1,0,1,180]
[69.200000000000344,1.2077678423800822,9.9999999999999997E+98,-1.2500000000000001E+101,1.2500399993600206E+101,-89.541643541999562,0.93482567639601666,-0.12610095475072999,0.93482567639601666,0,0.93482567639601666,0,-3.5355904731176385E+50,-44.770821770999781,-2.5100199196022536E+50,2.4900200795977737E+50,-2.5100199196022536E+50,2.4900200795977737E+50,2.5100199196022536E+50,-2.4900200795977737E+50,-1,0,1,180]
[69.300000000000338,1.2095131716320764,9.9999999999999997E+98,-1.2500000000000001E+101,1.2500399993600206E+101,-89.541643541999562,0.93544403082986949,-0.12494446518476628,0.93544403082986949,0,0.93544403082986949,0,-3.5355904731176385E+50,-44.770821770999781,-2.5100199196022536E+50,2.4900200795977737E+50,-2.5100199196022536E+50,2.4900200795977737E+50,2.5100199196022536E+50,-2.4900200795977737E+50,-1,0,1,180]
[69.400000000000333,1.2112585008840704,9.9999999999999997E+98,-1.2500000000000001E+101,1.2500399993600206E+101,-89.541643541999562,0.93605953573897527,-0.12379254555213408,0.93605953573897527,0,0.93605953573897527,0,-3.5355904731176385E+50,-44.770821770999781,-2.5100199196022536E+50,2.4900200795977737E+50,-2.5100199196022536E+50,2.4900200795977737E+50,2.5100199196022536E+50,-2.4900200795977737E+50,-1,0,1,180]
[69.500000000000327,1.2130038301360646,9.9999999999999997E+98,-1.2500000000000001E+101,1.2500399993600206E+101,-89.541643541999562,0.93667218924839957,-0.12264520988861037,0.93667218924839957,0,0.93667218924839957,0,-3.5355904731176385E+50,-44.770821770999781,-2.5100199196022536E+50,2.4900200795977737E+50,-2.5100199196022536E+50,2.4900200795977737E+50,2.5100199196022536E+50,-2.4900200795977737E+50,-1,0,1,180]
[69.600000000000321,1.2147491593880591,9.9999999999999997E+98,-1.2500000000000001E+101,1.2500399993600206E+101,-89.541643541999562,0.93728198949189345,-0.12150247217411808,0.93728198949189345,0,0.93728198949189345,0,-3.5355904731176385E+50,-44.770821770999781,-2.5100199196022536E+50,2.4900200795977737E+50,-2.5100199196022536E+50,2.4900200795977737E+50,2.5100199196022536E+50,-2.4900200795977737E+50,-1,0,1,180]
[69.700000000000315,1.2164944886400533,9.9999999999999997E+98,-1.2500000000000001E+101,1.2500399993600206E+101,-89.541643541999562,0.93788893461189959,-0.12036434633255597,0.93788893461189959,0,0.93788893461189959,0,-3.5355904731176385E+50,-44.770821770999781,-2.5100199196022536E+50,2.4900200795977737E+50,-2.5100199196022536E+50,2.4900200795977737E+50,2.5100199196022536E+50,-2.4900200795977737E+50,-1,0,1,180]
[69.80000000000031,1.2182398178920475,9.9999999999999997E+98,-1.2500000000000001E+101,1.2500399993600206E+101,-89.541643541999562,0.93849302275955782,-0.11923084623162811,0.93849302275955782,0,0.93849302275955782,0,-3.5355904731176385E+50,-44.770821770999781,-2.5100199196022536E+50,2.4900200795977737E+50,-2.5100199196022536E+50,2.4900200795977737E+50,2.5100199196022536E+50,-2.4900200795977737E+50,-1,0,1,180]
[69.900000000000304,1.2199851471440415,9.9999999999999997E+98,-1.2500000000000001E+101,1.2500399993600206E+101,-89.541643541999562,0.93909425209471087,-0.1181019856826756,0.93909425209471087,0,0.93909425209471087,0,-3.5355904731176385E+50,-44.770821770999781,-2.5100199196022536E+50,2.4900200795977737E+50,-2.5100199196022536E+50,2.4900200795977737E+50,2.5100199196022536E+50,-2.4900200795977737E+50,-1,0,1,180]
[70.000000000000298,1.2217304763960359,9.9999999999999997E+98,-1.2500000000000001E+101,1.2500399993600206E+101,-89.541643541999562,0.9396926207859102,-0.11697777844050762,0.9396926207859102,0,0.9396926207859102,0,-3.5355904731176385E+50,-44.770821770999781,-2.5100199196022536E+50,2.4900200795977737E+50,-2.5100199196022536E+50,2.4900200795977737E+50,2.5100199196022536E+50,-2.4900200795977737E+50,-1,0,1,180]
[70.100000000000293,1.2234758056480302,9.9999999999999997E+98,-1.2500000000000001E+101,1.2500399993600206E+101,-89.541643541999562,0.94028812701042064,-0.11585823820323506,0.94028812701042064,0,0.94028812701042064,0,-3.5355904731176385E+50,-44.770821770999781,-2.5100199196022536E+50,2.4900200795977737E+50,-2.5100199196022536E+50,2.4900200795977737E+50,2.5100199196022536E+50,-2.4900200795977737E+50,-1,0,1,180]
[70.200000000000287,1.2252211349000244,9.9999999999999997E+98,-1.2500000000000001E+101,1.2500399993600206E+101,-89.541643541999562,0.94088076895422712,-0.11474337861210218,0.94088076895422712,0,0.94088076895422712,0,-3.5355904731176385E+50,-44.770821770999781,-2.5100199196022536E+50,2.4900200795977737E+50,-2.5100199196022536E+50,2.4900200795977737E+50,2.5100199196022536E+50,-2.4900200795977737E+50,-1,0,1,180]
[70.300000000000281,1.2269664641520186,9.9999999999999997E+98,-1.2500000000000001E+101,1.2500399993600206E+101,-89.541643541999562,0.94147054481203962,-0.11363321325132138,0.94147054481203962,0,0.94147054481203962,0,-3.5355904731176385E+50,-44.770821770999781,-2.5100199196022536E+50,2.4900200795977737E+50,-2.5100199196022536E+50,2.4900200795977737E+50,2.5100199196022536E+50,-2.4900200795977737E+50,-1,0,1,180]
[70.400000000000276,1.2287117934040128,9.9999999999999997E+98,-1.2500000000000001E+101,1.2500399993600206E+101,-89.541643541999562,0.94205745278729836,-0.11252775564790717,0.94205745278729836,0,0.94205745278729836,0,-3.5355904731176385E+50,-44.770821770999781,-2.5100199196022536E+50,2.4900200795977737E+50,-2.5100199196022536E+50,2.4900200795977737E+50,2.5100199196022536E+50,-2.4900200795977737E+50,-1,0,1,180]
[70.50000000000027,{"$f":"A710*PI()/180","v":1.230457122656007},{"$f":"$D$1","v":9.9999999999999997E+98},{"$f":"-(18000*$G$1/$N$1)","v":-1.2500000000000001E+101},{"$f":"(C710^2+D710^2)^0.5","v":1.2500399993600206E+101},{"$f":"(180/PI())*ATAN(D710/C710)","v":-89.541643541999562},{"$f":"SIN(B710)","v":0.94264149109217998},{"$f":"-((COS(B710))^2)","v":-0.11142701927151162},{"$f":"G710","v":0.94264149109217998},0,{"$f":"(((I710^2)/(1+(TAN(J710*(PI()/180)))^2))^0.5)","v":0.94264149109217998},{"$f":"K710*TAN(J710*(PI()/180))","v":0},{"$f":"-(((((C710+H710)^2)+(D710)^2)^0.5)^0.5)","v":-3.5355904731176385E+50},{"$f":"((ATAN(D710/(C710+H710)))*(180/PI()))/2","v":-44.770821770999781},{"$f":"-(((M710^2)/(1+(TAN(N710*(PI()/180)))^2))^0.5)","v":-2.5100199196022536E+50},{"$f":"O710*TAN(N710*(PI()/180))","v":2.4900200795977737E+50},-2.5100199196022536E+50,2.4900200795977737E+50,{"$f":"-O710+K710","v":2.5100199196022536E+50},{"$f":"L710-P710","v":-2.4900200795977737E+50},{"$f":"(Q710*S710+T710*R710)/((S710^2)+(T710^2))","v":-1},{"$f":"(R710*S710-Q710*T710)/((S710^2)+(T710^2))","v":0},{"$f":"((U710^2)+(V710^2))^0.5","v":1},{"$f":"(ACOS(U710/W710))*(180/PI())","v":180}]
[{"$f":"A710+0.1","v":70.600000000000264},1.2322024519080013,9.9999999999999997E+98,-1.2500000000000001E+101,1.2500399993600206E+101,-89.541643541999562,0.94322265794760252,-0.11033101753426008,0.94322265794760252,0,0.94322265794760252,0,-3.5355904731176385E+50,-44.770821770999781,-2.5100199196022536E+50,2.4900200795977737E+50,-2.5100199196022536E+50,2.4900200795977737E+50,2.5100199196022536E+50,-2.4900200795977737E+50,-1,0,1,180]
[70.700000000000259,1.2339477811599955,9.9999999999999997E+98,-1.2500000000000001E+101,1.2500399993600206E+101,-89.541643541999562,0.94380095158323085,-0.10923976379058782,0.94380095158323085,0,0.94380095158323085,0,-3.5355904731176385E+50,-44.770821770999781,-2.5100199196022536E+50,2.4900200795977737E+50,-2.5100199196022536E+50,2.4900200795977737E+50,2.5100199196022536E+50,-2.4900200795977737E+50,-1,0,1,180]
[70.800000000000253,1.2356931104119897,9.9999999999999997E+98,-1.2500000000000001E+101,1.2500399993600206E+101,-89.541643541999562,0.94437637023748244,-0.1081532713370774,0.94437637023748244,0,0.94437637023748244,0,-3.5355904731176385E+50,-44.770821770999781,-2.5100199196022536E+50,2.4900200795977737E+50,-2.5100199196022536E+50,2.4900200795977737E+50,2.5100199196022536E+50,-2.4900200795977737E+50,-1,0,1,180]
[70.900000000000247,1.2374384396639839,9.9999999999999997E+98,-1.2500000000000001E+101,1.2500399993600206E+101,-89.541643541999562,0.94494891215753218,-0.10707155341229645,0.94494891215753218,0,0.94494891215753218,0,-3.5355904731176385E+50,-44.770821770999781,-2.5100199196022536E+50,2.4900200795977737E+50,-2.5100199196022536E+50,2.4900200795977737E+50,2.5100199196022536E+50,-2.4900200795977737E+50,-1,0,1,180]
[71.000000000000242,1.2391837689159781,9.9999999999999997E+98,-1.2500000000000001E+101,1.2500399993600206E+101,-89.541643541999562,0.94551857559931818,-0.10599462319663648,0.94551857559931818,0,0.94551857559931818,0,-3.5355904731176385E+50,-44.770821770999781,-2.5100199196022536E+50,2.4900200795977737E+50,-2.5100199196022536E+50,2.4900200795977737E+50,2.5100199196022536E+50,-2.4900200795977737E+50,-1,0,1,180]
[71.100000000000236,1.2409290981679724,9.9999999999999997E+98,-1.2500000000000001E+101,1.2500399993600206E+101,-89.541643541999562,0.94608535882754663,-0.10492249381215232,0.94608535882754663,0,0.94608535882754663,0,-3.5355904731176385E+50,-44.770821770999781,-2.5100199196022536E+50,2.4900200795977737E+50,-2.5100199196022536E+50,2.4900200795977737E+50,2.5100199196022536E+50,-2.4900200795977737E+50,-1,0,1,180]
[71.20000000000023,1.2426744274199666,9.9999999999999997E+98,-1.2500000000000001E+101,1.2500399993600206E+101,-89.541643541999562,0.94664926011569761,-0.10385517832240225,0.94664926011569761,0,0.94664926011569761,0,-3.5355904731176385E+50,-44.770821770999781,-2.5100199196022536E+50,2.4900200795977737E+50,-2.5100199196022536E+50,2.4900200795977737E+50,2.5100199196022536E+50,-2.4900200795977737E+50,-1,0,1,180]
[71.300000000000225,1.2444197566719608,9.9999999999999997E+98,-1.2500000000000001E+101,1.2500399993600206E+101,-89.541643541999562,0.94721027774603006,-0.10279268973228863,0.94721027774603006,0,0.94721027774603006,0,-3.5355904731176385E+50,-44.770821770999781,-2.5100199196022536E+50,2.4900200795977737E+50,-2.5100199196022536E+50,2.4900200795977737E+50,2.5100199196022536E+50,-2.4900200795977737E+50,-1,0,1,180]
[71.400000000000219,1.2461650859239553,9.9999999999999997E+98,-1.2500000000000001E+101,1.2500399993600206E+101,-89.541643541999562,0.947768410009587,-0.10173504098789947,0.947768410009587,0,0.947768410009587,0,-3.5355904731176385E+50,-44.770821770999781,-2.5100199196022536E+50,2.4900200795977737E+50,-2.5100199196022536E+50,2.4900200795977737E+50,2.5100199196022536E+50,-2.4900200795977737E+50,-1,0,1,180]
[71.500000000000213,1.2479104151759493,9.9999999999999997E+98,-1.2500000000000001E+101,1.2500399993600206E+101,-89.541643541999562,0.94832365520620043,-0.10068224497635139,0.94832365520620043,0,0.94832365520620043,0,-3.5355904731176385E+50,-44.770821770999781,-2.5100199196022536E+50,2.4900200795977737E+50,-2.5100199196022536E+50,2.4900200795977737E+50,2.5100199196022536E+50,-2.4900200795977737E+50,-1,0,1,180]
[71.600000000000207,1.2496557444279435,9.9999999999999997E+98,-1.2500000000000001E+101,1.2500399993600206E+101,-89.541643541999562,0.94887601164449764,-9.9634314525631179E-2,0.94887601164449764,0,0.94887601164449764,0,-3.5355904731176385E+50,-44.770821770999781,-2.5100199196022536E+50,2.4900200795977737E+50,-2.5100199196022536E+50,2.4900200795977737E+50,2.5100199196022536E+50,-2.4900200795977737E+50,-1,0,1,180]
[71.700000000000202,1.2514010736799377,9.9999999999999997E+98,-1.2500000000000001E+101,1.2500399993600206E+101,-89.541643541999562,0.94942547764190488,-9.8591262404440702E-2,0.94942547764190488,0,0.94942547764190488,0,-3.5355904731176385E+50,-44.770821770999781,-2.5100199196022536E+50,2.4900200795977737E+50,-2.5100199196022536E+50,2.4900200795977737E+50,2.5100199196022536E+50,-2.4900200795977737E+50,-1,0,1,180]
[71.800000000000196,1.2531464029319321,9.9999999999999997E+98,-1.2500000000000001E+101,1.2500399993600206E+101,-89.541643541999562,0.94997205152465358,-9.7553101322040869E-2,0.94997205152465358,0,0.94997205152465358,0,-3.5355904731176385E+50,-44.770821770999781,-2.5100199196022536E+50,2.4900200795977737E+50,-2.5100199196022536E+50,2.4900200795977737E+50,2.5100199196022536E+50,-2.4900200795977737E+50,-1,0,1,180]
[71.90000000000019,1.2548917321839264,9.9999999999999997E+98,-1.2500000000000001E+101,1.2500399993600206E+101,-89.541643541999562,0.9505157316277848,-9.6519843928097038E-2,0.9505157316277848,0,0.9505157316277848,0,-3.5355904731176385E+50,-44.770821770999781,-2.5100199196022536E+50,2.4900200795977737E+50,-2.5100199196022536E+50,2.4900200795977737E+50,2.5100199196022536E+50,-2.4900200795977737E+50,-1,0,1,180]
[72.000000000000185,1.2566370614359204,9.9999999999999997E+98,-1.2500000000000001E+101,1.2500399993600206E+101,-89.541643541999562,0.95105651629515453,-9.5491502812524484E-2,0.95105651629515453,0,0.95105651629515453,0,-3.5355904731176385E+50,-44.770821770999781,-2.5100199196022536E+50,2.4900200795977737E+50,-2.5100199196022536E+50,2.4900200795977737E+50,2.5100199196022536E+50,-2.4900200795977737E+50,-1,0,1,180]
[72.100000000000179,1.2583823906879146,9.9999999999999997E+98,-1.2500000000000001E+101,1.2500399993600206E+101,-89.541643541999562,0.95159440387943905,-9.4468090505334959E-2,0.95159440387943905,0,0.95159440387943905,0,-3.5355904731176385E+50,-44.770821770999781,-2.5100199196022536E+50,2.4900200795977737E+50,-2.5100199196022536E+50,2.4900200795977737E+50,2.5100199196022536E+50,-2.4900200795977737E+50,-1,0,1,180]
[72.200000000000173,1.260127719939909,9.9999999999999997E+98,-1.2500000000000001E+101,1.2500399993600206E+101,-89.541643541999562,0.95212939274213959,-9.3449619476484405E-2,0.95212939274213959,0,0.95212939274213959,0,-3.5355904731176385E+50,-44.770821770999781,-2.5100199196022536E+50,2.4900200795977737E+50,-2.5100199196022536E+50,2.4900200795977737E+50,2.5100199196022536E+50,-2.4900200795977737E+50,-1,0,1,180]
[72.300000000000168,1.2618730491919032,9.9999999999999997E+98,-1.2500000000000001E+101,1.2500399993600206E+101,-89.541643541999562,0.95266148125358718,-9.243610213572119E-2,0.95266148125358718,0,0.95266148125358718,0,-3.5355904731176385E+50,-44.770821770999781,-2.5100199196022536E+50,2.4900200795977737E+50,-2.5100199196022536E+50,2.4900200795977737E+50,2.5100199196022536E+50,-2.4900200795977737E+50,-1,0,1,180]
[72.400000000000162,1.2636183784438975,9.9999999999999997E+98,-1.2500000000000001E+101,1.2500399993600206E+101,-89.541643541999562,0.95319066779294781,-9.1427550832434104E-2,0.95319066779294781,0,0.95319066779294781,0,-3.5355904731176385E+50,-44.770821770999781,-2.5100199196022536E+50,2.4900200795977737E+50,-2.5100199196022536E+50,2.4900200795977737E+50,2.5100199196022536E+50,-2.4900200795977737E+50,-1,0,1,180]
[72.500000000000156,1.2653637076958915,9.9999999999999997E+98,-1.2500000000000001E+101,1.2500399993600206E+101,-89.541643541999562,0.95371695074822771,-9.0423977855502671E-2,0.95371695074822771,0,0.95371695074822771,0,-3.5355904731176385E+50,-44.770821770999781,-2.5100199196022536E+50,2.4900200795977737E+50,-2.5100199196022536E+50,2.4900200795977737E+50,2.5100199196022536E+50,-2.4900200795977737E+50,-1,0,1,180]
[72.600000000000151,1.2671090369478859,9.9999999999999997E+98,-1.2500000000000001E+101,1.2500399993600206E+101,-89.541643541999562,0.95424032851627771,-8.9425395433146482E-2,0.95424032851627771,0,0.95424032851627771,0,-3.5355904731176385E+50,-44.770821770999781,-2.5100199196022536E+50,2.4900200795977737E+50,-2.5100199196022536E+50,2.4900200795977737E+50,2.5100199196022536E+50,-2.4900200795977737E+50,-1,0,1,180]
[72.700000000000145,1.2688543661998801,9.9999999999999997E+98,-1.2500000000000001E+101,1.2500399993600206E+101,-89.541643541999562,0.95476079950279813,-8.8431815732777627E-2,0.95476079950279813,0,0.95476079950279813,0,-3.5355904731176385E+50,-44.770821770999781,-2.5100199196022536E+50,2.4900200795977737E+50,-2.5100199196022536E+50,2.4900200795977737E+50,2.5100199196022536E+50,-2.4900200795977737E+50,-1,0,1,180]
[72.800000000000139,1.2705996954518743,9.9999999999999997E+98,-1.2500000000000001E+101,1.2500399993600206E+101,-89.541643541999562,0.9552783621223444,-8.7443250860851057E-2,0.9552783621223444,0,0.9552783621223444,0,-3.5355904731176385E+50,-44.770821770999781,-2.5100199196022536E+50,2.4900200795977737E+50,-2.5100199196022536E+50,2.4900200795977737E+50,2.5100199196022536E+50,-2.4900200795977737E+50,-1,0,1,180]
[72.900000000000134,1.2723450247038686,9.9999999999999997E+98,-1.2500000000000001E+101,1.2500399993600206E+101,-89.541643541999562,0.95579301479833079,-8.6459712862717808E-2,0.95579301479833079,0,0.95579301479833079,0,-3.5355904731176385E+50,-44.770821770999781,-2.5100199196022536E+50,2.4900200795977737E+50,-2.5100199196022536E+50,2.4900200795977737E+50,2.5100199196022536E+50,-2.4900200795977737E+50,-1,0,1,180]
[73.000000000000128,1.2740903539558628,9.9999999999999997E+98,-1.2500000000000001E+101,1.2500399993600206E+101,-89.541643541999562,0.9563047559630361,-8.5481213722477911E-2,0.9563047559630361,0,0.9563047559630361,0,-3.5355904731176385E+50,-44.770821770999781,-2.5100199196022536E+50,2.4900200795977737E+50,-2.5100199196022536E+50,2.4900200795977737E+50,2.5100199196022536E+50,-2.4900200795977737E+50,-1,0,1,180]
[73.100000000000122,1.275835683207857,9.9999999999999997E+98,-1.2500000000000001E+101,1.2500399993600206E+101,-89.541643541999562,0.95681358405760797,-8.4507765362834678E-2,0.95681358405760797,0,0.95681358405760797,0,-3.5355904731176385E+50,-44.770821770999781,-2.5100199196022536E+50,2.4900200795977737E+50,-2.5100199196022536E+50,2.4900200795977737E+50,2.5100199196022536E+50,-2.4900200795977737E+50,-1,0,1,180]
[73.200000000000117,1.2775810124598512,9.9999999999999997E+98,-1.2500000000000001E+101,1.2500399993600206E+101,-89.541643541999562,0.9573194975320678,-8.3539379644949147E-2,0.9573194975320678,0,0.9573194975320678,0,-3.5355904731176385E+50,-44.770821770999781,-2.5100199196022536E+50,2.4900200795977737E+50,{"$f":"K737+O737","v":-2.5100199196022536E+50},2.4900200795977737E+50,2.5100199196022536E+50,-2.4900200795977737E+50,-1,0,1,180]
[73.300000000000111,1.2793263417118454,9.9999999999999997E+98,-1.2500000000000001E+101,1.2500399993600206E+101,-89.541643541999562,0.95782249484531545,-8.2576068368295702E-2,0.95782249484531545,0,0.95782249484531545,0,-3.5355904731176385E+50,-44.770821770999781,-2.5100199196022536E+50,2.4900200795977737E+50,-2.5100199196022536E+50,2.4900200795977737E+50,2.5100199196022536E+50,-2.4900200795977737E+50,-1,0,1,180]
[73.400000000000105,1.2810716709638397,9.9999999999999997E+98,-1.2500000000000001E+101,1.2500399993600206E+101,-89.541643541999562,0.95832257446513369,-8.1617843270518201E-2,0.95832257446513369,0,0.95832257446513369,0,-3.5355904731176385E+50,-44.770821770999781,-2.5100199196022536E+50,2.4900200795977737E+50,-2.5100199196022536E+50,2.4900200795977737E+50,2.5100199196022536E+50,-2.4900200795977737E+50,-1,0,1,180]
[73.500000000000099,1.2828170002158339,9.9999999999999997E+98,-1.2500000000000001E+101,1.2500399993600206E+101,-89.541643541999562,0.9588197348681935,-8.0664716027287087E-2,0.9588197348681935,0,0.9588197348681935,0,-3.5355904731176385E+50,-44.770821770999781,-2.5100199196022536E+50,2.4900200795977737E+50,-2.5100199196022536E+50,2.4900200795977737E+50,2.5100199196022536E+50,-2.4900200795977737E+50,-1,0,1,180]
[73.600000000000094,1.2845623294678281,9.9999999999999997E+98,-1.2500000000000001E+101,1.2500399993600206E+101,-89.541643541999562,0.95931397454005796,-7.9716698252157034E-2,0.95931397454005796,0,0.95931397454005796,0,-3.5355904731176385E+50,-44.770821770999781,-2.5100199196022536E+50,2.4900200795977737E+50,-2.5100199196022536E+50,2.4900200795977737E+50,2.5100199196022536E+50,-2.4900200795977737E+50,-1,0,1,180]
[73.700000000000088,1.2863076587198223,9.9999999999999997E+98,-1.2500000000000001E+101,1.2500399993600206E+101,-89.541643541999562,0.95980529197518727,-7.8773801496425461E-2,0.95980529197518727,0,0.95980529197518727,0,-3.5355904731176385E+50,-44.770821770999781,-2.5100199196022536E+50,2.4900200795977737E+50,-2.5100199196022536E+50,2.4900200795977737E+50,2.5100199196022536E+50,-2.4900200795977737E+50,-1,0,1,180]
[73.800000000000082,1.2880529879718166,9.9999999999999997E+98,-1.2500000000000001E+101,1.2500399993600206E+101,-89.541643541999562,0.9602936856769434,-7.7836037248991755E-2,0.9602936856769434,0,0.9602936856769434,0,-3.5355904731176385E+50,-44.770821770999781,-2.5100199196022536E+50,2.4900200795977737E+50,-2.5100199196022536E+50,2.4900200795977737E+50,2.5100199196022536E+50,-2.4900200795977737E+50,-1,0,1,180]
[73.900000000000077,1.2897983172238108,9.9999999999999997E+98,-1.2500000000000001E+101,1.2500399993600206E+101,-89.541643541999562,0.96077915415759441,-7.6903416936217356E-2,0.96077915415759441,0,0.96077915415759441,0,-3.5355904731176385E+50,-44.770821770999781,-2.5100199196022536E+50,2.4900200795977737E+50,-2.5100199196022536E+50,2.4900200795977737E+50,2.5100199196022536E+50,-2.4900200795977737E+50,-1,0,1,180]
[74.000000000000071,1.2915436464758052,9.9999999999999997E+98,-1.2500000000000001E+101,1.2500399993600206E+101,-89.541643541999562,0.96126169593831923,-7.59759519217863E-2,0.96126169593831923,0,0.96126169593831923,0,-3.5355904731176385E+50,-44.770821770999781,-2.5100199196022536E+50,2.4900200795977737E+50,-2.5100199196022536E+50,2.4900200795977737E+50,2.5100199196022536E+50,-2.4900200795977737E+50,-1,0,1,180]
[74.100000000000065,1.2932889757277992,9.9999999999999997E+98,-1.2500000000000001E+101,1.2500399993600206E+101,-89.541643541999562,0.96174130954921166,-7.5053653506567508E-2,0.96174130954921166,0,0.96174130954921166,0,-3.5355904731176385E+50,-44.770821770999781,-2.5100199196022536E+50,2.4900200795977737E+50,-2.5100199196022536E+50,2.4900200795977737E+50,2.5100199196022536E+50,-2.4900200795977737E+50,-1,0,1,180]
[74.20000000000006,1.2950343049797934,9.9999999999999997E+98,-1.2500000000000001E+101,1.2500399993600206E+101,-89.541643541999562,0.96221799352928561,-7.4136532928475718E-2,0.96221799352928561,0,0.96221799352928561,0,-3.5355904731176385E+50,-44.770821770999781,-2.5100199196022536E+50,2.4900200795977737E+50,-2.5100199196022536E+50,2.4900200795977737E+50,2.5100199196022536E+50,-2.4900200795977737E+50,-1,0,1,180]
[74.300000000000054,1.2967796342317877,9.9999999999999997E+98,-1.2500000000000001E+101,1.2500399993600206E+101,-89.541643541999562,0.96269174642647903,-7.322460136233587E-2,0.96269174642647903,0,0.96269174642647903,0,-3.5355904731176385E+50,-44.770821770999781,-2.5100199196022536E+50,2.4900200795977737E+50,-2.5100199196022536E+50,2.4900200795977737E+50,2.5100199196022536E+50,-2.4900200795977737E+50,-1,0,1,180]
[74.400000000000048,1.2985249634837821,9.9999999999999997E+98,-1.2500000000000001E+101,1.2500399993600206E+101,-89.541643541999562,0.96316256679765844,-7.2317869919746203E-2,0.96316256679765844,0,0.96316256679765844,0,-3.5355904731176385E+50,-44.770821770999781,-2.5100199196022536E+50,2.4900200795977737E+50,-2.5100199196022536E+50,2.4900200795977737E+50,2.5100199196022536E+50,-2.4900200795977737E+50,-1,0,1,180]
[74.500000000000043,1.3002702927357763,9.9999999999999997E+98,-1.2500000000000001E+101,1.2500399993600206E+101,-89.541643541999562,0.96363045320862317,-7.1416349648943458E-2,0.96363045320862317,0,0.96363045320862317,0,-3.5355904731176385E+50,-44.770821770999781,-2.5100199196022536E+50,2.4900200795977737E+50,-2.5100199196022536E+50,2.4900200795977737E+50,2.5100199196022536E+50,-2.4900200795977737E+50,-1,0,1,180]
[74.600000000000037,1.3020156219877703,9.9999999999999997E+98,-1.2500000000000001E+101,1.2500399993600206E+101,-89.541643541999562,0.96409540423411022,-7.052005153466756E-2,0.96409540423411022,0,0.96409540423411022,0,-3.5355904731176385E+50,-44.770821770999781,-2.5100199196022536E+50,2.4900200795977737E+50,-2.5100199196022536E+50,2.4900200795977737E+50,2.5100199196022536E+50,-2.4900200795977737E+50,-1,0,1,180]
[74.700000000000031,1.3037609512397645,9.9999999999999997E+98,-1.2500000000000001E+101,1.2500399993600206E+101,-89.541643541999562,0.96455741845779819,-6.9628986498028012E-2,0.96455741845779819,0,0.96455741845779819,0,-3.5355904731176385E+50,-44.770821770999781,-2.5100199196022536E+50,2.4900200795977737E+50,-2.5100199196022536E+50,2.4900200795977737E+50,2.5100199196022536E+50,-2.4900200795977737E+50,-1,0,1,180]
[74.800000000000026,1.305506280491759,9.9999999999999997E+98,-1.2500000000000001E+101,1.2500399993600206E+101,-89.541643541999562,0.96501649447231153,-6.8743165396371042E-2,0.96501649447231153,0,0.96501649447231153,0,-3.5355904731176385E+50,-44.770821770999781,-2.5100199196022536E+50,2.4900200795977737E+50,-2.5100199196022536E+50,2.4900200795977737E+50,2.5100199196022536E+50,-2.4900200795977737E+50,-1,0,1,180]
[74.90000000000002,1.3072516097437532,9.9999999999999997E+98,-1.2500000000000001E+101,1.2500399993600206E+101,-89.541643541999562,0.96547263087922519,-6.786259902314748E-2,0.96547263087922519,0,0.96547263087922519,0,-3.5355904731176385E+50,-44.770821770999781,-2.5100199196022536E+50,2.4900200795977737E+50,-2.5100199196022536E+50,2.4900200795977737E+50,2.5100199196022536E+50,-2.4900200795977737E+50,-1,0,1,180]
[75.000000000000014,1.3089969389957474,9.9999999999999997E+98,-1.2500000000000001E+101,1.2500399993600206E+101,-89.541643541999562,0.96592582628906831,-6.6987298107780549E-2,0.96592582628906831,0,0.96592582628906831,0,-3.5355904731176385E+50,-44.770821770999781,-2.5100199196022536E+50,2.4900200795977737E+50,-2.5100199196022536E+50,2.4900200795977737E+50,2.5100199196022536E+50,-2.4900200795977737E+50,-1,0,1,180]
[75.100000000000009,1.3107422682477416,9.9999999999999997E+98,-1.2500000000000001E+101,1.2500399993600206E+101,-89.541643541999562,0.96637607932132941,-6.6117273315535713E-2,0.96637607932132941,0,0.96637607932132941,0,-3.5355904731176385E+50,-44.770821770999781,-2.5100199196022536E+50,2.4900200795977737E+50,-2.5100199196022536E+50,2.4900200795977737E+50,2.5100199196022536E+50,-2.4900200795977737E+50,-1,0,1,180]
[75.2,1.3124875974997359,9.9999999999999997E+98,-1.2500000000000001E+101,1.2500399993600206E+101,-89.541643541999562,0.96682338860445938,-6.525253524739047E-2,0.96682338860445938,0,0.96682338860445938,0,-3.5355904731176385E+50,-44.770821770999781,-2.5100199196022536E+50,2.4900200795977737E+50,-2.5100199196022536E+50,2.4900200795977737E+50,2.5100199196022536E+50,-2.4900200795977737E+50,-1,0,1,180]
[75.3,1.3142329267517301,9.9999999999999997E+98,-1.2500000000000001E+101,1.2500399993600206E+101,-89.541643541999562,0.96726775277587673,-6.4393094439905332E-2,0.96726775277587673,0,0.96726775277587673,0,-3.5355904731176385E+50,-44.770821770999781,-2.5100199196022536E+50,2.4900200795977737E+50,-2.5100199196022536E+50,2.4900200795977737E+50,2.5100199196022536E+50,-2.4900200795977737E+50,-1,0,1,180]
[75.399999999999991,1.3159782560037243,9.9999999999999997E+98,-1.2500000000000001E+101,1.2500399993600206E+101,-89.541643541999562,0.96770917048197114,-6.3538961365095251E-2,0.96770917048197114,0,0.96770917048197114,0,-3.5355904731176385E+50,-44.770821770999781,-2.5100199196022536E+50,2.4900200795977737E+50,-2.5100199196022536E+50,2.4900200795977737E+50,2.5100199196022536E+50,-2.4900200795977737E+50,-1,0,1,180]
[75.499999999999986,1.3177235852557185,9.9999999999999997E+98,-1.2500000000000001E+101,1.2500399993600206E+101,-89.541643541999562,0.96814764037810774,-6.2690146430302254E-2,0.96814764037810774,0,0.96814764037810774,0,-3.5355904731176385E+50,-44.770821770999781,-2.5100199196022536E+50,2.4900200795977737E+50,-2.5100199196022536E+50,2.4900200795977737E+50,2.5100199196022536E+50,-2.4900200795977737E+50,-1,0,1,180]
[75.59999999999998,1.3194689145077128,9.9999999999999997E+98,-1.2500000000000001E+101,1.2500399993600206E+101,-89.541643541999562,0.96858316112863097,-6.1846659978068402E-2,0.96858316112863097,0,0.96858316112863097,0,-3.5355904731176385E+50,-44.770821770999781,-2.5100199196022536E+50,2.4900200795977737E+50,-2.5100199196022536E+50,2.4900200795977737E+50,2.5100199196022536E+50,-2.4900200795977737E+50,-1,0,1,180]
[75.699999999999974,1.321214243759707,9.9999999999999997E+98,-1.2500000000000001E+101,1.2500399993600206E+101,-89.541643541999562,0.96901573140686936,-6.100851228600996E-2,0.96901573140686936,0,0.96901573140686936,0,-3.5355904731176385E+50,-44.770821770999781,-2.5100199196022536E+50,2.4900200795977737E+50,-2.5100199196022536E+50,2.4900200795977737E+50,2.5100199196022536E+50,-2.4900200795977737E+50,-1,0,1,180]
[75.799999999999969,1.3229595730117012,9.9999999999999997E+98,-1.2500000000000001E+101,1.2500399993600206E+101,-89.541643541999562,0.96944534989513875,-6.0175713566692046E-2,0.96944534989513875,0,0.96944534989513875,0,-3.5355904731176385E+50,-44.770821770999781,-2.5100199196022536E+50,2.4900200795977737E+50,-2.5100199196022536E+50,2.4900200795977737E+50,2.5100199196022536E+50,-2.4900200795977737E+50,-1,0,1,180]
[75.899999999999963,1.3247049022636954,9.9999999999999997E+98,-1.2500000000000001E+101,1.2500399993600206E+101,-89.541643541999562,0.96987201528474665,-5.9348273967504243E-2,0.96987201528474665,0,0.96987201528474665,0,-3.5355904731176385E+50,-44.770821770999781,-2.5100199196022536E+50,2.4900200795977737E+50,-2.5100199196022536E+50,2.4900200795977737E+50,2.5100199196022536E+50,-2.4900200795977737E+50,-1,0,1,180]
[75.999999999999957,1.3264502315156896,9.9999999999999997E+98,-1.2500000000000001E+101,1.2500399993600206E+101,-89.541643541999562,0.97029572627599625,-5.8526203570536922E-2,0.97029572627599625,0,0.97029572627599625,0,-3.5355904731176385E+50,-44.770821770999781,-2.5100199196022536E+50,2.4900200795977737E+50,-2.5100199196022536E+50,2.4900200795977737E+50,2.5100199196022536E+50,-2.4900200795977737E+50,-1,0,1,180]
[76.099999999999952,1.3281955607676841,9.9999999999999997E+98,-1.2500000000000001E+101,1.2500399993600206E+101,-89.541643541999562,0.97071648157819057,-5.7709512392458362E-2,0.97071648157819057,0,0.97071648157819057,0,-3.5355904731176385E+50,-44.770821770999781,-2.5100199196022536E+50,2.4900200795977737E+50,-2.5100199196022536E+50,2.4900200795977737E+50,2.5100199196022536E+50,-2.4900200795977737E+50,-1,0,1,180]
[76.199999999999946,1.3299408900196781,9.9999999999999997E+98,-1.2500000000000001E+101,1.2500399993600206E+101,-89.541643541999562,0.97113427990963586,-5.6898210384393133E-2,0.97113427990963586,0,0.97113427990963586,0,-3.5355904731176385E+50,-44.770821770999781,-2.5100199196022536E+50,2.4900200795977737E+50,-2.5100199196022536E+50,2.4900200795977737E+50,2.5100199196022536E+50,-2.4900200795977737E+50,-1,0,1,180]
[76.29999999999994,1.3316862192716723,9.9999999999999997E+98,-1.2500000000000001E+101,1.2500399993600206E+101,-89.541643541999562,0.97154911999764593,-5.6092307431799868E-2,0.97154911999764593,0,0.97154911999764593,0,-3.5355904731176385E+50,-44.770821770999781,-2.5100199196022536E+50,2.4900200795977737E+50,-2.5100199196022536E+50,2.4900200795977737E+50,2.5100199196022536E+50,-2.4900200795977737E+50,-1,0,1,180]
[76.399999999999935,1.3334315485236665,9.9999999999999997E+98,-1.2500000000000001E+101,1.2500399993600206E+101,-89.541643541999562,0.97196100057854595,-5.5291813354351821E-2,0.97196100057854595,0,0.97196100057854595,0,-3.5355904731176385E+50,-44.770821770999781,-2.5100199196022536E+50,2.4900200795977737E+50,-2.5100199196022536E+50,2.4900200795977737E+50,2.5100199196022536E+50,-2.4900200795977737E+50,-1,0,1,180]
[76.499999999999929,1.335176877775661,9.9999999999999997E+98,-1.2500000000000001E+101,1.2500399993600206E+101,-89.541643541999562,0.97236992039767633,-5.4496737905816592E-2,0.97236992039767633,0,0.97236992039767633,0,-3.5355904731176385E+50,-44.770821770999781,-2.5100199196022536E+50,2.4900200795977737E+50,-2.5100199196022536E+50,2.4900200795977737E+50,2.5100199196022536E+50,-2.4900200795977737E+50,-1,0,1,180]
[76.599999999999923,1.3369222070276552,9.9999999999999997E+98,-1.2500000000000001E+101,1.2500399993600206E+101,-89.541643541999562,0.97277587820939626,-5.3707090773937823E-2,0.97277587820939626,0,0.97277587820939626,0,-3.5355904731176385E+50,-44.770821770999781,-2.5100199196022536E+50,2.4900200795977737E+50,-2.5100199196022536E+50,2.4900200795977737E+50,2.5100199196022536E+50,-2.4900200795977737E+50,-1,0,1,180]
[76.699999999999918,1.3386675362796492,9.9999999999999997E+98,-1.2500000000000001E+101,1.2500399993600206E+101,-89.541643541999562,0.97317887277708781,-5.2922881580316633E-2,0.97317887277708781,0,0.97317887277708781,0,-3.5355904731176385E+50,-44.770821770999781,-2.5100199196022536E+50,2.4900200795977737E+50,-2.5100199196022536E+50,2.4900200795977737E+50,2.5100199196022536E+50,-2.4900200795977737E+50,-1,0,1,180]
[76.799999999999912,1.3404128655316434,9.9999999999999997E+98,-1.2500000000000001E+101,1.2500399993600206E+101,-89.541643541999562,0.97357890287315985,-5.2144119880294333E-2,0.97357890287315985,0,0.97357890287315985,0,-3.5355904731176385E+50,-44.770821770999781,-2.5100199196022536E+50,2.4900200795977737E+50,-2.5100199196022536E+50,2.4900200795977737E+50,2.5100199196022536E+50,-2.4900200795977737E+50,-1,0,1,180]
[76.899999999999906,{"$f":"A774*PI()/180","v":1.3421581947836378},{"$f":"$D$1","v":9.9999999999999997E+98},{"$f":"-(18000*$G$1/$N$1)","v":-1.2500000000000001E+101},{"$f":"(C774^2+D774^2)^0.5","v":1.2500399993600206E+101},{"$f":"(180/PI())*ATAN(D774/C774)","v":-89.541643541999562},{"$f":"SIN(B774)","v":0.97397596727905122},{"$f":"-((COS(B774))^2)","v":-5.1370815162836488E-2},{"$f":"G774","v":0.97397596727905122},0,{"$f":"(((I774^2)/(1+(TAN(J774*(PI()/180)))^2))^0.5)","v":0.97397596727905122},{"$f":"K774*TAN(J774*(PI()/180))","v":0},{"$f":"-(((((C774+H774)^2)+(D774)^2)^0.5)^0.5)","v":-3.5355904731176385E+50},{"$f":"((ATAN(D774/(C774+H774)))*(180/PI()))/2","v":-44.770821770999781},{"$f":"-(((M774^2)/(1+(TAN(N774*(PI()/180)))^2))^0.5)","v":-2.5100199196022536E+50},{"$f":"O774*TAN(N774*(PI()/180))","v":2.4900200795977737E+50},-2.5100199196022536E+50,2.4900200795977737E+50,{"$f":"-O774+K774","v":2.5100199196022536E+50},{"$f":"L774-P774","v":-2.4900200795977737E+50},{"$f":"(Q774*S774+T774*R774)/((S774^2)+(T774^2))","v":-1},{"$f":"(R774*S774-Q774*T774)/((S774^2)+(T774^2))","v":0},{"$f":"((U774^2)+(V774^2))^0.5","v":1},{"$f":"(ACOS(U774/W774))*(180/PI())","v":180}]
[{"$f":"A774+0.1","v":76.999999999999901},1.3439035240356321,9.9999999999999997E+98,-1.2500000000000001E+101,1.2500399993600206E+101,-89.541643541999562,0.9743700647852348,-5.0602976850417258E-2,0.9743700647852348,0,0.9743700647852348,0,-3.5355904731176385E+50,-44.770821770999781,-2.5100199196022536E+50,2.4900200795977737E+50,-2.5100199196022536E+50,2.4900200795977737E+50,2.5100199196022536E+50,-2.4900200795977737E+50,-1,0,1,180]
[77.099999999999895,1.3456488532876263,9.9999999999999997E+98,-1.2500000000000001E+101,1.2500399993600206E+101,-89.541643541999562,0.97476119419122131,-4.9840614298904032E-2,0.97476119419122131,0,0.97476119419122131,0,-3.5355904731176385E+50,-44.770821770999781,-2.5100199196022536E+50,2.4900200795977737E+50,-2.5100199196022536E+50,2.4900200795977737E+50,2.5100199196022536E+50,-2.4900200795977737E+50,-1,0,1,180]
[77.199999999999889,1.3473941825396203,9.9999999999999997E+98,-1.2500000000000001E+101,1.2500399993600206E+101,-89.541643541999562,0.97514935430556271,-4.9083736797444037E-2,0.97514935430556271,0,0.97514935430556271,0,-3.5355904731176385E+50,-44.770821770999781,-2.5100199196022536E+50,2.4900200795977737E+50,-2.5100199196022536E+50,2.4900200795977737E+50,2.5100199196022536E+50,-2.4900200795977737E+50,-1,0,1,180]
[77.299999999999883,1.3491395117916147,9.9999999999999997E+98,-1.2500000000000001E+101,1.2500399993600206E+101,-89.541643541999562,0.97553454394585615,-4.8332353568350465E-2,0.97553454394585615,0,0.97553454394585615,0,-3.5355904731176385E+50,-44.770821770999781,-2.5100199196022536E+50,2.4900200795977737E+50,-2.5100199196022536E+50,2.4900200795977737E+50,2.5100199196022536E+50,-2.4900200795977737E+50,-1,0,1,180]
[77.399999999999878,1.350884841043609,9.9999999999999997E+98,-1.2500000000000001E+101,1.2500399993600206E+101,-89.541643541999562,0.97591676193874688,-4.7586473766991148E-2,0.97591676193874688,0,0.97591676193874688,0,-3.5355904731176385E+50,-44.770821770999781,-2.5100199196022536E+50,2.4900200795977737E+50,-2.5100199196022536E+50,2.4900200795977737E+50,2.5100199196022536E+50,-2.4900200795977737E+50,-1,0,1,180]
[77.499999999999872,1.3526301702956032,9.9999999999999997E+98,-1.2500000000000001E+101,1.2500399993600206E+101,-89.541643541999562,0.97629600711993292,-4.6846106481675968E-2,0.97629600711993292,0,0.97629600711993292,0,-3.5355904731176385E+50,-44.770821770999781,-2.5100199196022536E+50,2.4900200795977737E+50,-2.5100199196022536E+50,2.4900200795977737E+50,2.5100199196022536E+50,-2.4900200795977737E+50,-1,0,1,180]
[77.599999999999866,1.3543754995475974,9.9999999999999997E+98,-1.2500000000000001E+101,1.2500399993600206E+101,-89.541643541999562,0.97667227833416737,-4.6111260733546662E-2,0.97667227833416737,0,0.97667227833416737,0,-3.5355904731176385E+50,-44.770821770999781,-2.5100199196022536E+50,2.4900200795977737E+50,-2.5100199196022536E+50,2.4900200795977737E+50,2.5100199196022536E+50,-2.4900200795977737E+50,-1,0,1,180]
[77.699999999999861,1.3561208287995916,9.9999999999999997E+98,-1.2500000000000001E+101,1.2500399993600206E+101,-89.541643541999562,0.97704557443526308,-4.5381945476466748E-2,0.97704557443526308,0,0.97704557443526308,0,-3.5355904731176385E+50,-44.770821770999781,-2.5100199196022536E+50,2.4900200795977737E+50,-2.5100199196022536E+50,2.4900200795977737E+50,2.5100199196022536E+50,-2.4900200795977737E+50,-1,0,1,180]
[77.799999999999855,1.3578661580515858,9.9999999999999997E+98,-1.2500000000000001E+101,1.2500399993600206E+101,-89.541643541999562,0.97741589428609532,-4.465816959691251E-2,0.97741589428609532,0,0.97741589428609532,0,-3.5355904731176385E+50,-44.770821770999781,-2.5100199196022536E+50,2.4900200795977737E+50,-2.5100199196022536E+50,2.4900200795977737E+50,2.5100199196022536E+50,-2.4900200795977737E+50,-1,0,1,180]
[77.899999999999849,1.3596114873035801,9.9999999999999997E+98,-1.2500000000000001E+101,1.2500399993600206E+101,-89.541643541999562,0.97778323675860557,-4.3939941913864605E-2,0.97778323675860557,0,0.97778323675860557,0,-3.5355904731176385E+50,-44.770821770999781,-2.5100199196022536E+50,2.4900200795977737E+50,-2.5100199196022536E+50,2.4900200795977737E+50,2.5100199196022536E+50,-2.4900200795977737E+50,-1,0,1,180]
[77.999999999999844,1.3613568165555743,9.9999999999999997E+98,-1.2500000000000001E+101,1.2500399993600206E+101,-89.541643541999562,0.97814760073380502,-4.3227271178700684E-2,0.97814760073380502,0,0.97814760073380502,0,-3.5355904731176385E+50,-44.770821770999781,-2.5100199196022536E+50,2.4900200795977737E+50,-2.5100199196022536E+50,2.4900200795977737E+50,2.5100199196022536E+50,-2.4900200795977737E+50,-1,0,1,180]
[78.099999999999838,1.3631021458075685,9.9999999999999997E+98,-1.2500000000000001E+101,1.2500399993600206E+101,-89.541643541999562,0.97850898510177786,-4.2520166075088774E-2,0.97850898510177786,0,0.97850898510177786,0,-3.5355904731176385E+50,-44.770821770999781,-2.5100199196022536E+50,2.4900200795977737E+50,-2.5100199196022536E+50,2.4900200795977737E+50,2.5100199196022536E+50,-2.4900200795977737E+50,-1,0,1,180]
[78.199999999999832,1.3648474750595627,9.9999999999999997E+98,-1.2500000000000001E+101,1.2500399993600206E+101,-89.541643541999562,0.97886738876168444,-4.1818635218881406E-2,0.97886738876168444,0,0.97886738876168444,0,-3.5355904731176385E+50,-44.770821770999781,-2.5100199196022536E+50,2.4900200795977737E+50,-2.5100199196022536E+50,2.4900200795977737E+50,2.5100199196022536E+50,-2.4900200795977737E+50,-1,0,1,180]
[78.299999999999827,1.3665928043115569,9.9999999999999997E+98,-1.2500000000000001E+101,1.2500399993600206E+101,-89.541643541999562,0.97922281062176519,-4.1122687158010672E-2,0.97922281062176519,0,0.97922281062176519,0,-3.5355904731176385E+50,-44.770821770999781,-2.5100199196022536E+50,2.4900200795977737E+50,-2.5100199196022536E+50,2.4900200795977737E+50,2.5100199196022536E+50,-2.4900200795977737E+50,-1,0,1,180]
[78.399999999999821,1.3683381335635512,9.9999999999999997E+98,-1.2500000000000001E+101,1.2500399993600206E+101,-89.541643541999562,0.97957524959934339,-4.043233037238405E-2,0.97957524959934339,0,0.97957524959934339,0,-3.5355904731176385E+50,-44.770821770999781,-2.5100199196022536E+50,2.4900200795977737E+50,-2.5100199196022536E+50,2.4900200795977737E+50,2.5100199196022536E+50,-2.4900200795977737E+50,-1,0,1,180]
[78.499999999999815,1.3700834628155454,9.9999999999999997E+98,-1.2500000000000001E+101,1.2500399993600206E+101,-89.541643541999562,0.97992470462082892,-3.9747573273781138E-2,0.97992470462082892,0,0.97992470462082892,0,-3.5355904731176385E+50,-44.770821770999781,-2.5100199196022536E+50,2.4900200795977737E+50,-2.5100199196022536E+50,2.4900200795977737E+50,2.5100199196022536E+50,-2.4900200795977737E+50,-1,0,1,180]
[78.59999999999981,1.3718287920675396,9.9999999999999997E+98,-1.2500000000000001E+101,1.2500399993600206E+101,-89.541643541999562,0.9802711746217212,-3.9068424205751066E-2,0.9802711746217212,0,0.9802711746217212,0,-3.5355904731176385E+50,-44.770821770999781,-2.5100199196022536E+50,2.4900200795977737E+50,-2.5100199196022536E+50,2.4900200795977737E+50,2.5100199196022536E+50,-2.4900200795977737E+50,-1,0,1,180]
[78.699999999999804,1.373574121319534,9.9999999999999997E+98,-1.2500000000000001E+101,1.2500399993600206E+101,-89.541643541999562,0.98061465854661234,-3.8394891443510833E-2,0.98061465854661234,0,0.98061465854661234,0,-3.5355904731176385E+50,-44.770821770999781,-2.5100199196022536E+50,2.4900200795977737E+50,-2.5100199196022536E+50,2.4900200795977737E+50,2.5100199196022536E+50,-2.4900200795977737E+50,-1,0,1,180]
[78.799999999999798,1.375319450571528,9.9999999999999997E+98,-1.2500000000000001E+101,1.2500399993600206E+101,-89.541643541999562,0.98095515534919087,-3.7726983193844821E-2,0.98095515534919087,0,0.98095515534919087,0,-3.5355904731176385E+50,-44.770821770999781,-2.5100199196022536E+50,2.4900200795977737E+50,-2.5100199196022536E+50,2.4900200795977737E+50,2.5100199196022536E+50,-2.4900200795977737E+50,-1,0,1,180]
[78.899999999999793,1.3770647798235223,9.9999999999999997E+98,-1.2500000000000001E+101,1.2500399993600206E+101,-89.541643541999562,0.98129266399224446,-3.7064707595004048E-2,0.98129266399224446,0,0.98129266399224446,0,-3.5355904731176385E+50,-44.770821770999781,-2.5100199196022536E+50,2.4900200795977737E+50,-2.5100199196022536E+50,2.4900200795977737E+50,2.5100199196022536E+50,-2.4900200795977737E+50,-1,0,1,180]
[78.999999999999787,1.3788101090755165,9.9999999999999997E+98,-1.2500000000000001E+101,1.2500399993600206E+101,-89.541643541999562,0.9816271834476632,-3.6408072716607745E-2,0.9816271834476632,0,0.9816271834476632,0,-3.5355904731176385E+50,-44.770821770999781,-2.5100199196022536E+50,2.4900200795977737E+50,-2.5100199196022536E+50,2.4900200795977737E+50,2.5100199196022536E+50,-2.4900200795977737E+50,-1,0,1,180]
[79.099999999999781,1.3805554383275109,9.9999999999999997E+98,-1.2500000000000001E+101,1.2500399993600206E+101,-89.541643541999562,0.98195871269644297,-3.5757086559544633E-2,0.98195871269644297,0,0.98195871269644297,0,-3.5355904731176385E+50,-44.770821770999781,-2.5100199196022536E+50,2.4900200795977737E+50,-2.5100199196022536E+50,2.4900200795977737E+50,2.5100199196022536E+50,-2.4900200795977737E+50,-1,0,1,180]
[79.199999999999775,1.3823007675795052,9.9999999999999997E+98,-1.2500000000000001E+101,1.2500399993600206E+101,-89.541643541999562,0.98228725072868794,-3.5111757055875721E-2,0.98228725072868794,0,0.98228725072868794,0,-3.5355904731176385E+50,-44.770821770999781,-2.5100199196022536E+50,2.4900200795977737E+50,-2.5100199196022536E+50,2.4900200795977737E+50,2.5100199196022536E+50,-2.4900200795977737E+50,-1,0,1,180]
[79.29999999999977,1.3840460968314992,9.9999999999999997E+98,-1.2500000000000001E+101,1.2500399993600206E+101,-89.541643541999562,0.98261279654361444,-3.4472092068737387E-2,0.98261279654361444,0,0.98261279654361444,0,-3.5355904731176385E+50,-44.770821770999781,-2.5100199196022536E+50,2.4900200795977737E+50,-2.5100199196022536E+50,2.4900200795977737E+50,2.5100199196022536E+50,-2.4900200795977737E+50,-1,0,1,180]
[79.399999999999764,1.3857914260834934,9.9999999999999997E+98,-1.2500000000000001E+101,1.2500399993600206E+101,-89.541643541999562,0.98293534914955349,-3.3838099392245469E-2,0.98293534914955349,0,0.98293534914955349,0,-3.5355904731176385E+50,-44.770821770999781,-2.5100199196022536E+50,2.4900200795977737E+50,-2.5100199196022536E+50,2.4900200795977737E+50,2.5100199196022536E+50,-2.4900200795977737E+50,-1,0,1,180]
[79.499999999999758,1.3875367553354878,9.9999999999999997E+98,-1.2500000000000001E+101,1.2500399993600206E+101,-89.541643541999562,0.98325490756395384,-3.3209786751400627E-2,0.98325490756395384,0,0.98325490756395384,0,-3.5355904731176385E+50,-44.770821770999781,-2.5100199196022536E+50,2.4900200795977737E+50,-2.5100199196022536E+50,2.4900200795977737E+50,2.5100199196022536E+50,-2.4900200795977737E+50,-1,0,1,180]
[79.599999999999753,1.389282084587482,9.9999999999999997E+98,-1.2500000000000001E+101,1.2500399993600206E+101,-89.541643541999562,0.98357147081338514,-3.2587161801994308E-2,0.98357147081338514,0,0.98357147081338514,0,-3.5355904731176385E+50,-44.770821770999781,-2.5100199196022536E+50,2.4900200795977737E+50,{"$f":"K801+O801","v":-2.5100199196022536E+50},2.4900200795977737E+50,2.5100199196022536E+50,-2.4900200795977737E+50,-1,0,1,180]
[79.699999999999747,1.3910274138394763,9.9999999999999997E+98,-1.2500000000000001E+101,1.2500399993600206E+101,-89.541643541999562,0.98388503793354087,-3.197023213051492E-2,0.98388503793354087,0,0.98388503793354087,0,-3.5355904731176385E+50,-44.770821770999781,-2.5100199196022536E+50,2.4900200795977737E+50,-2.5100199196022536E+50,2.4900200795977737E+50,2.5100199196022536E+50,-2.4900200795977737E+50,-1,0,1,180]
[79.799999999999741,1.3927727430914705,9.9999999999999997E+98,-1.2500000000000001E+101,1.2500399993600206E+101,-89.541643541999562,0.9841956079692411,-3.135900525405582E-2,0.9841956079692411,0,0.9841956079692411,0,-3.5355904731176385E+50,-44.770821770999781,-2.5100199196022536E+50,2.4900200795977737E+50,-2.5100199196022536E+50,2.4900200795977737E+50,2.5100199196022536E+50,-2.4900200795977737E+50,-1,0,1,180]
[79.899999999999736,1.3945180723434647,9.9999999999999997E+98,-1.2500000000000001E+101,1.2500399993600206E+101,-89.541643541999562,0.98450317997443582,-3.0753488620223632E-2,0.98450317997443582,0,0.98450317997443582,0,-3.5355904731176385E+50,-44.770821770999781,-2.5100199196022536E+50,2.4900200795977737E+50,-2.5100199196022536E+50,2.4900200795977737E+50,2.5100199196022536E+50,-2.4900200795977737E+50,-1,0,1,180]
[79.99999999999973,1.3962634015954589,9.9999999999999997E+98,-1.2500000000000001E+101,1.2500399993600206E+101,-89.541643541999562,0.98480775301220724,-3.0153689607047431E-2,0.98480775301220724,0,0.98480775301220724,0,-3.5355904731176385E+50,-44.770821770999781,-2.5100199196022536E+50,2.4900200795977737E+50,-2.5100199196022536E+50,2.4900200795977737E+50,2.5100199196022536E+50,-2.4900200795977737E+50,-1,0,1,180]
[80.099999999999724,1.3980087308474531,9.9999999999999997E+98,-1.2500000000000001E+101,1.2500399993600206E+101,-89.541643541999562,0.98510932615477309,-2.9559615522888907E-2,0.98510932615477309,0,0.98510932615477309,0,-3.5355904731176385E+50,-44.770821770999781,-2.5100199196022536E+50,2.4900200795977737E+50,-2.5100199196022536E+50,2.4900200795977737E+50,2.5100199196022536E+50,-2.4900200795977737E+50,-1,0,1,180]
[80.199999999999719,1.3997540600994474,9.9999999999999997E+98,-1.2500000000000001E+101,1.2500399993600206E+101,-89.541643541999562,0.98540789848348931,-2.8971273606353303E-2,0.98540789848348931,0,0.98540789848348931,0,-3.5355904731176385E+50,-44.770821770999781,-2.5100199196022536E+50,2.4900200795977737E+50,-2.5100199196022536E+50,2.4900200795977737E+50,2.5100199196022536E+50,-2.4900200795977737E+50,-1,0,1,180]
[80.299999999999713,1.4014993893514416,9.9999999999999997E+98,-1.2500000000000001E+101,1.2500399993600206E+101,-89.541643541999562,0.98570346908885276,-2.8388671026201198E-2,0.98570346908885276,0,0.98570346908885276,0,-3.5355904731176385E+50,-44.770821770999781,-2.5100199196022536E+50,2.4900200795977737E+50,-2.5100199196022536E+50,2.4900200795977737E+50,2.5100199196022536E+50,-2.4900200795977737E+50,-1,0,1,180]
[80.399999999999707,1.4032447186034358,9.9999999999999997E+98,-1.2500000000000001E+101,1.2500399993600206E+101,-89.541643541999562,0.98599603707050409,-2.7811814881261169E-2,0.98599603707050409,0,0.98599603707050409,0,-3.5355904731176385E+50,-44.770821770999781,-2.5100199196022536E+50,2.4900200795977737E+50,-2.5100199196022536E+50,2.4900200795977737E+50,2.5100199196022536E+50,-2.4900200795977737E+50,-1,0,1,180]
[80.499999999999702,1.40499004785543,9.9999999999999997E+98,-1.2500000000000001E+101,1.2500399993600206E+101,-89.541643541999562,0.98628560153723055,-2.7240712200343319E-2,0.98628560153723055,0,0.98628560153723055,0,-3.5355904731176385E+50,-44.770821770999781,-2.5100199196022536E+50,2.4900200795977737E+50,-2.5100199196022536E+50,2.4900200795977737E+50,2.5100199196022536E+50,-2.4900200795977737E+50,-1,0,1,180]
[80.599999999999696,1.4067353771074242,9.9999999999999997E+98,-1.2500000000000001E+101,1.2500399993600206E+101,-89.541643541999562,0.98657216160696859,-2.6675369942153554E-2,0.98657216160696859,0,0.98657216160696859,0,-3.5355904731176385E+50,-44.770821770999781,-2.5100199196022536E+50,2.4900200795977737E+50,-2.5100199196022536E+50,2.4900200795977737E+50,2.5100199196022536E+50,-2.4900200795977737E+50,-1,0,1,180]
[80.69999999999969,1.4084807063594185,9.9999999999999997E+98,-1.2500000000000001E+101,1.2500399993600206E+101,-89.541643541999562,0.98685571640680636,-2.6115794995208906E-2,0.98685571640680636,0,0.98685571640680636,0,-3.5355904731176385E+50,-44.770821770999781,-2.5100199196022536E+50,2.4900200795977737E+50,-2.5100199196022536E+50,2.4900200795977737E+50,2.5100199196022536E+50,-2.4900200795977737E+50,-1,0,1,180]
[80.799999999999685,1.4102260356114127,9.9999999999999997E+98,-1.2500000000000001E+101,1.2500399993600206E+101,-89.541643541999562,0.98713626507298702,-2.5561994177753497E-2,0.98713626507298702,0,0.98713626507298702,0,-3.5355904731176385E+50,-44.770821770999781,-2.5100199196022536E+50,2.4900200795977737E+50,-2.5100199196022536E+50,2.4900200795977737E+50,2.5100199196022536E+50,-2.4900200795977737E+50,-1,0,1,180]
[80.899999999999679,1.4119713648634069,9.9999999999999997E+98,-1.2500000000000001E+101,1.2500399993600206E+101,-89.541643541999562,0.98741380675091051,-2.5013974237675526E-2,0.98741380675091051,0,0.98741380675091051,0,-3.5355904731176385E+50,-44.770821770999781,-2.5100199196022536E+50,2.4900200795977737E+50,-2.5100199196022536E+50,2.4900200795977737E+50,2.5100199196022536E+50,-2.4900200795977737E+50,-1,0,1,180]
[80.999999999999673,1.4137166941154011,9.9999999999999997E+98,-1.2500000000000001E+101,1.2500399993600206E+101,-89.541643541999562,0.98768834059513677,-2.4471741852425011E-2,0.98768834059513677,0,0.98768834059513677,0,-3.5355904731176385E+50,-44.770821770999781,-2.5100199196022536E+50,2.4900200795977737E+50,-2.5100199196022536E+50,2.4900200795977737E+50,2.5100199196022536E+50,-2.4900200795977737E+50,-1,0,1,180]
[81.099999999999667,1.4154620233673953,9.9999999999999997E+98,-1.2500000000000001E+101,1.2500399993600206E+101,-89.541643541999562,0.98795986576938821,-2.3935303628932456E-2,0.98795986576938821,0,0.98795986576938821,0,-3.5355904731176385E+50,-44.770821770999781,-2.5100199196022536E+50,2.4900200795977737E+50,-2.5100199196022536E+50,2.4900200795977737E+50,2.5100199196022536E+50,-2.4900200795977737E+50,-1,0,1,180]
[81.199999999999662,1.4172073526193896,9.9999999999999997E+98,-1.2500000000000001E+101,1.2500399993600206E+101,-89.541643541999562,0.9882283814465519,-2.3404666103528329E-2,0.9882283814465519,0,0.9882283814465519,0,-3.5355904731176385E+50,-44.770821770999781,-2.5100199196022536E+50,2.4900200795977737E+50,-2.5100199196022536E+50,2.4900200795977737E+50,2.5100199196022536E+50,-2.4900200795977737E+50,-1,0,1,180]
[81.299999999999656,1.418952681871384,9.9999999999999997E+98,-1.2500000000000001E+101,1.2500399993600206E+101,-89.541643541999562,0.98849388680868266,-2.2879835741863332E-2,0.98849388680868266,0,0.98849388680868266,0,-3.5355904731176385E+50,-44.770821770999781,-2.5100199196022536E+50,2.4900200795977737E+50,-2.5100199196022536E+50,2.4900200795977737E+50,2.5100199196022536E+50,-2.4900200795977737E+50,-1,0,1,180]
[81.39999999999965,1.420698011123378,9.9999999999999997E+98,-1.2500000000000001E+101,1.2500399993600206E+101,-89.541643541999562,0.98875638104700492,-2.2360818938830015E-2,0.98875638104700492,0,0.98875638104700492,0,-3.5355904731176385E+50,-44.770821770999781,-2.5100199196022536E+50,2.4900200795977737E+50,-2.5100199196022536E+50,2.4900200795977737E+50,2.5100199196022536E+50,-2.4900200795977737E+50,-1,0,1,180]
[81.499999999999645,1.4224433403753725,9.9999999999999997E+98,-1.2500000000000001E+101,1.2500399993600206E+101,-89.541643541999562,0.98901586336191594,-2.1847622018484059E-2,0.98901586336191594,0,0.98901586336191594,0,-3.5355904731176385E+50,-44.770821770999781,-2.5100199196022536E+50,2.4900200795977737E+50,-2.5100199196022536E+50,2.4900200795977737E+50,2.5100199196022536E+50,-2.4900200795977737E+50,-1,0,1,180]
[81.599999999999639,1.4241886696273667,9.9999999999999997E+98,-1.2500000000000001E+101,1.2500399993600206E+101,-89.541643541999562,0.98927233296298744,-2.1340251233968179E-2,0.98927233296298744,0,0.98927233296298744,0,-3.5355904731176385E+50,-44.770821770999781,-2.5100199196022536E+50,2.4900200795977737E+50,-2.5100199196022536E+50,2.4900200795977737E+50,2.5100199196022536E+50,-2.4900200795977737E+50,-1,0,1,180]
[81.699999999999633,1.4259339988793607,9.9999999999999997E+98,-1.2500000000000001E+101,1.2500399993600206E+101,-89.541643541999562,0.98952578906896849,-2.0838712767435263E-2,0.98952578906896849,0,0.98952578906896849,0,-3.5355904731176385E+50,-44.770821770999781,-2.5100199196022536E+50,2.4900200795977737E+50,-2.5100199196022536E+50,2.4900200795977737E+50,2.5100199196022536E+50,-2.4900200795977737E+50,-1,0,1,180]
[81.799999999999628,1.4276793281313549,9.9999999999999997E+98,-1.2500000000000001E+101,1.2500399993600206E+101,-89.541643541999562,0.98977623090778799,-2.0343012729973135E-2,0.98977623090778799,0,0.98977623090778799,0,-3.5355904731176385E+50,-44.770821770999781,-2.5100199196022536E+50,2.4900200795977737E+50,-2.5100199196022536E+50,2.4900200795977737E+50,2.5100199196022536E+50,-2.4900200795977737E+50,-1,0,1,180]
[81.899999999999622,1.4294246573833491,9.9999999999999997E+98,-1.2500000000000001E+101,1.2500399993600206E+101,-89.541643541999562,0.99002365771655665,-1.9853157161530365E-2,0.99002365771655665,0,0.99002365771655665,0,-3.5355904731176385E+50,-44.770821770999781,-2.5100199196022536E+50,2.4900200795977737E+50,-2.5100199196022536E+50,2.4900200795977737E+50,2.5100199196022536E+50,-2.4900200795977737E+50,-1,0,1,180]
[81.999999999999616,1.4311699866353433,9.9999999999999997E+98,-1.2500000000000001E+101,1.2500399993600206E+101,-89.541643541999562,0.99026806874156936,-1.9369152030842475E-2,0.99026806874156936,0,0.99026806874156936,0,-3.5355904731176385E+50,-44.770821770999781,-2.5100199196022536E+50,2.4900200795977737E+50,-2.5100199196022536E+50,2.4900200795977737E+50,2.5100199196022536E+50,-2.4900200795977737E+50,-1,0,1,180]
[82.099999999999611,1.4329153158873378,9.9999999999999997E+98,-1.2500000000000001E+101,1.2500399993600206E+101,-89.541643541999562,0.99050946323830791,-1.8891003235359177E-2,0.99050946323830791,0,0.99050946323830791,0,-3.5355904731176385E+50,-44.770821770999781,-2.5100199196022536E+50,2.4900200795977737E+50,-2.5100199196022536E+50,2.4900200795977737E+50,2.5100199196022536E+50,-2.4900200795977737E+50,-1,0,1,180]
[82.199999999999605,1.434660645139332,9.9999999999999997E+98,-1.2500000000000001E+101,1.2500399993600206E+101,-89.541643541999562,0.99074784047144271,-1.841871660117278E-2,0.99074784047144271,0,0.99074784047144271,0,-3.5355904731176385E+50,-44.770821770999781,-2.5100199196022536E+50,2.4900200795977737E+50,-2.5100199196022536E+50,2.4900200795977737E+50,2.5100199196022536E+50,-2.4900200795977737E+50,-1,0,1,180]
[82.299999999999599,1.4364059743913262,9.9999999999999997E+98,-1.2500000000000001E+101,1.2500399993600206E+101,-89.541643541999562,0.99098319971483528,-1.7952297882946805E-2,0.99098319971483528,0,0.99098319971483528,0,-3.5355904731176385E+50,-44.770821770999781,-2.5100199196022536E+50,2.4900200795977737E+50,-2.5100199196022536E+50,2.4900200795977737E+50,2.5100199196022536E+50,-2.4900200795977737E+50,-1,0,1,180]
[82.399999999999594,1.4381513036433204,9.9999999999999997E+98,-1.2500000000000001E+101,1.2500399993600206E+101,-89.541643541999562,0.99121554025154079,-1.7491752763846142E-2,0.99121554025154079,0,0.99121554025154079,0,-3.5355904731176385E+50,-44.770821770999781,-2.5100199196022536E+50,2.4900200795977737E+50,-2.5100199196022536E+50,2.4900200795977737E+50,2.5100199196022536E+50,-2.4900200795977737E+50,-1,0,1,180]
[82.499999999999588,1.4398966328953147,9.9999999999999997E+98,-1.2500000000000001E+101,1.2500399993600206E+101,-89.541643541999562,0.99144486137380949,-1.7037086855467728E-2,0.99144486137380949,0,0.99144486137380949,0,-3.5355904731176385E+50,-44.770821770999781,-2.5100199196022536E+50,2.4900200795977737E+50,-2.5100199196022536E+50,2.4900200795977737E+50,2.5100199196022536E+50,-2.4900200795977737E+50,-1,0,1,180]
[82.599999999999582,1.4416419621473091,9.9999999999999997E+98,-1.2500000000000001E+101,1.2500399993600206E+101,-89.541643541999562,0.9916711623830895,-1.6588305697772119E-2,0.9916711623830895,0,0.9916711623830895,0,-3.5355904731176385E+50,-44.770821770999781,-2.5100199196022536E+50,2.4900200795977737E+50,-2.5100199196022536E+50,2.4900200795977737E+50,2.5100199196022536E+50,-2.4900200795977737E+50,-1,0,1,180]
[82.699999999999577,1.4433872913993033,9.9999999999999997E+98,-1.2500000000000001E+101,1.2500399993600206E+101,-89.541643541999562,0.99189444259002868,-1.6145414759016215E-2,0.99189444259002868,0,0.99189444259002868,0,-3.5355904731176385E+50,-44.770821770999781,-2.5100199196022536E+50,2.4900200795977737E+50,-2.5100199196022536E+50,2.4900200795977737E+50,2.5100199196022536E+50,-2.4900200795977737E+50,-1,0,1,180]
[82.799999999999571,1.4451326206512971,9.9999999999999997E+98,-1.2500000000000001E+101,1.2500399993600206E+101,-89.541643541999562,0.99211470131447688,-1.5708419435686377E-2,0.99211470131447688,0,0.99211470131447688,0,-3.5355904731176385E+50,-44.770821770999781,-2.5100199196022536E+50,2.4900200795977737E+50,-2.5100199196022536E+50,2.4900200795977737E+50,2.5100199196022536E+50,-2.4900200795977737E+50,-1,0,1,180]
[82.899999999999565,1.4468779499032915,9.9999999999999997E+98,-1.2500000000000001E+101,1.2500399993600206E+101,-89.541643541999562,0.99233193788548779,-1.527732505243244E-2,0.99233193788548779,0,0.99233193788548779,0,-3.5355904731176385E+50,-44.770821770999781,-2.5100199196022536E+50,2.4900200795977737E+50,-2.5100199196022536E+50,2.4900200795977737E+50,2.5100199196022536E+50,-2.4900200795977737E+50,-1,0,1,180]
[82.999999999999559,1.4486232791552858,9.9999999999999997E+98,-1.2500000000000001E+101,1.2500399993600206E+101,-89.541643541999562,0.99254615164132109,-1.4852136862003647E-2,0.99254615164132109,0,0.99254615164132109,0,-3.5355904731176385E+50,-44.770821770999781,-2.5100199196022536E+50,2.4900200795977737E+50,-2.5100199196022536E+50,2.4900200795977737E+50,2.5100199196022536E+50,-2.4900200795977737E+50,-1,0,1,180]
[83.099999999999554,1.45036860840728,9.9999999999999997E+98,-1.2500000000000001E+101,1.2500399993600206E+101,-89.541643541999562,0.99275734192944454,-1.4432860045183852E-2,0.99275734192944454,0,0.99275734192944454,0,-3.5355904731176385E+50,-44.770821770999781,-2.5100199196022536E+50,2.4900200795977737E+50,-2.5100199196022536E+50,2.4900200795977737E+50,2.5100199196022536E+50,-2.4900200795977737E+50,-1,0,1,180]
[83.199999999999548,1.4521139376592742,9.9999999999999997E+98,-1.2500000000000001E+101,1.2500399993600206E+101,-89.541643541999562,0.99296550810653605,-1.401949971072876E-2,0.99296550810653605,0,0.99296550810653605,0,-3.5355904731176385E+50,-44.770821770999781,-2.5100199196022536E+50,2.4900200795977737E+50,-2.5100199196022536E+50,2.4900200795977737E+50,2.5100199196022536E+50,-2.4900200795977737E+50,-1,0,1,180]
[83.299999999999542,{"$f":"A838*PI()/180","v":1.4538592669112684},{"$f":"$D$1","v":9.9999999999999997E+98},{"$f":"-(18000*$G$1/$N$1)","v":-1.2500000000000001E+101},{"$f":"(C838^2+D838^2)^0.5","v":1.2500399993600206E+101},{"$f":"(180/PI())*ATAN(D838/C838)","v":-89.541643541999562},{"$f":"SIN(B838)","v":0.99317064953848511},{"$f":"-((COS(B838))^2)","v":-1.3612060895303594E-2},{"$f":"G838","v":0.99317064953848511},0,{"$f":"(((I838^2)/(1+(TAN(J838*(PI()/180)))^2))^0.5)","v":0.99317064953848511},{"$f":"K838*TAN(J838*(PI()/180))","v":0},{"$f":"-(((((C838+H838)^2)+(D838)^2)^0.5)^0.5)","v":-3.5355904731176385E+50},{"$f":"((ATAN(D838/(C838+H838)))*(180/PI()))/2","v":-44.770821770999781},{"$f":"-(((M838^2)/(1+(TAN(N838*(PI()/180)))^2))^0.5)","v":-2.5100199196022536E+50},{"$f":"O838*TAN(N838*(PI()/180))","v":2.4900200795977737E+50},-2.5100199196022536E+50,2.4900200795977737E+50,{"$f":"-O838+K838","v":2.5100199196022536E+50},{"$f":"L838-P838","v":-2.4900200795977737E+50},{"$f":"(Q838*S838+T838*R838)/((S838^2)+(T838^2))","v":-1},{"$f":"(R838*S838-Q838*T838)/((S838^2)+(T838^2))","v":0},{"$f":"((U838^2)+(V838^2))^0.5","v":1},{"$f":"(ACOS(U838/W838))*(180/PI())","v":180}]
[{"$f":"A838+0.1","v":83.399999999999537},1.4556045961632629,9.9999999999999997E+98,-1.2500000000000001E+101,1.2500399993600206E+101,-89.541643541999562,0.99337276560039556,-1.3210548563421692E-2,0.99337276560039556,0,0.99337276560039556,0,-3.5355904731176385E+50,-44.770821770999781,-2.5100199196022536E+50,2.4900200795977737E+50,-2.5100199196022536E+50,2.4900200795977737E+50,2.5100199196022536E+50,-2.4900200795977737E+50,-1,0,1,180]
[83.499999999999531,1.4573499254152571,9.9999999999999997E+98,-1.2500000000000001E+101,1.2500399993600206E+101,-89.541643541999562,0.99357185567658657,-1.2814967607384209E-2,0.99357185567658657,0,0.99357185567658657,0,-3.5355904731176385E+50,-44.770821770999781,-2.5100199196022536E+50,2.4900200795977737E+50,-2.5100199196022536E+50,2.4900200795977737E+50,2.5100199196022536E+50,-2.4900200795977737E+50,-1,0,1,180]
[83.599999999999525,1.4590952546672513,9.9999999999999997E+98,-1.2500000000000001E+101,1.2500399993600206E+101,-89.541643541999562,0.99376791916059548,-1.2425322847220201E-2,0.99376791916059548,0,0.99376791916059548,0,-3.5355904731176385E+50,-44.770821770999781,-2.5100199196022536E+50,2.4900200795977737E+50,-2.5100199196022536E+50,2.4900200795977737E+50,2.5100199196022536E+50,-2.4900200795977737E+50,-1,0,1,180]
[83.69999999999952,1.4608405839192455,9.9999999999999997E+98,-1.2500000000000001E+101,1.2500399993600206E+101,-89.541643541999562,0.99396095545517882,-1.2041619030628116E-2,0.99396095545517882,0,0.99396095545517882,0,-3.5355904731176385E+50,-44.770821770999781,-2.5100199196022536E+50,2.4900200795977737E+50,-2.5100199196022536E+50,2.4900200795977737E+50,2.5100199196022536E+50,-2.4900200795977737E+50,-1,0,1,180]
[83.799999999999514,1.4625859131712395,9.9999999999999997E+98,-1.2500000000000001E+101,1.2500399993600206E+101,-89.541643541999562,0.99415096397231451,-1.1663860832917906E-2,0.99415096397231451,0,0.99415096397231451,0,-3.5355904731176385E+50,-44.770821770999781,-2.5100199196022536E+50,2.4900200795977737E+50,-2.5100199196022536E+50,2.4900200795977737E+50,2.5100199196022536E+50,-2.4900200795977737E+50,-1,0,1,180]
[83.899999999999508,1.4643312424232338,9.9999999999999997E+98,-1.2500000000000001E+101,1.2500399993600206E+101,-89.541643541999562,0.99433794413320364,-1.1292052856953909E-2,0.99433794413320364,0,0.99433794413320364,0,-3.5355904731176385E+50,-44.770821770999781,-2.5100199196022536E+50,2.4900200795977737E+50,-2.5100199196022536E+50,2.4900200795977737E+50,2.5100199196022536E+50,-2.4900200795977737E+50,-1,0,1,180]
[83.999999999999503,1.466076571675228,9.9999999999999997E+98,-1.2500000000000001E+101,1.2500399993600206E+101,-89.541643541999562,0.9945218953682724,-1.0926199633099024E-2,0.9945218953682724,0,0.9945218953682724,0,-3.5355904731176385E+50,-44.770821770999781,-2.5100199196022536E+50,2.4900200795977737E+50,-2.5100199196022536E+50,2.4900200795977737E+50,2.5100199196022536E+50,-2.4900200795977737E+50,-1,0,1,180]
[84.099999999999497,1.4678219009272222,9.9999999999999997E+98,-1.2500000000000001E+101,1.2500399993600206E+101,-89.541643541999562,0.99470281711717323,-1.0566305619159324E-2,0.99470281711717323,0,0.99470281711717323,0,-3.5355904731176385E+50,-44.770821770999781,-2.5100199196022536E+50,2.4900200795977737E+50,-2.5100199196022536E+50,2.4900200795977737E+50,2.5100199196022536E+50,-2.4900200795977737E+50,-1,0,1,180]
[84.199999999999491,1.4695672301792166,9.9999999999999997E+98,-1.2500000000000001E+101,1.2500399993600206E+101,-89.541643541999562,0.99488070882878732,-1.0212375200329752E-2,0.99488070882878732,0,0.99488070882878732,0,-3.5355904731176385E+50,-44.770821770999781,-2.5100199196022536E+50,2.4900200795977737E+50,-2.5100199196022536E+50,2.4900200795977737E+50,2.5100199196022536E+50,-2.4900200795977737E+50,-1,0,1,180]
[84.299999999999486,1.4713125594312109,9.9999999999999997E+98,-1.2500000000000001E+101,1.2500399993600206E+101,-89.541643541999562,0.99505556996122535,-9.8644126891408532E-3,0.99505556996122535,0,0.99505556996122535,0,-3.5355904731176385E+50,-44.770821770999781,-2.5100199196022536E+50,2.4900200795977737E+50,-2.5100199196022536E+50,2.4900200795977737E+50,2.5100199196022536E+50,-2.4900200795977737E+50,-1,0,1,180]
[84.39999999999948,1.4730578886832051,9.9999999999999997E+98,-1.2500000000000001E+101,1.2500399993600206E+101,-89.541643541999562,0.9952273999818303,-9.5224223254059756E-3,0.9952273999818303,0,0.9952273999818303,0,-3.5355904731176385E+50,-44.770821770999781,-2.5100199196022536E+50,2.4900200795977737E+50,-2.5100199196022536E+50,2.4900200795977737E+50,2.5100199196022536E+50,-2.4900200795977737E+50,-1,0,1,180]
[84.499999999999474,1.4748032179351993,9.9999999999999997E+98,-1.2500000000000001E+101,1.2500399993600206E+101,-89.541643541999562,0.99539619836717796,-9.1864082761697746E-3,0.99539619836717796,0,0.99539619836717796,0,-3.5355904731176385E+50,-44.770821770999781,-2.5100199196022536E+50,2.4900200795977737E+50,-2.5100199196022536E+50,2.4900200795977737E+50,2.5100199196022536E+50,-2.4900200795977737E+50,-1,0,1,180]
[84.599999999999469,1.4765485471871935,9.9999999999999997E+98,-1.2500000000000001E+101,1.2500399993600206E+101,-89.541643541999562,0.99556196460307911,-8.8563746356574002E-3,0.99556196460307911,0,0.99556196460307911,0,-3.5355904731176385E+50,-44.770821770999781,-2.5100199196022536E+50,2.4900200795977737E+50,-2.5100199196022536E+50,2.4900200795977737E+50,2.5100199196022536E+50,-2.4900200795977737E+50,-1,0,1,180]
[84.699999999999463,1.4782938764391877,9.9999999999999997E+98,-1.2500000000000001E+101,1.2500399993600206E+101,-89.541643541999562,0.9957246981845812,-8.5323254252246111E-3,0.9957246981845812,0,0.9957246981845812,0,-3.5355904731176385E+50,-44.770821770999781,-2.5100199196022536E+50,2.4900200795977737E+50,-2.5100199196022536E+50,2.4900200795977737E+50,2.5100199196022536E+50,-2.4900200795977737E+50,-1,0,1,180]
[84.799999999999457,1.4800392056911817,9.9999999999999997E+98,-1.2500000000000001E+101,1.2500399993600206E+101,-89.541643541999562,0.99588439861596945,-8.2142645933088072E-3,0.99588439861596945,0,0.99588439861596945,0,-3.5355904731176385E+50,-44.770821770999781,-2.5100199196022536E+50,2.4900200795977737E+50,-2.5100199196022536E+50,2.4900200795977737E+50,2.5100199196022536E+50,-2.4900200795977737E+50,-1,0,1,180]
[84.899999999999451,1.481784534943176,9.9999999999999997E+98,-1.2500000000000001E+101,1.2500399993600206E+101,-89.541643541999562,0.99604106541076876,-7.9021960153807785E-3,0.99604106541076876,0,0.99604106541076876,0,-3.5355904731176385E+50,-44.770821770999781,-2.5100199196022536E+50,2.4900200795977737E+50,-2.5100199196022536E+50,2.4900200795977737E+50,2.5100199196022536E+50,-2.4900200795977737E+50,-1,0,1,180]
[84.999999999999446,1.4835298641951704,9.9999999999999997E+98,-1.2500000000000001E+101,1.2500399993600206E+101,-89.541643541999562,0.99619469809174466,-7.5961234938976595E-3,0.99619469809174466,0,0.99619469809174466,0,-3.5355904731176385E+50,-44.770821770999781,-2.5100199196022536E+50,2.4900200795977737E+50,-2.5100199196022536E+50,2.4900200795977737E+50,2.5100199196022536E+50,-2.4900200795977737E+50,-1,0,1,180]
[85.09999999999944,1.4852751934471646,9.9999999999999997E+98,-1.2500000000000001E+101,1.2500399993600206E+101,-89.541643541999562,0.99634529619090562,-7.2960507582566165E-3,0.99634529619090562,0,0.99634529619090562,0,-3.5355904731176385E+50,-44.770821770999781,-2.5100199196022536E+50,2.4900200795977737E+50,-2.5100199196022536E+50,2.4900200795977737E+50,2.5100199196022536E+50,-2.4900200795977737E+50,-1,0,1,180]
[85.199999999999434,1.4870205226991589,9.9999999999999997E+98,-1.2500000000000001E+101,1.2500399993600206E+101,-89.541643541999562,0.99649285924950348,-7.0019814647491949E-3,0.99649285924950348,0,0.99649285924950348,0,-3.5355904731176385E+50,-44.770821770999781,-2.5100199196022536E+50,2.4900200795977737E+50,-2.5100199196022536E+50,2.4900200795977737E+50,2.5100199196022536E+50,-2.4900200795977737E+50,-1,0,1,180]
[85.299999999999429,1.4887658519511531,9.9999999999999997E+98,-1.2500000000000001E+101,1.2500399993600206E+101,-89.541643541999562,0.99663738681803582,-6.7139191965169343E-3,0.99663738681803582,0,0.99663738681803582,0,-3.5355904731176385E+50,-44.770821770999781,-2.5100199196022536E+50,2.4900200795977737E+50,-2.5100199196022536E+50,2.4900200795977737E+50,2.5100199196022536E+50,-2.4900200795977737E+50,-1,0,1,180]
[85.399999999999423,1.4905111812031473,9.9999999999999997E+98,-1.2500000000000001E+101,1.2500399993600206E+101,-89.541643541999562,0.99677887845624635,-6.4318674635076636E-3,0.99677887845624635,0,0.99677887845624635,0,-3.5355904731176385E+50,-44.770821770999781,-2.5100199196022536E+50,2.4900200795977737E+50,-2.5100199196022536E+50,2.4900200795977737E+50,2.5100199196022536E+50,-2.4900200795977737E+50,-1,0,1,180]
[85.499999999999417,1.4922565104551415,9.9999999999999997E+98,-1.2500000000000001E+101,1.2500399993600206E+101,-89.541643541999562,0.99691733373312719,-6.1558297024327437E-3,0.99691733373312719,0,0.99691733373312719,0,-3.5355904731176385E+50,-44.770821770999781,-2.5100199196022536E+50,2.4900200795977737E+50,-2.5100199196022536E+50,2.4900200795977737E+50,2.5100199196022536E+50,-2.4900200795977737E+50,-1,0,1,180]
[85.599999999999412,1.494001839707136,9.9999999999999997E+98,-1.2500000000000001E+101,1.2500399993600206E+101,-89.541643541999562,0.99705275222691947,-5.8858092767251451E-3,0.99705275222691947,0,0.99705275222691947,0,-3.5355904731176385E+50,-44.770821770999781,-2.5100199196022536E+50,2.4900200795977737E+50,-2.5100199196022536E+50,2.4900200795977737E+50,2.5100199196022536E+50,-2.4900200795977737E+50,-1,0,1,180]
[85.699999999999406,1.4957471689591302,9.9999999999999997E+98,-1.2500000000000001E+101,1.2500399993600206E+101,-89.541643541999562,0.99718513352511495,-5.6218094764986081E-3,0.99718513352511495,0,0.99718513352511495,0,-3.5355904731176385E+50,-44.770821770999781,-2.5100199196022536E+50,2.4900200795977737E+50,-2.5100199196022536E+50,2.4900200795977737E+50,2.5100199196022536E+50,-2.4900200795977737E+50,-1,0,1,180]
[85.7999999999994,1.4974924982111244,9.9999999999999997E+98,-1.2500000000000001E+101,1.2500399993600206E+101,-89.541643541999562,0.99731447722445732,-5.3638335185073552E-3,0.99731447722445732,0,0.99731447722445732,0,-3.5355904731176385E+50,-44.770821770999781,-2.5100199196022536E+50,2.4900200795977737E+50,-2.5100199196022536E+50,2.4900200795977737E+50,2.5100199196022536E+50,-2.4900200795977737E+50,-1,0,1,180]
[85.899999999999395,1.4992378274631184,9.9999999999999997E+98,-1.2500000000000001E+101,1.2500399993600206E+101,-89.541643541999562,0.99744078293094318,-5.111884546107049E-3,0.99744078293094318,0,0.99744078293094318,0,-3.5355904731176385E+50,-44.770821770999781,-2.5100199196022536E+50,2.4900200795977737E+50,-2.5100199196022536E+50,2.4900200795977737E+50,2.5100199196022536E+50,-2.4900200795977737E+50,-1,0,1,180]
[85.999999999999389,1.5009831567151126,9.9999999999999997E+98,-1.2500000000000001E+101,1.2500399993600206E+101,-89.541643541999562,0.99756405025982353,-4.8659656292163473E-3,0.99756405025982353,0,0.99756405025982353,0,-3.5355904731176385E+50,-44.770821770999781,-2.5100199196022536E+50,2.4900200795977737E+50,{"$f":"K865+O865","v":-2.5100199196022536E+50},2.4900200795977737E+50,2.5100199196022536E+50,-2.4900200795977737E+50,-1,0,1,180]
[86.099999999999383,1.5027284859671068,9.9999999999999997E+98,-1.2500000000000001E+101,1.2500399993600206E+101,-89.541643541999562,0.99768427883560451,-4.6260797642796768E-3,0.99768427883560451,0,0.99768427883560451,0,-3.5355904731176385E+50,-44.770821770999781,-2.5100199196022536E+50,2.4900200795977737E+50,-2.5100199196022536E+50,2.4900200795977737E+50,2.5100199196022536E+50,-2.4900200795977737E+50,-1,0,1,180]
[86.199999999999378,1.5044738152191011,9.9999999999999997E+98,-1.2500000000000001E+101,1.2500399993600206E+101,-89.541643541999562,0.9978014682920493,-4.3922298742305977E-3,0.9978014682920493,0,0.9978014682920493,0,-3.5355904731176385E+50,-44.770821770999781,-2.5100199196022536E+50,2.4900200795977737E+50,-2.5100199196022536E+50,2.4900200795977737E+50,2.5100199196022536E+50,-2.4900200795977737E+50,-1,0,1,180]
[86.299999999999372,1.5062191444710953,9.9999999999999997E+98,-1.2500000000000001E+101,1.2500399993600206E+101,-89.541643541999562,0.99791561827217823,-4.1644188084562217E-3,0.99791561827217823,0,0.99791561827217823,0,-3.5355904731176385E+50,-44.770821770999781,-2.5100199196022536E+50,2.4900200795977737E+50,-2.5100199196022536E+50,2.4900200795977737E+50,2.5100199196022536E+50,-2.4900200795977737E+50,-1,0,1,180]
[86.399999999999366,1.5079644737230897,9.9999999999999997E+98,-1.2500000000000001E+101,1.2500399993600206E+101,-89.541643541999562,0.99802672842827089,-3.9426493427624663E-3,0.99802672842827089,0,0.99802672842827089,0,-3.5355904731176385E+50,-44.770821770999781,-2.5100199196022536E+50,2.4900200795977737E+50,-2.5100199196022536E+50,2.4900200795977737E+50,2.5100199196022536E+50,-2.4900200795977737E+50,-1,0,1,180]
[86.499999999999361,1.5097098029750839,9.9999999999999997E+98,-1.2500000000000001E+101,1.2500399993600206E+101,-89.541643541999562,0.99813479842186625,-3.7269241793403398E-3,0.99813479842186625,0,0.99813479842186625,0,-3.5355904731176385E+50,-44.770821770999781,-2.5100199196022536E+50,2.4900200795977737E+50,-2.5100199196022536E+50,2.4900200795977737E+50,2.5100199196022536E+50,-2.4900200795977737E+50,-1,0,1,180]
[86.599999999999355,1.5114551322270782,9.9999999999999997E+98,-1.2500000000000001E+101,1.2500399993600206E+101,-89.541643541999562,0.99823982792376464,-3.5172459467328505E-3,0.99823982792376464,0,0.99823982792376464,0,-3.5355904731176385E+50,-44.770821770999781,-2.5100199196022536E+50,2.4900200795977737E+50,-2.5100199196022536E+50,2.4900200795977737E+50,2.5100199196022536E+50,-2.4900200795977737E+50,-1,0,1,180]
[86.699999999999349,1.5132004614790724,9.9999999999999997E+98,-1.2500000000000001E+101,1.2500399993600206E+101,-89.541643541999562,0.99834181661402766,-3.3136171998030938E-3,0.99834181661402766,0,0.99834181661402766,0,-3.5355904731176385E+50,-44.770821770999781,-2.5100199196022536E+50,2.4900200795977737E+50,-2.5100199196022536E+50,2.4900200795977737E+50,2.5100199196022536E+50,-2.4900200795977737E+50,-1,0,1,180]
[86.799999999999343,1.5149457907310666,9.9999999999999997E+98,-1.2500000000000001E+101,1.2500399993600206E+101,-89.541643541999562,0.99844076418198036,-3.1160404197030896E-3,0.99844076418198036,0,0.99844076418198036,0,-3.5355904731176385E+50,-44.770821770999781,-2.5100199196022536E+50,2.4900200795977737E+50,-2.5100199196022536E+50,2.4900200795977737E+50,2.5100199196022536E+50,-2.4900200795977737E+50,-1,0,1,180]
[86.899999999999338,1.5166911199830606,9.9999999999999997E+98,-1.2500000000000001E+101,1.2500399993600206E+101,-89.541643541999562,0.99853667032621107,-2.9245180138435744E-3,0.99853667032621107,0,0.99853667032621107,0,-3.5355904731176385E+50,-44.770821770999781,-2.5100199196022536E+50,2.4900200795977737E+50,-2.5100199196022536E+50,2.4900200795977737E+50,2.5100199196022536E+50,-2.4900200795977737E+50,-1,0,1,180]
[86.999999999999332,1.5184364492350548,9.9999999999999997E+98,-1.2500000000000001E+101,1.2500399993600206E+101,-89.541643541999562,0.99862953475457328,-2.7390523158645759E-3,0.99862953475457328,0,0.99862953475457328,0,-3.5355904731176385E+50,-44.770821770999781,-2.5100199196022536E+50,2.4900200795977737E+50,-2.5100199196022536E+50,2.4900200795977737E+50,2.5100199196022536E+50,-2.4900200795977737E+50,-1,0,1,180]
[87.099999999999326,1.5201817784870491,9.9999999999999997E+98,-1.2500000000000001E+101,1.2500399993600206E+101,-89.541643541999562,0.99871935718418559,-2.5596455856071181E-3,0.99871935718418559,0,0.99871935718418559,0,-3.5355904731176385E+50,-44.770821770999781,-2.5100199196022536E+50,2.4900200795977737E+50,-2.5100199196022536E+50,2.4900200795977737E+50,2.5100199196022536E+50,-2.4900200795977737E+50,-1,0,1,180]
[87.199999999999321,1.5219271077390435,9.9999999999999997E+98,-1.2500000000000001E+101,1.2500399993600206E+101,-89.541643541999562,0.99880613734143342,-2.3863000090855705E-3,0.99880613734143342,0,0.99880613734143342,0,-3.5355904731176385E+50,-44.770821770999781,-2.5100199196022536E+50,2.4900200795977737E+50,-2.5100199196022536E+50,2.4900200795977737E+50,2.5100199196022536E+50,-2.4900200795977737E+50,-1,0,1,180]
[87.299999999999315,1.5236724369910377,9.9999999999999997E+98,-1.2500000000000001E+101,1.2500399993600206E+101,-89.541643541999562,0.99888987496196946,-2.2190176984611238E-3,0.99888987496196946,0,0.99888987496196946,0,-3.5355904731176385E+50,-44.770821770999781,-2.5100199196022536E+50,2.4900200795977737E+50,-2.5100199196022536E+50,2.4900200795977737E+50,2.5100199196022536E+50,-2.4900200795977737E+50,-1,0,1,180]
[87.399999999999309,1.5254177662430319,9.9999999999999997E+98,-1.2500000000000001E+101,1.2500399993600206E+101,-89.541643541999562,0.99897056979071419,-2.0578006920159175E-3,0.99897056979071419,0,0.99897056979071419,0,-3.5355904731176385E+50,-44.770821770999781,-2.5100199196022536E+50,2.4900200795977737E+50,-2.5100199196022536E+50,2.4900200795977737E+50,2.5100199196022536E+50,-2.4900200795977737E+50,-1,0,1,180]
[87.499999999999304,1.5271630954950262,9.9999999999999997E+98,-1.2500000000000001E+101,1.2500399993600206E+101,-89.541643541999562,0.99904822158185724,-1.9026509541282992E-3,0.99904822158185724,0,0.99904822158185724,0,-3.5355904731176385E+50,-44.770821770999781,-2.5100199196022536E+50,2.4900200795977737E+50,-2.5100199196022536E+50,2.4900200795977737E+50,2.5100199196022536E+50,-2.4900200795977737E+50,-1,0,1,180]
[87.599999999999298,1.5289084247470204,9.9999999999999997E+98,-1.2500000000000001E+101,1.2500399993600206E+101,-89.541643541999562,0.99912283009885783,-1.7535703752488625E-3,0.99912283009885783,0,0.99912283009885783,0,-3.5355904731176385E+50,-44.770821770999781,-2.5100199196022536E+50,2.4900200795977737E+50,-2.5100199196022536E+50,2.4900200795977737E+50,2.5100199196022536E+50,-2.4900200795977737E+50,-1,0,1,180]
[87.699999999999292,1.5306537539990148,9.9999999999999997E+98,-1.2500000000000001E+101,1.2500399993600206E+101,-89.541643541999562,0.99919439511444552,-1.6105607718773967E-3,0.99919439511444552,0,0.99919439511444552,0,-3.5355904731176385E+50,-44.770821770999781,-2.5100199196022536E+50,2.4900200795977737E+50,-2.5100199196022536E+50,2.4900200795977737E+50,2.5100199196022536E+50,-2.4900200795977737E+50,-1,0,1,180]
[87.799999999999287,1.532399083251009,9.9999999999999997E+98,-1.2500000000000001E+101,1.2500399993600206E+101,-89.541643541999562,0.99926291641062071,-1.4736238865408239E-3,0.99926291641062071,0,0.99926291641062071,0,-3.5355904731176385E+50,-44.770821770999781,-2.5100199196022536E+50,2.4900200795977737E+50,-2.5100199196022536E+50,2.4900200795977737E+50,2.5100199196022536E+50,-2.4900200795977737E+50,-1,0,1,180]
[87.899999999999281,1.5341444125030033,9.9999999999999997E+98,-1.2500000000000001E+101,1.2500399993600206E+101,-89.541643541999562,0.99932839377865579,-1.3427613877718589E-3,0.99932839377865579,0,0.99932839377865579,0,-3.5355904731176385E+50,-44.770821770999781,-2.5100199196022536E+50,2.4900200795977737E+50,-2.5100199196022536E+50,2.4900200795977737E+50,2.5100199196022536E+50,-2.4900200795977737E+50,-1,0,1,180]
[87.999999999999275,1.5358897417549973,9.9999999999999997E+98,-1.2500000000000001E+101,1.2500399993600206E+101,-89.541643541999562,0.99939082701909532,-1.2179748700887668E-3,0.99939082701909532,0,0.99939082701909532,0,-3.5355904731176385E+50,-44.770821770999781,-2.5100199196022536E+50,2.4900200795977737E+50,-2.5100199196022536E+50,2.4900200795977737E+50,2.5100199196022536E+50,-2.4900200795977737E+50,-1,0,1,180]
[88.09999999999927,1.5376350710069915,9.9999999999999997E+98,-1.2500000000000001E+101,1.2500399993600206E+101,-89.541643541999562,0.99945021594175676,-1.0992658539758532E-3,0.99945021594175676,0,0.99945021594175676,0,-3.5355904731176385E+50,-44.770821770999781,-2.5100199196022536E+50,2.4900200795977737E+50,-2.5100199196022536E+50,2.4900200795977737E+50,2.5100199196022536E+50,-2.4900200795977737E+50,-1,0,1,180]
[88.199999999999264,1.5393804002589857,9.9999999999999997E+98,-1.2500000000000001E+101,1.2500399993600206E+101,-89.541643541999562,0.99950656036573116,-9.866357858650341E-4,0.99950656036573116,0,0.99950656036573116,0,-3.5355904731176385E+50,-44.770821770999781,-2.5100199196022536E+50,2.4900200795977737E+50,-2.5100199196022536E+50,2.4900200795977737E+50,2.5100199196022536E+50,-2.4900200795977737E+50,-1,0,1,180]
[88.299999999999258,1.5411257295109799,9.9999999999999997E+98,-1.2500000000000001E+101,1.2500399993600206E+101,-89.541643541999562,0.99955986011938369,-8.8008603811814544E-4,0.99955986011938369,0,0.99955986011938369,0,-3.5355904731176385E+50,-44.770821770999781,-2.5100199196022536E+50,2.4900200795977737E+50,-2.5100199196022536E+50,2.4900200795977737E+50,2.5100199196022536E+50,-2.4900200795977737E+50,-1,0,1,180]
[88.399999999999253,1.5428710587629741,9.9999999999999997E+98,-1.2500000000000001E+101,1.2500399993600206E+101,-89.541643541999562,0.99961011504035402,-7.7961790901023799E-4,0.99961011504035402,0,0.99961011504035402,0,-3.5355904731176385E+50,-44.770821770999781,-2.5100199196022536E+50,2.4900200795977737E+50,-2.5100199196022536E+50,2.4900200795977737E+50,2.5100199196022536E+50,-2.4900200795977737E+50,-1,0,1,180]
[88.499999999999247,1.5446163880149686,9.9999999999999997E+98,-1.2500000000000001E+101,1.2500399993600206E+101,-89.541643541999562,0.99965732497555693,-6.8523262271374811E-4,0.99965732497555693,0,0.99965732497555693,0,-3.5355904731176385E+50,-44.770821770999781,-2.5100199196022536E+50,2.4900200795977737E+50,-2.5100199196022536E+50,2.4900200795977737E+50,2.5100199196022536E+50,-2.4900200795977737E+50,-1,0,1,180]
[88.599999999999241,1.5463617172669628,9.9999999999999997E+98,-1.2500000000000001E+101,1.2500399993600206E+101,-89.541643541999562,0.99970148978118278,-5.969313292836266E-4,0.99970148978118278,0,0.99970148978118278,0,-3.5355904731176385E+50,-44.770821770999781,-2.5100199196022536E+50,2.4900200795977737E+50,-2.5100199196022536E+50,2.4900200795977737E+50,2.5100199196022536E+50,-2.4900200795977737E+50,-1,0,1,180]
[88.699999999999235,1.548107046518957,9.9999999999999997E+98,-1.2500000000000001E+101,1.2500399993600206E+101,-89.541643541999562,0.99974260932269798,-5.1471510464325566E-4,0.99974260932269798,0,0.99974260932269798,0,-3.5355904731176385E+50,-44.770821770999781,-2.5100199196022536E+50,2.4900200795977737E+50,-2.5100199196022536E+50,2.4900200795977737E+50,2.5100199196022536E+50,-2.4900200795977737E+50,-1,0,1,180]
[88.79999999999923,1.5498523757709513,9.9999999999999997E+98,-1.2500000000000001E+101,1.2500399993600206E+101,-89.541643541999562,0.99978068347484517,-4.3858495057138663E-4,0.99978068347484517,0,0.99978068347484517,0,-3.5355904731176385E+50,-44.770821770999781,-2.5100199196022536E+50,2.4900200795977737E+50,-2.5100199196022536E+50,2.4900200795977737E+50,2.5100199196022536E+50,-2.4900200795977737E+50,-1,0,1,180]
[88.899999999999224,1.5515977050229455,9.9999999999999997E+98,-1.2500000000000001E+101,1.2500399993600206E+101,-89.541643541999562,0.999815712121644,-3.6854179468992162E-4,0.999815712121644,0,0.999815712121644,0,-3.5355904731176385E+50,-44.770821770999781,-2.5100199196022536E+50,2.4900200795977737E+50,-2.5100199196022536E+50,2.4900200795977737E+50,2.5100199196022536E+50,-2.4900200795977737E+50,-1,0,1,180]
[88.999999999999218,1.5533430342749395,9.9999999999999997E+98,-1.2500000000000001E+101,1.2500399993600206E+101,-89.541643541999562,0.99984769515639105,-3.0458649045261838E-4,0.99984769515639105,0,0.99984769515639105,0,-3.5355904731176385E+50,-44.770821770999781,-2.5100199196022536E+50,2.4900200795977737E+50,-2.5100199196022536E+50,2.4900200795977737E+50,2.5100199196022536E+50,-2.4900200795977737E+50,-1,0,1,180]
[89.099999999999213,1.5550883635269337,9.9999999999999997E+98,-1.2500000000000001E+101,1.2500399993600206E+101,-89.541643541999562,0.99987663248166037,-2.4671981713466007E-4,0.99987663248166037,0,0.99987663248166037,0,-3.5355904731176385E+50,-44.770821770999781,-2.5100199196022536E+50,2.4900200795977737E+50,-2.5100199196022536E+50,2.4900200795977737E+50,2.5100199196022536E+50,-2.4900200795977737E+50,-1,0,1,180]
[89.199999999999207,1.5568336927789279,9.9999999999999997E+98,-1.2500000000000001E+101,1.2500399993600206E+101,-89.541643541999562,0.99990252400930402,-1.9494247982320759E-4,0.99990252400930402,0,0.99990252400930402,0,-3.5355904731176385E+50,-44.770821770999781,-2.5100199196022536E+50,2.4900200795977737E+50,-2.5100199196022536E+50,2.4900200795977737E+50,2.5100199196022536E+50,-2.4900200795977737E+50,-1,0,1,180]
[89.299999999999201,1.5585790220309224,9.9999999999999997E+98,-1.2500000000000001E+101,1.2500399993600206E+101,-89.541643541999562,0.99992536966045187,-1.4925510940877096E-4,0.99992536966045187,0,0.99992536966045187,0,-3.5355904731176385E+50,-44.770821770999781,-2.5100199196022536E+50,2.4900200795977737E+50,-2.5100199196022536E+50,2.4900200795977737E+50,2.5100199196022536E+50,-2.4900200795977737E+50,-1,0,1,180]
[89.399999999999196,1.5603243512829166,9.9999999999999997E+98,-1.2500000000000001E+101,1.2500399993600206E+101,-89.541643541999562,0.99994516936551203,-1.0965826257755224E-4,0.99994516936551203,0,0.99994516936551203,0,-3.5355904731176385E+50,-44.770821770999781,-2.5100199196022536E+50,2.4900200795977737E+50,-2.5100199196022536E+50,2.4900200795977737E+50,2.5100199196022536E+50,-2.4900200795977737E+50,-1,0,1,180]
[89.49999999999919,1.5620696805349108,9.9999999999999997E+98,-1.2500000000000001E+101,1.2500399993600206E+101,-89.541643541999562,0.9999619230641712,-7.6152421804627778E-5,0.9999619230641712,0,0.9999619230641712,0,-3.5355904731176385E+50,-44.770821770999781,-2.5100199196022536E+50,2.4900200795977737E+50,-2.5100199196022536E+50,2.4900200795977737E+50,2.5100199196022536E+50,-2.4900200795977737E+50,-1,0,1,180]
[89.599999999999184,1.563815009786905,9.9999999999999997E+98,-1.2500000000000001E+101,1.2500399993600206E+101,-89.541643541999562,0.99997563070539475,-4.8737995348093624E-5,0.99997563070539475,0,0.99997563070539475,0,-3.5355904731176385E+50,-44.770821770999781,-2.5100199196022536E+50,2.4900200795977737E+50,-2.5100199196022536E+50,2.4900200795977737E+50,2.5100199196022536E+50,-2.4900200795977737E+50,-1,0,1,180]
[89.699999999999179,{"$f":"A902*PI()/180","v":1.5655603390388992},{"$f":"$D$1","v":9.9999999999999997E+98},{"$f":"-(18000*$G$1/$N$1)","v":-1.2500000000000001E+101},{"$f":"(C902^2+D902^2)^0.5","v":1.2500399993600206E+101},{"$f":"(180/PI())*ATAN(D902/C902)","v":-89.541643541999562},{"$f":"SIN(B902)","v":0.99998629224742674},{"$f":"-((COS(B902))^2)","v":-2.7415317244084698E-5},{"$f":"G902","v":0.99998629224742674},0,{"$f":"(((I902^2)/(1+(TAN(J902*(PI()/180)))^2))^0.5)","v":0.99998629224742674},{"$f":"K902*TAN(J902*(PI()/180))","v":0},{"$f":"-(((((C902+H902)^2)+(D902)^2)^0.5)^0.5)","v":-3.5355904731176385E+50},{"$f":"((ATAN(D902/(C902+H902)))*(180/PI()))/2","v":-44.770821770999781},{"$f":"-(((M902^2)/(1+(TAN(N902*(PI()/180)))^2))^0.5)","v":-2.5100199196022536E+50},{"$f":"O902*TAN(N902*(PI()/180))","v":2.4900200795977737E+50},-2.5100199196022536E+50,2.4900200795977737E+50,{"$f":"-O902+K902","v":2.5100199196022536E+50},{"$f":"L902-P902","v":-2.4900200795977737E+50},{"$f":"(Q902*S902+T902*R902)/((S902^2)+(T902^2))","v":-1},{"$f":"(R902*S902-Q902*T902)/((S902^2)+(T902^2))","v":0},{"$f":"((U902^2)+(V902^2))^0.5","v":1},{"$f":"(ACOS(U902/W902))*(180/PI())","v":180}]
[{"$f":"A902+0.1","v":89.799999999999173},{"$f":"A903*PI()/180","v":1.5673056682908935},{"$f":"$D$1","v":9.9999999999999997E+98},{"$f":"-(18000*$G$1/$N$1)","v":-1.2500000000000001E+101},{"$f":"(C903^2+D903^2)^0.5","v":1.2500399993600206E+101},{"$f":"(180/PI())*ATAN(D903/C903)","v":-89.541643541999562},{"$f":"SIN(B903)","v":0.99999390765779028},{"$f":"-((COS(B903))^2)","v":-1.2184647302704665E-5},{"$f":"G903","v":0.99999390765779028},0,{"$f":"(((I903^2)/(1+(TAN(J903*(PI()/180)))^2))^0.5)","v":0.99999390765779028},{"$f":"K903*TAN(J903*(PI()/180))","v":0},{"$f":"-(((((C903+H903)^2)+(D903)^2)^0.5)^0.5)","v":-3.5355904731176385E+50},{"$f":"((ATAN(D903/(C903+H903)))*(180/PI()))/2","v":-44.770821770999781},{"$f":"-(((M903^2)/(1+(TAN(N903*(PI()/180)))^2))^0.5)","v":-2.5100199196022536E+50},{"$f":"O903*TAN(N903*(PI()/180))","v":2.4900200795977737E+50},-2.5100199196022536E+50,2.4900200795977737E+50,{"$f":"-O903+K903","v":2.5100199196022536E+50},{"$f":"L903-P903","v":-2.4900200795977737E+50},{"$f":"(Q903*S903+T903*R903)/((S903^2)+(T903^2))","v":-1},{"$f":"(R903*S903-Q903*T903)/((S903^2)+(T903^2))","v":0},{"$f":"((U903^2)+(V903^2))^0.5","v":1},{"$f":"(ACOS(U903/W903))*(180/PI())","v":180}]
[{"$f":"A903+0.1","v":89.899999999999167},{"$f":"A904*PI()/180","v":1.5690509975428879},{"$f":"$D$1","v":9.9999999999999997E+98},{"$f":"-(18000*$G$1/$N$1)","v":-1.2500000000000001E+101},{"$f":"(C904^2+D904^2)^0.5","v":1.2500399993600206E+101},{"$f":"(180/PI())*ATAN(D904/C904)","v":-89.541643541999562},{"$f":"SIN(B904)","v":0.99999847691328769},{"$f":"-((COS(B904))^2)","v":-3.0461711048594762E-6},{"$f":"G904","v":0.99999847691328769},0,{"$f":"(((I904^2)/(1+(TAN(J904*(PI()/180)))^2))^0.5)","v":0.99999847691328769},{"$f":"K904*TAN(J904*(PI()/180))","v":0},{"$f":"-(((((C904+H904)^2)+(D904)^2)^0.5)^0.5)","v":-3.5355904731176385E+50},{"$f":"((ATAN(D904/(C904+H904)))*(180/PI()))/2","v":-44.770821770999781},{"$f":"-(((M904^2)/(1+(TAN(N904*(PI()/180)))^2))^0.5)","v":-2.5100199196022536E+50},{"$f":"O904*TAN(N904*(PI()/180))","v":2.4900200795977737E+50},-2.5100199196022536E+50,2.4900200795977737E+50,{"$f":"-O904+K904","v":2.5100199196022536E+50},{"$f":"L904-P904","v":-2.4900200795977737E+50},{"$f":"(Q904*S904+T904*R904)/((S904^2)+(T904^2))","v":-1},{"$f":"(R904*S904-Q904*T904)/((S904^2)+(T904^2))","v":0},{"$f":"((U904^2)+(V904^2))^0.5","v":1},{"$f":"(ACOS(U904/W904))*(180/PI())","v":180}]
[{"$f":"A904+0.1","v":89.999999999999162},{"$f":"A905*PI()/180","v":1.5707963267948821},{"$f":"$D$1","v":9.9999999999999997E+98},{"$f":"-(18000*$G$1/$N$1)","v":-1.2500000000000001E+101},{"$f":"(C905^2+D905^2)^0.5","v":1.2500399993600206E+101},{"$f":"(180/PI())*ATAN(D905/C905)","v":-89.541643541999562},{"$f":"SIN(B905)","v":1},{"$f":"-((COS(B905))^2)","v":-2.1008057968695537E-28},{"$f":"G905","v":1},0,{"$f":"(((I905^2)/(1+(TAN(J905*(PI()/180)))^2))^0.5)","v":1},{"$f":"K905*TAN(J905*(PI()/180))","v":0},{"$f":"-(((((C905+H905)^2)+(D905)^2)^0.5)^0.5)","v":-3.5355904731176385E+50},{"$f":"((ATAN(D905/(C905+H905)))*(180/PI()))/2","v":-44.770821770999781},{"$f":"-(((M905^2)/(1+(TAN(N905*(PI()/180)))^2))^0.5)","v":-2.5100199196022536E+50},{"$f":"O905*TAN(N905*(PI()/180))","v":2.4900200795977737E+50},-2.5100199196022536E+50,2.4900200795977737E+50,{"$f":"-O905+K905","v":2.5100199196022536E+50},{"$f":"L905-P905","v":-2.4900200795977737E+50},{"$f":"(Q905*S905+T905*R905)/((S905^2)+(T905^2))","v":-1},{"$f":"(R905*S905-Q905*T905)/((S905^2)+(T905^2))","v":0},{"$f":"((U905^2)+(V905^2))^0.5","v":1},{"$f":"(ACOS(U905/W905))*(180/PI())","v":180}]

{"sheet":"Ground Data","index":7,"n_rows":29,"n_cols":6,"rows_kept":29,"cut":false,"hidden":false,"merged":[]}
[null,null,"Conductivity σ [S/m]","Permittivity εr",null,"5-element 144"]
[1,"Perfect Conductor",9.9999999999999997E+98,9.9999999999999997E+98,null,"9-element DK7ZB 144 Wimo"]
[2,"Poor",1E-3,4.5,null,"10-element DK7ZB 144"]
[3,"Moderate",3.0000000000000001E-3,4,null,"12-element DK7ZB 144"]
[4,"Average",7.4999999999999997E-3,12.5,null,"2x12-element Stack DK7ZB 144"]
[5,"Good",1.4999999999999999E-2,20,null,"Dipole"]
[6,"Dry, Sandy, Flat (Coastal Land)",2E-3,10,null,"Other antenna"]
[7,"Pastoral Hills, Rich Soil",6.4999999999999997E-3,17]
[8,"Pastoral Medium Hills and Forestation",5.0000000000000001E-3,13]
[9,"Fertile Land",2E-3,10]
[10,"Rich Agricultural Land (Low Hills)",0.01,15]
[11,"Rocky Land, Steep Hills",2E-3,12.5]
[12,"Marshy Land, Densely Wooded",7.4999999999999997E-3,12]
[13,"Marshy, Forested, Flat",8.0000000000000002E-3,12]
[14,"Mountainous/Hilly (to about 1000 m) ",1E-3,5]
[15,"Highly Moist Ground   ",1.2500000000000001E-2,30]
[16,"City Industrial Area of Average Attenuation",1E-3,5]
[17,"City Industrial Area of Maximal Attenuation",4.0000000000000002E-4,3]
[18,"City Industrial Area ",1E-4,3]
[19,"Fresh Water",6.0000000000000001E-3,81]
[20,"Fresh Water at 10.0 deg C  (At 100 MHz) ",5.0000000000000001E-3,84]
[21,"Fresh Water at 20.0 deg C  (At 100 MHz) ",5.0000000000000001E-3,80]
[22,"Sea Water  ",4.5,81]
[23,"Sea Water at 10.0 deg C (to 1.0 GHz)  ",4.5,80]
[24,"Sea Water at 20.0 deg C (to 1.0 GHz)  ",4.5,73]
[25,"Sea Ice     ",1E-3,4]
[26,"Polar Ice",2.5000000000000001E-4,3]
[27,"Polar Ice Cap ",1E-4,1]
[28,"Arctic Land   ",5.0000000000000001E-4,3]